{"text_format":"1","workbook":"xlsx","n_sheets":9,"sheets":["Instruction","CustomCalMHSAContractProviderCh","Data Entry","FilteredData","PivotTable","TUOS Report","Updates","Group Name","Charge Conversion"],"not_rendered":{"charts":0,"images":3,"macros":1,"external_links":0,"defined_names":7,"comments":0,"pivot_tables":0},"unopened":[],"bounds":{"document_bytes":16777216,"sheet_cells":100000,"rows_first":2000,"rows_last":500,"rows_between":2000,"halvings":0,"cell_chars":16384,"cell_head_chars":4096},"cells_cut":0,"cells_raw":0,"read":"whole","date_system":"1900"}

{"sheet":"Instruction","index":0,"n_rows":51,"n_cols":2,"rows_kept":51,"cut":false,"hidden":false,"merged":[]}
["Instructions for Generating and Navigating the TUOS Report"]
[]
["1. Download the Contract Provider Charges Report from SmartCare in CSV format."]
["2. Copy the data by selecting columns A-AG and paste it into the CustomCalMHSAContractProviderCh tab."]
["3. To check for duplicate units: "]
[null,"3a. Select any column and unselect <Blank> from the filter."]
[null,"3b. In column AJ: Check Duplicates, filter the data for rows shaded in Pink."]
[null,"3c. If there are duplicate services, delete the duplicate services in Smartcare and follow steps 1-4."]
["4. In the Data Entry tab, input the desired date range for the TUOS report."]
["5. Click the \"Generate TUOS Report\" button."]
["6. The TUOS Summary will appear in the TUOS Report tab."]
["7. Use the DegreeName slicer to filter data by specific Degree Name/Credential."]
["8. Use the Total Units/Minutes column (Column I) for entering units on the invoice. In calculating the units/minutes for each credential, exclude the following services."]
[null,"8a. Interpreter Services - To exclude, select \"N\" in the Interpreter Services slicer."]
[]
[]
[]
[]
[]
[]
[null,"8b. Interactive Complexity - To exclude, select \"N\" in the Interactive Complexity slicer."]
[]
[]
[]
[]
[]
[]
["9. For Residential Services (both MH & SUD), select the DegreeName Admin Use Only - Bed Days to view residential bed day units. "]
["        For SUD Residential Services, the level of care (3.1, 3.5, etc.) is listed in the ProgramName Column."]
["   10. To calculate for the Interpreter Services and Interactive Complexity units/minutes, make sure to clear the filter for the DegreeName."]
[]
[]
[]
[]
[]
[]
[]
[]
[]
[]
[]
[]
[]
[]
[null,"10a. For Interpreter Services units/minutes, select \"Y\" in the Interpreter Services slicer."]
[null,"10b. For Interactive Complexity units/minutes, select \"Y\" in the Interactive Complexity slicer."]
["    11. For SUD Services, the Funding Source can be found in the \"Plan\" column."]
[]
[]
[]
["Note: Before generating a new TUOS report, remember to click the Clear Data button in the Data Entry tab to prevent errors in the macro."]

{"sheet":"CustomCalMHSAContractProviderCh","index":1,"n_rows":2,"n_cols":37,"rows_kept":2,"cut":false,"hidden":false,"merged":[]}
[null,null,null,null,null,null,null,null,null,null,null,null,null,null,null,null,null,null,null,null,null,null,null,null,null,null,null,null,null,null,null,null,null,"Service Month","Service Date","ProcedureCode","Check Duplicates"]
[null,null,null,null,null,null,null,null,null,null,null,null,null,null,null,null,null,null,null,null,null,null,null,null,null,null,null,null,null,null,null,null,null,{"$f":"J2","v":0},{"$f":"AH2","v":"00:00:00"},{"$f":"IFERROR((_xlfn.IFS(N2=\"Minutes\",R2,AND(N2=\"Days\",G2=\"Admin Use Only - Bed Days\"),R2)),\"NOMIN\")","v":"NOMIN"},{"$f":"C2&\"-\"&E2&\"-\"&G2&\"-\"&H2&\"-\"&J2&\"-\"&M2&\"-\"&R2&\"-\"&AC2&\"-\"&AG2","v":"--------"}]

{"sheet":"Data Entry","index":2,"n_rows":2,"n_cols":3,"rows_kept":2,"cut":false,"hidden":false,"merged":[]}
["From Date","To Date"]
["2024-09-01","2025-06-30",{"$f":"+B2+1","v":"2025-07-01"}]

{"sheet":"FilteredData","index":3,"n_rows":2,"n_cols":36,"rows_kept":2,"cut":false,"hidden":true,"merged":[]}
["BatchId","ProgramId","ProgramName","ProgramNpi","StaffId","Degree","DegreeName","StaffNpi","Perinatal","DateOfService","GroupServiceId","ServiceId","ProcedureCodeId","ServiceUnitType","ServiceUnits","ProcedureCodeName","ChargeId","BillingCode","RevenueCode","Modifier1","Modifier2","Modifier3","Modifier4","ChargeUnits","StaffFirstName","StaffMiddleName","StaffLastName","ChargesCreatedDate","LocationId","LocationName","Plan","AllActivePlans","ClientId","Service Month","Service Date","ProcedureCode"]
[{"$f":"_xlfn._xlws.FILTER(CustomCalMHSAContractProviderCh!A:AJ,(CustomCalMHSAContractProviderCh!AI:AI>='Data Entry'!A2)*(CustomCalMHSAContractProviderCh!AI:AI<'Data Entry'!C2))","v":{"$error":"#VALUE!"}}]

{"sheet":"PivotTable","index":4,"n_rows":7519,"n_cols":19,"rows_kept":4500,"cut":true,"hidden":true,"merged":[],"bounds":{"rows_first":2000,"rows_last":500,"rows_between":2000,"halvings":0}}
[]
[]
[null,null,null,null,null,null,null,null,"Sum of ChargeUnits","Unit/Minutes per Charge Unit","TOTAL Units/Minutes","Individual/Group"]
[null,null,null,null,null,null,null,null,23,{"$f":"+IFERROR(VLOOKUP(C4,'Charge Conversion'!A:C,3,0),\" \")","v":" "},{"$f":"+IFERROR(I4*J4,\" \")","v":" "},{"$f":"S4","v":" "},null,{"$f":"VLOOKUP(C4,'Charge Conversion'!A:C,3,0)","v":{"$error":"#N/A"}},null,null,null,{"$f":"VLOOKUP(D4,'Group Name'!A:B,2,0)","v":{"$error":"#N/A"}},{"$f":"IFERROR((IF(A4=\" \",\" \",R4)),\" \")","v":" "}]
[null,null,null,null,null,null,null,null,10,{"$f":"+IFERROR(VLOOKUP(C5,'Charge Conversion'!A:C,3,0),\" \")","v":" "},{"$f":"+IFERROR(I5*J5,\" \")","v":" "},{"$f":"S5","v":" "},null,null,null,null,null,{"$f":"VLOOKUP(D5,'Group Name'!A:B,2,0)","v":{"$error":"#N/A"}},{"$f":"IFERROR((IF(A5=\" \",\" \",R5)),\" \")","v":" "}]
[null,null,null,null,null,null,null,null,12,{"$f":"+IFERROR(VLOOKUP(C6,'Charge Conversion'!A:C,3,0),\" \")","v":" "}," "," ",null,null,null,null,null,{"$f":"VLOOKUP(D6,'Group Name'!A:B,2,0)","v":{"$error":"#N/A"}}," "]
[null,null,null,null,null,null,null,null,1,{"$f":"+IFERROR(VLOOKUP(C7,'Charge Conversion'!A:C,3,0),\" \")","v":" "}," "," ",null,null,null,null,null,{"$f":"VLOOKUP(D7,'Group Name'!A:B,2,0)","v":{"$error":"#N/A"}}," "]
[null,null,null,null,null,null,null,null,null,{"$f":"+IFERROR(VLOOKUP(C8,'Charge Conversion'!A:C,3,0),\" \")","v":" "}," "," ",null,null,null,null,null,{"$f":"VLOOKUP(D8,'Group Name'!A:B,2,0)","v":{"$error":"#N/A"}}," "]
[null,null,null,null,null,null,null,null,46,{"$f":"+IFERROR(VLOOKUP(C9,'Charge Conversion'!A:C,3,0),\" \")","v":" "}," "," ",null,{"$f":"IF(C10=\"98962\",\"Group\",IF(C10=\"90849\",\"Group\",IF(C10=\"90853\",\"Group\",IF(C10=\"H0025\",\"Group\",IF(C10=\"H0005\",\"Group\",IF(D10=\"HQ\",\"Group\",\"Individual\"))))))","v":"Individual"},null,null,null,{"$f":"VLOOKUP(D9,'Group Name'!A:B,2,0)","v":{"$error":"#N/A"}}," "]
[null,null,null,null,null,null,null,null,null,{"$f":"+IFERROR(VLOOKUP(C10,'Charge Conversion'!A:C,3,0),\" \")","v":" "}," "," ",null,null,null,null,null,{"$f":"VLOOKUP(D10,'Group Name'!A:B,2,0)","v":{"$error":"#N/A"}}," "]
[null,null,null,null,null,null,null,null,null,{"$f":"+IFERROR(VLOOKUP(C11,'Charge Conversion'!A:C,3,0),\" \")","v":" "}," "," ",null,null,null,null,null,{"$f":"VLOOKUP(D11,'Group Name'!A:B,2,0)","v":{"$error":"#N/A"}}," "]
[null,null,null,null,null,null,null,null,null,{"$f":"+IFERROR(VLOOKUP(C12,'Charge Conversion'!A:C,3,0),\" \")","v":" "}," "," ",null,null,null,null,null,{"$f":"VLOOKUP(D12,'Group Name'!A:B,2,0)","v":{"$error":"#N/A"}}," "]
[null,null,null,null,null,null,null,null,null,{"$f":"+IFERROR(VLOOKUP(C13,'Charge Conversion'!A:C,3,0),\" \")","v":" "}," "," ",null,null,null,null,null,{"$f":"VLOOKUP(D13,'Group Name'!A:B,2,0)","v":{"$error":"#N/A"}}," "]
[null,null,null,null,null,null,null,null,null,{"$f":"+IFERROR(VLOOKUP(C14,'Charge Conversion'!A:C,3,0),\" \")","v":" "}," "," ",null,null,null,null,null,{"$f":"VLOOKUP(D14,'Group Name'!A:B,2,0)","v":{"$error":"#N/A"}}," "]
[null,null,null,null,null,null,null,null,null,{"$f":"+IFERROR(VLOOKUP(C15,'Charge Conversion'!A:C,3,0),\" \")","v":" "}," "," ",null,null,null,null,null,{"$f":"VLOOKUP(D15,'Group Name'!A:B,2,0)","v":{"$error":"#N/A"}}," "]
[null,null,null,null,null,null,null,null,null,{"$f":"+IFERROR(VLOOKUP(C16,'Charge Conversion'!A:C,3,0),\" \")","v":" "}," "," ",null,null,null,null,null,{"$f":"VLOOKUP(D16,'Group Name'!A:B,2,0)","v":{"$error":"#N/A"}}," "]
[null,null,null,null,null,null,null,null,null,{"$f":"+IFERROR(VLOOKUP(C17,'Charge Conversion'!A:C,3,0),\" \")","v":" "}," "," ",null,null,null,null,null,{"$f":"VLOOKUP(D17,'Group Name'!A:B,2,0)","v":{"$error":"#N/A"}}," "]
[null,null,null,null,null,null,null,null,null,{"$f":"+IFERROR(VLOOKUP(C18,'Charge Conversion'!A:C,3,0),\" \")","v":" "}," "," ",null,null,null,null,null,{"$f":"VLOOKUP(D18,'Group Name'!A:B,2,0)","v":{"$error":"#N/A"}}," "]
[null,null,null,null,null,null,null,null,null,{"$f":"+IFERROR(VLOOKUP(C19,'Charge Conversion'!A:C,3,0),\" \")","v":" "}," "," ",null,null,null,null,null,{"$f":"VLOOKUP(D19,'Group Name'!A:B,2,0)","v":{"$error":"#N/A"}}," "]
[null,null,null,null,null,null,null,null,null,{"$f":"+IFERROR(VLOOKUP(C20,'Charge Conversion'!A:C,3,0),\" \")","v":" "}," "," ",null,null,null,null,null,{"$f":"VLOOKUP(D20,'Group Name'!A:B,2,0)","v":{"$error":"#N/A"}}," "]
[null,null,null,null,null,null,null,null,null,{"$f":"+IFERROR(VLOOKUP(C21,'Charge Conversion'!A:C,3,0),\" \")","v":" "}," "," ",null,null,null,null,null,{"$f":"VLOOKUP(D21,'Group Name'!A:B,2,0)","v":{"$error":"#N/A"}}," "]
[null,null,null,null,null,null,null,null,null,{"$f":"+IFERROR(VLOOKUP(C22,'Charge Conversion'!A:C,3,0),\" \")","v":" "}," "," ",null,null,null,null,null,{"$f":"VLOOKUP(D22,'Group Name'!A:B,2,0)","v":{"$error":"#N/A"}}," "]
[null,null,null,null,null,null,null,null,null,{"$f":"+IFERROR(VLOOKUP(C23,'Charge Conversion'!A:C,3,0),\" \")","v":" "}," "," ",null,null,null,null,null,{"$f":"VLOOKUP(D23,'Group Name'!A:B,2,0)","v":{"$error":"#N/A"}}," "]
[null,null,null,null,null,null,null,null,null,{"$f":"+IFERROR(VLOOKUP(C24,'Charge Conversion'!A:C,3,0),\" \")","v":" "}," "," ",null,null,null,null,null,{"$f":"VLOOKUP(D24,'Group Name'!A:B,2,0)","v":{"$error":"#N/A"}}," "]
[null,null,null,null,null,null,null,null,null,{"$f":"+IFERROR(VLOOKUP(C25,'Charge Conversion'!A:C,3,0),\" \")","v":" "}," "," ",null,null,null,null,null,{"$f":"VLOOKUP(D25,'Group Name'!A:B,2,0)","v":{"$error":"#N/A"}}," "]
[null,null,null,null,null,null,null,null,null,{"$f":"+IFERROR(VLOOKUP(C26,'Charge Conversion'!A:C,3,0),\" \")","v":" "}," "," ",null,null,null,null,null,{"$f":"VLOOKUP(D26,'Group Name'!A:B,2,0)","v":{"$error":"#N/A"}}," "]
[null,null,null,null,null,null,null,null,null,{"$f":"+IFERROR(VLOOKUP(C27,'Charge Conversion'!A:C,3,0),\" \")","v":" "}," "," ",null,null,null,null,null,{"$f":"VLOOKUP(D27,'Group Name'!A:B,2,0)","v":{"$error":"#N/A"}}," "]
[null,null,null,null,null,null,null,null,null,{"$f":"+IFERROR(VLOOKUP(C28,'Charge Conversion'!A:C,3,0),\" \")","v":" "}," "," ",null,null,null,null,null,{"$f":"VLOOKUP(D28,'Group Name'!A:B,2,0)","v":{"$error":"#N/A"}}," "]
[null,null,null,null,null,null,null,null,null,{"$f":"+IFERROR(VLOOKUP(C29,'Charge Conversion'!A:C,3,0),\" \")","v":" "}," "," ",null,null,null,null,null,{"$f":"VLOOKUP(D29,'Group Name'!A:B,2,0)","v":{"$error":"#N/A"}}," "]
[null,null,null,null,null,null,null,null,null,{"$f":"+IFERROR(VLOOKUP(C30,'Charge Conversion'!A:C,3,0),\" \")","v":" "}," "," ",null,null,null,null,null,{"$f":"VLOOKUP(D30,'Group Name'!A:B,2,0)","v":{"$error":"#N/A"}}," "]
[null,null,null,null,null,null,null,null,null,{"$f":"+IFERROR(VLOOKUP(C31,'Charge Conversion'!A:C,3,0),\" \")","v":" "}," "," ",null,null,null,null,null,{"$f":"VLOOKUP(D31,'Group Name'!A:B,2,0)","v":{"$error":"#N/A"}}," "]
[null,null,null,null,null,null,null,null,null,{"$f":"+IFERROR(VLOOKUP(C32,'Charge Conversion'!A:C,3,0),\" \")","v":" "}," "," ",null,null,null,null,null,{"$f":"VLOOKUP(D32,'Group Name'!A:B,2,0)","v":{"$error":"#N/A"}}," "]
[null,null,null,null,null,null,null,null,null,{"$f":"+IFERROR(VLOOKUP(C33,'Charge Conversion'!A:C,3,0),\" \")","v":" "}," "," ",null,null,null,null,null,{"$f":"VLOOKUP(D33,'Group Name'!A:B,2,0)","v":{"$error":"#N/A"}}," "]
[null,null,null,null,null,null,null,null,null,{"$f":"+IFERROR(VLOOKUP(C34,'Charge Conversion'!A:C,3,0),\" \")","v":" "}," "," ",null,null,null,null,null,{"$f":"VLOOKUP(D34,'Group Name'!A:B,2,0)","v":{"$error":"#N/A"}}," "]
[null,null,null,null,null,null,null,null,null,{"$f":"+IFERROR(VLOOKUP(C35,'Charge Conversion'!A:C,3,0),\" \")","v":" "}," "," ",null,null,null,null,null,{"$f":"VLOOKUP(D35,'Group Name'!A:B,2,0)","v":{"$error":"#N/A"}}," "]
[null,null,null,null,null,null,null,null,null,{"$f":"+IFERROR(VLOOKUP(C36,'Charge Conversion'!A:C,3,0),\" \")","v":" "}," "," ",null,null,null,null,null,{"$f":"VLOOKUP(D36,'Group Name'!A:B,2,0)","v":{"$error":"#N/A"}}," "]
[null,null,null,null,null,null,null,null,null,{"$f":"+IFERROR(VLOOKUP(C37,'Charge Conversion'!A:C,3,0),\" \")","v":" "}," "," ",null,null,null,null,null,{"$f":"VLOOKUP(D37,'Group Name'!A:B,2,0)","v":{"$error":"#N/A"}}," "]
[null,null,null,null,null,null,null,null,null,{"$f":"+IFERROR(VLOOKUP(C38,'Charge Conversion'!A:C,3,0),\" \")","v":" "}," "," ",null,null,null,null,null,{"$f":"VLOOKUP(D38,'Group Name'!A:B,2,0)","v":{"$error":"#N/A"}}," "]
[null,null,null,null,null,null,null,null,null,{"$f":"+IFERROR(VLOOKUP(C39,'Charge Conversion'!A:C,3,0),\" \")","v":" "}," "," ",null,null,null,null,null,{"$f":"VLOOKUP(D39,'Group Name'!A:B,2,0)","v":{"$error":"#N/A"}}," "]
[null,null,null,null,null,null,null,null,null,{"$f":"+IFERROR(VLOOKUP(C40,'Charge Conversion'!A:C,3,0),\" \")","v":" "}," "," ",null,null,null,null,null,{"$f":"VLOOKUP(D40,'Group Name'!A:B,2,0)","v":{"$error":"#N/A"}}," "]
[null,null,null,null,null,null,null,null,null,{"$f":"+IFERROR(VLOOKUP(C41,'Charge Conversion'!A:C,3,0),\" \")","v":" "}," "," ",null,null,null,null,null,{"$f":"VLOOKUP(D41,'Group Name'!A:B,2,0)","v":{"$error":"#N/A"}}," "]
[null,null,null,null,null,null,null,null,null,{"$f":"+IFERROR(VLOOKUP(C42,'Charge Conversion'!A:C,3,0),\" \")","v":" "}," "," ",null,null,null,null,null,{"$f":"VLOOKUP(D42,'Group Name'!A:B,2,0)","v":{"$error":"#N/A"}}," "]
[null,null,null,null,null,null,null,null,null,{"$f":"+IFERROR(VLOOKUP(C43,'Charge Conversion'!A:C,3,0),\" \")","v":" "}," "," ",null,null,null,null,null,{"$f":"VLOOKUP(D43,'Group Name'!A:B,2,0)","v":{"$error":"#N/A"}}," "]
[null,null,null,null,null,null,null,null,null,{"$f":"+IFERROR(VLOOKUP(C44,'Charge Conversion'!A:C,3,0),\" \")","v":" "}," "," ",null,null,null,null,null,{"$f":"VLOOKUP(D44,'Group Name'!A:B,2,0)","v":{"$error":"#N/A"}}," "]
[null,null,null,null,null,null,null,null,null,{"$f":"+IFERROR(VLOOKUP(C45,'Charge Conversion'!A:C,3,0),\" \")","v":" "}," "," ",null,null,null,null,null,{"$f":"VLOOKUP(D45,'Group Name'!A:B,2,0)","v":{"$error":"#N/A"}}," "]
[null,null,null,null,null,null,null,null,null,{"$f":"+IFERROR(VLOOKUP(C46,'Charge Conversion'!A:C,3,0),\" \")","v":" "}," "," ",null,null,null,null,null,{"$f":"VLOOKUP(D46,'Group Name'!A:B,2,0)","v":{"$error":"#N/A"}}," "]
[null,null,null,null,null,null,null,null,null,{"$f":"+IFERROR(VLOOKUP(C47,'Charge Conversion'!A:C,3,0),\" \")","v":" "}," "," ",null,null,null,null,null,{"$f":"VLOOKUP(D47,'Group Name'!A:B,2,0)","v":{"$error":"#N/A"}}," "]
[null,null,null,null,null,null,null,null,null,{"$f":"+IFERROR(VLOOKUP(C48,'Charge Conversion'!A:C,3,0),\" \")","v":" "}," "," ",null,null,null,null,null,{"$f":"VLOOKUP(D48,'Group Name'!A:B,2,0)","v":{"$error":"#N/A"}}," "]
[null,null,null,null,null,null,null,null,null,{"$f":"+IFERROR(VLOOKUP(C49,'Charge Conversion'!A:C,3,0),\" \")","v":" "}," "," ",null,null,null,null,null,{"$f":"VLOOKUP(D49,'Group Name'!A:B,2,0)","v":{"$error":"#N/A"}}," "]
[null,null,null,null,null,null,null,null,null,{"$f":"+IFERROR(VLOOKUP(C50,'Charge Conversion'!A:C,3,0),\" \")","v":" "}," "," ",null,null,null,null,null,{"$f":"VLOOKUP(D50,'Group Name'!A:B,2,0)","v":{"$error":"#N/A"}}," "]
[null,null,null,null,null,null,null,null,null,{"$f":"+IFERROR(VLOOKUP(C51,'Charge Conversion'!A:C,3,0),\" \")","v":" "}," "," ",null,null,null,null,null,{"$f":"VLOOKUP(D51,'Group Name'!A:B,2,0)","v":{"$error":"#N/A"}}," "]
[null,null,null,null,null,null,null,null,null,{"$f":"+IFERROR(VLOOKUP(C52,'Charge Conversion'!A:C,3,0),\" \")","v":" "}," "," ",null,null,null,null,null,{"$f":"VLOOKUP(D52,'Group Name'!A:B,2,0)","v":{"$error":"#N/A"}}," "]
[null,null,null,null,null,null,null,null,null,{"$f":"+IFERROR(VLOOKUP(C53,'Charge Conversion'!A:C,3,0),\" \")","v":" "}," "," ",null,null,null,null,null,{"$f":"VLOOKUP(D53,'Group Name'!A:B,2,0)","v":{"$error":"#N/A"}}," "]
[null,null,null,null,null,null,null,null,null,{"$f":"+IFERROR(VLOOKUP(C54,'Charge Conversion'!A:C,3,0),\" \")","v":" "}," "," ",null,null,null,null,null,{"$f":"VLOOKUP(D54,'Group Name'!A:B,2,0)","v":{"$error":"#N/A"}}," "]
[null,null,null,null,null,null,null,null,null,{"$f":"+IFERROR(VLOOKUP(C55,'Charge Conversion'!A:C,3,0),\" \")","v":" "}," "," ",null,null,null,null,null,{"$f":"VLOOKUP(D55,'Group Name'!A:B,2,0)","v":{"$error":"#N/A"}}," "]
[null,null,null,null,null,null,null,null,null,{"$f":"+IFERROR(VLOOKUP(C56,'Charge Conversion'!A:C,3,0),\" \")","v":" "}," "," ",null,null,null,null,null,{"$f":"VLOOKUP(D56,'Group Name'!A:B,2,0)","v":{"$error":"#N/A"}}," "]
[null,null,null,null,null,null,null,null,null,{"$f":"+IFERROR(VLOOKUP(C57,'Charge Conversion'!A:C,3,0),\" \")","v":" "}," "," ",null,null,null,null,null,{"$f":"VLOOKUP(D57,'Group Name'!A:B,2,0)","v":{"$error":"#N/A"}}," "]
[null,null,null,null,null,null,null,null,null,{"$f":"+IFERROR(VLOOKUP(C58,'Charge Conversion'!A:C,3,0),\" \")","v":" "}," "," ",null,null,null,null,null,{"$f":"VLOOKUP(D58,'Group Name'!A:B,2,0)","v":{"$error":"#N/A"}}," "]
[null,null,null,null,null,null,null,null,null,{"$f":"+IFERROR(VLOOKUP(C59,'Charge Conversion'!A:C,3,0),\" \")","v":" "}," "," ",null,null,null,null,null,{"$f":"VLOOKUP(D59,'Group Name'!A:B,2,0)","v":{"$error":"#N/A"}}," "]
[null,null,null,null,null,null,null,null,null,{"$f":"+IFERROR(VLOOKUP(C60,'Charge Conversion'!A:C,3,0),\" \")","v":" "}," "," ",null,null,null,null,null,{"$f":"VLOOKUP(D60,'Group Name'!A:B,2,0)","v":{"$error":"#N/A"}}," "]
[null,null,null,null,null,null,null,null,null,{"$f":"+IFERROR(VLOOKUP(C61,'Charge Conversion'!A:C,3,0),\" \")","v":" "}," "," ",null,null,null,null,null,{"$f":"VLOOKUP(D61,'Group Name'!A:B,2,0)","v":{"$error":"#N/A"}}," "]
[null,null,null,null,null,null,null,null,null,{"$f":"+IFERROR(VLOOKUP(C62,'Charge Conversion'!A:C,3,0),\" \")","v":" "}," "," ",null,null,null,null,null,{"$f":"VLOOKUP(D62,'Group Name'!A:B,2,0)","v":{"$error":"#N/A"}}," "]
[null,null,null,null,null,null,null,null,null,{"$f":"+IFERROR(VLOOKUP(C63,'Charge Conversion'!A:C,3,0),\" \")","v":" "}," "," ",null,null,null,null,null,{"$f":"VLOOKUP(D63,'Group Name'!A:B,2,0)","v":{"$error":"#N/A"}}," "]
[null,null,null,null,null,null,null,null,null,{"$f":"+IFERROR(VLOOKUP(C64,'Charge Conversion'!A:C,3,0),\" \")","v":" "}," "," ",null,null,null,null,null,{"$f":"VLOOKUP(D64,'Group Name'!A:B,2,0)","v":{"$error":"#N/A"}}," "]
[null,null,null,null,null,null,null,null,null,{"$f":"+IFERROR(VLOOKUP(C65,'Charge Conversion'!A:C,3,0),\" \")","v":" "}," "," ",null,null,null,null,null,{"$f":"VLOOKUP(D65,'Group Name'!A:B,2,0)","v":{"$error":"#N/A"}}," "]
[null,null,null,null,null,null,null,null,null,{"$f":"+IFERROR(VLOOKUP(C66,'Charge Conversion'!A:C,3,0),\" \")","v":" "}," "," ",null,null,null,null,null,{"$f":"VLOOKUP(D66,'Group Name'!A:B,2,0)","v":{"$error":"#N/A"}}," "]
[null,null,null,null,null,null,null,null,null,{"$f":"+IFERROR(VLOOKUP(C67,'Charge Conversion'!A:C,3,0),\" \")","v":" "}," "," ",null,null,null,null,null,{"$f":"VLOOKUP(D67,'Group Name'!A:B,2,0)","v":{"$error":"#N/A"}}," "]
[null,null,null,null,null,null,null,null,null,{"$f":"+IFERROR(VLOOKUP(C68,'Charge Conversion'!A:C,3,0),\" \")","v":" "}," "," ",null,null,null,null,null,{"$f":"VLOOKUP(D68,'Group Name'!A:B,2,0)","v":{"$error":"#N/A"}}," "]
[null,null,null,null,null,null,null,null,null,{"$f":"+IFERROR(VLOOKUP(C69,'Charge Conversion'!A:C,3,0),\" \")","v":" "},{"$f":"+IFERROR(I69*J69,\" \")","v":" "},{"$f":"S69","v":" "},null,null,null,null,null,{"$f":"VLOOKUP(D69,'Group Name'!A:B,2,0)","v":{"$error":"#N/A"}},{"$f":"IFERROR((IF(A69=\" \",\" \",R69)),\" \")","v":" "}]
[null,null,null,null,null,null,null,null,null,{"$f":"+IFERROR(VLOOKUP(C70,'Charge Conversion'!A:C,3,0),\" \")","v":" "}," "," ",null,null,null,null,null,{"$f":"VLOOKUP(D70,'Group Name'!A:B,2,0)","v":{"$error":"#N/A"}}," "]
[null,null,null,null,null,null,null,null,null,{"$f":"+IFERROR(VLOOKUP(C71,'Charge Conversion'!A:C,3,0),\" \")","v":" "}," "," ",null,null,null,null,null,{"$f":"VLOOKUP(D71,'Group Name'!A:B,2,0)","v":{"$error":"#N/A"}}," "]
[null,null,null,null,null,null,null,null,null,{"$f":"+IFERROR(VLOOKUP(C72,'Charge Conversion'!A:C,3,0),\" \")","v":" "}," "," ",null,null,null,null,null,{"$f":"VLOOKUP(D72,'Group Name'!A:B,2,0)","v":{"$error":"#N/A"}}," "]
[null,null,null,null,null,null,null,null,null,{"$f":"+IFERROR(VLOOKUP(C73,'Charge Conversion'!A:C,3,0),\" \")","v":" "}," "," ",null,null,null,null,null,{"$f":"VLOOKUP(D73,'Group Name'!A:B,2,0)","v":{"$error":"#N/A"}}," "]
[null,null,null,null,null,null,null,null,null,{"$f":"+IFERROR(VLOOKUP(C74,'Charge Conversion'!A:C,3,0),\" \")","v":" "}," "," ",null,null,null,null,null,{"$f":"VLOOKUP(D74,'Group Name'!A:B,2,0)","v":{"$error":"#N/A"}}," "]
[null,null,null,null,null,null,null,null,null,{"$f":"+IFERROR(VLOOKUP(C75,'Charge Conversion'!A:C,3,0),\" \")","v":" "}," "," ",null,null,null,null,null,{"$f":"VLOOKUP(D75,'Group Name'!A:B,2,0)","v":{"$error":"#N/A"}}," "]
[null,null,null,null,null,null,null,null,null,{"$f":"+IFERROR(VLOOKUP(C76,'Charge Conversion'!A:C,3,0),\" \")","v":" "}," "," ",null,null,null,null,null,{"$f":"VLOOKUP(D76,'Group Name'!A:B,2,0)","v":{"$error":"#N/A"}}," "]
[null,null,null,null,null,null,null,null,null,{"$f":"+IFERROR(VLOOKUP(C77,'Charge Conversion'!A:C,3,0),\" \")","v":" "}," "," ",null,null,null,null,null,{"$f":"VLOOKUP(D77,'Group Name'!A:B,2,0)","v":{"$error":"#N/A"}}," "]
[null,null,null,null,null,null,null,null,null,{"$f":"+IFERROR(VLOOKUP(C78,'Charge Conversion'!A:C,3,0),\" \")","v":" "}," "," ",null,null,null,null,null,{"$f":"VLOOKUP(D78,'Group Name'!A:B,2,0)","v":{"$error":"#N/A"}}," "]
[null,null,null,null,null,null,null,null,null,{"$f":"+IFERROR(VLOOKUP(C79,'Charge Conversion'!A:C,3,0),\" \")","v":" "}," "," ",null,null,null,null,null,{"$f":"VLOOKUP(D79,'Group Name'!A:B,2,0)","v":{"$error":"#N/A"}}," "]
[null,null,null,null,null,null,null,null,null,{"$f":"+IFERROR(VLOOKUP(C80,'Charge Conversion'!A:C,3,0),\" \")","v":" "}," "," ",null,null,null,null,null,{"$f":"VLOOKUP(D80,'Group Name'!A:B,2,0)","v":{"$error":"#N/A"}}," "]
[null,null,null,null,null,null,null,null,null,{"$f":"+IFERROR(VLOOKUP(C81,'Charge Conversion'!A:C,3,0),\" \")","v":" "}," "," ",null,null,null,null,null,{"$f":"VLOOKUP(D81,'Group Name'!A:B,2,0)","v":{"$error":"#N/A"}}," "]
[null,null,null,null,null,null,null,null,null,{"$f":"+IFERROR(VLOOKUP(C82,'Charge Conversion'!A:C,3,0),\" \")","v":" "}," "," ",null,null,null,null,null,{"$f":"VLOOKUP(D82,'Group Name'!A:B,2,0)","v":{"$error":"#N/A"}}," "]
[null,null,null,null,null,null,null,null,null,{"$f":"+IFERROR(VLOOKUP(C83,'Charge Conversion'!A:C,3,0),\" \")","v":" "}," "," ",null,null,null,null,null,{"$f":"VLOOKUP(D83,'Group Name'!A:B,2,0)","v":{"$error":"#N/A"}}," "]
[null,null,null,null,null,null,null,null,null,{"$f":"+IFERROR(VLOOKUP(C84,'Charge Conversion'!A:C,3,0),\" \")","v":" "}," "," ",null,null,null,null,null,{"$f":"VLOOKUP(D84,'Group Name'!A:B,2,0)","v":{"$error":"#N/A"}}," "]
[null,null,null,null,null,null,null,null,null,{"$f":"+IFERROR(VLOOKUP(C85,'Charge Conversion'!A:C,3,0),\" \")","v":" "}," "," ",null,null,null,null,null,{"$f":"VLOOKUP(D85,'Group Name'!A:B,2,0)","v":{"$error":"#N/A"}}," "]
[null,null,null,null,null,null,null,null,null,{"$f":"+IFERROR(VLOOKUP(C86,'Charge Conversion'!A:C,3,0),\" \")","v":" "}," "," ",null,null,null,null,null,{"$f":"VLOOKUP(D86,'Group Name'!A:B,2,0)","v":{"$error":"#N/A"}}," "]
[null,null,null,null,null,null,null,null,null,{"$f":"+IFERROR(VLOOKUP(C87,'Charge Conversion'!A:C,3,0),\" \")","v":" "}," "," ",null,null,null,null,null,{"$f":"VLOOKUP(D87,'Group Name'!A:B,2,0)","v":{"$error":"#N/A"}}," "]
[null,null,null,null,null,null,null,null,null,{"$f":"+IFERROR(VLOOKUP(C88,'Charge Conversion'!A:C,3,0),\" \")","v":" "}," "," ",null,null,null,null,null,{"$f":"VLOOKUP(D88,'Group Name'!A:B,2,0)","v":{"$error":"#N/A"}}," "]
[null,null,null,null,null,null,null,null,null,{"$f":"+IFERROR(VLOOKUP(C89,'Charge Conversion'!A:C,3,0),\" \")","v":" "}," "," ",null,null,null,null,null,{"$f":"VLOOKUP(D89,'Group Name'!A:B,2,0)","v":{"$error":"#N/A"}}," "]
[null,null,null,null,null,null,null,null,null,{"$f":"+IFERROR(VLOOKUP(C90,'Charge Conversion'!A:C,3,0),\" \")","v":" "}," "," ",null,null,null,null,null,{"$f":"VLOOKUP(D90,'Group Name'!A:B,2,0)","v":{"$error":"#N/A"}}," "]
[null,null,null,null,null,null,null,null,null,{"$f":"+IFERROR(VLOOKUP(C91,'Charge Conversion'!A:C,3,0),\" \")","v":" "}," "," ",null,null,null,null,null,{"$f":"VLOOKUP(D91,'Group Name'!A:B,2,0)","v":{"$error":"#N/A"}}," "]
[null,null,null,null,null,null,null,null,null,{"$f":"+IFERROR(VLOOKUP(C92,'Charge Conversion'!A:C,3,0),\" \")","v":" "}," "," ",null,null,null,null,null,{"$f":"VLOOKUP(D92,'Group Name'!A:B,2,0)","v":{"$error":"#N/A"}}," "]
[null,null,null,null,null,null,null,null,null,{"$f":"+IFERROR(VLOOKUP(C93,'Charge Conversion'!A:C,3,0),\" \")","v":" "}," "," ",null,null,null,null,null,{"$f":"VLOOKUP(D93,'Group Name'!A:B,2,0)","v":{"$error":"#N/A"}}," "]
[null,null,null,null,null,null,null,null,null,{"$f":"+IFERROR(VLOOKUP(C94,'Charge Conversion'!A:C,3,0),\" \")","v":" "}," "," ",null,null,null,null,null,{"$f":"VLOOKUP(D94,'Group Name'!A:B,2,0)","v":{"$error":"#N/A"}}," "]
[null,null,null,null,null,null,null,null,null,{"$f":"+IFERROR(VLOOKUP(C95,'Charge Conversion'!A:C,3,0),\" \")","v":" "}," "," ",null,null,null,null,null,{"$f":"VLOOKUP(D95,'Group Name'!A:B,2,0)","v":{"$error":"#N/A"}}," "]
[null,null,null,null,null,null,null,null,null,{"$f":"+IFERROR(VLOOKUP(C96,'Charge Conversion'!A:C,3,0),\" \")","v":" "}," "," ",null,null,null,null,null,{"$f":"VLOOKUP(D96,'Group Name'!A:B,2,0)","v":{"$error":"#N/A"}}," "]
[null,null,null,null,null,null,null,null,null,{"$f":"+IFERROR(VLOOKUP(C97,'Charge Conversion'!A:C,3,0),\" \")","v":" "}," "," ",null,null,null,null,null,{"$f":"VLOOKUP(D97,'Group Name'!A:B,2,0)","v":{"$error":"#N/A"}}," "]
[null,null,null,null,null,null,null,null,null,{"$f":"+IFERROR(VLOOKUP(C98,'Charge Conversion'!A:C,3,0),\" \")","v":" "}," "," ",null,null,null,null,null,{"$f":"VLOOKUP(D98,'Group Name'!A:B,2,0)","v":{"$error":"#N/A"}}," "]
[null,null,null,null,null,null,null,null,null,{"$f":"+IFERROR(VLOOKUP(C99,'Charge Conversion'!A:C,3,0),\" \")","v":" "}," "," ",null,null,null,null,null,{"$f":"VLOOKUP(D99,'Group Name'!A:B,2,0)","v":{"$error":"#N/A"}}," "]
[null,null,null,null,null,null,null,null,null,{"$f":"+IFERROR(VLOOKUP(C100,'Charge Conversion'!A:C,3,0),\" \")","v":" "}," "," ",null,null,null,null,null,{"$f":"VLOOKUP(D100,'Group Name'!A:B,2,0)","v":{"$error":"#N/A"}}," "]
[null,null,null,null,null,null,null,null,null,{"$f":"+IFERROR(VLOOKUP(C101,'Charge Conversion'!A:C,3,0),\" \")","v":" "}," "," ",null,null,null,null,null,{"$f":"VLOOKUP(D101,'Group Name'!A:B,2,0)","v":{"$error":"#N/A"}}," "]
[null,null,null,null,null,null,null,null,null,{"$f":"+IFERROR(VLOOKUP(C102,'Charge Conversion'!A:C,3,0),\" \")","v":" "}," "," ",null,null,null,null,null,{"$f":"VLOOKUP(D102,'Group Name'!A:B,2,0)","v":{"$error":"#N/A"}}," "]
[null,null,null,null,null,null,null,null,null,{"$f":"+IFERROR(VLOOKUP(C103,'Charge Conversion'!A:C,3,0),\" \")","v":" "}," "," ",null,null,null,null,null,{"$f":"VLOOKUP(D103,'Group Name'!A:B,2,0)","v":{"$error":"#N/A"}}," "]
[null,null,null,null,null,null,null,null,null,{"$f":"+IFERROR(VLOOKUP(C104,'Charge Conversion'!A:C,3,0),\" \")","v":" "}," "," ",null,null,null,null,null,{"$f":"VLOOKUP(D104,'Group Name'!A:B,2,0)","v":{"$error":"#N/A"}}," "]
[null,null,null,null,null,null,null,null,null,{"$f":"+IFERROR(VLOOKUP(C105,'Charge Conversion'!A:C,3,0),\" \")","v":" "}," "," ",null,null,null,null,null,{"$f":"VLOOKUP(D105,'Group Name'!A:B,2,0)","v":{"$error":"#N/A"}}," "]
[null,null,null,null,null,null,null,null,null,{"$f":"+IFERROR(VLOOKUP(C106,'Charge Conversion'!A:C,3,0),\" \")","v":" "}," "," ",null,null,null,null,null,{"$f":"VLOOKUP(D106,'Group Name'!A:B,2,0)","v":{"$error":"#N/A"}}," "]
[null,null,null,null,null,null,null,null,null,{"$f":"+IFERROR(VLOOKUP(C107,'Charge Conversion'!A:C,3,0),\" \")","v":" "}," "," ",null,null,null,null,null,{"$f":"VLOOKUP(D107,'Group Name'!A:B,2,0)","v":{"$error":"#N/A"}}," "]
[null,null,null,null,null,null,null,null,null,{"$f":"+IFERROR(VLOOKUP(C108,'Charge Conversion'!A:C,3,0),\" \")","v":" "}," "," ",null,null,null,null,null,{"$f":"VLOOKUP(D108,'Group Name'!A:B,2,0)","v":{"$error":"#N/A"}}," "]
[null,null,null,null,null,null,null,null,null,{"$f":"+IFERROR(VLOOKUP(C109,'Charge Conversion'!A:C,3,0),\" \")","v":" "}," "," ",null,null,null,null,null,{"$f":"VLOOKUP(D109,'Group Name'!A:B,2,0)","v":{"$error":"#N/A"}}," "]
[null,null,null,null,null,null,null,null,null,{"$f":"+IFERROR(VLOOKUP(C110,'Charge Conversion'!A:C,3,0),\" \")","v":" "}," "," ",null,null,null,null,null,{"$f":"VLOOKUP(D110,'Group Name'!A:B,2,0)","v":{"$error":"#N/A"}}," "]
[null,null,null,null,null,null,null,null,null,{"$f":"+IFERROR(VLOOKUP(C111,'Charge Conversion'!A:C,3,0),\" \")","v":" "}," "," ",null,null,null,null,null,{"$f":"VLOOKUP(D111,'Group Name'!A:B,2,0)","v":{"$error":"#N/A"}}," "]
[null,null,null,null,null,null,null,null,null,{"$f":"+IFERROR(VLOOKUP(C112,'Charge Conversion'!A:C,3,0),\" \")","v":" "}," "," ",null,null,null,null,null,{"$f":"VLOOKUP(D112,'Group Name'!A:B,2,0)","v":{"$error":"#N/A"}}," "]
[null,null,null,null,null,null,null,null,null,{"$f":"+IFERROR(VLOOKUP(C113,'Charge Conversion'!A:C,3,0),\" \")","v":" "}," "," ",null,null,null,null,null,{"$f":"VLOOKUP(D113,'Group Name'!A:B,2,0)","v":{"$error":"#N/A"}}," "]
[null,null,null,null,null,null,null,null,null,{"$f":"+IFERROR(VLOOKUP(C114,'Charge Conversion'!A:C,3,0),\" \")","v":" "}," "," ",null,null,null,null,null,{"$f":"VLOOKUP(D114,'Group Name'!A:B,2,0)","v":{"$error":"#N/A"}}," "]
[null,null,null,null,null,null,null,null,null,{"$f":"+IFERROR(VLOOKUP(C115,'Charge Conversion'!A:C,3,0),\" \")","v":" "}," "," ",null,null,null,null,null,{"$f":"VLOOKUP(D115,'Group Name'!A:B,2,0)","v":{"$error":"#N/A"}}," "]
[null,null,null,null,null,null,null,null,null,{"$f":"+IFERROR(VLOOKUP(C116,'Charge Conversion'!A:C,3,0),\" \")","v":" "}," "," ",null,null,null,null,null,{"$f":"VLOOKUP(D116,'Group Name'!A:B,2,0)","v":{"$error":"#N/A"}}," "]
[null,null,null,null,null,null,null,null,null,{"$f":"+IFERROR(VLOOKUP(C117,'Charge Conversion'!A:C,3,0),\" \")","v":" "}," "," ",null,null,null,null,null,{"$f":"VLOOKUP(D117,'Group Name'!A:B,2,0)","v":{"$error":"#N/A"}}," "]
[null,null,null,null,null,null,null,null,null,{"$f":"+IFERROR(VLOOKUP(C118,'Charge Conversion'!A:C,3,0),\" \")","v":" "}," "," ",null,null,null,null,null,{"$f":"VLOOKUP(D118,'Group Name'!A:B,2,0)","v":{"$error":"#N/A"}}," "]
[null,null,null,null,null,null,null,null,null,{"$f":"+IFERROR(VLOOKUP(C119,'Charge Conversion'!A:C,3,0),\" \")","v":" "}," "," ",null,null,null,null,null,{"$f":"VLOOKUP(D119,'Group Name'!A:B,2,0)","v":{"$error":"#N/A"}}," "]
[null,null,null,null,null,null,null,null,null,{"$f":"+IFERROR(VLOOKUP(C120,'Charge Conversion'!A:C,3,0),\" \")","v":" "}," "," ",null,null,null,null,null,{"$f":"VLOOKUP(D120,'Group Name'!A:B,2,0)","v":{"$error":"#N/A"}}," "]
[null,null,null,null,null,null,null,null,null,{"$f":"+IFERROR(VLOOKUP(C121,'Charge Conversion'!A:C,3,0),\" \")","v":" "}," "," ",null,null,null,null,null,{"$f":"VLOOKUP(D121,'Group Name'!A:B,2,0)","v":{"$error":"#N/A"}}," "]
[null,null,null,null,null,null,null,null,null,{"$f":"+IFERROR(VLOOKUP(C122,'Charge Conversion'!A:C,3,0),\" \")","v":" "}," "," ",null,null,null,null,null,{"$f":"VLOOKUP(D122,'Group Name'!A:B,2,0)","v":{"$error":"#N/A"}}," "]
[null,null,null,null,null,null,null,null,null,{"$f":"+IFERROR(VLOOKUP(C123,'Charge Conversion'!A:C,3,0),\" \")","v":" "}," "," ",null,null,null,null,null,{"$f":"VLOOKUP(D123,'Group Name'!A:B,2,0)","v":{"$error":"#N/A"}}," "]
[null,null,null,null,null,null,null,null,null,{"$f":"+IFERROR(VLOOKUP(C124,'Charge Conversion'!A:C,3,0),\" \")","v":" "}," "," ",null,null,null,null,null,{"$f":"VLOOKUP(D124,'Group Name'!A:B,2,0)","v":{"$error":"#N/A"}}," "]
[null,null,null,null,null,null,null,null,null,{"$f":"+IFERROR(VLOOKUP(C125,'Charge Conversion'!A:C,3,0),\" \")","v":" "}," "," ",null,null,null,null,null,{"$f":"VLOOKUP(D125,'Group Name'!A:B,2,0)","v":{"$error":"#N/A"}}," "]
[null,null,null,null,null,null,null,null,null,{"$f":"+IFERROR(VLOOKUP(C126,'Charge Conversion'!A:C,3,0),\" \")","v":" "}," "," ",null,null,null,null,null,{"$f":"VLOOKUP(D126,'Group Name'!A:B,2,0)","v":{"$error":"#N/A"}}," "]
[null,null,null,null,null,null,null,null,null,{"$f":"+IFERROR(VLOOKUP(C127,'Charge Conversion'!A:C,3,0),\" \")","v":" "}," "," ",null,null,null,null,null,{"$f":"VLOOKUP(D127,'Group Name'!A:B,2,0)","v":{"$error":"#N/A"}}," "]
[null,null,null,null,null,null,null,null,null,{"$f":"+IFERROR(VLOOKUP(C128,'Charge Conversion'!A:C,3,0),\" \")","v":" "}," "," ",null,null,null,null,null,{"$f":"VLOOKUP(D128,'Group Name'!A:B,2,0)","v":{"$error":"#N/A"}}," "]
[null,null,null,null,null,null,null,null,null,{"$f":"+IFERROR(VLOOKUP(C129,'Charge Conversion'!A:C,3,0),\" \")","v":" "}," "," ",null,null,null,null,null,{"$f":"VLOOKUP(D129,'Group Name'!A:B,2,0)","v":{"$error":"#N/A"}}," "]
[null,null,null,null,null,null,null,null,null,{"$f":"+IFERROR(VLOOKUP(C130,'Charge Conversion'!A:C,3,0),\" \")","v":" "}," "," ",null,null,null,null,null,{"$f":"VLOOKUP(D130,'Group Name'!A:B,2,0)","v":{"$error":"#N/A"}}," "]
[null,null,null,null,null,null,null,null,null,{"$f":"+IFERROR(VLOOKUP(C131,'Charge Conversion'!A:C,3,0),\" \")","v":" "}," "," ",null,null,null,null,null,{"$f":"VLOOKUP(D131,'Group Name'!A:B,2,0)","v":{"$error":"#N/A"}}," "]
[null,null,null,null,null,null,null,null,null,{"$f":"+IFERROR(VLOOKUP(C132,'Charge Conversion'!A:C,3,0),\" \")","v":" "}," "," ",null,null,null,null,null,{"$f":"VLOOKUP(D132,'Group Name'!A:B,2,0)","v":{"$error":"#N/A"}}," "]
[null,null,null,null,null,null,null,null,null,{"$f":"+IFERROR(VLOOKUP(C133,'Charge Conversion'!A:C,3,0),\" \")","v":" "},{"$f":"+IFERROR(I133*J133,\" \")","v":" "},{"$f":"S133","v":" "},null,null,null,null,null,{"$f":"VLOOKUP(D133,'Group Name'!A:B,2,0)","v":{"$error":"#N/A"}},{"$f":"IFERROR((IF(A133=\" \",\" \",R133)),\" \")","v":" "}]
[null,null,null,null,null,null,null,null,null,{"$f":"+IFERROR(VLOOKUP(C134,'Charge Conversion'!A:C,3,0),\" \")","v":" "}," "," ",null,null,null,null,null,{"$f":"VLOOKUP(D134,'Group Name'!A:B,2,0)","v":{"$error":"#N/A"}}," "]
[null,null,null,null,null,null,null,null,null,{"$f":"+IFERROR(VLOOKUP(C135,'Charge Conversion'!A:C,3,0),\" \")","v":" "}," "," ",null,null,null,null,null,{"$f":"VLOOKUP(D135,'Group Name'!A:B,2,0)","v":{"$error":"#N/A"}}," "]
[null,null,null,null,null,null,null,null,null,{"$f":"+IFERROR(VLOOKUP(C136,'Charge Conversion'!A:C,3,0),\" \")","v":" "}," "," ",null,null,null,null,null,{"$f":"VLOOKUP(D136,'Group Name'!A:B,2,0)","v":{"$error":"#N/A"}}," "]
[null,null,null,null,null,null,null,null,null,{"$f":"+IFERROR(VLOOKUP(C137,'Charge Conversion'!A:C,3,0),\" \")","v":" "}," "," ",null,null,null,null,null,{"$f":"VLOOKUP(D137,'Group Name'!A:B,2,0)","v":{"$error":"#N/A"}}," "]
[null,null,null,null,null,null,null,null,null,{"$f":"+IFERROR(VLOOKUP(C138,'Charge Conversion'!A:C,3,0),\" \")","v":" "}," "," ",null,null,null,null,null,{"$f":"VLOOKUP(D138,'Group Name'!A:B,2,0)","v":{"$error":"#N/A"}}," "]
[null,null,null,null,null,null,null,null,null,{"$f":"+IFERROR(VLOOKUP(C139,'Charge Conversion'!A:C,3,0),\" \")","v":" "}," "," ",null,null,null,null,null,{"$f":"VLOOKUP(D139,'Group Name'!A:B,2,0)","v":{"$error":"#N/A"}}," "]
[null,null,null,null,null,null,null,null,null,{"$f":"+IFERROR(VLOOKUP(C140,'Charge Conversion'!A:C,3,0),\" \")","v":" "}," "," ",null,null,null,null,null,{"$f":"VLOOKUP(D140,'Group Name'!A:B,2,0)","v":{"$error":"#N/A"}}," "]
[null,null,null,null,null,null,null,null,null,{"$f":"+IFERROR(VLOOKUP(C141,'Charge Conversion'!A:C,3,0),\" \")","v":" "}," "," ",null,null,null,null,null,{"$f":"VLOOKUP(D141,'Group Name'!A:B,2,0)","v":{"$error":"#N/A"}}," "]
[null,null,null,null,null,null,null,null,null,{"$f":"+IFERROR(VLOOKUP(C142,'Charge Conversion'!A:C,3,0),\" \")","v":" "}," "," ",null,null,null,null,null,{"$f":"VLOOKUP(D142,'Group Name'!A:B,2,0)","v":{"$error":"#N/A"}}," "]
[null,null,null,null,null,null,null,null,null,{"$f":"+IFERROR(VLOOKUP(C143,'Charge Conversion'!A:C,3,0),\" \")","v":" "}," "," ",null,null,null,null,null,{"$f":"VLOOKUP(D143,'Group Name'!A:B,2,0)","v":{"$error":"#N/A"}}," "]
[null,null,null,null,null,null,null,null,null,{"$f":"+IFERROR(VLOOKUP(C144,'Charge Conversion'!A:C,3,0),\" \")","v":" "}," "," ",null,null,null,null,null,{"$f":"VLOOKUP(D144,'Group Name'!A:B,2,0)","v":{"$error":"#N/A"}}," "]
[null,null,null,null,null,null,null,null,null,{"$f":"+IFERROR(VLOOKUP(C145,'Charge Conversion'!A:C,3,0),\" \")","v":" "}," "," ",null,null,null,null,null,{"$f":"VLOOKUP(D145,'Group Name'!A:B,2,0)","v":{"$error":"#N/A"}}," "]
[null,null,null,null,null,null,null,null,null,{"$f":"+IFERROR(VLOOKUP(C146,'Charge Conversion'!A:C,3,0),\" \")","v":" "}," "," ",null,null,null,null,null,{"$f":"VLOOKUP(D146,'Group Name'!A:B,2,0)","v":{"$error":"#N/A"}}," "]
[null,null,null,null,null,null,null,null,null,{"$f":"+IFERROR(VLOOKUP(C147,'Charge Conversion'!A:C,3,0),\" \")","v":" "}," "," ",null,null,null,null,null,{"$f":"VLOOKUP(D147,'Group Name'!A:B,2,0)","v":{"$error":"#N/A"}}," "]
[null,null,null,null,null,null,null,null,null,{"$f":"+IFERROR(VLOOKUP(C148,'Charge Conversion'!A:C,3,0),\" \")","v":" "}," "," ",null,null,null,null,null,{"$f":"VLOOKUP(D148,'Group Name'!A:B,2,0)","v":{"$error":"#N/A"}}," "]
[null,null,null,null,null,null,null,null,null,{"$f":"+IFERROR(VLOOKUP(C149,'Charge Conversion'!A:C,3,0),\" \")","v":" "}," "," ",null,null,null,null,null,{"$f":"VLOOKUP(D149,'Group Name'!A:B,2,0)","v":{"$error":"#N/A"}}," "]
[null,null,null,null,null,null,null,null,null,{"$f":"+IFERROR(VLOOKUP(C150,'Charge Conversion'!A:C,3,0),\" \")","v":" "}," "," ",null,null,null,null,null,{"$f":"VLOOKUP(D150,'Group Name'!A:B,2,0)","v":{"$error":"#N/A"}}," "]
[null,null,null,null,null,null,null,null,null,{"$f":"+IFERROR(VLOOKUP(C151,'Charge Conversion'!A:C,3,0),\" \")","v":" "}," "," ",null,null,null,null,null,{"$f":"VLOOKUP(D151,'Group Name'!A:B,2,0)","v":{"$error":"#N/A"}}," "]
[null,null,null,null,null,null,null,null,null,{"$f":"+IFERROR(VLOOKUP(C152,'Charge Conversion'!A:C,3,0),\" \")","v":" "}," "," ",null,null,null,null,null,{"$f":"VLOOKUP(D152,'Group Name'!A:B,2,0)","v":{"$error":"#N/A"}}," "]
[null,null,null,null,null,null,null,null,null,{"$f":"+IFERROR(VLOOKUP(C153,'Charge Conversion'!A:C,3,0),\" \")","v":" "}," "," ",null,null,null,null,null,{"$f":"VLOOKUP(D153,'Group Name'!A:B,2,0)","v":{"$error":"#N/A"}}," "]
[null,null,null,null,null,null,null,null,null,{"$f":"+IFERROR(VLOOKUP(C154,'Charge Conversion'!A:C,3,0),\" \")","v":" "}," "," ",null,null,null,null,null,{"$f":"VLOOKUP(D154,'Group Name'!A:B,2,0)","v":{"$error":"#N/A"}}," "]
[null,null,null,null,null,null,null,null,null,{"$f":"+IFERROR(VLOOKUP(C155,'Charge Conversion'!A:C,3,0),\" \")","v":" "}," "," ",null,null,null,null,null,{"$f":"VLOOKUP(D155,'Group Name'!A:B,2,0)","v":{"$error":"#N/A"}}," "]
[null,null,null,null,null,null,null,null,null,{"$f":"+IFERROR(VLOOKUP(C156,'Charge Conversion'!A:C,3,0),\" \")","v":" "}," "," ",null,null,null,null,null,{"$f":"VLOOKUP(D156,'Group Name'!A:B,2,0)","v":{"$error":"#N/A"}}," "]
[null,null,null,null,null,null,null,null,null,{"$f":"+IFERROR(VLOOKUP(C157,'Charge Conversion'!A:C,3,0),\" \")","v":" "}," "," ",null,null,null,null,null,{"$f":"VLOOKUP(D157,'Group Name'!A:B,2,0)","v":{"$error":"#N/A"}}," "]
[null,null,null,null,null,null,null,null,null,{"$f":"+IFERROR(VLOOKUP(C158,'Charge Conversion'!A:C,3,0),\" \")","v":" "}," "," ",null,null,null,null,null,{"$f":"VLOOKUP(D158,'Group Name'!A:B,2,0)","v":{"$error":"#N/A"}}," "]
[null,null,null,null,null,null,null,null,null,{"$f":"+IFERROR(VLOOKUP(C159,'Charge Conversion'!A:C,3,0),\" \")","v":" "}," "," ",null,null,null,null,null,{"$f":"VLOOKUP(D159,'Group Name'!A:B,2,0)","v":{"$error":"#N/A"}}," "]
[null,null,null,null,null,null,null,null,null,{"$f":"+IFERROR(VLOOKUP(C160,'Charge Conversion'!A:C,3,0),\" \")","v":" "}," "," ",null,null,null,null,null,{"$f":"VLOOKUP(D160,'Group Name'!A:B,2,0)","v":{"$error":"#N/A"}}," "]
[null,null,null,null,null,null,null,null,null,{"$f":"+IFERROR(VLOOKUP(C161,'Charge Conversion'!A:C,3,0),\" \")","v":" "}," "," ",null,null,null,null,null,{"$f":"VLOOKUP(D161,'Group Name'!A:B,2,0)","v":{"$error":"#N/A"}}," "]
[null,null,null,null,null,null,null,null,null,{"$f":"+IFERROR(VLOOKUP(C162,'Charge Conversion'!A:C,3,0),\" \")","v":" "}," "," ",null,null,null,null,null,{"$f":"VLOOKUP(D162,'Group Name'!A:B,2,0)","v":{"$error":"#N/A"}}," "]
[null,null,null,null,null,null,null,null,null,{"$f":"+IFERROR(VLOOKUP(C163,'Charge Conversion'!A:C,3,0),\" \")","v":" "}," "," ",null,null,null,null,null,{"$f":"VLOOKUP(D163,'Group Name'!A:B,2,0)","v":{"$error":"#N/A"}}," "]
[null,null,null,null,null,null,null,null,null,{"$f":"+IFERROR(VLOOKUP(C164,'Charge Conversion'!A:C,3,0),\" \")","v":" "}," "," ",null,null,null,null,null,{"$f":"VLOOKUP(D164,'Group Name'!A:B,2,0)","v":{"$error":"#N/A"}}," "]
[null,null,null,null,null,null,null,null,null,{"$f":"+IFERROR(VLOOKUP(C165,'Charge Conversion'!A:C,3,0),\" \")","v":" "}," "," ",null,null,null,null,null,{"$f":"VLOOKUP(D165,'Group Name'!A:B,2,0)","v":{"$error":"#N/A"}}," "]
[null,null,null,null,null,null,null,null,null,{"$f":"+IFERROR(VLOOKUP(C166,'Charge Conversion'!A:C,3,0),\" \")","v":" "}," "," ",null,null,null,null,null,{"$f":"VLOOKUP(D166,'Group Name'!A:B,2,0)","v":{"$error":"#N/A"}}," "]
[null,null,null,null,null,null,null,null,null,{"$f":"+IFERROR(VLOOKUP(C167,'Charge Conversion'!A:C,3,0),\" \")","v":" "}," "," ",null,null,null,null,null,{"$f":"VLOOKUP(D167,'Group Name'!A:B,2,0)","v":{"$error":"#N/A"}}," "]
[null,null,null,null,null,null,null,null,null,{"$f":"+IFERROR(VLOOKUP(C168,'Charge Conversion'!A:C,3,0),\" \")","v":" "}," "," ",null,null,null,null,null,{"$f":"VLOOKUP(D168,'Group Name'!A:B,2,0)","v":{"$error":"#N/A"}}," "]
[null,null,null,null,null,null,null,null,null,{"$f":"+IFERROR(VLOOKUP(C169,'Charge Conversion'!A:C,3,0),\" \")","v":" "}," "," ",null,null,null,null,null,{"$f":"VLOOKUP(D169,'Group Name'!A:B,2,0)","v":{"$error":"#N/A"}}," "]
[null,null,null,null,null,null,null,null,null,{"$f":"+IFERROR(VLOOKUP(C170,'Charge Conversion'!A:C,3,0),\" \")","v":" "}," "," ",null,null,null,null,null,{"$f":"VLOOKUP(D170,'Group Name'!A:B,2,0)","v":{"$error":"#N/A"}}," "]
[null,null,null,null,null,null,null,null,null,{"$f":"+IFERROR(VLOOKUP(C171,'Charge Conversion'!A:C,3,0),\" \")","v":" "}," "," ",null,null,null,null,null,{"$f":"VLOOKUP(D171,'Group Name'!A:B,2,0)","v":{"$error":"#N/A"}}," "]
[null,null,null,null,null,null,null,null,null,{"$f":"+IFERROR(VLOOKUP(C172,'Charge Conversion'!A:C,3,0),\" \")","v":" "}," "," ",null,null,null,null,null,{"$f":"VLOOKUP(D172,'Group Name'!A:B,2,0)","v":{"$error":"#N/A"}}," "]
[null,null,null,null,null,null,null,null,null,{"$f":"+IFERROR(VLOOKUP(C173,'Charge Conversion'!A:C,3,0),\" \")","v":" "}," "," ",null,null,null,null,null,{"$f":"VLOOKUP(D173,'Group Name'!A:B,2,0)","v":{"$error":"#N/A"}}," "]
[null,null,null,null,null,null,null,null,null,{"$f":"+IFERROR(VLOOKUP(C174,'Charge Conversion'!A:C,3,0),\" \")","v":" "}," "," ",null,null,null,null,null,{"$f":"VLOOKUP(D174,'Group Name'!A:B,2,0)","v":{"$error":"#N/A"}}," "]
[null,null,null,null,null,null,null,null,null,{"$f":"+IFERROR(VLOOKUP(C175,'Charge Conversion'!A:C,3,0),\" \")","v":" "}," "," ",null,null,null,null,null,{"$f":"VLOOKUP(D175,'Group Name'!A:B,2,0)","v":{"$error":"#N/A"}}," "]
[null,null,null,null,null,null,null,null,null,{"$f":"+IFERROR(VLOOKUP(C176,'Charge Conversion'!A:C,3,0),\" \")","v":" "}," "," ",null,null,null,null,null,{"$f":"VLOOKUP(D176,'Group Name'!A:B,2,0)","v":{"$error":"#N/A"}}," "]
[null,null,null,null,null,null,null,null,null,{"$f":"+IFERROR(VLOOKUP(C177,'Charge Conversion'!A:C,3,0),\" \")","v":" "}," "," ",null,null,null,null,null,{"$f":"VLOOKUP(D177,'Group Name'!A:B,2,0)","v":{"$error":"#N/A"}}," "]
[null,null,null,null,null,null,null,null,null,{"$f":"+IFERROR(VLOOKUP(C178,'Charge Conversion'!A:C,3,0),\" \")","v":" "}," "," ",null,null,null,null,null,{"$f":"VLOOKUP(D178,'Group Name'!A:B,2,0)","v":{"$error":"#N/A"}}," "]
[null,null,null,null,null,null,null,null,null,{"$f":"+IFERROR(VLOOKUP(C179,'Charge Conversion'!A:C,3,0),\" \")","v":" "}," "," ",null,null,null,null,null,{"$f":"VLOOKUP(D179,'Group Name'!A:B,2,0)","v":{"$error":"#N/A"}}," "]
[null,null,null,null,null,null,null,null,null,{"$f":"+IFERROR(VLOOKUP(C180,'Charge Conversion'!A:C,3,0),\" \")","v":" "}," "," ",null,null,null,null,null,{"$f":"VLOOKUP(D180,'Group Name'!A:B,2,0)","v":{"$error":"#N/A"}}," "]
[null,null,null,null,null,null,null,null,null,{"$f":"+IFERROR(VLOOKUP(C181,'Charge Conversion'!A:C,3,0),\" \")","v":" "}," "," ",null,null,null,null,null,{"$f":"VLOOKUP(D181,'Group Name'!A:B,2,0)","v":{"$error":"#N/A"}}," "]
[null,null,null,null,null,null,null,null,null,{"$f":"+IFERROR(VLOOKUP(C182,'Charge Conversion'!A:C,3,0),\" \")","v":" "}," "," ",null,null,null,null,null,{"$f":"VLOOKUP(D182,'Group Name'!A:B,2,0)","v":{"$error":"#N/A"}}," "]
[null,null,null,null,null,null,null,null,null,{"$f":"+IFERROR(VLOOKUP(C183,'Charge Conversion'!A:C,3,0),\" \")","v":" "}," "," ",null,null,null,null,null,{"$f":"VLOOKUP(D183,'Group Name'!A:B,2,0)","v":{"$error":"#N/A"}}," "]
[null,null,null,null,null,null,null,null,null,{"$f":"+IFERROR(VLOOKUP(C184,'Charge Conversion'!A:C,3,0),\" \")","v":" "}," "," ",null,null,null,null,null,{"$f":"VLOOKUP(D184,'Group Name'!A:B,2,0)","v":{"$error":"#N/A"}}," "]
[null,null,null,null,null,null,null,null,null,{"$f":"+IFERROR(VLOOKUP(C185,'Charge Conversion'!A:C,3,0),\" \")","v":" "}," "," ",null,null,null,null,null,{"$f":"VLOOKUP(D185,'Group Name'!A:B,2,0)","v":{"$error":"#N/A"}}," "]
[null,null,null,null,null,null,null,null,null,{"$f":"+IFERROR(VLOOKUP(C186,'Charge Conversion'!A:C,3,0),\" \")","v":" "}," "," ",null,null,null,null,null,{"$f":"VLOOKUP(D186,'Group Name'!A:B,2,0)","v":{"$error":"#N/A"}}," "]
[null,null,null,null,null,null,null,null,null,{"$f":"+IFERROR(VLOOKUP(C187,'Charge Conversion'!A:C,3,0),\" \")","v":" "}," "," ",null,null,null,null,null,{"$f":"VLOOKUP(D187,'Group Name'!A:B,2,0)","v":{"$error":"#N/A"}}," "]
[null,null,null,null,null,null,null,null,null,{"$f":"+IFERROR(VLOOKUP(C188,'Charge Conversion'!A:C,3,0),\" \")","v":" "}," "," ",null,null,null,null,null,{"$f":"VLOOKUP(D188,'Group Name'!A:B,2,0)","v":{"$error":"#N/A"}}," "]
[null,null,null,null,null,null,null,null,null,{"$f":"+IFERROR(VLOOKUP(C189,'Charge Conversion'!A:C,3,0),\" \")","v":" "}," "," ",null,null,null,null,null,{"$f":"VLOOKUP(D189,'Group Name'!A:B,2,0)","v":{"$error":"#N/A"}}," "]
[null,null,null,null,null,null,null,null,null,{"$f":"+IFERROR(VLOOKUP(C190,'Charge Conversion'!A:C,3,0),\" \")","v":" "}," "," ",null,null,null,null,null,{"$f":"VLOOKUP(D190,'Group Name'!A:B,2,0)","v":{"$error":"#N/A"}}," "]
[null,null,null,null,null,null,null,null,null,{"$f":"+IFERROR(VLOOKUP(C191,'Charge Conversion'!A:C,3,0),\" \")","v":" "}," "," ",null,null,null,null,null,{"$f":"VLOOKUP(D191,'Group Name'!A:B,2,0)","v":{"$error":"#N/A"}}," "]
[null,null,null,null,null,null,null,null,null,{"$f":"+IFERROR(VLOOKUP(C192,'Charge Conversion'!A:C,3,0),\" \")","v":" "}," "," ",null,null,null,null,null,{"$f":"VLOOKUP(D192,'Group Name'!A:B,2,0)","v":{"$error":"#N/A"}}," "]
[null,null,null,null,null,null,null,null,null,{"$f":"+IFERROR(VLOOKUP(C193,'Charge Conversion'!A:C,3,0),\" \")","v":" "}," "," ",null,null,null,null,null,{"$f":"VLOOKUP(D193,'Group Name'!A:B,2,0)","v":{"$error":"#N/A"}}," "]
[null,null,null,null,null,null,null,null,null,{"$f":"+IFERROR(VLOOKUP(C194,'Charge Conversion'!A:C,3,0),\" \")","v":" "}," "," ",null,null,null,null,null,{"$f":"VLOOKUP(D194,'Group Name'!A:B,2,0)","v":{"$error":"#N/A"}}," "]
[null,null,null,null,null,null,null,null,null,{"$f":"+IFERROR(VLOOKUP(C195,'Charge Conversion'!A:C,3,0),\" \")","v":" "}," "," ",null,null,null,null,null,{"$f":"VLOOKUP(D195,'Group Name'!A:B,2,0)","v":{"$error":"#N/A"}}," "]
[null,null,null,null,null,null,null,null,null,{"$f":"+IFERROR(VLOOKUP(C196,'Charge Conversion'!A:C,3,0),\" \")","v":" "}," "," ",null,null,null,null,null,{"$f":"VLOOKUP(D196,'Group Name'!A:B,2,0)","v":{"$error":"#N/A"}}," "]
[null,null,null,null,null,null,null,null,null,{"$f":"+IFERROR(VLOOKUP(C197,'Charge Conversion'!A:C,3,0),\" \")","v":" "},{"$f":"+IFERROR(I197*J197,\" \")","v":" "},{"$f":"S197","v":" "},null,null,null,null,null,{"$f":"VLOOKUP(D197,'Group Name'!A:B,2,0)","v":{"$error":"#N/A"}},{"$f":"IFERROR((IF(A197=\" \",\" \",R197)),\" \")","v":" "}]
[null,null,null,null,null,null,null,null,null,{"$f":"+IFERROR(VLOOKUP(C198,'Charge Conversion'!A:C,3,0),\" \")","v":" "}," "," ",null,null,null,null,null,{"$f":"VLOOKUP(D198,'Group Name'!A:B,2,0)","v":{"$error":"#N/A"}}," "]
[null,null,null,null,null,null,null,null,null,{"$f":"+IFERROR(VLOOKUP(C199,'Charge Conversion'!A:C,3,0),\" \")","v":" "}," "," ",null,null,null,null,null,{"$f":"VLOOKUP(D199,'Group Name'!A:B,2,0)","v":{"$error":"#N/A"}}," "]
[null,null,null,null,null,null,null,null,null,{"$f":"+IFERROR(VLOOKUP(C200,'Charge Conversion'!A:C,3,0),\" \")","v":" "}," "," ",null,null,null,null,null,{"$f":"VLOOKUP(D200,'Group Name'!A:B,2,0)","v":{"$error":"#N/A"}}," "]
[null,null,null,null,null,null,null,null,null,{"$f":"+IFERROR(VLOOKUP(C201,'Charge Conversion'!A:C,3,0),\" \")","v":" "}," "," ",null,null,null,null,null,{"$f":"VLOOKUP(D201,'Group Name'!A:B,2,0)","v":{"$error":"#N/A"}}," "]
[null,null,null,null,null,null,null,null,null,{"$f":"+IFERROR(VLOOKUP(C202,'Charge Conversion'!A:C,3,0),\" \")","v":" "}," "," ",null,null,null,null,null,{"$f":"VLOOKUP(D202,'Group Name'!A:B,2,0)","v":{"$error":"#N/A"}}," "]
[null,null,null,null,null,null,null,null,null,{"$f":"+IFERROR(VLOOKUP(C203,'Charge Conversion'!A:C,3,0),\" \")","v":" "}," "," ",null,null,null,null,null,{"$f":"VLOOKUP(D203,'Group Name'!A:B,2,0)","v":{"$error":"#N/A"}}," "]
[null,null,null,null,null,null,null,null,null,{"$f":"+IFERROR(VLOOKUP(C204,'Charge Conversion'!A:C,3,0),\" \")","v":" "}," "," ",null,null,null,null,null,{"$f":"VLOOKUP(D204,'Group Name'!A:B,2,0)","v":{"$error":"#N/A"}}," "]
[null,null,null,null,null,null,null,null,null,{"$f":"+IFERROR(VLOOKUP(C205,'Charge Conversion'!A:C,3,0),\" \")","v":" "}," "," ",null,null,null,null,null,{"$f":"VLOOKUP(D205,'Group Name'!A:B,2,0)","v":{"$error":"#N/A"}}," "]
[null,null,null,null,null,null,null,null,null,{"$f":"+IFERROR(VLOOKUP(C206,'Charge Conversion'!A:C,3,0),\" \")","v":" "}," "," ",null,null,null,null,null,{"$f":"VLOOKUP(D206,'Group Name'!A:B,2,0)","v":{"$error":"#N/A"}}," "]
[null,null,null,null,null,null,null,null,null,{"$f":"+IFERROR(VLOOKUP(C207,'Charge Conversion'!A:C,3,0),\" \")","v":" "}," "," ",null,null,null,null,null,{"$f":"VLOOKUP(D207,'Group Name'!A:B,2,0)","v":{"$error":"#N/A"}}," "]
[null,null,null,null,null,null,null,null,null,{"$f":"+IFERROR(VLOOKUP(C208,'Charge Conversion'!A:C,3,0),\" \")","v":" "}," "," ",null,null,null,null,null,{"$f":"VLOOKUP(D208,'Group Name'!A:B,2,0)","v":{"$error":"#N/A"}}," "]
[null,null,null,null,null,null,null,null,null,{"$f":"+IFERROR(VLOOKUP(C209,'Charge Conversion'!A:C,3,0),\" \")","v":" "}," "," ",null,null,null,null,null,{"$f":"VLOOKUP(D209,'Group Name'!A:B,2,0)","v":{"$error":"#N/A"}}," "]
[null,null,null,null,null,null,null,null,null,{"$f":"+IFERROR(VLOOKUP(C210,'Charge Conversion'!A:C,3,0),\" \")","v":" "}," "," ",null,null,null,null,null,{"$f":"VLOOKUP(D210,'Group Name'!A:B,2,0)","v":{"$error":"#N/A"}}," "]
[null,null,null,null,null,null,null,null,null,{"$f":"+IFERROR(VLOOKUP(C211,'Charge Conversion'!A:C,3,0),\" \")","v":" "}," "," ",null,null,null,null,null,{"$f":"VLOOKUP(D211,'Group Name'!A:B,2,0)","v":{"$error":"#N/A"}}," "]
[null,null,null,null,null,null,null,null,null,{"$f":"+IFERROR(VLOOKUP(C212,'Charge Conversion'!A:C,3,0),\" \")","v":" "}," "," ",null,null,null,null,null,{"$f":"VLOOKUP(D212,'Group Name'!A:B,2,0)","v":{"$error":"#N/A"}}," "]
[null,null,null,null,null,null,null,null,null,{"$f":"+IFERROR(VLOOKUP(C213,'Charge Conversion'!A:C,3,0),\" \")","v":" "}," "," ",null,null,null,null,null,{"$f":"VLOOKUP(D213,'Group Name'!A:B,2,0)","v":{"$error":"#N/A"}}," "]
[null,null,null,null,null,null,null,null,null,{"$f":"+IFERROR(VLOOKUP(C214,'Charge Conversion'!A:C,3,0),\" \")","v":" "}," "," ",null,null,null,null,null,{"$f":"VLOOKUP(D214,'Group Name'!A:B,2,0)","v":{"$error":"#N/A"}}," "]
[null,null,null,null,null,null,null,null,null,{"$f":"+IFERROR(VLOOKUP(C215,'Charge Conversion'!A:C,3,0),\" \")","v":" "}," "," ",null,null,null,null,null,{"$f":"VLOOKUP(D215,'Group Name'!A:B,2,0)","v":{"$error":"#N/A"}}," "]
[null,null,null,null,null,null,null,null,null,{"$f":"+IFERROR(VLOOKUP(C216,'Charge Conversion'!A:C,3,0),\" \")","v":" "}," "," ",null,null,null,null,null,{"$f":"VLOOKUP(D216,'Group Name'!A:B,2,0)","v":{"$error":"#N/A"}}," "]
[null,null,null,null,null,null,null,null,null,{"$f":"+IFERROR(VLOOKUP(C217,'Charge Conversion'!A:C,3,0),\" \")","v":" "}," "," ",null,null,null,null,null,{"$f":"VLOOKUP(D217,'Group Name'!A:B,2,0)","v":{"$error":"#N/A"}}," "]
[null,null,null,null,null,null,null,null,null,{"$f":"+IFERROR(VLOOKUP(C218,'Charge Conversion'!A:C,3,0),\" \")","v":" "}," "," ",null,null,null,null,null,{"$f":"VLOOKUP(D218,'Group Name'!A:B,2,0)","v":{"$error":"#N/A"}}," "]
[null,null,null,null,null,null,null,null,null,{"$f":"+IFERROR(VLOOKUP(C219,'Charge Conversion'!A:C,3,0),\" \")","v":" "}," "," ",null,null,null,null,null,{"$f":"VLOOKUP(D219,'Group Name'!A:B,2,0)","v":{"$error":"#N/A"}}," "]
[null,null,null,null,null,null,null,null,null,{"$f":"+IFERROR(VLOOKUP(C220,'Charge Conversion'!A:C,3,0),\" \")","v":" "}," "," ",null,null,null,null,null,{"$f":"VLOOKUP(D220,'Group Name'!A:B,2,0)","v":{"$error":"#N/A"}}," "]
[null,null,null,null,null,null,null,null,null,{"$f":"+IFERROR(VLOOKUP(C221,'Charge Conversion'!A:C,3,0),\" \")","v":" "}," "," ",null,null,null,null,null,{"$f":"VLOOKUP(D221,'Group Name'!A:B,2,0)","v":{"$error":"#N/A"}}," "]
[null,null,null,null,null,null,null,null,null,{"$f":"+IFERROR(VLOOKUP(C222,'Charge Conversion'!A:C,3,0),\" \")","v":" "}," "," ",null,null,null,null,null,{"$f":"VLOOKUP(D222,'Group Name'!A:B,2,0)","v":{"$error":"#N/A"}}," "]
[null,null,null,null,null,null,null,null,null,{"$f":"+IFERROR(VLOOKUP(C223,'Charge Conversion'!A:C,3,0),\" \")","v":" "}," "," ",null,null,null,null,null,{"$f":"VLOOKUP(D223,'Group Name'!A:B,2,0)","v":{"$error":"#N/A"}}," "]
[null,null,null,null,null,null,null,null,null,{"$f":"+IFERROR(VLOOKUP(C224,'Charge Conversion'!A:C,3,0),\" \")","v":" "}," "," ",null,null,null,null,null,{"$f":"VLOOKUP(D224,'Group Name'!A:B,2,0)","v":{"$error":"#N/A"}}," "]
[null,null,null,null,null,null,null,null,null,{"$f":"+IFERROR(VLOOKUP(C225,'Charge Conversion'!A:C,3,0),\" \")","v":" "}," "," ",null,null,null,null,null,{"$f":"VLOOKUP(D225,'Group Name'!A:B,2,0)","v":{"$error":"#N/A"}}," "]
[null,null,null,null,null,null,null,null,null,{"$f":"+IFERROR(VLOOKUP(C226,'Charge Conversion'!A:C,3,0),\" \")","v":" "}," "," ",null,null,null,null,null,{"$f":"VLOOKUP(D226,'Group Name'!A:B,2,0)","v":{"$error":"#N/A"}}," "]
[null,null,null,null,null,null,null,null,null,{"$f":"+IFERROR(VLOOKUP(C227,'Charge Conversion'!A:C,3,0),\" \")","v":" "}," "," ",null,null,null,null,null,{"$f":"VLOOKUP(D227,'Group Name'!A:B,2,0)","v":{"$error":"#N/A"}}," "]
[null,null,null,null,null,null,null,null,null,{"$f":"+IFERROR(VLOOKUP(C228,'Charge Conversion'!A:C,3,0),\" \")","v":" "}," "," ",null,null,null,null,null,{"$f":"VLOOKUP(D228,'Group Name'!A:B,2,0)","v":{"$error":"#N/A"}}," "]
[null,null,null,null,null,null,null,null,null,{"$f":"+IFERROR(VLOOKUP(C229,'Charge Conversion'!A:C,3,0),\" \")","v":" "}," "," ",null,null,null,null,null,{"$f":"VLOOKUP(D229,'Group Name'!A:B,2,0)","v":{"$error":"#N/A"}}," "]
[null,null,null,null,null,null,null,null,null,{"$f":"+IFERROR(VLOOKUP(C230,'Charge Conversion'!A:C,3,0),\" \")","v":" "}," "," ",null,null,null,null,null,{"$f":"VLOOKUP(D230,'Group Name'!A:B,2,0)","v":{"$error":"#N/A"}}," "]
[null,null,null,null,null,null,null,null,null,{"$f":"+IFERROR(VLOOKUP(C231,'Charge Conversion'!A:C,3,0),\" \")","v":" "}," "," ",null,null,null,null,null,{"$f":"VLOOKUP(D231,'Group Name'!A:B,2,0)","v":{"$error":"#N/A"}}," "]
[null,null,null,null,null,null,null,null,null,{"$f":"+IFERROR(VLOOKUP(C232,'Charge Conversion'!A:C,3,0),\" \")","v":" "}," "," ",null,null,null,null,null,{"$f":"VLOOKUP(D232,'Group Name'!A:B,2,0)","v":{"$error":"#N/A"}}," "]
[null,null,null,null,null,null,null,null,null,{"$f":"+IFERROR(VLOOKUP(C233,'Charge Conversion'!A:C,3,0),\" \")","v":" "}," "," ",null,null,null,null,null,{"$f":"VLOOKUP(D233,'Group Name'!A:B,2,0)","v":{"$error":"#N/A"}}," "]
[null,null,null,null,null,null,null,null,null,{"$f":"+IFERROR(VLOOKUP(C234,'Charge Conversion'!A:C,3,0),\" \")","v":" "}," "," ",null,null,null,null,null,{"$f":"VLOOKUP(D234,'Group Name'!A:B,2,0)","v":{"$error":"#N/A"}}," "]
[null,null,null,null,null,null,null,null,null,{"$f":"+IFERROR(VLOOKUP(C235,'Charge Conversion'!A:C,3,0),\" \")","v":" "}," "," ",null,null,null,null,null,{"$f":"VLOOKUP(D235,'Group Name'!A:B,2,0)","v":{"$error":"#N/A"}}," "]
[null,null,null,null,null,null,null,null,null,{"$f":"+IFERROR(VLOOKUP(C236,'Charge Conversion'!A:C,3,0),\" \")","v":" "}," "," ",null,null,null,null,null,{"$f":"VLOOKUP(D236,'Group Name'!A:B,2,0)","v":{"$error":"#N/A"}}," "]
[null,null,null,null,null,null,null,null,null,{"$f":"+IFERROR(VLOOKUP(C237,'Charge Conversion'!A:C,3,0),\" \")","v":" "}," "," ",null,null,null,null,null,{"$f":"VLOOKUP(D237,'Group Name'!A:B,2,0)","v":{"$error":"#N/A"}}," "]
[null,null,null,null,null,null,null,null,null,{"$f":"+IFERROR(VLOOKUP(C238,'Charge Conversion'!A:C,3,0),\" \")","v":" "}," "," ",null,null,null,null,null,{"$f":"VLOOKUP(D238,'Group Name'!A:B,2,0)","v":{"$error":"#N/A"}}," "]
[null,null,null,null,null,null,null,null,null,{"$f":"+IFERROR(VLOOKUP(C239,'Charge Conversion'!A:C,3,0),\" \")","v":" "}," "," ",null,null,null,null,null,{"$f":"VLOOKUP(D239,'Group Name'!A:B,2,0)","v":{"$error":"#N/A"}}," "]
[null,null,null,null,null,null,null,null,null,{"$f":"+IFERROR(VLOOKUP(C240,'Charge Conversion'!A:C,3,0),\" \")","v":" "}," "," ",null,null,null,null,null,{"$f":"VLOOKUP(D240,'Group Name'!A:B,2,0)","v":{"$error":"#N/A"}}," "]
[null,null,null,null,null,null,null,null,null,{"$f":"+IFERROR(VLOOKUP(C241,'Charge Conversion'!A:C,3,0),\" \")","v":" "}," "," ",null,null,null,null,null,{"$f":"VLOOKUP(D241,'Group Name'!A:B,2,0)","v":{"$error":"#N/A"}}," "]
[null,null,null,null,null,null,null,null,null,{"$f":"+IFERROR(VLOOKUP(C242,'Charge Conversion'!A:C,3,0),\" \")","v":" "}," "," ",null,null,null,null,null,{"$f":"VLOOKUP(D242,'Group Name'!A:B,2,0)","v":{"$error":"#N/A"}}," "]
[null,null,null,null,null,null,null,null,null,{"$f":"+IFERROR(VLOOKUP(C243,'Charge Conversion'!A:C,3,0),\" \")","v":" "}," "," ",null,null,null,null,null,{"$f":"VLOOKUP(D243,'Group Name'!A:B,2,0)","v":{"$error":"#N/A"}}," "]
[null,null,null,null,null,null,null,null,null,{"$f":"+IFERROR(VLOOKUP(C244,'Charge Conversion'!A:C,3,0),\" \")","v":" "}," "," ",null,null,null,null,null,{"$f":"VLOOKUP(D244,'Group Name'!A:B,2,0)","v":{"$error":"#N/A"}}," "]
[null,null,null,null,null,null,null,null,null,{"$f":"+IFERROR(VLOOKUP(C245,'Charge Conversion'!A:C,3,0),\" \")","v":" "}," "," ",null,null,null,null,null,{"$f":"VLOOKUP(D245,'Group Name'!A:B,2,0)","v":{"$error":"#N/A"}}," "]
[null,null,null,null,null,null,null,null,null,{"$f":"+IFERROR(VLOOKUP(C246,'Charge Conversion'!A:C,3,0),\" \")","v":" "}," "," ",null,null,null,null,null,{"$f":"VLOOKUP(D246,'Group Name'!A:B,2,0)","v":{"$error":"#N/A"}}," "]
[null,null,null,null,null,null,null,null,null,{"$f":"+IFERROR(VLOOKUP(C247,'Charge Conversion'!A:C,3,0),\" \")","v":" "}," "," ",null,null,null,null,null,{"$f":"VLOOKUP(D247,'Group Name'!A:B,2,0)","v":{"$error":"#N/A"}}," "]
[null,null,null,null,null,null,null,null,null,{"$f":"+IFERROR(VLOOKUP(C248,'Charge Conversion'!A:C,3,0),\" \")","v":" "}," "," ",null,null,null,null,null,{"$f":"VLOOKUP(D248,'Group Name'!A:B,2,0)","v":{"$error":"#N/A"}}," "]
[null,null,null,null,null,null,null,null,null,{"$f":"+IFERROR(VLOOKUP(C249,'Charge Conversion'!A:C,3,0),\" \")","v":" "}," "," ",null,null,null,null,null,{"$f":"VLOOKUP(D249,'Group Name'!A:B,2,0)","v":{"$error":"#N/A"}}," "]
[null,null,null,null,null,null,null,null,null,{"$f":"+IFERROR(VLOOKUP(C250,'Charge Conversion'!A:C,3,0),\" \")","v":" "}," "," ",null,null,null,null,null,{"$f":"VLOOKUP(D250,'Group Name'!A:B,2,0)","v":{"$error":"#N/A"}}," "]
[null,null,null,null,null,null,null,null,null,{"$f":"+IFERROR(VLOOKUP(C251,'Charge Conversion'!A:C,3,0),\" \")","v":" "}," "," ",null,null,null,null,null,{"$f":"VLOOKUP(D251,'Group Name'!A:B,2,0)","v":{"$error":"#N/A"}}," "]
[null,null,null,null,null,null,null,null,null,{"$f":"+IFERROR(VLOOKUP(C252,'Charge Conversion'!A:C,3,0),\" \")","v":" "}," "," ",null,null,null,null,null,{"$f":"VLOOKUP(D252,'Group Name'!A:B,2,0)","v":{"$error":"#N/A"}}," "]
[null,null,null,null,null,null,null,null,null,{"$f":"+IFERROR(VLOOKUP(C253,'Charge Conversion'!A:C,3,0),\" \")","v":" "}," "," ",null,null,null,null,null,{"$f":"VLOOKUP(D253,'Group Name'!A:B,2,0)","v":{"$error":"#N/A"}}," "]
[null,null,null,null,null,null,null,null,null,{"$f":"+IFERROR(VLOOKUP(C254,'Charge Conversion'!A:C,3,0),\" \")","v":" "}," "," ",null,null,null,null,null,{"$f":"VLOOKUP(D254,'Group Name'!A:B,2,0)","v":{"$error":"#N/A"}}," "]
[null,null,null,null,null,null,null,null,null,{"$f":"+IFERROR(VLOOKUP(C255,'Charge Conversion'!A:C,3,0),\" \")","v":" "}," "," ",null,null,null,null,null,{"$f":"VLOOKUP(D255,'Group Name'!A:B,2,0)","v":{"$error":"#N/A"}}," "]
[null,null,null,null,null,null,null,null,null,{"$f":"+IFERROR(VLOOKUP(C256,'Charge Conversion'!A:C,3,0),\" \")","v":" "}," "," ",null,null,null,null,null,{"$f":"VLOOKUP(D256,'Group Name'!A:B,2,0)","v":{"$error":"#N/A"}}," "]
[null,null,null,null,null,null,null,null,null,{"$f":"+IFERROR(VLOOKUP(C257,'Charge Conversion'!A:C,3,0),\" \")","v":" "}," "," ",null,null,null,null,null,{"$f":"VLOOKUP(D257,'Group Name'!A:B,2,0)","v":{"$error":"#N/A"}}," "]
[null,null,null,null,null,null,null,null,null,{"$f":"+IFERROR(VLOOKUP(C258,'Charge Conversion'!A:C,3,0),\" \")","v":" "}," "," ",null,null,null,null,null,{"$f":"VLOOKUP(D258,'Group Name'!A:B,2,0)","v":{"$error":"#N/A"}}," "]
[null,null,null,null,null,null,null,null,null,{"$f":"+IFERROR(VLOOKUP(C259,'Charge Conversion'!A:C,3,0),\" \")","v":" "}," "," ",null,null,null,null,null,{"$f":"VLOOKUP(D259,'Group Name'!A:B,2,0)","v":{"$error":"#N/A"}}," "]
[null,null,null,null,null,null,null,null,null,{"$f":"+IFERROR(VLOOKUP(C260,'Charge Conversion'!A:C,3,0),\" \")","v":" "}," "," ",null,null,null,null,null,{"$f":"VLOOKUP(D260,'Group Name'!A:B,2,0)","v":{"$error":"#N/A"}}," "]
[null,null,null,null,null,null,null,null,null,{"$f":"+IFERROR(VLOOKUP(C261,'Charge Conversion'!A:C,3,0),\" \")","v":" "},{"$f":"+IFERROR(I261*J261,\" \")","v":" "},{"$f":"S261","v":" "},null,null,null,null,null,{"$f":"VLOOKUP(D261,'Group Name'!A:B,2,0)","v":{"$error":"#N/A"}},{"$f":"IFERROR((IF(A261=\" \",\" \",R261)),\" \")","v":" "}]
[null,null,null,null,null,null,null,null,null,{"$f":"+IFERROR(VLOOKUP(C262,'Charge Conversion'!A:C,3,0),\" \")","v":" "}," "," ",null,null,null,null,null,{"$f":"VLOOKUP(D262,'Group Name'!A:B,2,0)","v":{"$error":"#N/A"}}," "]
[null,null,null,null,null,null,null,null,null,{"$f":"+IFERROR(VLOOKUP(C263,'Charge Conversion'!A:C,3,0),\" \")","v":" "}," "," ",null,null,null,null,null,{"$f":"VLOOKUP(D263,'Group Name'!A:B,2,0)","v":{"$error":"#N/A"}}," "]
[null,null,null,null,null,null,null,null,null,{"$f":"+IFERROR(VLOOKUP(C264,'Charge Conversion'!A:C,3,0),\" \")","v":" "}," "," ",null,null,null,null,null,{"$f":"VLOOKUP(D264,'Group Name'!A:B,2,0)","v":{"$error":"#N/A"}}," "]
[null,null,null,null,null,null,null,null,null,{"$f":"+IFERROR(VLOOKUP(C265,'Charge Conversion'!A:C,3,0),\" \")","v":" "}," "," ",null,null,null,null,null,{"$f":"VLOOKUP(D265,'Group Name'!A:B,2,0)","v":{"$error":"#N/A"}}," "]
[null,null,null,null,null,null,null,null,null,{"$f":"+IFERROR(VLOOKUP(C266,'Charge Conversion'!A:C,3,0),\" \")","v":" "}," "," ",null,null,null,null,null,{"$f":"VLOOKUP(D266,'Group Name'!A:B,2,0)","v":{"$error":"#N/A"}}," "]
[null,null,null,null,null,null,null,null,null,{"$f":"+IFERROR(VLOOKUP(C267,'Charge Conversion'!A:C,3,0),\" \")","v":" "}," "," ",null,null,null,null,null,{"$f":"VLOOKUP(D267,'Group Name'!A:B,2,0)","v":{"$error":"#N/A"}}," "]
[null,null,null,null,null,null,null,null,null,{"$f":"+IFERROR(VLOOKUP(C268,'Charge Conversion'!A:C,3,0),\" \")","v":" "}," "," ",null,null,null,null,null,{"$f":"VLOOKUP(D268,'Group Name'!A:B,2,0)","v":{"$error":"#N/A"}}," "]
[null,null,null,null,null,null,null,null,null,{"$f":"+IFERROR(VLOOKUP(C269,'Charge Conversion'!A:C,3,0),\" \")","v":" "}," "," ",null,null,null,null,null,{"$f":"VLOOKUP(D269,'Group Name'!A:B,2,0)","v":{"$error":"#N/A"}}," "]
[null,null,null,null,null,null,null,null,null,{"$f":"+IFERROR(VLOOKUP(C270,'Charge Conversion'!A:C,3,0),\" \")","v":" "}," "," ",null,null,null,null,null,{"$f":"VLOOKUP(D270,'Group Name'!A:B,2,0)","v":{"$error":"#N/A"}}," "]
[null,null,null,null,null,null,null,null,null,{"$f":"+IFERROR(VLOOKUP(C271,'Charge Conversion'!A:C,3,0),\" \")","v":" "}," "," ",null,null,null,null,null,{"$f":"VLOOKUP(D271,'Group Name'!A:B,2,0)","v":{"$error":"#N/A"}}," "]
[null,null,null,null,null,null,null,null,null,{"$f":"+IFERROR(VLOOKUP(C272,'Charge Conversion'!A:C,3,0),\" \")","v":" "}," "," ",null,null,null,null,null,{"$f":"VLOOKUP(D272,'Group Name'!A:B,2,0)","v":{"$error":"#N/A"}}," "]
[null,null,null,null,null,null,null,null,null,{"$f":"+IFERROR(VLOOKUP(C273,'Charge Conversion'!A:C,3,0),\" \")","v":" "}," "," ",null,null,null,null,null,{"$f":"VLOOKUP(D273,'Group Name'!A:B,2,0)","v":{"$error":"#N/A"}}," "]
[null,null,null,null,null,null,null,null,null,{"$f":"+IFERROR(VLOOKUP(C274,'Charge Conversion'!A:C,3,0),\" \")","v":" "}," "," ",null,null,null,null,null,{"$f":"VLOOKUP(D274,'Group Name'!A:B,2,0)","v":{"$error":"#N/A"}}," "]
[null,null,null,null,null,null,null,null,null,{"$f":"+IFERROR(VLOOKUP(C275,'Charge Conversion'!A:C,3,0),\" \")","v":" "}," "," ",null,null,null,null,null,{"$f":"VLOOKUP(D275,'Group Name'!A:B,2,0)","v":{"$error":"#N/A"}}," "]
[null,null,null,null,null,null,null,null,null,{"$f":"+IFERROR(VLOOKUP(C276,'Charge Conversion'!A:C,3,0),\" \")","v":" "}," "," ",null,null,null,null,null,{"$f":"VLOOKUP(D276,'Group Name'!A:B,2,0)","v":{"$error":"#N/A"}}," "]
[null,null,null,null,null,null,null,null,null,{"$f":"+IFERROR(VLOOKUP(C277,'Charge Conversion'!A:C,3,0),\" \")","v":" "}," "," ",null,null,null,null,null,{"$f":"VLOOKUP(D277,'Group Name'!A:B,2,0)","v":{"$error":"#N/A"}}," "]
[null,null,null,null,null,null,null,null,null,{"$f":"+IFERROR(VLOOKUP(C278,'Charge Conversion'!A:C,3,0),\" \")","v":" "}," "," ",null,null,null,null,null,{"$f":"VLOOKUP(D278,'Group Name'!A:B,2,0)","v":{"$error":"#N/A"}}," "]
[null,null,null,null,null,null,null,null,null,{"$f":"+IFERROR(VLOOKUP(C279,'Charge Conversion'!A:C,3,0),\" \")","v":" "}," "," ",null,null,null,null,null,{"$f":"VLOOKUP(D279,'Group Name'!A:B,2,0)","v":{"$error":"#N/A"}}," "]
[null,null,null,null,null,null,null,null,null,{"$f":"+IFERROR(VLOOKUP(C280,'Charge Conversion'!A:C,3,0),\" \")","v":" "}," "," ",null,null,null,null,null,{"$f":"VLOOKUP(D280,'Group Name'!A:B,2,0)","v":{"$error":"#N/A"}}," "]
[null,null,null,null,null,null,null,null,null,{"$f":"+IFERROR(VLOOKUP(C281,'Charge Conversion'!A:C,3,0),\" \")","v":" "}," "," ",null,null,null,null,null,{"$f":"VLOOKUP(D281,'Group Name'!A:B,2,0)","v":{"$error":"#N/A"}}," "]
[null,null,null,null,null,null,null,null,null,{"$f":"+IFERROR(VLOOKUP(C282,'Charge Conversion'!A:C,3,0),\" \")","v":" "}," "," ",null,null,null,null,null,{"$f":"VLOOKUP(D282,'Group Name'!A:B,2,0)","v":{"$error":"#N/A"}}," "]
[null,null,null,null,null,null,null,null,null,{"$f":"+IFERROR(VLOOKUP(C283,'Charge Conversion'!A:C,3,0),\" \")","v":" "}," "," ",null,null,null,null,null,{"$f":"VLOOKUP(D283,'Group Name'!A:B,2,0)","v":{"$error":"#N/A"}}," "]
[null,null,null,null,null,null,null,null,null,{"$f":"+IFERROR(VLOOKUP(C284,'Charge Conversion'!A:C,3,0),\" \")","v":" "}," "," ",null,null,null,null,null,{"$f":"VLOOKUP(D284,'Group Name'!A:B,2,0)","v":{"$error":"#N/A"}}," "]
[null,null,null,null,null,null,null,null,null,{"$f":"+IFERROR(VLOOKUP(C285,'Charge Conversion'!A:C,3,0),\" \")","v":" "}," "," ",null,null,null,null,null,{"$f":"VLOOKUP(D285,'Group Name'!A:B,2,0)","v":{"$error":"#N/A"}}," "]
[null,null,null,null,null,null,null,null,null,{"$f":"+IFERROR(VLOOKUP(C286,'Charge Conversion'!A:C,3,0),\" \")","v":" "}," "," ",null,null,null,null,null,{"$f":"VLOOKUP(D286,'Group Name'!A:B,2,0)","v":{"$error":"#N/A"}}," "]
[null,null,null,null,null,null,null,null,null,{"$f":"+IFERROR(VLOOKUP(C287,'Charge Conversion'!A:C,3,0),\" \")","v":" "}," "," ",null,null,null,null,null,{"$f":"VLOOKUP(D287,'Group Name'!A:B,2,0)","v":{"$error":"#N/A"}}," "]
[null,null,null,null,null,null,null,null,null,{"$f":"+IFERROR(VLOOKUP(C288,'Charge Conversion'!A:C,3,0),\" \")","v":" "}," "," ",null,null,null,null,null,{"$f":"VLOOKUP(D288,'Group Name'!A:B,2,0)","v":{"$error":"#N/A"}}," "]
[null,null,null,null,null,null,null,null,null,{"$f":"+IFERROR(VLOOKUP(C289,'Charge Conversion'!A:C,3,0),\" \")","v":" "}," "," ",null,null,null,null,null,{"$f":"VLOOKUP(D289,'Group Name'!A:B,2,0)","v":{"$error":"#N/A"}}," "]
[null,null,null,null,null,null,null,null,null,{"$f":"+IFERROR(VLOOKUP(C290,'Charge Conversion'!A:C,3,0),\" \")","v":" "}," "," ",null,null,null,null,null,{"$f":"VLOOKUP(D290,'Group Name'!A:B,2,0)","v":{"$error":"#N/A"}}," "]
[null,null,null,null,null,null,null,null,null,{"$f":"+IFERROR(VLOOKUP(C291,'Charge Conversion'!A:C,3,0),\" \")","v":" "}," "," ",null,null,null,null,null,{"$f":"VLOOKUP(D291,'Group Name'!A:B,2,0)","v":{"$error":"#N/A"}}," "]
[null,null,null,null,null,null,null,null,null,{"$f":"+IFERROR(VLOOKUP(C292,'Charge Conversion'!A:C,3,0),\" \")","v":" "}," "," ",null,null,null,null,null,{"$f":"VLOOKUP(D292,'Group Name'!A:B,2,0)","v":{"$error":"#N/A"}}," "]
[null,null,null,null,null,null,null,null,null,{"$f":"+IFERROR(VLOOKUP(C293,'Charge Conversion'!A:C,3,0),\" \")","v":" "}," "," ",null,null,null,null,null,{"$f":"VLOOKUP(D293,'Group Name'!A:B,2,0)","v":{"$error":"#N/A"}}," "]
[null,null,null,null,null,null,null,null,null,{"$f":"+IFERROR(VLOOKUP(C294,'Charge Conversion'!A:C,3,0),\" \")","v":" "}," "," ",null,null,null,null,null,{"$f":"VLOOKUP(D294,'Group Name'!A:B,2,0)","v":{"$error":"#N/A"}}," "]
[null,null,null,null,null,null,null,null,null,{"$f":"+IFERROR(VLOOKUP(C295,'Charge Conversion'!A:C,3,0),\" \")","v":" "}," "," ",null,null,null,null,null,{"$f":"VLOOKUP(D295,'Group Name'!A:B,2,0)","v":{"$error":"#N/A"}}," "]
[null,null,null,null,null,null,null,null,null,{"$f":"+IFERROR(VLOOKUP(C296,'Charge Conversion'!A:C,3,0),\" \")","v":" "}," "," ",null,null,null,null,null,{"$f":"VLOOKUP(D296,'Group Name'!A:B,2,0)","v":{"$error":"#N/A"}}," "]
[null,null,null,null,null,null,null,null,null,{"$f":"+IFERROR(VLOOKUP(C297,'Charge Conversion'!A:C,3,0),\" \")","v":" "}," "," ",null,null,null,null,null,{"$f":"VLOOKUP(D297,'Group Name'!A:B,2,0)","v":{"$error":"#N/A"}}," "]
[null,null,null,null,null,null,null,null,null,{"$f":"+IFERROR(VLOOKUP(C298,'Charge Conversion'!A:C,3,0),\" \")","v":" "}," "," ",null,null,null,null,null,{"$f":"VLOOKUP(D298,'Group Name'!A:B,2,0)","v":{"$error":"#N/A"}}," "]
[null,null,null,null,null,null,null,null,null,{"$f":"+IFERROR(VLOOKUP(C299,'Charge Conversion'!A:C,3,0),\" \")","v":" "}," "," ",null,null,null,null,null,{"$f":"VLOOKUP(D299,'Group Name'!A:B,2,0)","v":{"$error":"#N/A"}}," "]
[null,null,null,null,null,null,null,null,null,{"$f":"+IFERROR(VLOOKUP(C300,'Charge Conversion'!A:C,3,0),\" \")","v":" "}," "," ",null,null,null,null,null,{"$f":"VLOOKUP(D300,'Group Name'!A:B,2,0)","v":{"$error":"#N/A"}}," "]
[null,null,null,null,null,null,null,null,null,{"$f":"+IFERROR(VLOOKUP(C301,'Charge Conversion'!A:C,3,0),\" \")","v":" "}," "," ",null,null,null,null,null,{"$f":"VLOOKUP(D301,'Group Name'!A:B,2,0)","v":{"$error":"#N/A"}}," "]
[null,null,null,null,null,null,null,null,null,{"$f":"+IFERROR(VLOOKUP(C302,'Charge Conversion'!A:C,3,0),\" \")","v":" "}," "," ",null,null,null,null,null,{"$f":"VLOOKUP(D302,'Group Name'!A:B,2,0)","v":{"$error":"#N/A"}}," "]
[null,null,null,null,null,null,null,null,null,{"$f":"+IFERROR(VLOOKUP(C303,'Charge Conversion'!A:C,3,0),\" \")","v":" "}," "," ",null,null,null,null,null,{"$f":"VLOOKUP(D303,'Group Name'!A:B,2,0)","v":{"$error":"#N/A"}}," "]
[null,null,null,null,null,null,null,null,null,{"$f":"+IFERROR(VLOOKUP(C304,'Charge Conversion'!A:C,3,0),\" \")","v":" "}," "," ",null,null,null,null,null,{"$f":"VLOOKUP(D304,'Group Name'!A:B,2,0)","v":{"$error":"#N/A"}}," "]
[null,null,null,null,null,null,null,null,null,{"$f":"+IFERROR(VLOOKUP(C305,'Charge Conversion'!A:C,3,0),\" \")","v":" "}," "," ",null,null,null,null,null,{"$f":"VLOOKUP(D305,'Group Name'!A:B,2,0)","v":{"$error":"#N/A"}}," "]
[null,null,null,null,null,null,null,null,null,{"$f":"+IFERROR(VLOOKUP(C306,'Charge Conversion'!A:C,3,0),\" \")","v":" "}," "," ",null,null,null,null,null,{"$f":"VLOOKUP(D306,'Group Name'!A:B,2,0)","v":{"$error":"#N/A"}}," "]
[null,null,null,null,null,null,null,null,null,{"$f":"+IFERROR(VLOOKUP(C307,'Charge Conversion'!A:C,3,0),\" \")","v":" "}," "," ",null,null,null,null,null,{"$f":"VLOOKUP(D307,'Group Name'!A:B,2,0)","v":{"$error":"#N/A"}}," "]
[null,null,null,null,null,null,null,null,null,{"$f":"+IFERROR(VLOOKUP(C308,'Charge Conversion'!A:C,3,0),\" \")","v":" "}," "," ",null,null,null,null,null,{"$f":"VLOOKUP(D308,'Group Name'!A:B,2,0)","v":{"$error":"#N/A"}}," "]
[null,null,null,null,null,null,null,null,null,{"$f":"+IFERROR(VLOOKUP(C309,'Charge Conversion'!A:C,3,0),\" \")","v":" "}," "," ",null,null,null,null,null,{"$f":"VLOOKUP(D309,'Group Name'!A:B,2,0)","v":{"$error":"#N/A"}}," "]
[null,null,null,null,null,null,null,null,null,{"$f":"+IFERROR(VLOOKUP(C310,'Charge Conversion'!A:C,3,0),\" \")","v":" "}," "," ",null,null,null,null,null,{"$f":"VLOOKUP(D310,'Group Name'!A:B,2,0)","v":{"$error":"#N/A"}}," "]
[null,null,null,null,null,null,null,null,null,{"$f":"+IFERROR(VLOOKUP(C311,'Charge Conversion'!A:C,3,0),\" \")","v":" "}," "," ",null,null,null,null,null,{"$f":"VLOOKUP(D311,'Group Name'!A:B,2,0)","v":{"$error":"#N/A"}}," "]
[null,null,null,null,null,null,null,null,null,{"$f":"+IFERROR(VLOOKUP(C312,'Charge Conversion'!A:C,3,0),\" \")","v":" "}," "," ",null,null,null,null,null,{"$f":"VLOOKUP(D312,'Group Name'!A:B,2,0)","v":{"$error":"#N/A"}}," "]
[null,null,null,null,null,null,null,null,null,{"$f":"+IFERROR(VLOOKUP(C313,'Charge Conversion'!A:C,3,0),\" \")","v":" "}," "," ",null,null,null,null,null,{"$f":"VLOOKUP(D313,'Group Name'!A:B,2,0)","v":{"$error":"#N/A"}}," "]
[null,null,null,null,null,null,null,null,null,{"$f":"+IFERROR(VLOOKUP(C314,'Charge Conversion'!A:C,3,0),\" \")","v":" "}," "," ",null,null,null,null,null,{"$f":"VLOOKUP(D314,'Group Name'!A:B,2,0)","v":{"$error":"#N/A"}}," "]
[null,null,null,null,null,null,null,null,null,{"$f":"+IFERROR(VLOOKUP(C315,'Charge Conversion'!A:C,3,0),\" \")","v":" "}," "," ",null,null,null,null,null,{"$f":"VLOOKUP(D315,'Group Name'!A:B,2,0)","v":{"$error":"#N/A"}}," "]
[null,null,null,null,null,null,null,null,null,{"$f":"+IFERROR(VLOOKUP(C316,'Charge Conversion'!A:C,3,0),\" \")","v":" "}," "," ",null,null,null,null,null,{"$f":"VLOOKUP(D316,'Group Name'!A:B,2,0)","v":{"$error":"#N/A"}}," "]
[null,null,null,null,null,null,null,null,null,{"$f":"+IFERROR(VLOOKUP(C317,'Charge Conversion'!A:C,3,0),\" \")","v":" "}," "," ",null,null,null,null,null,{"$f":"VLOOKUP(D317,'Group Name'!A:B,2,0)","v":{"$error":"#N/A"}}," "]
[null,null,null,null,null,null,null,null,null,{"$f":"+IFERROR(VLOOKUP(C318,'Charge Conversion'!A:C,3,0),\" \")","v":" "}," "," ",null,null,null,null,null,{"$f":"VLOOKUP(D318,'Group Name'!A:B,2,0)","v":{"$error":"#N/A"}}," "]
[null,null,null,null,null,null,null,null,null,{"$f":"+IFERROR(VLOOKUP(C319,'Charge Conversion'!A:C,3,0),\" \")","v":" "}," "," ",null,null,null,null,null,{"$f":"VLOOKUP(D319,'Group Name'!A:B,2,0)","v":{"$error":"#N/A"}}," "]
[null,null,null,null,null,null,null,null,null,{"$f":"+IFERROR(VLOOKUP(C320,'Charge Conversion'!A:C,3,0),\" \")","v":" "}," "," ",null,null,null,null,null,{"$f":"VLOOKUP(D320,'Group Name'!A:B,2,0)","v":{"$error":"#N/A"}}," "]
[null,null,null,null,null,null,null,null,null,{"$f":"+IFERROR(VLOOKUP(C321,'Charge Conversion'!A:C,3,0),\" \")","v":" "}," "," ",null,null,null,null,null,{"$f":"VLOOKUP(D321,'Group Name'!A:B,2,0)","v":{"$error":"#N/A"}}," "]
[null,null,null,null,null,null,null,null,null,{"$f":"+IFERROR(VLOOKUP(C322,'Charge Conversion'!A:C,3,0),\" \")","v":" "}," "," ",null,null,null,null,null,{"$f":"VLOOKUP(D322,'Group Name'!A:B,2,0)","v":{"$error":"#N/A"}}," "]
[null,null,null,null,null,null,null,null,null,{"$f":"+IFERROR(VLOOKUP(C323,'Charge Conversion'!A:C,3,0),\" \")","v":" "}," "," ",null,null,null,null,null,{"$f":"VLOOKUP(D323,'Group Name'!A:B,2,0)","v":{"$error":"#N/A"}}," "]
[null,null,null,null,null,null,null,null,null,{"$f":"+IFERROR(VLOOKUP(C324,'Charge Conversion'!A:C,3,0),\" \")","v":" "}," "," ",null,null,null,null,null,{"$f":"VLOOKUP(D324,'Group Name'!A:B,2,0)","v":{"$error":"#N/A"}}," "]
[null,null,null,null,null,null,null,null,null,{"$f":"+IFERROR(VLOOKUP(C325,'Charge Conversion'!A:C,3,0),\" \")","v":" "},{"$f":"+IFERROR(I325*J325,\" \")","v":" "},{"$f":"S325","v":" "},null,null,null,null,null,{"$f":"VLOOKUP(D325,'Group Name'!A:B,2,0)","v":{"$error":"#N/A"}},{"$f":"IFERROR((IF(A325=\" \",\" \",R325)),\" \")","v":" "}]
[null,null,null,null,null,null,null,null,null,{"$f":"+IFERROR(VLOOKUP(C326,'Charge Conversion'!A:C,3,0),\" \")","v":" "}," "," ",null,null,null,null,null,{"$f":"VLOOKUP(D326,'Group Name'!A:B,2,0)","v":{"$error":"#N/A"}}," "]
[null,null,null,null,null,null,null,null,null,{"$f":"+IFERROR(VLOOKUP(C327,'Charge Conversion'!A:C,3,0),\" \")","v":" "}," "," ",null,null,null,null,null,{"$f":"VLOOKUP(D327,'Group Name'!A:B,2,0)","v":{"$error":"#N/A"}}," "]
[null,null,null,null,null,null,null,null,null,{"$f":"+IFERROR(VLOOKUP(C328,'Charge Conversion'!A:C,3,0),\" \")","v":" "}," "," ",null,null,null,null,null,{"$f":"VLOOKUP(D328,'Group Name'!A:B,2,0)","v":{"$error":"#N/A"}}," "]
[null,null,null,null,null,null,null,null,null,{"$f":"+IFERROR(VLOOKUP(C329,'Charge Conversion'!A:C,3,0),\" \")","v":" "}," "," ",null,null,null,null,null,{"$f":"VLOOKUP(D329,'Group Name'!A:B,2,0)","v":{"$error":"#N/A"}}," "]
[null,null,null,null,null,null,null,null,null,{"$f":"+IFERROR(VLOOKUP(C330,'Charge Conversion'!A:C,3,0),\" \")","v":" "}," "," ",null,null,null,null,null,{"$f":"VLOOKUP(D330,'Group Name'!A:B,2,0)","v":{"$error":"#N/A"}}," "]
[null,null,null,null,null,null,null,null,null,{"$f":"+IFERROR(VLOOKUP(C331,'Charge Conversion'!A:C,3,0),\" \")","v":" "}," "," ",null,null,null,null,null,{"$f":"VLOOKUP(D331,'Group Name'!A:B,2,0)","v":{"$error":"#N/A"}}," "]
[null,null,null,null,null,null,null,null,null,{"$f":"+IFERROR(VLOOKUP(C332,'Charge Conversion'!A:C,3,0),\" \")","v":" "}," "," ",null,null,null,null,null,{"$f":"VLOOKUP(D332,'Group Name'!A:B,2,0)","v":{"$error":"#N/A"}}," "]
[null,null,null,null,null,null,null,null,null,{"$f":"+IFERROR(VLOOKUP(C333,'Charge Conversion'!A:C,3,0),\" \")","v":" "}," "," ",null,null,null,null,null,{"$f":"VLOOKUP(D333,'Group Name'!A:B,2,0)","v":{"$error":"#N/A"}}," "]
[null,null,null,null,null,null,null,null,null,{"$f":"+IFERROR(VLOOKUP(C334,'Charge Conversion'!A:C,3,0),\" \")","v":" "}," "," ",null,null,null,null,null,{"$f":"VLOOKUP(D334,'Group Name'!A:B,2,0)","v":{"$error":"#N/A"}}," "]
[null,null,null,null,null,null,null,null,null,{"$f":"+IFERROR(VLOOKUP(C335,'Charge Conversion'!A:C,3,0),\" \")","v":" "}," "," ",null,null,null,null,null,{"$f":"VLOOKUP(D335,'Group Name'!A:B,2,0)","v":{"$error":"#N/A"}}," "]
[null,null,null,null,null,null,null,null,null,{"$f":"+IFERROR(VLOOKUP(C336,'Charge Conversion'!A:C,3,0),\" \")","v":" "}," "," ",null,null,null,null,null,{"$f":"VLOOKUP(D336,'Group Name'!A:B,2,0)","v":{"$error":"#N/A"}}," "]
[null,null,null,null,null,null,null,null,null,{"$f":"+IFERROR(VLOOKUP(C337,'Charge Conversion'!A:C,3,0),\" \")","v":" "}," "," ",null,null,null,null,null,{"$f":"VLOOKUP(D337,'Group Name'!A:B,2,0)","v":{"$error":"#N/A"}}," "]
[null,null,null,null,null,null,null,null,null,{"$f":"+IFERROR(VLOOKUP(C338,'Charge Conversion'!A:C,3,0),\" \")","v":" "}," "," ",null,null,null,null,null,{"$f":"VLOOKUP(D338,'Group Name'!A:B,2,0)","v":{"$error":"#N/A"}}," "]
[null,null,null,null,null,null,null,null,null,{"$f":"+IFERROR(VLOOKUP(C339,'Charge Conversion'!A:C,3,0),\" \")","v":" "}," "," ",null,null,null,null,null,{"$f":"VLOOKUP(D339,'Group Name'!A:B,2,0)","v":{"$error":"#N/A"}}," "]
[null,null,null,null,null,null,null,null,null,{"$f":"+IFERROR(VLOOKUP(C340,'Charge Conversion'!A:C,3,0),\" \")","v":" "}," "," ",null,null,null,null,null,{"$f":"VLOOKUP(D340,'Group Name'!A:B,2,0)","v":{"$error":"#N/A"}}," "]
[null,null,null,null,null,null,null,null,null,{"$f":"+IFERROR(VLOOKUP(C341,'Charge Conversion'!A:C,3,0),\" \")","v":" "}," "," ",null,null,null,null,null,{"$f":"VLOOKUP(D341,'Group Name'!A:B,2,0)","v":{"$error":"#N/A"}}," "]
[null,null,null,null,null,null,null,null,null,{"$f":"+IFERROR(VLOOKUP(C342,'Charge Conversion'!A:C,3,0),\" \")","v":" "}," "," ",null,null,null,null,null,{"$f":"VLOOKUP(D342,'Group Name'!A:B,2,0)","v":{"$error":"#N/A"}}," "]
[null,null,null,null,null,null,null,null,null,{"$f":"+IFERROR(VLOOKUP(C343,'Charge Conversion'!A:C,3,0),\" \")","v":" "}," "," ",null,null,null,null,null,{"$f":"VLOOKUP(D343,'Group Name'!A:B,2,0)","v":{"$error":"#N/A"}}," "]
[null,null,null,null,null,null,null,null,null,{"$f":"+IFERROR(VLOOKUP(C344,'Charge Conversion'!A:C,3,0),\" \")","v":" "}," "," ",null,null,null,null,null,{"$f":"VLOOKUP(D344,'Group Name'!A:B,2,0)","v":{"$error":"#N/A"}}," "]
[null,null,null,null,null,null,null,null,null,{"$f":"+IFERROR(VLOOKUP(C345,'Charge Conversion'!A:C,3,0),\" \")","v":" "}," "," ",null,null,null,null,null,{"$f":"VLOOKUP(D345,'Group Name'!A:B,2,0)","v":{"$error":"#N/A"}}," "]
[null,null,null,null,null,null,null,null,null,{"$f":"+IFERROR(VLOOKUP(C346,'Charge Conversion'!A:C,3,0),\" \")","v":" "}," "," ",null,null,null,null,null,{"$f":"VLOOKUP(D346,'Group Name'!A:B,2,0)","v":{"$error":"#N/A"}}," "]
[null,null,null,null,null,null,null,null,null,{"$f":"+IFERROR(VLOOKUP(C347,'Charge Conversion'!A:C,3,0),\" \")","v":" "}," "," ",null,null,null,null,null,{"$f":"VLOOKUP(D347,'Group Name'!A:B,2,0)","v":{"$error":"#N/A"}}," "]
[null,null,null,null,null,null,null,null,null,{"$f":"+IFERROR(VLOOKUP(C348,'Charge Conversion'!A:C,3,0),\" \")","v":" "}," "," ",null,null,null,null,null,{"$f":"VLOOKUP(D348,'Group Name'!A:B,2,0)","v":{"$error":"#N/A"}}," "]
[null,null,null,null,null,null,null,null,null,{"$f":"+IFERROR(VLOOKUP(C349,'Charge Conversion'!A:C,3,0),\" \")","v":" "}," "," ",null,null,null,null,null,{"$f":"VLOOKUP(D349,'Group Name'!A:B,2,0)","v":{"$error":"#N/A"}}," "]
[null,null,null,null,null,null,null,null,null,{"$f":"+IFERROR(VLOOKUP(C350,'Charge Conversion'!A:C,3,0),\" \")","v":" "}," "," ",null,null,null,null,null,{"$f":"VLOOKUP(D350,'Group Name'!A:B,2,0)","v":{"$error":"#N/A"}}," "]
[null,null,null,null,null,null,null,null,null,{"$f":"+IFERROR(VLOOKUP(C351,'Charge Conversion'!A:C,3,0),\" \")","v":" "}," "," ",null,null,null,null,null,{"$f":"VLOOKUP(D351,'Group Name'!A:B,2,0)","v":{"$error":"#N/A"}}," "]
[null,null,null,null,null,null,null,null,null,{"$f":"+IFERROR(VLOOKUP(C352,'Charge Conversion'!A:C,3,0),\" \")","v":" "}," "," ",null,null,null,null,null,{"$f":"VLOOKUP(D352,'Group Name'!A:B,2,0)","v":{"$error":"#N/A"}}," "]
[null,null,null,null,null,null,null,null,null,{"$f":"+IFERROR(VLOOKUP(C353,'Charge Conversion'!A:C,3,0),\" \")","v":" "}," "," ",null,null,null,null,null,{"$f":"VLOOKUP(D353,'Group Name'!A:B,2,0)","v":{"$error":"#N/A"}}," "]
[null,null,null,null,null,null,null,null,null,{"$f":"+IFERROR(VLOOKUP(C354,'Charge Conversion'!A:C,3,0),\" \")","v":" "}," "," ",null,null,null,null,null,{"$f":"VLOOKUP(D354,'Group Name'!A:B,2,0)","v":{"$error":"#N/A"}}," "]
[null,null,null,null,null,null,null,null,null,{"$f":"+IFERROR(VLOOKUP(C355,'Charge Conversion'!A:C,3,0),\" \")","v":" "}," "," ",null,null,null,null,null,{"$f":"VLOOKUP(D355,'Group Name'!A:B,2,0)","v":{"$error":"#N/A"}}," "]
[null,null,null,null,null,null,null,null,null,{"$f":"+IFERROR(VLOOKUP(C356,'Charge Conversion'!A:C,3,0),\" \")","v":" "}," "," ",null,null,null,null,null,{"$f":"VLOOKUP(D356,'Group Name'!A:B,2,0)","v":{"$error":"#N/A"}}," "]
[null,null,null,null,null,null,null,null,null,{"$f":"+IFERROR(VLOOKUP(C357,'Charge Conversion'!A:C,3,0),\" \")","v":" "}," "," ",null,null,null,null,null,{"$f":"VLOOKUP(D357,'Group Name'!A:B,2,0)","v":{"$error":"#N/A"}}," "]
[null,null,null,null,null,null,null,null,null,{"$f":"+IFERROR(VLOOKUP(C358,'Charge Conversion'!A:C,3,0),\" \")","v":" "}," "," ",null,null,null,null,null,{"$f":"VLOOKUP(D358,'Group Name'!A:B,2,0)","v":{"$error":"#N/A"}}," "]
[null,null,null,null,null,null,null,null,null,{"$f":"+IFERROR(VLOOKUP(C359,'Charge Conversion'!A:C,3,0),\" \")","v":" "}," "," ",null,null,null,null,null,{"$f":"VLOOKUP(D359,'Group Name'!A:B,2,0)","v":{"$error":"#N/A"}}," "]
[null,null,null,null,null,null,null,null,null,{"$f":"+IFERROR(VLOOKUP(C360,'Charge Conversion'!A:C,3,0),\" \")","v":" "}," "," ",null,null,null,null,null,{"$f":"VLOOKUP(D360,'Group Name'!A:B,2,0)","v":{"$error":"#N/A"}}," "]
[null,null,null,null,null,null,null,null,null,{"$f":"+IFERROR(VLOOKUP(C361,'Charge Conversion'!A:C,3,0),\" \")","v":" "}," "," ",null,null,null,null,null,{"$f":"VLOOKUP(D361,'Group Name'!A:B,2,0)","v":{"$error":"#N/A"}}," "]
[null,null,null,null,null,null,null,null,null,{"$f":"+IFERROR(VLOOKUP(C362,'Charge Conversion'!A:C,3,0),\" \")","v":" "}," "," ",null,null,null,null,null,{"$f":"VLOOKUP(D362,'Group Name'!A:B,2,0)","v":{"$error":"#N/A"}}," "]
[null,null,null,null,null,null,null,null,null,{"$f":"+IFERROR(VLOOKUP(C363,'Charge Conversion'!A:C,3,0),\" \")","v":" "}," "," ",null,null,null,null,null,{"$f":"VLOOKUP(D363,'Group Name'!A:B,2,0)","v":{"$error":"#N/A"}}," "]
[null,null,null,null,null,null,null,null,null,{"$f":"+IFERROR(VLOOKUP(C364,'Charge Conversion'!A:C,3,0),\" \")","v":" "}," "," ",null,null,null,null,null,{"$f":"VLOOKUP(D364,'Group Name'!A:B,2,0)","v":{"$error":"#N/A"}}," "]
[null,null,null,null,null,null,null,null,null,{"$f":"+IFERROR(VLOOKUP(C365,'Charge Conversion'!A:C,3,0),\" \")","v":" "}," "," ",null,null,null,null,null,{"$f":"VLOOKUP(D365,'Group Name'!A:B,2,0)","v":{"$error":"#N/A"}}," "]
[null,null,null,null,null,null,null,null,null,{"$f":"+IFERROR(VLOOKUP(C366,'Charge Conversion'!A:C,3,0),\" \")","v":" "}," "," ",null,null,null,null,null,{"$f":"VLOOKUP(D366,'Group Name'!A:B,2,0)","v":{"$error":"#N/A"}}," "]
[null,null,null,null,null,null,null,null,null,{"$f":"+IFERROR(VLOOKUP(C367,'Charge Conversion'!A:C,3,0),\" \")","v":" "}," "," ",null,null,null,null,null,{"$f":"VLOOKUP(D367,'Group Name'!A:B,2,0)","v":{"$error":"#N/A"}}," "]
[null,null,null,null,null,null,null,null,null,{"$f":"+IFERROR(VLOOKUP(C368,'Charge Conversion'!A:C,3,0),\" \")","v":" "}," "," ",null,null,null,null,null,{"$f":"VLOOKUP(D368,'Group Name'!A:B,2,0)","v":{"$error":"#N/A"}}," "]
[null,null,null,null,null,null,null,null,null,{"$f":"+IFERROR(VLOOKUP(C369,'Charge Conversion'!A:C,3,0),\" \")","v":" "}," "," ",null,null,null,null,null,{"$f":"VLOOKUP(D369,'Group Name'!A:B,2,0)","v":{"$error":"#N/A"}}," "]
[null,null,null,null,null,null,null,null,null,{"$f":"+IFERROR(VLOOKUP(C370,'Charge Conversion'!A:C,3,0),\" \")","v":" "}," "," ",null,null,null,null,null,{"$f":"VLOOKUP(D370,'Group Name'!A:B,2,0)","v":{"$error":"#N/A"}}," "]
[null,null,null,null,null,null,null,null,null,{"$f":"+IFERROR(VLOOKUP(C371,'Charge Conversion'!A:C,3,0),\" \")","v":" "}," "," ",null,null,null,null,null,{"$f":"VLOOKUP(D371,'Group Name'!A:B,2,0)","v":{"$error":"#N/A"}}," "]
[null,null,null,null,null,null,null,null,null,{"$f":"+IFERROR(VLOOKUP(C372,'Charge Conversion'!A:C,3,0),\" \")","v":" "}," "," ",null,null,null,null,null,{"$f":"VLOOKUP(D372,'Group Name'!A:B,2,0)","v":{"$error":"#N/A"}}," "]
[null,null,null,null,null,null,null,null,null,{"$f":"+IFERROR(VLOOKUP(C373,'Charge Conversion'!A:C,3,0),\" \")","v":" "}," "," ",null,null,null,null,null,{"$f":"VLOOKUP(D373,'Group Name'!A:B,2,0)","v":{"$error":"#N/A"}}," "]
[null,null,null,null,null,null,null,null,null,{"$f":"+IFERROR(VLOOKUP(C374,'Charge Conversion'!A:C,3,0),\" \")","v":" "}," "," ",null,null,null,null,null,{"$f":"VLOOKUP(D374,'Group Name'!A:B,2,0)","v":{"$error":"#N/A"}}," "]
[null,null,null,null,null,null,null,null,null,{"$f":"+IFERROR(VLOOKUP(C375,'Charge Conversion'!A:C,3,0),\" \")","v":" "}," "," ",null,null,null,null,null,{"$f":"VLOOKUP(D375,'Group Name'!A:B,2,0)","v":{"$error":"#N/A"}}," "]
[null,null,null,null,null,null,null,null,null,{"$f":"+IFERROR(VLOOKUP(C376,'Charge Conversion'!A:C,3,0),\" \")","v":" "}," "," ",null,null,null,null,null,{"$f":"VLOOKUP(D376,'Group Name'!A:B,2,0)","v":{"$error":"#N/A"}}," "]
[null,null,null,null,null,null,null,null,null,{"$f":"+IFERROR(VLOOKUP(C377,'Charge Conversion'!A:C,3,0),\" \")","v":" "}," "," ",null,null,null,null,null,{"$f":"VLOOKUP(D377,'Group Name'!A:B,2,0)","v":{"$error":"#N/A"}}," "]
[null,null,null,null,null,null,null,null,null,{"$f":"+IFERROR(VLOOKUP(C378,'Charge Conversion'!A:C,3,0),\" \")","v":" "}," "," ",null,null,null,null,null,{"$f":"VLOOKUP(D378,'Group Name'!A:B,2,0)","v":{"$error":"#N/A"}}," "]
[null,null,null,null,null,null,null,null,null,{"$f":"+IFERROR(VLOOKUP(C379,'Charge Conversion'!A:C,3,0),\" \")","v":" "}," "," ",null,null,null,null,null,{"$f":"VLOOKUP(D379,'Group Name'!A:B,2,0)","v":{"$error":"#N/A"}}," "]
[null,null,null,null,null,null,null,null,null,{"$f":"+IFERROR(VLOOKUP(C380,'Charge Conversion'!A:C,3,0),\" \")","v":" "}," "," ",null,null,null,null,null,{"$f":"VLOOKUP(D380,'Group Name'!A:B,2,0)","v":{"$error":"#N/A"}}," "]
[null,null,null,null,null,null,null,null,null,{"$f":"+IFERROR(VLOOKUP(C381,'Charge Conversion'!A:C,3,0),\" \")","v":" "}," "," ",null,null,null,null,null,{"$f":"VLOOKUP(D381,'Group Name'!A:B,2,0)","v":{"$error":"#N/A"}}," "]
[null,null,null,null,null,null,null,null,null,{"$f":"+IFERROR(VLOOKUP(C382,'Charge Conversion'!A:C,3,0),\" \")","v":" "}," "," ",null,null,null,null,null,{"$f":"VLOOKUP(D382,'Group Name'!A:B,2,0)","v":{"$error":"#N/A"}}," "]
[null,null,null,null,null,null,null,null,null,{"$f":"+IFERROR(VLOOKUP(C383,'Charge Conversion'!A:C,3,0),\" \")","v":" "}," "," ",null,null,null,null,null,{"$f":"VLOOKUP(D383,'Group Name'!A:B,2,0)","v":{"$error":"#N/A"}}," "]
[null,null,null,null,null,null,null,null,null,{"$f":"+IFERROR(VLOOKUP(C384,'Charge Conversion'!A:C,3,0),\" \")","v":" "}," "," ",null,null,null,null,null,{"$f":"VLOOKUP(D384,'Group Name'!A:B,2,0)","v":{"$error":"#N/A"}}," "]
[null,null,null,null,null,null,null,null,null,{"$f":"+IFERROR(VLOOKUP(C385,'Charge Conversion'!A:C,3,0),\" \")","v":" "}," "," ",null,null,null,null,null,{"$f":"VLOOKUP(D385,'Group Name'!A:B,2,0)","v":{"$error":"#N/A"}}," "]
[null,null,null,null,null,null,null,null,null,{"$f":"+IFERROR(VLOOKUP(C386,'Charge Conversion'!A:C,3,0),\" \")","v":" "}," "," ",null,null,null,null,null,{"$f":"VLOOKUP(D386,'Group Name'!A:B,2,0)","v":{"$error":"#N/A"}}," "]
[null,null,null,null,null,null,null,null,null,{"$f":"+IFERROR(VLOOKUP(C387,'Charge Conversion'!A:C,3,0),\" \")","v":" "}," "," ",null,null,null,null,null,{"$f":"VLOOKUP(D387,'Group Name'!A:B,2,0)","v":{"$error":"#N/A"}}," "]
[null,null,null,null,null,null,null,null,null,{"$f":"+IFERROR(VLOOKUP(C388,'Charge Conversion'!A:C,3,0),\" \")","v":" "}," "," ",null,null,null,null,null,{"$f":"VLOOKUP(D388,'Group Name'!A:B,2,0)","v":{"$error":"#N/A"}}," "]
[null,null,null,null,null,null,null,null,null,{"$f":"+IFERROR(VLOOKUP(C389,'Charge Conversion'!A:C,3,0),\" \")","v":" "},{"$f":"+IFERROR(I389*J389,\" \")","v":" "},{"$f":"S389","v":" "},null,null,null,null,null,{"$f":"VLOOKUP(D389,'Group Name'!A:B,2,0)","v":{"$error":"#N/A"}},{"$f":"IFERROR((IF(A389=\" \",\" \",R389)),\" \")","v":" "}]
[null,null,null,null,null,null,null,null,null,{"$f":"+IFERROR(VLOOKUP(C390,'Charge Conversion'!A:C,3,0),\" \")","v":" "}," "," ",null,null,null,null,null,{"$f":"VLOOKUP(D390,'Group Name'!A:B,2,0)","v":{"$error":"#N/A"}}," "]
[null,null,null,null,null,null,null,null,null,{"$f":"+IFERROR(VLOOKUP(C391,'Charge Conversion'!A:C,3,0),\" \")","v":" "}," "," ",null,null,null,null,null,{"$f":"VLOOKUP(D391,'Group Name'!A:B,2,0)","v":{"$error":"#N/A"}}," "]
[null,null,null,null,null,null,null,null,null,{"$f":"+IFERROR(VLOOKUP(C392,'Charge Conversion'!A:C,3,0),\" \")","v":" "}," "," ",null,null,null,null,null,{"$f":"VLOOKUP(D392,'Group Name'!A:B,2,0)","v":{"$error":"#N/A"}}," "]
[null,null,null,null,null,null,null,null,null,{"$f":"+IFERROR(VLOOKUP(C393,'Charge Conversion'!A:C,3,0),\" \")","v":" "}," "," ",null,null,null,null,null,{"$f":"VLOOKUP(D393,'Group Name'!A:B,2,0)","v":{"$error":"#N/A"}}," "]
[null,null,null,null,null,null,null,null,null,{"$f":"+IFERROR(VLOOKUP(C394,'Charge Conversion'!A:C,3,0),\" \")","v":" "}," "," ",null,null,null,null,null,{"$f":"VLOOKUP(D394,'Group Name'!A:B,2,0)","v":{"$error":"#N/A"}}," "]
[null,null,null,null,null,null,null,null,null,{"$f":"+IFERROR(VLOOKUP(C395,'Charge Conversion'!A:C,3,0),\" \")","v":" "}," "," ",null,null,null,null,null,{"$f":"VLOOKUP(D395,'Group Name'!A:B,2,0)","v":{"$error":"#N/A"}}," "]
[null,null,null,null,null,null,null,null,null,{"$f":"+IFERROR(VLOOKUP(C396,'Charge Conversion'!A:C,3,0),\" \")","v":" "}," "," ",null,null,null,null,null,{"$f":"VLOOKUP(D396,'Group Name'!A:B,2,0)","v":{"$error":"#N/A"}}," "]
[null,null,null,null,null,null,null,null,null,{"$f":"+IFERROR(VLOOKUP(C397,'Charge Conversion'!A:C,3,0),\" \")","v":" "}," "," ",null,null,null,null,null,{"$f":"VLOOKUP(D397,'Group Name'!A:B,2,0)","v":{"$error":"#N/A"}}," "]
[null,null,null,null,null,null,null,null,null,{"$f":"+IFERROR(VLOOKUP(C398,'Charge Conversion'!A:C,3,0),\" \")","v":" "}," "," ",null,null,null,null,null,{"$f":"VLOOKUP(D398,'Group Name'!A:B,2,0)","v":{"$error":"#N/A"}}," "]
[null,null,null,null,null,null,null,null,null,{"$f":"+IFERROR(VLOOKUP(C399,'Charge Conversion'!A:C,3,0),\" \")","v":" "}," "," ",null,null,null,null,null,{"$f":"VLOOKUP(D399,'Group Name'!A:B,2,0)","v":{"$error":"#N/A"}}," "]
[null,null,null,null,null,null,null,null,null,{"$f":"+IFERROR(VLOOKUP(C400,'Charge Conversion'!A:C,3,0),\" \")","v":" "}," "," ",null,null,null,null,null,{"$f":"VLOOKUP(D400,'Group Name'!A:B,2,0)","v":{"$error":"#N/A"}}," "]
[null,null,null,null,null,null,null,null,null,{"$f":"+IFERROR(VLOOKUP(C401,'Charge Conversion'!A:C,3,0),\" \")","v":" "}," "," ",null,null,null,null,null,{"$f":"VLOOKUP(D401,'Group Name'!A:B,2,0)","v":{"$error":"#N/A"}}," "]
[null,null,null,null,null,null,null,null,null,{"$f":"+IFERROR(VLOOKUP(C402,'Charge Conversion'!A:C,3,0),\" \")","v":" "}," "," ",null,null,null,null,null,{"$f":"VLOOKUP(D402,'Group Name'!A:B,2,0)","v":{"$error":"#N/A"}}," "]
[null,null,null,null,null,null,null,null,null,{"$f":"+IFERROR(VLOOKUP(C403,'Charge Conversion'!A:C,3,0),\" \")","v":" "}," "," ",null,null,null,null,null,{"$f":"VLOOKUP(D403,'Group Name'!A:B,2,0)","v":{"$error":"#N/A"}}," "]
[null,null,null,null,null,null,null,null,null,{"$f":"+IFERROR(VLOOKUP(C404,'Charge Conversion'!A:C,3,0),\" \")","v":" "}," "," ",null,null,null,null,null,{"$f":"VLOOKUP(D404,'Group Name'!A:B,2,0)","v":{"$error":"#N/A"}}," "]
[null,null,null,null,null,null,null,null,null,{"$f":"+IFERROR(VLOOKUP(C405,'Charge Conversion'!A:C,3,0),\" \")","v":" "}," "," ",null,null,null,null,null,{"$f":"VLOOKUP(D405,'Group Name'!A:B,2,0)","v":{"$error":"#N/A"}}," "]
[null,null,null,null,null,null,null,null,null,{"$f":"+IFERROR(VLOOKUP(C406,'Charge Conversion'!A:C,3,0),\" \")","v":" "}," "," ",null,null,null,null,null,{"$f":"VLOOKUP(D406,'Group Name'!A:B,2,0)","v":{"$error":"#N/A"}}," "]
[null,null,null,null,null,null,null,null,null,{"$f":"+IFERROR(VLOOKUP(C407,'Charge Conversion'!A:C,3,0),\" \")","v":" "}," "," ",null,null,null,null,null,{"$f":"VLOOKUP(D407,'Group Name'!A:B,2,0)","v":{"$error":"#N/A"}}," "]
[null,null,null,null,null,null,null,null,null,{"$f":"+IFERROR(VLOOKUP(C408,'Charge Conversion'!A:C,3,0),\" \")","v":" "}," "," ",null,null,null,null,null,{"$f":"VLOOKUP(D408,'Group Name'!A:B,2,0)","v":{"$error":"#N/A"}}," "]
[null,null,null,null,null,null,null,null,null,{"$f":"+IFERROR(VLOOKUP(C409,'Charge Conversion'!A:C,3,0),\" \")","v":" "}," "," ",null,null,null,null,null,{"$f":"VLOOKUP(D409,'Group Name'!A:B,2,0)","v":{"$error":"#N/A"}}," "]
[null,null,null,null,null,null,null,null,null,{"$f":"+IFERROR(VLOOKUP(C410,'Charge Conversion'!A:C,3,0),\" \")","v":" "}," "," ",null,null,null,null,null,{"$f":"VLOOKUP(D410,'Group Name'!A:B,2,0)","v":{"$error":"#N/A"}}," "]
[null,null,null,null,null,null,null,null,null,{"$f":"+IFERROR(VLOOKUP(C411,'Charge Conversion'!A:C,3,0),\" \")","v":" "}," "," ",null,null,null,null,null,{"$f":"VLOOKUP(D411,'Group Name'!A:B,2,0)","v":{"$error":"#N/A"}}," "]
[null,null,null,null,null,null,null,null,null,{"$f":"+IFERROR(VLOOKUP(C412,'Charge Conversion'!A:C,3,0),\" \")","v":" "}," "," ",null,null,null,null,null,{"$f":"VLOOKUP(D412,'Group Name'!A:B,2,0)","v":{"$error":"#N/A"}}," "]
[null,null,null,null,null,null,null,null,null,{"$f":"+IFERROR(VLOOKUP(C413,'Charge Conversion'!A:C,3,0),\" \")","v":" "}," "," ",null,null,null,null,null,{"$f":"VLOOKUP(D413,'Group Name'!A:B,2,0)","v":{"$error":"#N/A"}}," "]
[null,null,null,null,null,null,null,null,null,{"$f":"+IFERROR(VLOOKUP(C414,'Charge Conversion'!A:C,3,0),\" \")","v":" "}," "," ",null,null,null,null,null,{"$f":"VLOOKUP(D414,'Group Name'!A:B,2,0)","v":{"$error":"#N/A"}}," "]
[null,null,null,null,null,null,null,null,null,{"$f":"+IFERROR(VLOOKUP(C415,'Charge Conversion'!A:C,3,0),\" \")","v":" "}," "," ",null,null,null,null,null,{"$f":"VLOOKUP(D415,'Group Name'!A:B,2,0)","v":{"$error":"#N/A"}}," "]
[null,null,null,null,null,null,null,null,null,{"$f":"+IFERROR(VLOOKUP(C416,'Charge Conversion'!A:C,3,0),\" \")","v":" "}," "," ",null,null,null,null,null,{"$f":"VLOOKUP(D416,'Group Name'!A:B,2,0)","v":{"$error":"#N/A"}}," "]
[null,null,null,null,null,null,null,null,null,{"$f":"+IFERROR(VLOOKUP(C417,'Charge Conversion'!A:C,3,0),\" \")","v":" "}," "," ",null,null,null,null,null,{"$f":"VLOOKUP(D417,'Group Name'!A:B,2,0)","v":{"$error":"#N/A"}}," "]
[null,null,null,null,null,null,null,null,null,{"$f":"+IFERROR(VLOOKUP(C418,'Charge Conversion'!A:C,3,0),\" \")","v":" "}," "," ",null,null,null,null,null,{"$f":"VLOOKUP(D418,'Group Name'!A:B,2,0)","v":{"$error":"#N/A"}}," "]
[null,null,null,null,null,null,null,null,null,{"$f":"+IFERROR(VLOOKUP(C419,'Charge Conversion'!A:C,3,0),\" \")","v":" "}," "," ",null,null,null,null,null,{"$f":"VLOOKUP(D419,'Group Name'!A:B,2,0)","v":{"$error":"#N/A"}}," "]
[null,null,null,null,null,null,null,null,null,{"$f":"+IFERROR(VLOOKUP(C420,'Charge Conversion'!A:C,3,0),\" \")","v":" "}," "," ",null,null,null,null,null,{"$f":"VLOOKUP(D420,'Group Name'!A:B,2,0)","v":{"$error":"#N/A"}}," "]
[null,null,null,null,null,null,null,null,null,{"$f":"+IFERROR(VLOOKUP(C421,'Charge Conversion'!A:C,3,0),\" \")","v":" "}," "," ",null,null,null,null,null,{"$f":"VLOOKUP(D421,'Group Name'!A:B,2,0)","v":{"$error":"#N/A"}}," "]
[null,null,null,null,null,null,null,null,null,{"$f":"+IFERROR(VLOOKUP(C422,'Charge Conversion'!A:C,3,0),\" \")","v":" "}," "," ",null,null,null,null,null,{"$f":"VLOOKUP(D422,'Group Name'!A:B,2,0)","v":{"$error":"#N/A"}}," "]
[null,null,null,null,null,null,null,null,null,{"$f":"+IFERROR(VLOOKUP(C423,'Charge Conversion'!A:C,3,0),\" \")","v":" "}," "," ",null,null,null,null,null,{"$f":"VLOOKUP(D423,'Group Name'!A:B,2,0)","v":{"$error":"#N/A"}}," "]
[null,null,null,null,null,null,null,null,null,{"$f":"+IFERROR(VLOOKUP(C424,'Charge Conversion'!A:C,3,0),\" \")","v":" "}," "," ",null,null,null,null,null,{"$f":"VLOOKUP(D424,'Group Name'!A:B,2,0)","v":{"$error":"#N/A"}}," "]
[null,null,null,null,null,null,null,null,null,{"$f":"+IFERROR(VLOOKUP(C425,'Charge Conversion'!A:C,3,0),\" \")","v":" "}," "," ",null,null,null,null,null,{"$f":"VLOOKUP(D425,'Group Name'!A:B,2,0)","v":{"$error":"#N/A"}}," "]
[null,null,null,null,null,null,null,null,null,{"$f":"+IFERROR(VLOOKUP(C426,'Charge Conversion'!A:C,3,0),\" \")","v":" "}," "," ",null,null,null,null,null,{"$f":"VLOOKUP(D426,'Group Name'!A:B,2,0)","v":{"$error":"#N/A"}}," "]
[null,null,null,null,null,null,null,null,null,{"$f":"+IFERROR(VLOOKUP(C427,'Charge Conversion'!A:C,3,0),\" \")","v":" "}," "," ",null,null,null,null,null,{"$f":"VLOOKUP(D427,'Group Name'!A:B,2,0)","v":{"$error":"#N/A"}}," "]
[null,null,null,null,null,null,null,null,null,{"$f":"+IFERROR(VLOOKUP(C428,'Charge Conversion'!A:C,3,0),\" \")","v":" "}," "," ",null,null,null,null,null,{"$f":"VLOOKUP(D428,'Group Name'!A:B,2,0)","v":{"$error":"#N/A"}}," "]
[null,null,null,null,null,null,null,null,null,{"$f":"+IFERROR(VLOOKUP(C429,'Charge Conversion'!A:C,3,0),\" \")","v":" "}," "," ",null,null,null,null,null,{"$f":"VLOOKUP(D429,'Group Name'!A:B,2,0)","v":{"$error":"#N/A"}}," "]
[null,null,null,null,null,null,null,null,null,{"$f":"+IFERROR(VLOOKUP(C430,'Charge Conversion'!A:C,3,0),\" \")","v":" "}," "," ",null,null,null,null,null,{"$f":"VLOOKUP(D430,'Group Name'!A:B,2,0)","v":{"$error":"#N/A"}}," "]
[null,null,null,null,null,null,null,null,null,{"$f":"+IFERROR(VLOOKUP(C431,'Charge Conversion'!A:C,3,0),\" \")","v":" "}," "," ",null,null,null,null,null,{"$f":"VLOOKUP(D431,'Group Name'!A:B,2,0)","v":{"$error":"#N/A"}}," "]
[null,null,null,null,null,null,null,null,null,{"$f":"+IFERROR(VLOOKUP(C432,'Charge Conversion'!A:C,3,0),\" \")","v":" "}," "," ",null,null,null,null,null,{"$f":"VLOOKUP(D432,'Group Name'!A:B,2,0)","v":{"$error":"#N/A"}}," "]
[null,null,null,null,null,null,null,null,null,{"$f":"+IFERROR(VLOOKUP(C433,'Charge Conversion'!A:C,3,0),\" \")","v":" "}," "," ",null,null,null,null,null,{"$f":"VLOOKUP(D433,'Group Name'!A:B,2,0)","v":{"$error":"#N/A"}}," "]
[null,null,null,null,null,null,null,null,null,{"$f":"+IFERROR(VLOOKUP(C434,'Charge Conversion'!A:C,3,0),\" \")","v":" "}," "," ",null,null,null,null,null,{"$f":"VLOOKUP(D434,'Group Name'!A:B,2,0)","v":{"$error":"#N/A"}}," "]
[null,null,null,null,null,null,null,null,null,{"$f":"+IFERROR(VLOOKUP(C435,'Charge Conversion'!A:C,3,0),\" \")","v":" "}," "," ",null,null,null,null,null,{"$f":"VLOOKUP(D435,'Group Name'!A:B,2,0)","v":{"$error":"#N/A"}}," "]
[null,null,null,null,null,null,null,null,null,{"$f":"+IFERROR(VLOOKUP(C436,'Charge Conversion'!A:C,3,0),\" \")","v":" "}," "," ",null,null,null,null,null,{"$f":"VLOOKUP(D436,'Group Name'!A:B,2,0)","v":{"$error":"#N/A"}}," "]
[null,null,null,null,null,null,null,null,null,{"$f":"+IFERROR(VLOOKUP(C437,'Charge Conversion'!A:C,3,0),\" \")","v":" "}," "," ",null,null,null,null,null,{"$f":"VLOOKUP(D437,'Group Name'!A:B,2,0)","v":{"$error":"#N/A"}}," "]
[null,null,null,null,null,null,null,null,null,{"$f":"+IFERROR(VLOOKUP(C438,'Charge Conversion'!A:C,3,0),\" \")","v":" "}," "," ",null,null,null,null,null,{"$f":"VLOOKUP(D438,'Group Name'!A:B,2,0)","v":{"$error":"#N/A"}}," "]
[null,null,null,null,null,null,null,null,null,{"$f":"+IFERROR(VLOOKUP(C439,'Charge Conversion'!A:C,3,0),\" \")","v":" "}," "," ",null,null,null,null,null,{"$f":"VLOOKUP(D439,'Group Name'!A:B,2,0)","v":{"$error":"#N/A"}}," "]
[null,null,null,null,null,null,null,null,null,{"$f":"+IFERROR(VLOOKUP(C440,'Charge Conversion'!A:C,3,0),\" \")","v":" "}," "," ",null,null,null,null,null,{"$f":"VLOOKUP(D440,'Group Name'!A:B,2,0)","v":{"$error":"#N/A"}}," "]
[null,null,null,null,null,null,null,null,null,{"$f":"+IFERROR(VLOOKUP(C441,'Charge Conversion'!A:C,3,0),\" \")","v":" "}," "," ",null,null,null,null,null,{"$f":"VLOOKUP(D441,'Group Name'!A:B,2,0)","v":{"$error":"#N/A"}}," "]
[null,null,null,null,null,null,null,null,null,{"$f":"+IFERROR(VLOOKUP(C442,'Charge Conversion'!A:C,3,0),\" \")","v":" "}," "," ",null,null,null,null,null,{"$f":"VLOOKUP(D442,'Group Name'!A:B,2,0)","v":{"$error":"#N/A"}}," "]
[null,null,null,null,null,null,null,null,null,{"$f":"+IFERROR(VLOOKUP(C443,'Charge Conversion'!A:C,3,0),\" \")","v":" "}," "," ",null,null,null,null,null,{"$f":"VLOOKUP(D443,'Group Name'!A:B,2,0)","v":{"$error":"#N/A"}}," "]
[null,null,null,null,null,null,null,null,null,{"$f":"+IFERROR(VLOOKUP(C444,'Charge Conversion'!A:C,3,0),\" \")","v":" "}," "," ",null,null,null,null,null,{"$f":"VLOOKUP(D444,'Group Name'!A:B,2,0)","v":{"$error":"#N/A"}}," "]
[null,null,null,null,null,null,null,null,null,{"$f":"+IFERROR(VLOOKUP(C445,'Charge Conversion'!A:C,3,0),\" \")","v":" "}," "," ",null,null,null,null,null,{"$f":"VLOOKUP(D445,'Group Name'!A:B,2,0)","v":{"$error":"#N/A"}}," "]
[null,null,null,null,null,null,null,null,null,{"$f":"+IFERROR(VLOOKUP(C446,'Charge Conversion'!A:C,3,0),\" \")","v":" "}," "," ",null,null,null,null,null,{"$f":"VLOOKUP(D446,'Group Name'!A:B,2,0)","v":{"$error":"#N/A"}}," "]
[null,null,null,null,null,null,null,null,null,{"$f":"+IFERROR(VLOOKUP(C447,'Charge Conversion'!A:C,3,0),\" \")","v":" "}," "," ",null,null,null,null,null,{"$f":"VLOOKUP(D447,'Group Name'!A:B,2,0)","v":{"$error":"#N/A"}}," "]
[null,null,null,null,null,null,null,null,null,{"$f":"+IFERROR(VLOOKUP(C448,'Charge Conversion'!A:C,3,0),\" \")","v":" "}," "," ",null,null,null,null,null,{"$f":"VLOOKUP(D448,'Group Name'!A:B,2,0)","v":{"$error":"#N/A"}}," "]
[null,null,null,null,null,null,null,null,null,{"$f":"+IFERROR(VLOOKUP(C449,'Charge Conversion'!A:C,3,0),\" \")","v":" "}," "," ",null,null,null,null,null,{"$f":"VLOOKUP(D449,'Group Name'!A:B,2,0)","v":{"$error":"#N/A"}}," "]
[null,null,null,null,null,null,null,null,null,{"$f":"+IFERROR(VLOOKUP(C450,'Charge Conversion'!A:C,3,0),\" \")","v":" "}," "," ",null,null,null,null,null,{"$f":"VLOOKUP(D450,'Group Name'!A:B,2,0)","v":{"$error":"#N/A"}}," "]
[null,null,null,null,null,null,null,null,null,{"$f":"+IFERROR(VLOOKUP(C451,'Charge Conversion'!A:C,3,0),\" \")","v":" "}," "," ",null,null,null,null,null,{"$f":"VLOOKUP(D451,'Group Name'!A:B,2,0)","v":{"$error":"#N/A"}}," "]
[null,null,null,null,null,null,null,null,null,{"$f":"+IFERROR(VLOOKUP(C452,'Charge Conversion'!A:C,3,0),\" \")","v":" "}," "," ",null,null,null,null,null,{"$f":"VLOOKUP(D452,'Group Name'!A:B,2,0)","v":{"$error":"#N/A"}}," "]
[null,null,null,null,null,null,null,null,null,{"$f":"+IFERROR(VLOOKUP(C453,'Charge Conversion'!A:C,3,0),\" \")","v":" "},{"$f":"+IFERROR(I453*J453,\" \")","v":" "},{"$f":"S453","v":" "},null,null,null,null,null,{"$f":"VLOOKUP(D453,'Group Name'!A:B,2,0)","v":{"$error":"#N/A"}},{"$f":"IFERROR((IF(A453=\" \",\" \",R453)),\" \")","v":" "}]
[null,null,null,null,null,null,null,null,null,{"$f":"+IFERROR(VLOOKUP(C454,'Charge Conversion'!A:C,3,0),\" \")","v":" "}," "," ",null,null,null,null,null,{"$f":"VLOOKUP(D454,'Group Name'!A:B,2,0)","v":{"$error":"#N/A"}}," "]
[null,null,null,null,null,null,null,null,null,{"$f":"+IFERROR(VLOOKUP(C455,'Charge Conversion'!A:C,3,0),\" \")","v":" "}," "," ",null,null,null,null,null,{"$f":"VLOOKUP(D455,'Group Name'!A:B,2,0)","v":{"$error":"#N/A"}}," "]
[null,null,null,null,null,null,null,null,null,{"$f":"+IFERROR(VLOOKUP(C456,'Charge Conversion'!A:C,3,0),\" \")","v":" "}," "," ",null,null,null,null,null,{"$f":"VLOOKUP(D456,'Group Name'!A:B,2,0)","v":{"$error":"#N/A"}}," "]
[null,null,null,null,null,null,null,null,null,{"$f":"+IFERROR(VLOOKUP(C457,'Charge Conversion'!A:C,3,0),\" \")","v":" "}," "," ",null,null,null,null,null,{"$f":"VLOOKUP(D457,'Group Name'!A:B,2,0)","v":{"$error":"#N/A"}}," "]
[null,null,null,null,null,null,null,null,null,{"$f":"+IFERROR(VLOOKUP(C458,'Charge Conversion'!A:C,3,0),\" \")","v":" "}," "," ",null,null,null,null,null,{"$f":"VLOOKUP(D458,'Group Name'!A:B,2,0)","v":{"$error":"#N/A"}}," "]
[null,null,null,null,null,null,null,null,null,{"$f":"+IFERROR(VLOOKUP(C459,'Charge Conversion'!A:C,3,0),\" \")","v":" "}," "," ",null,null,null,null,null,{"$f":"VLOOKUP(D459,'Group Name'!A:B,2,0)","v":{"$error":"#N/A"}}," "]
[null,null,null,null,null,null,null,null,null,{"$f":"+IFERROR(VLOOKUP(C460,'Charge Conversion'!A:C,3,0),\" \")","v":" "}," "," ",null,null,null,null,null,{"$f":"VLOOKUP(D460,'Group Name'!A:B,2,0)","v":{"$error":"#N/A"}}," "]
[null,null,null,null,null,null,null,null,null,{"$f":"+IFERROR(VLOOKUP(C461,'Charge Conversion'!A:C,3,0),\" \")","v":" "}," "," ",null,null,null,null,null,{"$f":"VLOOKUP(D461,'Group Name'!A:B,2,0)","v":{"$error":"#N/A"}}," "]
[null,null,null,null,null,null,null,null,null,{"$f":"+IFERROR(VLOOKUP(C462,'Charge Conversion'!A:C,3,0),\" \")","v":" "}," "," ",null,null,null,null,null,{"$f":"VLOOKUP(D462,'Group Name'!A:B,2,0)","v":{"$error":"#N/A"}}," "]
[null,null,null,null,null,null,null,null,null,{"$f":"+IFERROR(VLOOKUP(C463,'Charge Conversion'!A:C,3,0),\" \")","v":" "}," "," ",null,null,null,null,null,{"$f":"VLOOKUP(D463,'Group Name'!A:B,2,0)","v":{"$error":"#N/A"}}," "]
[null,null,null,null,null,null,null,null,null,{"$f":"+IFERROR(VLOOKUP(C464,'Charge Conversion'!A:C,3,0),\" \")","v":" "}," "," ",null,null,null,null,null,{"$f":"VLOOKUP(D464,'Group Name'!A:B,2,0)","v":{"$error":"#N/A"}}," "]
[null,null,null,null,null,null,null,null,null,{"$f":"+IFERROR(VLOOKUP(C465,'Charge Conversion'!A:C,3,0),\" \")","v":" "}," "," ",null,null,null,null,null,{"$f":"VLOOKUP(D465,'Group Name'!A:B,2,0)","v":{"$error":"#N/A"}}," "]
[null,null,null,null,null,null,null,null,null,{"$f":"+IFERROR(VLOOKUP(C466,'Charge Conversion'!A:C,3,0),\" \")","v":" "}," "," ",null,null,null,null,null,{"$f":"VLOOKUP(D466,'Group Name'!A:B,2,0)","v":{"$error":"#N/A"}}," "]
[null,null,null,null,null,null,null,null,null,{"$f":"+IFERROR(VLOOKUP(C467,'Charge Conversion'!A:C,3,0),\" \")","v":" "}," "," ",null,null,null,null,null,{"$f":"VLOOKUP(D467,'Group Name'!A:B,2,0)","v":{"$error":"#N/A"}}," "]
[null,null,null,null,null,null,null,null,null,{"$f":"+IFERROR(VLOOKUP(C468,'Charge Conversion'!A:C,3,0),\" \")","v":" "}," "," ",null,null,null,null,null,{"$f":"VLOOKUP(D468,'Group Name'!A:B,2,0)","v":{"$error":"#N/A"}}," "]
[null,null,null,null,null,null,null,null,null,{"$f":"+IFERROR(VLOOKUP(C469,'Charge Conversion'!A:C,3,0),\" \")","v":" "}," "," ",null,null,null,null,null,{"$f":"VLOOKUP(D469,'Group Name'!A:B,2,0)","v":{"$error":"#N/A"}}," "]
[null,null,null,null,null,null,null,null,null,{"$f":"+IFERROR(VLOOKUP(C470,'Charge Conversion'!A:C,3,0),\" \")","v":" "}," "," ",null,null,null,null,null,{"$f":"VLOOKUP(D470,'Group Name'!A:B,2,0)","v":{"$error":"#N/A"}}," "]
[null,null,null,null,null,null,null,null,null,{"$f":"+IFERROR(VLOOKUP(C471,'Charge Conversion'!A:C,3,0),\" \")","v":" "}," "," ",null,null,null,null,null,{"$f":"VLOOKUP(D471,'Group Name'!A:B,2,0)","v":{"$error":"#N/A"}}," "]
[null,null,null,null,null,null,null,null,null,{"$f":"+IFERROR(VLOOKUP(C472,'Charge Conversion'!A:C,3,0),\" \")","v":" "}," "," ",null,null,null,null,null,{"$f":"VLOOKUP(D472,'Group Name'!A:B,2,0)","v":{"$error":"#N/A"}}," "]
[null,null,null,null,null,null,null,null,null,{"$f":"+IFERROR(VLOOKUP(C473,'Charge Conversion'!A:C,3,0),\" \")","v":" "}," "," ",null,null,null,null,null,{"$f":"VLOOKUP(D473,'Group Name'!A:B,2,0)","v":{"$error":"#N/A"}}," "]
[null,null,null,null,null,null,null,null,null,{"$f":"+IFERROR(VLOOKUP(C474,'Charge Conversion'!A:C,3,0),\" \")","v":" "}," "," ",null,null,null,null,null,{"$f":"VLOOKUP(D474,'Group Name'!A:B,2,0)","v":{"$error":"#N/A"}}," "]
[null,null,null,null,null,null,null,null,null,{"$f":"+IFERROR(VLOOKUP(C475,'Charge Conversion'!A:C,3,0),\" \")","v":" "}," "," ",null,null,null,null,null,{"$f":"VLOOKUP(D475,'Group Name'!A:B,2,0)","v":{"$error":"#N/A"}}," "]
[null,null,null,null,null,null,null,null,null,{"$f":"+IFERROR(VLOOKUP(C476,'Charge Conversion'!A:C,3,0),\" \")","v":" "}," "," ",null,null,null,null,null,{"$f":"VLOOKUP(D476,'Group Name'!A:B,2,0)","v":{"$error":"#N/A"}}," "]
[null,null,null,null,null,null,null,null,null,{"$f":"+IFERROR(VLOOKUP(C477,'Charge Conversion'!A:C,3,0),\" \")","v":" "}," "," ",null,null,null,null,null,{"$f":"VLOOKUP(D477,'Group Name'!A:B,2,0)","v":{"$error":"#N/A"}}," "]
[null,null,null,null,null,null,null,null,null,{"$f":"+IFERROR(VLOOKUP(C478,'Charge Conversion'!A:C,3,0),\" \")","v":" "}," "," ",null,null,null,null,null,{"$f":"VLOOKUP(D478,'Group Name'!A:B,2,0)","v":{"$error":"#N/A"}}," "]
[null,null,null,null,null,null,null,null,null,{"$f":"+IFERROR(VLOOKUP(C479,'Charge Conversion'!A:C,3,0),\" \")","v":" "}," "," ",null,null,null,null,null,{"$f":"VLOOKUP(D479,'Group Name'!A:B,2,0)","v":{"$error":"#N/A"}}," "]
[null,null,null,null,null,null,null,null,null,{"$f":"+IFERROR(VLOOKUP(C480,'Charge Conversion'!A:C,3,0),\" \")","v":" "}," "," ",null,null,null,null,null,{"$f":"VLOOKUP(D480,'Group Name'!A:B,2,0)","v":{"$error":"#N/A"}}," "]
[null,null,null,null,null,null,null,null,null,{"$f":"+IFERROR(VLOOKUP(C481,'Charge Conversion'!A:C,3,0),\" \")","v":" "}," "," ",null,null,null,null,null,{"$f":"VLOOKUP(D481,'Group Name'!A:B,2,0)","v":{"$error":"#N/A"}}," "]
[null,null,null,null,null,null,null,null,null,{"$f":"+IFERROR(VLOOKUP(C482,'Charge Conversion'!A:C,3,0),\" \")","v":" "}," "," ",null,null,null,null,null,{"$f":"VLOOKUP(D482,'Group Name'!A:B,2,0)","v":{"$error":"#N/A"}}," "]
[null,null,null,null,null,null,null,null,null,{"$f":"+IFERROR(VLOOKUP(C483,'Charge Conversion'!A:C,3,0),\" \")","v":" "}," "," ",null,null,null,null,null,{"$f":"VLOOKUP(D483,'Group Name'!A:B,2,0)","v":{"$error":"#N/A"}}," "]
[null,null,null,null,null,null,null,null,null,{"$f":"+IFERROR(VLOOKUP(C484,'Charge Conversion'!A:C,3,0),\" \")","v":" "}," "," ",null,null,null,null,null,{"$f":"VLOOKUP(D484,'Group Name'!A:B,2,0)","v":{"$error":"#N/A"}}," "]
[null,null,null,null,null,null,null,null,null,{"$f":"+IFERROR(VLOOKUP(C485,'Charge Conversion'!A:C,3,0),\" \")","v":" "}," "," ",null,null,null,null,null,{"$f":"VLOOKUP(D485,'Group Name'!A:B,2,0)","v":{"$error":"#N/A"}}," "]
[null,null,null,null,null,null,null,null,null,{"$f":"+IFERROR(VLOOKUP(C486,'Charge Conversion'!A:C,3,0),\" \")","v":" "}," "," ",null,null,null,null,null,{"$f":"VLOOKUP(D486,'Group Name'!A:B,2,0)","v":{"$error":"#N/A"}}," "]
[null,null,null,null,null,null,null,null,null,{"$f":"+IFERROR(VLOOKUP(C487,'Charge Conversion'!A:C,3,0),\" \")","v":" "}," "," ",null,null,null,null,null,{"$f":"VLOOKUP(D487,'Group Name'!A:B,2,0)","v":{"$error":"#N/A"}}," "]
[null,null,null,null,null,null,null,null,null,{"$f":"+IFERROR(VLOOKUP(C488,'Charge Conversion'!A:C,3,0),\" \")","v":" "}," "," ",null,null,null,null,null,{"$f":"VLOOKUP(D488,'Group Name'!A:B,2,0)","v":{"$error":"#N/A"}}," "]
[null,null,null,null,null,null,null,null,null,{"$f":"+IFERROR(VLOOKUP(C489,'Charge Conversion'!A:C,3,0),\" \")","v":" "}," "," ",null,null,null,null,null,{"$f":"VLOOKUP(D489,'Group Name'!A:B,2,0)","v":{"$error":"#N/A"}}," "]
[null,null,null,null,null,null,null,null,null,{"$f":"+IFERROR(VLOOKUP(C490,'Charge Conversion'!A:C,3,0),\" \")","v":" "}," "," ",null,null,null,null,null,{"$f":"VLOOKUP(D490,'Group Name'!A:B,2,0)","v":{"$error":"#N/A"}}," "]
[null,null,null,null,null,null,null,null,null,{"$f":"+IFERROR(VLOOKUP(C491,'Charge Conversion'!A:C,3,0),\" \")","v":" "}," "," ",null,null,null,null,null,{"$f":"VLOOKUP(D491,'Group Name'!A:B,2,0)","v":{"$error":"#N/A"}}," "]
[null,null,null,null,null,null,null,null,null,{"$f":"+IFERROR(VLOOKUP(C492,'Charge Conversion'!A:C,3,0),\" \")","v":" "}," "," ",null,null,null,null,null,{"$f":"VLOOKUP(D492,'Group Name'!A:B,2,0)","v":{"$error":"#N/A"}}," "]
[null,null,null,null,null,null,null,null,null,{"$f":"+IFERROR(VLOOKUP(C493,'Charge Conversion'!A:C,3,0),\" \")","v":" "}," "," ",null,null,null,null,null,{"$f":"VLOOKUP(D493,'Group Name'!A:B,2,0)","v":{"$error":"#N/A"}}," "]
[null,null,null,null,null,null,null,null,null,{"$f":"+IFERROR(VLOOKUP(C494,'Charge Conversion'!A:C,3,0),\" \")","v":" "}," "," ",null,null,null,null,null,{"$f":"VLOOKUP(D494,'Group Name'!A:B,2,0)","v":{"$error":"#N/A"}}," "]
[null,null,null,null,null,null,null,null,null,{"$f":"+IFERROR(VLOOKUP(C495,'Charge Conversion'!A:C,3,0),\" \")","v":" "}," "," ",null,null,null,null,null,{"$f":"VLOOKUP(D495,'Group Name'!A:B,2,0)","v":{"$error":"#N/A"}}," "]
[null,null,null,null,null,null,null,null,null,{"$f":"+IFERROR(VLOOKUP(C496,'Charge Conversion'!A:C,3,0),\" \")","v":" "}," "," ",null,null,null,null,null,{"$f":"VLOOKUP(D496,'Group Name'!A:B,2,0)","v":{"$error":"#N/A"}}," "]
[null,null,null,null,null,null,null,null,null,{"$f":"+IFERROR(VLOOKUP(C497,'Charge Conversion'!A:C,3,0),\" \")","v":" "}," "," ",null,null,null,null,null,{"$f":"VLOOKUP(D497,'Group Name'!A:B,2,0)","v":{"$error":"#N/A"}}," "]
[null,null,null,null,null,null,null,null,null,{"$f":"+IFERROR(VLOOKUP(C498,'Charge Conversion'!A:C,3,0),\" \")","v":" "}," "," ",null,null,null,null,null,{"$f":"VLOOKUP(D498,'Group Name'!A:B,2,0)","v":{"$error":"#N/A"}}," "]
[null,null,null,null,null,null,null,null,null,{"$f":"+IFERROR(VLOOKUP(C499,'Charge Conversion'!A:C,3,0),\" \")","v":" "}," "," ",null,null,null,null,null,{"$f":"VLOOKUP(D499,'Group Name'!A:B,2,0)","v":{"$error":"#N/A"}}," "]
[null,null,null,null,null,null,null,null,null,{"$f":"+IFERROR(VLOOKUP(C500,'Charge Conversion'!A:C,3,0),\" \")","v":" "}," "," ",null,null,null,null,null,{"$f":"VLOOKUP(D500,'Group Name'!A:B,2,0)","v":{"$error":"#N/A"}}," "]
[null,null,null,null,null,null,null,null,null,{"$f":"+IFERROR(VLOOKUP(C501,'Charge Conversion'!A:C,3,0),\" \")","v":" "}," "," ",null,null,null,null,null,{"$f":"VLOOKUP(D501,'Group Name'!A:B,2,0)","v":{"$error":"#N/A"}}," "]
[null,null,null,null,null,null,null,null,null,{"$f":"+IFERROR(VLOOKUP(C502,'Charge Conversion'!A:C,3,0),\" \")","v":" "}," "," ",null,null,null,null,null,{"$f":"VLOOKUP(D502,'Group Name'!A:B,2,0)","v":{"$error":"#N/A"}}," "]
[null,null,null,null,null,null,null,null,null,{"$f":"+IFERROR(VLOOKUP(C503,'Charge Conversion'!A:C,3,0),\" \")","v":" "}," "," ",null,null,null,null,null,{"$f":"VLOOKUP(D503,'Group Name'!A:B,2,0)","v":{"$error":"#N/A"}}," "]
[null,null,null,null,null,null,null,null,null,{"$f":"+IFERROR(VLOOKUP(C504,'Charge Conversion'!A:C,3,0),\" \")","v":" "}," "," ",null,null,null,null,null,{"$f":"VLOOKUP(D504,'Group Name'!A:B,2,0)","v":{"$error":"#N/A"}}," "]
[null,null,null,null,null,null,null,null,null,{"$f":"+IFERROR(VLOOKUP(C505,'Charge Conversion'!A:C,3,0),\" \")","v":" "}," "," ",null,null,null,null,null,{"$f":"VLOOKUP(D505,'Group Name'!A:B,2,0)","v":{"$error":"#N/A"}}," "]
[null,null,null,null,null,null,null,null,null,{"$f":"+IFERROR(VLOOKUP(C506,'Charge Conversion'!A:C,3,0),\" \")","v":" "}," "," ",null,null,null,null,null,{"$f":"VLOOKUP(D506,'Group Name'!A:B,2,0)","v":{"$error":"#N/A"}}," "]
[null,null,null,null,null,null,null,null,null,{"$f":"+IFERROR(VLOOKUP(C507,'Charge Conversion'!A:C,3,0),\" \")","v":" "}," "," ",null,null,null,null,null,{"$f":"VLOOKUP(D507,'Group Name'!A:B,2,0)","v":{"$error":"#N/A"}}," "]
[null,null,null,null,null,null,null,null,null,{"$f":"+IFERROR(VLOOKUP(C508,'Charge Conversion'!A:C,3,0),\" \")","v":" "}," "," ",null,null,null,null,null,{"$f":"VLOOKUP(D508,'Group Name'!A:B,2,0)","v":{"$error":"#N/A"}}," "]
[null,null,null,null,null,null,null,null,null,{"$f":"+IFERROR(VLOOKUP(C509,'Charge Conversion'!A:C,3,0),\" \")","v":" "}," "," ",null,null,null,null,null,{"$f":"VLOOKUP(D509,'Group Name'!A:B,2,0)","v":{"$error":"#N/A"}}," "]
[null,null,null,null,null,null,null,null,null,{"$f":"+IFERROR(VLOOKUP(C510,'Charge Conversion'!A:C,3,0),\" \")","v":" "}," "," ",null,null,null,null,null,{"$f":"VLOOKUP(D510,'Group Name'!A:B,2,0)","v":{"$error":"#N/A"}}," "]
[null,null,null,null,null,null,null,null,null,{"$f":"+IFERROR(VLOOKUP(C511,'Charge Conversion'!A:C,3,0),\" \")","v":" "}," "," ",null,null,null,null,null,{"$f":"VLOOKUP(D511,'Group Name'!A:B,2,0)","v":{"$error":"#N/A"}}," "]
[null,null,null,null,null,null,null,null,null,{"$f":"+IFERROR(VLOOKUP(C512,'Charge Conversion'!A:C,3,0),\" \")","v":" "}," "," ",null,null,null,null,null,{"$f":"VLOOKUP(D512,'Group Name'!A:B,2,0)","v":{"$error":"#N/A"}}," "]
[null,null,null,null,null,null,null,null,null,{"$f":"+IFERROR(VLOOKUP(C513,'Charge Conversion'!A:C,3,0),\" \")","v":" "}," "," ",null,null,null,null,null,{"$f":"VLOOKUP(D513,'Group Name'!A:B,2,0)","v":{"$error":"#N/A"}}," "]
[null,null,null,null,null,null,null,null,null,{"$f":"+IFERROR(VLOOKUP(C514,'Charge Conversion'!A:C,3,0),\" \")","v":" "}," "," ",null,null,null,null,null,{"$f":"VLOOKUP(D514,'Group Name'!A:B,2,0)","v":{"$error":"#N/A"}}," "]
[null,null,null,null,null,null,null,null,null,{"$f":"+IFERROR(VLOOKUP(C515,'Charge Conversion'!A:C,3,0),\" \")","v":" "}," "," ",null,null,null,null,null,{"$f":"VLOOKUP(D515,'Group Name'!A:B,2,0)","v":{"$error":"#N/A"}}," "]
[null,null,null,null,null,null,null,null,null,{"$f":"+IFERROR(VLOOKUP(C516,'Charge Conversion'!A:C,3,0),\" \")","v":" "}," "," ",null,null,null,null,null,{"$f":"VLOOKUP(D516,'Group Name'!A:B,2,0)","v":{"$error":"#N/A"}}," "]
[null,null,null,null,null,null,null,null,null,{"$f":"+IFERROR(VLOOKUP(C517,'Charge Conversion'!A:C,3,0),\" \")","v":" "},{"$f":"+IFERROR(I517*J517,\" \")","v":" "},{"$f":"S517","v":" "},null,null,null,null,null,{"$f":"VLOOKUP(D517,'Group Name'!A:B,2,0)","v":{"$error":"#N/A"}},{"$f":"IFERROR((IF(A517=\" \",\" \",R517)),\" \")","v":" "}]
[null,null,null,null,null,null,null,null,null,{"$f":"+IFERROR(VLOOKUP(C518,'Charge Conversion'!A:C,3,0),\" \")","v":" "}," "," ",null,null,null,null,null,{"$f":"VLOOKUP(D518,'Group Name'!A:B,2,0)","v":{"$error":"#N/A"}}," "]
[null,null,null,null,null,null,null,null,null,{"$f":"+IFERROR(VLOOKUP(C519,'Charge Conversion'!A:C,3,0),\" \")","v":" "}," "," ",null,null,null,null,null,{"$f":"VLOOKUP(D519,'Group Name'!A:B,2,0)","v":{"$error":"#N/A"}}," "]
[null,null,null,null,null,null,null,null,null,{"$f":"+IFERROR(VLOOKUP(C520,'Charge Conversion'!A:C,3,0),\" \")","v":" "}," "," ",null,null,null,null,null,{"$f":"VLOOKUP(D520,'Group Name'!A:B,2,0)","v":{"$error":"#N/A"}}," "]
[null,null,null,null,null,null,null,null,null,{"$f":"+IFERROR(VLOOKUP(C521,'Charge Conversion'!A:C,3,0),\" \")","v":" "}," "," ",null,null,null,null,null,{"$f":"VLOOKUP(D521,'Group Name'!A:B,2,0)","v":{"$error":"#N/A"}}," "]
[null,null,null,null,null,null,null,null,null,{"$f":"+IFERROR(VLOOKUP(C522,'Charge Conversion'!A:C,3,0),\" \")","v":" "}," "," ",null,null,null,null,null,{"$f":"VLOOKUP(D522,'Group Name'!A:B,2,0)","v":{"$error":"#N/A"}}," "]
[null,null,null,null,null,null,null,null,null,{"$f":"+IFERROR(VLOOKUP(C523,'Charge Conversion'!A:C,3,0),\" \")","v":" "}," "," ",null,null,null,null,null,{"$f":"VLOOKUP(D523,'Group Name'!A:B,2,0)","v":{"$error":"#N/A"}}," "]
[null,null,null,null,null,null,null,null,null,{"$f":"+IFERROR(VLOOKUP(C524,'Charge Conversion'!A:C,3,0),\" \")","v":" "}," "," ",null,null,null,null,null,{"$f":"VLOOKUP(D524,'Group Name'!A:B,2,0)","v":{"$error":"#N/A"}}," "]
[null,null,null,null,null,null,null,null,null,{"$f":"+IFERROR(VLOOKUP(C525,'Charge Conversion'!A:C,3,0),\" \")","v":" "}," "," ",null,null,null,null,null,{"$f":"VLOOKUP(D525,'Group Name'!A:B,2,0)","v":{"$error":"#N/A"}}," "]
[null,null,null,null,null,null,null,null,null,{"$f":"+IFERROR(VLOOKUP(C526,'Charge Conversion'!A:C,3,0),\" \")","v":" "}," "," ",null,null,null,null,null,{"$f":"VLOOKUP(D526,'Group Name'!A:B,2,0)","v":{"$error":"#N/A"}}," "]
[null,null,null,null,null,null,null,null,null,{"$f":"+IFERROR(VLOOKUP(C527,'Charge Conversion'!A:C,3,0),\" \")","v":" "}," "," ",null,null,null,null,null,{"$f":"VLOOKUP(D527,'Group Name'!A:B,2,0)","v":{"$error":"#N/A"}}," "]
[null,null,null,null,null,null,null,null,null,{"$f":"+IFERROR(VLOOKUP(C528,'Charge Conversion'!A:C,3,0),\" \")","v":" "}," "," ",null,null,null,null,null,{"$f":"VLOOKUP(D528,'Group Name'!A:B,2,0)","v":{"$error":"#N/A"}}," "]
[null,null,null,null,null,null,null,null,null,{"$f":"+IFERROR(VLOOKUP(C529,'Charge Conversion'!A:C,3,0),\" \")","v":" "}," "," ",null,null,null,null,null,{"$f":"VLOOKUP(D529,'Group Name'!A:B,2,0)","v":{"$error":"#N/A"}}," "]
[null,null,null,null,null,null,null,null,null,{"$f":"+IFERROR(VLOOKUP(C530,'Charge Conversion'!A:C,3,0),\" \")","v":" "}," "," ",null,null,null,null,null,{"$f":"VLOOKUP(D530,'Group Name'!A:B,2,0)","v":{"$error":"#N/A"}}," "]
[null,null,null,null,null,null,null,null,null,{"$f":"+IFERROR(VLOOKUP(C531,'Charge Conversion'!A:C,3,0),\" \")","v":" "}," "," ",null,null,null,null,null,{"$f":"VLOOKUP(D531,'Group Name'!A:B,2,0)","v":{"$error":"#N/A"}}," "]
[null,null,null,null,null,null,null,null,null,{"$f":"+IFERROR(VLOOKUP(C532,'Charge Conversion'!A:C,3,0),\" \")","v":" "}," "," ",null,null,null,null,null,{"$f":"VLOOKUP(D532,'Group Name'!A:B,2,0)","v":{"$error":"#N/A"}}," "]
[null,null,null,null,null,null,null,null,null,{"$f":"+IFERROR(VLOOKUP(C533,'Charge Conversion'!A:C,3,0),\" \")","v":" "}," "," ",null,null,null,null,null,{"$f":"VLOOKUP(D533,'Group Name'!A:B,2,0)","v":{"$error":"#N/A"}}," "]
[null,null,null,null,null,null,null,null,null,{"$f":"+IFERROR(VLOOKUP(C534,'Charge Conversion'!A:C,3,0),\" \")","v":" "}," "," ",null,null,null,null,null,{"$f":"VLOOKUP(D534,'Group Name'!A:B,2,0)","v":{"$error":"#N/A"}}," "]
[null,null,null,null,null,null,null,null,null,{"$f":"+IFERROR(VLOOKUP(C535,'Charge Conversion'!A:C,3,0),\" \")","v":" "}," "," ",null,null,null,null,null,{"$f":"VLOOKUP(D535,'Group Name'!A:B,2,0)","v":{"$error":"#N/A"}}," "]
[null,null,null,null,null,null,null,null,null,{"$f":"+IFERROR(VLOOKUP(C536,'Charge Conversion'!A:C,3,0),\" \")","v":" "}," "," ",null,null,null,null,null,{"$f":"VLOOKUP(D536,'Group Name'!A:B,2,0)","v":{"$error":"#N/A"}}," "]
[null,null,null,null,null,null,null,null,null,{"$f":"+IFERROR(VLOOKUP(C537,'Charge Conversion'!A:C,3,0),\" \")","v":" "}," "," ",null,null,null,null,null,{"$f":"VLOOKUP(D537,'Group Name'!A:B,2,0)","v":{"$error":"#N/A"}}," "]
[null,null,null,null,null,null,null,null,null,{"$f":"+IFERROR(VLOOKUP(C538,'Charge Conversion'!A:C,3,0),\" \")","v":" "}," "," ",null,null,null,null,null,{"$f":"VLOOKUP(D538,'Group Name'!A:B,2,0)","v":{"$error":"#N/A"}}," "]
[null,null,null,null,null,null,null,null,null,{"$f":"+IFERROR(VLOOKUP(C539,'Charge Conversion'!A:C,3,0),\" \")","v":" "}," "," ",null,null,null,null,null,{"$f":"VLOOKUP(D539,'Group Name'!A:B,2,0)","v":{"$error":"#N/A"}}," "]
[null,null,null,null,null,null,null,null,null,{"$f":"+IFERROR(VLOOKUP(C540,'Charge Conversion'!A:C,3,0),\" \")","v":" "}," "," ",null,null,null,null,null,{"$f":"VLOOKUP(D540,'Group Name'!A:B,2,0)","v":{"$error":"#N/A"}}," "]
[null,null,null,null,null,null,null,null,null,{"$f":"+IFERROR(VLOOKUP(C541,'Charge Conversion'!A:C,3,0),\" \")","v":" "}," "," ",null,null,null,null,null,{"$f":"VLOOKUP(D541,'Group Name'!A:B,2,0)","v":{"$error":"#N/A"}}," "]
[null,null,null,null,null,null,null,null,null,{"$f":"+IFERROR(VLOOKUP(C542,'Charge Conversion'!A:C,3,0),\" \")","v":" "}," "," ",null,null,null,null,null,{"$f":"VLOOKUP(D542,'Group Name'!A:B,2,0)","v":{"$error":"#N/A"}}," "]
[null,null,null,null,null,null,null,null,null,{"$f":"+IFERROR(VLOOKUP(C543,'Charge Conversion'!A:C,3,0),\" \")","v":" "}," "," ",null,null,null,null,null,{"$f":"VLOOKUP(D543,'Group Name'!A:B,2,0)","v":{"$error":"#N/A"}}," "]
[null,null,null,null,null,null,null,null,null,{"$f":"+IFERROR(VLOOKUP(C544,'Charge Conversion'!A:C,3,0),\" \")","v":" "}," "," ",null,null,null,null,null,{"$f":"VLOOKUP(D544,'Group Name'!A:B,2,0)","v":{"$error":"#N/A"}}," "]
[null,null,null,null,null,null,null,null,null,{"$f":"+IFERROR(VLOOKUP(C545,'Charge Conversion'!A:C,3,0),\" \")","v":" "}," "," ",null,null,null,null,null,{"$f":"VLOOKUP(D545,'Group Name'!A:B,2,0)","v":{"$error":"#N/A"}}," "]
[null,null,null,null,null,null,null,null,null,{"$f":"+IFERROR(VLOOKUP(C546,'Charge Conversion'!A:C,3,0),\" \")","v":" "}," "," ",null,null,null,null,null,{"$f":"VLOOKUP(D546,'Group Name'!A:B,2,0)","v":{"$error":"#N/A"}}," "]
[null,null,null,null,null,null,null,null,null,{"$f":"+IFERROR(VLOOKUP(C547,'Charge Conversion'!A:C,3,0),\" \")","v":" "}," "," ",null,null,null,null,null,{"$f":"VLOOKUP(D547,'Group Name'!A:B,2,0)","v":{"$error":"#N/A"}}," "]
[null,null,null,null,null,null,null,null,null,{"$f":"+IFERROR(VLOOKUP(C548,'Charge Conversion'!A:C,3,0),\" \")","v":" "}," "," ",null,null,null,null,null,{"$f":"VLOOKUP(D548,'Group Name'!A:B,2,0)","v":{"$error":"#N/A"}}," "]
[null,null,null,null,null,null,null,null,null,{"$f":"+IFERROR(VLOOKUP(C549,'Charge Conversion'!A:C,3,0),\" \")","v":" "}," "," ",null,null,null,null,null,{"$f":"VLOOKUP(D549,'Group Name'!A:B,2,0)","v":{"$error":"#N/A"}}," "]
[null,null,null,null,null,null,null,null,null,{"$f":"+IFERROR(VLOOKUP(C550,'Charge Conversion'!A:C,3,0),\" \")","v":" "}," "," ",null,null,null,null,null,{"$f":"VLOOKUP(D550,'Group Name'!A:B,2,0)","v":{"$error":"#N/A"}}," "]
[null,null,null,null,null,null,null,null,null,{"$f":"+IFERROR(VLOOKUP(C551,'Charge Conversion'!A:C,3,0),\" \")","v":" "}," "," ",null,null,null,null,null,{"$f":"VLOOKUP(D551,'Group Name'!A:B,2,0)","v":{"$error":"#N/A"}}," "]
[null,null,null,null,null,null,null,null,null,{"$f":"+IFERROR(VLOOKUP(C552,'Charge Conversion'!A:C,3,0),\" \")","v":" "}," "," ",null,null,null,null,null,{"$f":"VLOOKUP(D552,'Group Name'!A:B,2,0)","v":{"$error":"#N/A"}}," "]
[null,null,null,null,null,null,null,null,null,{"$f":"+IFERROR(VLOOKUP(C553,'Charge Conversion'!A:C,3,0),\" \")","v":" "}," "," ",null,null,null,null,null,{"$f":"VLOOKUP(D553,'Group Name'!A:B,2,0)","v":{"$error":"#N/A"}}," "]
[null,null,null,null,null,null,null,null,null,{"$f":"+IFERROR(VLOOKUP(C554,'Charge Conversion'!A:C,3,0),\" \")","v":" "}," "," ",null,null,null,null,null,{"$f":"VLOOKUP(D554,'Group Name'!A:B,2,0)","v":{"$error":"#N/A"}}," "]
[null,null,null,null,null,null,null,null,null,{"$f":"+IFERROR(VLOOKUP(C555,'Charge Conversion'!A:C,3,0),\" \")","v":" "}," "," ",null,null,null,null,null,{"$f":"VLOOKUP(D555,'Group Name'!A:B,2,0)","v":{"$error":"#N/A"}}," "]
[null,null,null,null,null,null,null,null,null,{"$f":"+IFERROR(VLOOKUP(C556,'Charge Conversion'!A:C,3,0),\" \")","v":" "}," "," ",null,null,null,null,null,{"$f":"VLOOKUP(D556,'Group Name'!A:B,2,0)","v":{"$error":"#N/A"}}," "]
[null,null,null,null,null,null,null,null,null,{"$f":"+IFERROR(VLOOKUP(C557,'Charge Conversion'!A:C,3,0),\" \")","v":" "}," "," ",null,null,null,null,null,{"$f":"VLOOKUP(D557,'Group Name'!A:B,2,0)","v":{"$error":"#N/A"}}," "]
[null,null,null,null,null,null,null,null,null,{"$f":"+IFERROR(VLOOKUP(C558,'Charge Conversion'!A:C,3,0),\" \")","v":" "}," "," ",null,null,null,null,null,{"$f":"VLOOKUP(D558,'Group Name'!A:B,2,0)","v":{"$error":"#N/A"}}," "]
[null,null,null,null,null,null,null,null,null,{"$f":"+IFERROR(VLOOKUP(C559,'Charge Conversion'!A:C,3,0),\" \")","v":" "}," "," ",null,null,null,null,null,{"$f":"VLOOKUP(D559,'Group Name'!A:B,2,0)","v":{"$error":"#N/A"}}," "]
[null,null,null,null,null,null,null,null,null,{"$f":"+IFERROR(VLOOKUP(C560,'Charge Conversion'!A:C,3,0),\" \")","v":" "}," "," ",null,null,null,null,null,{"$f":"VLOOKUP(D560,'Group Name'!A:B,2,0)","v":{"$error":"#N/A"}}," "]
[null,null,null,null,null,null,null,null,null,{"$f":"+IFERROR(VLOOKUP(C561,'Charge Conversion'!A:C,3,0),\" \")","v":" "}," "," ",null,null,null,null,null,{"$f":"VLOOKUP(D561,'Group Name'!A:B,2,0)","v":{"$error":"#N/A"}}," "]
[null,null,null,null,null,null,null,null,null,{"$f":"+IFERROR(VLOOKUP(C562,'Charge Conversion'!A:C,3,0),\" \")","v":" "}," "," ",null,null,null,null,null,{"$f":"VLOOKUP(D562,'Group Name'!A:B,2,0)","v":{"$error":"#N/A"}}," "]
[null,null,null,null,null,null,null,null,null,{"$f":"+IFERROR(VLOOKUP(C563,'Charge Conversion'!A:C,3,0),\" \")","v":" "}," "," ",null,null,null,null,null,{"$f":"VLOOKUP(D563,'Group Name'!A:B,2,0)","v":{"$error":"#N/A"}}," "]
[null,null,null,null,null,null,null,null,null,{"$f":"+IFERROR(VLOOKUP(C564,'Charge Conversion'!A:C,3,0),\" \")","v":" "}," "," ",null,null,null,null,null,{"$f":"VLOOKUP(D564,'Group Name'!A:B,2,0)","v":{"$error":"#N/A"}}," "]
[null,null,null,null,null,null,null,null,null,{"$f":"+IFERROR(VLOOKUP(C565,'Charge Conversion'!A:C,3,0),\" \")","v":" "}," "," ",null,null,null,null,null,{"$f":"VLOOKUP(D565,'Group Name'!A:B,2,0)","v":{"$error":"#N/A"}}," "]
[null,null,null,null,null,null,null,null,null,{"$f":"+IFERROR(VLOOKUP(C566,'Charge Conversion'!A:C,3,0),\" \")","v":" "}," "," ",null,null,null,null,null,{"$f":"VLOOKUP(D566,'Group Name'!A:B,2,0)","v":{"$error":"#N/A"}}," "]
[null,null,null,null,null,null,null,null,null,{"$f":"+IFERROR(VLOOKUP(C567,'Charge Conversion'!A:C,3,0),\" \")","v":" "}," "," ",null,null,null,null,null,{"$f":"VLOOKUP(D567,'Group Name'!A:B,2,0)","v":{"$error":"#N/A"}}," "]
[null,null,null,null,null,null,null,null,null,{"$f":"+IFERROR(VLOOKUP(C568,'Charge Conversion'!A:C,3,0),\" \")","v":" "}," "," ",null,null,null,null,null,{"$f":"VLOOKUP(D568,'Group Name'!A:B,2,0)","v":{"$error":"#N/A"}}," "]
[null,null,null,null,null,null,null,null,null,{"$f":"+IFERROR(VLOOKUP(C569,'Charge Conversion'!A:C,3,0),\" \")","v":" "}," "," ",null,null,null,null,null,{"$f":"VLOOKUP(D569,'Group Name'!A:B,2,0)","v":{"$error":"#N/A"}}," "]
[null,null,null,null,null,null,null,null,null,{"$f":"+IFERROR(VLOOKUP(C570,'Charge Conversion'!A:C,3,0),\" \")","v":" "}," "," ",null,null,null,null,null,{"$f":"VLOOKUP(D570,'Group Name'!A:B,2,0)","v":{"$error":"#N/A"}}," "]
[null,null,null,null,null,null,null,null,null,{"$f":"+IFERROR(VLOOKUP(C571,'Charge Conversion'!A:C,3,0),\" \")","v":" "}," "," ",null,null,null,null,null,{"$f":"VLOOKUP(D571,'Group Name'!A:B,2,0)","v":{"$error":"#N/A"}}," "]
[null,null,null,null,null,null,null,null,null,{"$f":"+IFERROR(VLOOKUP(C572,'Charge Conversion'!A:C,3,0),\" \")","v":" "}," "," ",null,null,null,null,null,{"$f":"VLOOKUP(D572,'Group Name'!A:B,2,0)","v":{"$error":"#N/A"}}," "]
[null,null,null,null,null,null,null,null,null,{"$f":"+IFERROR(VLOOKUP(C573,'Charge Conversion'!A:C,3,0),\" \")","v":" "}," "," ",null,null,null,null,null,{"$f":"VLOOKUP(D573,'Group Name'!A:B,2,0)","v":{"$error":"#N/A"}}," "]
[null,null,null,null,null,null,null,null,null,{"$f":"+IFERROR(VLOOKUP(C574,'Charge Conversion'!A:C,3,0),\" \")","v":" "}," "," ",null,null,null,null,null,{"$f":"VLOOKUP(D574,'Group Name'!A:B,2,0)","v":{"$error":"#N/A"}}," "]
[null,null,null,null,null,null,null,null,null,{"$f":"+IFERROR(VLOOKUP(C575,'Charge Conversion'!A:C,3,0),\" \")","v":" "}," "," ",null,null,null,null,null,{"$f":"VLOOKUP(D575,'Group Name'!A:B,2,0)","v":{"$error":"#N/A"}}," "]
[null,null,null,null,null,null,null,null,null,{"$f":"+IFERROR(VLOOKUP(C576,'Charge Conversion'!A:C,3,0),\" \")","v":" "}," "," ",null,null,null,null,null,{"$f":"VLOOKUP(D576,'Group Name'!A:B,2,0)","v":{"$error":"#N/A"}}," "]
[null,null,null,null,null,null,null,null,null,{"$f":"+IFERROR(VLOOKUP(C577,'Charge Conversion'!A:C,3,0),\" \")","v":" "}," "," ",null,null,null,null,null,{"$f":"VLOOKUP(D577,'Group Name'!A:B,2,0)","v":{"$error":"#N/A"}}," "]
[null,null,null,null,null,null,null,null,null,{"$f":"+IFERROR(VLOOKUP(C578,'Charge Conversion'!A:C,3,0),\" \")","v":" "}," "," ",null,null,null,null,null,{"$f":"VLOOKUP(D578,'Group Name'!A:B,2,0)","v":{"$error":"#N/A"}}," "]
[null,null,null,null,null,null,null,null,null,{"$f":"+IFERROR(VLOOKUP(C579,'Charge Conversion'!A:C,3,0),\" \")","v":" "}," "," ",null,null,null,null,null,{"$f":"VLOOKUP(D579,'Group Name'!A:B,2,0)","v":{"$error":"#N/A"}}," "]
[null,null,null,null,null,null,null,null,null,{"$f":"+IFERROR(VLOOKUP(C580,'Charge Conversion'!A:C,3,0),\" \")","v":" "}," "," ",null,null,null,null,null,{"$f":"VLOOKUP(D580,'Group Name'!A:B,2,0)","v":{"$error":"#N/A"}}," "]
[null,null,null,null,null,null,null,null,null,{"$f":"+IFERROR(VLOOKUP(C581,'Charge Conversion'!A:C,3,0),\" \")","v":" "},{"$f":"+IFERROR(I581*J581,\" \")","v":" "},{"$f":"S581","v":" "},null,null,null,null,null,{"$f":"VLOOKUP(D581,'Group Name'!A:B,2,0)","v":{"$error":"#N/A"}},{"$f":"IFERROR((IF(A581=\" \",\" \",R581)),\" \")","v":" "}]
[null,null,null,null,null,null,null,null,null,{"$f":"+IFERROR(VLOOKUP(C582,'Charge Conversion'!A:C,3,0),\" \")","v":" "}," "," ",null,null,null,null,null,{"$f":"VLOOKUP(D582,'Group Name'!A:B,2,0)","v":{"$error":"#N/A"}}," "]
[null,null,null,null,null,null,null,null,null,{"$f":"+IFERROR(VLOOKUP(C583,'Charge Conversion'!A:C,3,0),\" \")","v":" "}," "," ",null,null,null,null,null,{"$f":"VLOOKUP(D583,'Group Name'!A:B,2,0)","v":{"$error":"#N/A"}}," "]
[null,null,null,null,null,null,null,null,null,{"$f":"+IFERROR(VLOOKUP(C584,'Charge Conversion'!A:C,3,0),\" \")","v":" "}," "," ",null,null,null,null,null,{"$f":"VLOOKUP(D584,'Group Name'!A:B,2,0)","v":{"$error":"#N/A"}}," "]
[null,null,null,null,null,null,null,null,null,{"$f":"+IFERROR(VLOOKUP(C585,'Charge Conversion'!A:C,3,0),\" \")","v":" "}," "," ",null,null,null,null,null,{"$f":"VLOOKUP(D585,'Group Name'!A:B,2,0)","v":{"$error":"#N/A"}}," "]
[null,null,null,null,null,null,null,null,null,{"$f":"+IFERROR(VLOOKUP(C586,'Charge Conversion'!A:C,3,0),\" \")","v":" "}," "," ",null,null,null,null,null,{"$f":"VLOOKUP(D586,'Group Name'!A:B,2,0)","v":{"$error":"#N/A"}}," "]
[null,null,null,null,null,null,null,null,null,{"$f":"+IFERROR(VLOOKUP(C587,'Charge Conversion'!A:C,3,0),\" \")","v":" "}," "," ",null,null,null,null,null,{"$f":"VLOOKUP(D587,'Group Name'!A:B,2,0)","v":{"$error":"#N/A"}}," "]
[null,null,null,null,null,null,null,null,null,{"$f":"+IFERROR(VLOOKUP(C588,'Charge Conversion'!A:C,3,0),\" \")","v":" "}," "," ",null,null,null,null,null,{"$f":"VLOOKUP(D588,'Group Name'!A:B,2,0)","v":{"$error":"#N/A"}}," "]
[null,null,null,null,null,null,null,null,null,{"$f":"+IFERROR(VLOOKUP(C589,'Charge Conversion'!A:C,3,0),\" \")","v":" "}," "," ",null,null,null,null,null,{"$f":"VLOOKUP(D589,'Group Name'!A:B,2,0)","v":{"$error":"#N/A"}}," "]
[null,null,null,null,null,null,null,null,null,{"$f":"+IFERROR(VLOOKUP(C590,'Charge Conversion'!A:C,3,0),\" \")","v":" "}," "," ",null,null,null,null,null,{"$f":"VLOOKUP(D590,'Group Name'!A:B,2,0)","v":{"$error":"#N/A"}}," "]
[null,null,null,null,null,null,null,null,null,{"$f":"+IFERROR(VLOOKUP(C591,'Charge Conversion'!A:C,3,0),\" \")","v":" "}," "," ",null,null,null,null,null,{"$f":"VLOOKUP(D591,'Group Name'!A:B,2,0)","v":{"$error":"#N/A"}}," "]
[null,null,null,null,null,null,null,null,null,{"$f":"+IFERROR(VLOOKUP(C592,'Charge Conversion'!A:C,3,0),\" \")","v":" "}," "," ",null,null,null,null,null,{"$f":"VLOOKUP(D592,'Group Name'!A:B,2,0)","v":{"$error":"#N/A"}}," "]
[null,null,null,null,null,null,null,null,null,{"$f":"+IFERROR(VLOOKUP(C593,'Charge Conversion'!A:C,3,0),\" \")","v":" "}," "," ",null,null,null,null,null,{"$f":"VLOOKUP(D593,'Group Name'!A:B,2,0)","v":{"$error":"#N/A"}}," "]
[null,null,null,null,null,null,null,null,null,{"$f":"+IFERROR(VLOOKUP(C594,'Charge Conversion'!A:C,3,0),\" \")","v":" "}," "," ",null,null,null,null,null,{"$f":"VLOOKUP(D594,'Group Name'!A:B,2,0)","v":{"$error":"#N/A"}}," "]
[null,null,null,null,null,null,null,null,null,{"$f":"+IFERROR(VLOOKUP(C595,'Charge Conversion'!A:C,3,0),\" \")","v":" "}," "," ",null,null,null,null,null,{"$f":"VLOOKUP(D595,'Group Name'!A:B,2,0)","v":{"$error":"#N/A"}}," "]
[null,null,null,null,null,null,null,null,null,{"$f":"+IFERROR(VLOOKUP(C596,'Charge Conversion'!A:C,3,0),\" \")","v":" "}," "," ",null,null,null,null,null,{"$f":"VLOOKUP(D596,'Group Name'!A:B,2,0)","v":{"$error":"#N/A"}}," "]
[null,null,null,null,null,null,null,null,null,{"$f":"+IFERROR(VLOOKUP(C597,'Charge Conversion'!A:C,3,0),\" \")","v":" "}," "," ",null,null,null,null,null,{"$f":"VLOOKUP(D597,'Group Name'!A:B,2,0)","v":{"$error":"#N/A"}}," "]
[null,null,null,null,null,null,null,null,null,{"$f":"+IFERROR(VLOOKUP(C598,'Charge Conversion'!A:C,3,0),\" \")","v":" "}," "," ",null,null,null,null,null,{"$f":"VLOOKUP(D598,'Group Name'!A:B,2,0)","v":{"$error":"#N/A"}}," "]
[null,null,null,null,null,null,null,null,null,{"$f":"+IFERROR(VLOOKUP(C599,'Charge Conversion'!A:C,3,0),\" \")","v":" "}," "," ",null,null,null,null,null,{"$f":"VLOOKUP(D599,'Group Name'!A:B,2,0)","v":{"$error":"#N/A"}}," "]
[null,null,null,null,null,null,null,null,null,{"$f":"+IFERROR(VLOOKUP(C600,'Charge Conversion'!A:C,3,0),\" \")","v":" "}," "," ",null,null,null,null,null,{"$f":"VLOOKUP(D600,'Group Name'!A:B,2,0)","v":{"$error":"#N/A"}}," "]
[null,null,null,null,null,null,null,null,null,{"$f":"+IFERROR(VLOOKUP(C601,'Charge Conversion'!A:C,3,0),\" \")","v":" "}," "," ",null,null,null,null,null,{"$f":"VLOOKUP(D601,'Group Name'!A:B,2,0)","v":{"$error":"#N/A"}}," "]
[null,null,null,null,null,null,null,null,null,{"$f":"+IFERROR(VLOOKUP(C602,'Charge Conversion'!A:C,3,0),\" \")","v":" "}," "," ",null,null,null,null,null,{"$f":"VLOOKUP(D602,'Group Name'!A:B,2,0)","v":{"$error":"#N/A"}}," "]
[null,null,null,null,null,null,null,null,null,{"$f":"+IFERROR(VLOOKUP(C603,'Charge Conversion'!A:C,3,0),\" \")","v":" "}," "," ",null,null,null,null,null,{"$f":"VLOOKUP(D603,'Group Name'!A:B,2,0)","v":{"$error":"#N/A"}}," "]
[null,null,null,null,null,null,null,null,null,{"$f":"+IFERROR(VLOOKUP(C604,'Charge Conversion'!A:C,3,0),\" \")","v":" "}," "," ",null,null,null,null,null,{"$f":"VLOOKUP(D604,'Group Name'!A:B,2,0)","v":{"$error":"#N/A"}}," "]
[null,null,null,null,null,null,null,null,null,{"$f":"+IFERROR(VLOOKUP(C605,'Charge Conversion'!A:C,3,0),\" \")","v":" "}," "," ",null,null,null,null,null,{"$f":"VLOOKUP(D605,'Group Name'!A:B,2,0)","v":{"$error":"#N/A"}}," "]
[null,null,null,null,null,null,null,null,null,{"$f":"+IFERROR(VLOOKUP(C606,'Charge Conversion'!A:C,3,0),\" \")","v":" "}," "," ",null,null,null,null,null,{"$f":"VLOOKUP(D606,'Group Name'!A:B,2,0)","v":{"$error":"#N/A"}}," "]
[null,null,null,null,null,null,null,null,null,{"$f":"+IFERROR(VLOOKUP(C607,'Charge Conversion'!A:C,3,0),\" \")","v":" "}," "," ",null,null,null,null,null,{"$f":"VLOOKUP(D607,'Group Name'!A:B,2,0)","v":{"$error":"#N/A"}}," "]
[null,null,null,null,null,null,null,null,null,{"$f":"+IFERROR(VLOOKUP(C608,'Charge Conversion'!A:C,3,0),\" \")","v":" "}," "," ",null,null,null,null,null,{"$f":"VLOOKUP(D608,'Group Name'!A:B,2,0)","v":{"$error":"#N/A"}}," "]
[null,null,null,null,null,null,null,null,null,{"$f":"+IFERROR(VLOOKUP(C609,'Charge Conversion'!A:C,3,0),\" \")","v":" "}," "," ",null,null,null,null,null,{"$f":"VLOOKUP(D609,'Group Name'!A:B,2,0)","v":{"$error":"#N/A"}}," "]
[null,null,null,null,null,null,null,null,null,{"$f":"+IFERROR(VLOOKUP(C610,'Charge Conversion'!A:C,3,0),\" \")","v":" "}," "," ",null,null,null,null,null,{"$f":"VLOOKUP(D610,'Group Name'!A:B,2,0)","v":{"$error":"#N/A"}}," "]
[null,null,null,null,null,null,null,null,null,{"$f":"+IFERROR(VLOOKUP(C611,'Charge Conversion'!A:C,3,0),\" \")","v":" "}," "," ",null,null,null,null,null,{"$f":"VLOOKUP(D611,'Group Name'!A:B,2,0)","v":{"$error":"#N/A"}}," "]
[null,null,null,null,null,null,null,null,null,{"$f":"+IFERROR(VLOOKUP(C612,'Charge Conversion'!A:C,3,0),\" \")","v":" "}," "," ",null,null,null,null,null,{"$f":"VLOOKUP(D612,'Group Name'!A:B,2,0)","v":{"$error":"#N/A"}}," "]
[null,null,null,null,null,null,null,null,null,{"$f":"+IFERROR(VLOOKUP(C613,'Charge Conversion'!A:C,3,0),\" \")","v":" "}," "," ",null,null,null,null,null,{"$f":"VLOOKUP(D613,'Group Name'!A:B,2,0)","v":{"$error":"#N/A"}}," "]
[null,null,null,null,null,null,null,null,null,{"$f":"+IFERROR(VLOOKUP(C614,'Charge Conversion'!A:C,3,0),\" \")","v":" "}," "," ",null,null,null,null,null,{"$f":"VLOOKUP(D614,'Group Name'!A:B,2,0)","v":{"$error":"#N/A"}}," "]
[null,null,null,null,null,null,null,null,null,{"$f":"+IFERROR(VLOOKUP(C615,'Charge Conversion'!A:C,3,0),\" \")","v":" "}," "," ",null,null,null,null,null,{"$f":"VLOOKUP(D615,'Group Name'!A:B,2,0)","v":{"$error":"#N/A"}}," "]
[null,null,null,null,null,null,null,null,null,{"$f":"+IFERROR(VLOOKUP(C616,'Charge Conversion'!A:C,3,0),\" \")","v":" "}," "," ",null,null,null,null,null,{"$f":"VLOOKUP(D616,'Group Name'!A:B,2,0)","v":{"$error":"#N/A"}}," "]
[null,null,null,null,null,null,null,null,null,{"$f":"+IFERROR(VLOOKUP(C617,'Charge Conversion'!A:C,3,0),\" \")","v":" "}," "," ",null,null,null,null,null,{"$f":"VLOOKUP(D617,'Group Name'!A:B,2,0)","v":{"$error":"#N/A"}}," "]
[null,null,null,null,null,null,null,null,null,{"$f":"+IFERROR(VLOOKUP(C618,'Charge Conversion'!A:C,3,0),\" \")","v":" "}," "," ",null,null,null,null,null,{"$f":"VLOOKUP(D618,'Group Name'!A:B,2,0)","v":{"$error":"#N/A"}}," "]
[null,null,null,null,null,null,null,null,null,{"$f":"+IFERROR(VLOOKUP(C619,'Charge Conversion'!A:C,3,0),\" \")","v":" "}," "," ",null,null,null,null,null,{"$f":"VLOOKUP(D619,'Group Name'!A:B,2,0)","v":{"$error":"#N/A"}}," "]
[null,null,null,null,null,null,null,null,null,{"$f":"+IFERROR(VLOOKUP(C620,'Charge Conversion'!A:C,3,0),\" \")","v":" "}," "," ",null,null,null,null,null,{"$f":"VLOOKUP(D620,'Group Name'!A:B,2,0)","v":{"$error":"#N/A"}}," "]
[null,null,null,null,null,null,null,null,null,{"$f":"+IFERROR(VLOOKUP(C621,'Charge Conversion'!A:C,3,0),\" \")","v":" "}," "," ",null,null,null,null,null,{"$f":"VLOOKUP(D621,'Group Name'!A:B,2,0)","v":{"$error":"#N/A"}}," "]
[null,null,null,null,null,null,null,null,null,{"$f":"+IFERROR(VLOOKUP(C622,'Charge Conversion'!A:C,3,0),\" \")","v":" "}," "," ",null,null,null,null,null,{"$f":"VLOOKUP(D622,'Group Name'!A:B,2,0)","v":{"$error":"#N/A"}}," "]
[null,null,null,null,null,null,null,null,null,{"$f":"+IFERROR(VLOOKUP(C623,'Charge Conversion'!A:C,3,0),\" \")","v":" "}," "," ",null,null,null,null,null,{"$f":"VLOOKUP(D623,'Group Name'!A:B,2,0)","v":{"$error":"#N/A"}}," "]
[null,null,null,null,null,null,null,null,null,{"$f":"+IFERROR(VLOOKUP(C624,'Charge Conversion'!A:C,3,0),\" \")","v":" "}," "," ",null,null,null,null,null,{"$f":"VLOOKUP(D624,'Group Name'!A:B,2,0)","v":{"$error":"#N/A"}}," "]
[null,null,null,null,null,null,null,null,null,{"$f":"+IFERROR(VLOOKUP(C625,'Charge Conversion'!A:C,3,0),\" \")","v":" "}," "," ",null,null,null,null,null,{"$f":"VLOOKUP(D625,'Group Name'!A:B,2,0)","v":{"$error":"#N/A"}}," "]
[null,null,null,null,null,null,null,null,null,{"$f":"+IFERROR(VLOOKUP(C626,'Charge Conversion'!A:C,3,0),\" \")","v":" "}," "," ",null,null,null,null,null,{"$f":"VLOOKUP(D626,'Group Name'!A:B,2,0)","v":{"$error":"#N/A"}}," "]
[null,null,null,null,null,null,null,null,null,{"$f":"+IFERROR(VLOOKUP(C627,'Charge Conversion'!A:C,3,0),\" \")","v":" "}," "," ",null,null,null,null,null,{"$f":"VLOOKUP(D627,'Group Name'!A:B,2,0)","v":{"$error":"#N/A"}}," "]
[null,null,null,null,null,null,null,null,null,{"$f":"+IFERROR(VLOOKUP(C628,'Charge Conversion'!A:C,3,0),\" \")","v":" "}," "," ",null,null,null,null,null,{"$f":"VLOOKUP(D628,'Group Name'!A:B,2,0)","v":{"$error":"#N/A"}}," "]
[null,null,null,null,null,null,null,null,null,{"$f":"+IFERROR(VLOOKUP(C629,'Charge Conversion'!A:C,3,0),\" \")","v":" "}," "," ",null,null,null,null,null,{"$f":"VLOOKUP(D629,'Group Name'!A:B,2,0)","v":{"$error":"#N/A"}}," "]
[null,null,null,null,null,null,null,null,null,{"$f":"+IFERROR(VLOOKUP(C630,'Charge Conversion'!A:C,3,0),\" \")","v":" "}," "," ",null,null,null,null,null,{"$f":"VLOOKUP(D630,'Group Name'!A:B,2,0)","v":{"$error":"#N/A"}}," "]
[null,null,null,null,null,null,null,null,null,{"$f":"+IFERROR(VLOOKUP(C631,'Charge Conversion'!A:C,3,0),\" \")","v":" "}," "," ",null,null,null,null,null,{"$f":"VLOOKUP(D631,'Group Name'!A:B,2,0)","v":{"$error":"#N/A"}}," "]
[null,null,null,null,null,null,null,null,null,{"$f":"+IFERROR(VLOOKUP(C632,'Charge Conversion'!A:C,3,0),\" \")","v":" "}," "," ",null,null,null,null,null,{"$f":"VLOOKUP(D632,'Group Name'!A:B,2,0)","v":{"$error":"#N/A"}}," "]
[null,null,null,null,null,null,null,null,null,{"$f":"+IFERROR(VLOOKUP(C633,'Charge Conversion'!A:C,3,0),\" \")","v":" "}," "," ",null,null,null,null,null,{"$f":"VLOOKUP(D633,'Group Name'!A:B,2,0)","v":{"$error":"#N/A"}}," "]
[null,null,null,null,null,null,null,null,null,{"$f":"+IFERROR(VLOOKUP(C634,'Charge Conversion'!A:C,3,0),\" \")","v":" "}," "," ",null,null,null,null,null,{"$f":"VLOOKUP(D634,'Group Name'!A:B,2,0)","v":{"$error":"#N/A"}}," "]
[null,null,null,null,null,null,null,null,null,{"$f":"+IFERROR(VLOOKUP(C635,'Charge Conversion'!A:C,3,0),\" \")","v":" "}," "," ",null,null,null,null,null,{"$f":"VLOOKUP(D635,'Group Name'!A:B,2,0)","v":{"$error":"#N/A"}}," "]
[null,null,null,null,null,null,null,null,null,{"$f":"+IFERROR(VLOOKUP(C636,'Charge Conversion'!A:C,3,0),\" \")","v":" "}," "," ",null,null,null,null,null,{"$f":"VLOOKUP(D636,'Group Name'!A:B,2,0)","v":{"$error":"#N/A"}}," "]
[null,null,null,null,null,null,null,null,null,{"$f":"+IFERROR(VLOOKUP(C637,'Charge Conversion'!A:C,3,0),\" \")","v":" "}," "," ",null,null,null,null,null,{"$f":"VLOOKUP(D637,'Group Name'!A:B,2,0)","v":{"$error":"#N/A"}}," "]
[null,null,null,null,null,null,null,null,null,{"$f":"+IFERROR(VLOOKUP(C638,'Charge Conversion'!A:C,3,0),\" \")","v":" "}," "," ",null,null,null,null,null,{"$f":"VLOOKUP(D638,'Group Name'!A:B,2,0)","v":{"$error":"#N/A"}}," "]
[null,null,null,null,null,null,null,null,null,{"$f":"+IFERROR(VLOOKUP(C639,'Charge Conversion'!A:C,3,0),\" \")","v":" "}," "," ",null,null,null,null,null,{"$f":"VLOOKUP(D639,'Group Name'!A:B,2,0)","v":{"$error":"#N/A"}}," "]
[null,null,null,null,null,null,null,null,null,{"$f":"+IFERROR(VLOOKUP(C640,'Charge Conversion'!A:C,3,0),\" \")","v":" "}," "," ",null,null,null,null,null,{"$f":"VLOOKUP(D640,'Group Name'!A:B,2,0)","v":{"$error":"#N/A"}}," "]
[null,null,null,null,null,null,null,null,null,{"$f":"+IFERROR(VLOOKUP(C641,'Charge Conversion'!A:C,3,0),\" \")","v":" "}," "," ",null,null,null,null,null,{"$f":"VLOOKUP(D641,'Group Name'!A:B,2,0)","v":{"$error":"#N/A"}}," "]
[null,null,null,null,null,null,null,null,null,{"$f":"+IFERROR(VLOOKUP(C642,'Charge Conversion'!A:C,3,0),\" \")","v":" "}," "," ",null,null,null,null,null,{"$f":"VLOOKUP(D642,'Group Name'!A:B,2,0)","v":{"$error":"#N/A"}}," "]
[null,null,null,null,null,null,null,null,null,{"$f":"+IFERROR(VLOOKUP(C643,'Charge Conversion'!A:C,3,0),\" \")","v":" "}," "," ",null,null,null,null,null,{"$f":"VLOOKUP(D643,'Group Name'!A:B,2,0)","v":{"$error":"#N/A"}}," "]
[null,null,null,null,null,null,null,null,null,{"$f":"+IFERROR(VLOOKUP(C644,'Charge Conversion'!A:C,3,0),\" \")","v":" "}," "," ",null,null,null,null,null,{"$f":"VLOOKUP(D644,'Group Name'!A:B,2,0)","v":{"$error":"#N/A"}}," "]
[null,null,null,null,null,null,null,null,null,{"$f":"+IFERROR(VLOOKUP(C645,'Charge Conversion'!A:C,3,0),\" \")","v":" "},{"$f":"+IFERROR(I645*J645,\" \")","v":" "},{"$f":"S645","v":" "},null,null,null,null,null,{"$f":"VLOOKUP(D645,'Group Name'!A:B,2,0)","v":{"$error":"#N/A"}},{"$f":"IFERROR((IF(A645=\" \",\" \",R645)),\" \")","v":" "}]
[null,null,null,null,null,null,null,null,null,{"$f":"+IFERROR(VLOOKUP(C646,'Charge Conversion'!A:C,3,0),\" \")","v":" "}," "," ",null,null,null,null,null,{"$f":"VLOOKUP(D646,'Group Name'!A:B,2,0)","v":{"$error":"#N/A"}}," "]
[null,null,null,null,null,null,null,null,null,{"$f":"+IFERROR(VLOOKUP(C647,'Charge Conversion'!A:C,3,0),\" \")","v":" "}," "," ",null,null,null,null,null,{"$f":"VLOOKUP(D647,'Group Name'!A:B,2,0)","v":{"$error":"#N/A"}}," "]
[null,null,null,null,null,null,null,null,null,{"$f":"+IFERROR(VLOOKUP(C648,'Charge Conversion'!A:C,3,0),\" \")","v":" "}," "," ",null,null,null,null,null,{"$f":"VLOOKUP(D648,'Group Name'!A:B,2,0)","v":{"$error":"#N/A"}}," "]
[null,null,null,null,null,null,null,null,null,{"$f":"+IFERROR(VLOOKUP(C649,'Charge Conversion'!A:C,3,0),\" \")","v":" "}," "," ",null,null,null,null,null,{"$f":"VLOOKUP(D649,'Group Name'!A:B,2,0)","v":{"$error":"#N/A"}}," "]
[null,null,null,null,null,null,null,null,null,{"$f":"+IFERROR(VLOOKUP(C650,'Charge Conversion'!A:C,3,0),\" \")","v":" "}," "," ",null,null,null,null,null,{"$f":"VLOOKUP(D650,'Group Name'!A:B,2,0)","v":{"$error":"#N/A"}}," "]
[null,null,null,null,null,null,null,null,null,{"$f":"+IFERROR(VLOOKUP(C651,'Charge Conversion'!A:C,3,0),\" \")","v":" "}," "," ",null,null,null,null,null,{"$f":"VLOOKUP(D651,'Group Name'!A:B,2,0)","v":{"$error":"#N/A"}}," "]
[null,null,null,null,null,null,null,null,null,{"$f":"+IFERROR(VLOOKUP(C652,'Charge Conversion'!A:C,3,0),\" \")","v":" "}," "," ",null,null,null,null,null,{"$f":"VLOOKUP(D652,'Group Name'!A:B,2,0)","v":{"$error":"#N/A"}}," "]
[null,null,null,null,null,null,null,null,null,{"$f":"+IFERROR(VLOOKUP(C653,'Charge Conversion'!A:C,3,0),\" \")","v":" "}," "," ",null,null,null,null,null,{"$f":"VLOOKUP(D653,'Group Name'!A:B,2,0)","v":{"$error":"#N/A"}}," "]
[null,null,null,null,null,null,null,null,null,{"$f":"+IFERROR(VLOOKUP(C654,'Charge Conversion'!A:C,3,0),\" \")","v":" "}," "," ",null,null,null,null,null,{"$f":"VLOOKUP(D654,'Group Name'!A:B,2,0)","v":{"$error":"#N/A"}}," "]
[null,null,null,null,null,null,null,null,null,{"$f":"+IFERROR(VLOOKUP(C655,'Charge Conversion'!A:C,3,0),\" \")","v":" "}," "," ",null,null,null,null,null,{"$f":"VLOOKUP(D655,'Group Name'!A:B,2,0)","v":{"$error":"#N/A"}}," "]
[null,null,null,null,null,null,null,null,null,{"$f":"+IFERROR(VLOOKUP(C656,'Charge Conversion'!A:C,3,0),\" \")","v":" "}," "," ",null,null,null,null,null,{"$f":"VLOOKUP(D656,'Group Name'!A:B,2,0)","v":{"$error":"#N/A"}}," "]
[null,null,null,null,null,null,null,null,null,{"$f":"+IFERROR(VLOOKUP(C657,'Charge Conversion'!A:C,3,0),\" \")","v":" "}," "," ",null,null,null,null,null,{"$f":"VLOOKUP(D657,'Group Name'!A:B,2,0)","v":{"$error":"#N/A"}}," "]
[null,null,null,null,null,null,null,null,null,{"$f":"+IFERROR(VLOOKUP(C658,'Charge Conversion'!A:C,3,0),\" \")","v":" "}," "," ",null,null,null,null,null,{"$f":"VLOOKUP(D658,'Group Name'!A:B,2,0)","v":{"$error":"#N/A"}}," "]
[null,null,null,null,null,null,null,null,null,{"$f":"+IFERROR(VLOOKUP(C659,'Charge Conversion'!A:C,3,0),\" \")","v":" "}," "," ",null,null,null,null,null,{"$f":"VLOOKUP(D659,'Group Name'!A:B,2,0)","v":{"$error":"#N/A"}}," "]
[null,null,null,null,null,null,null,null,null,{"$f":"+IFERROR(VLOOKUP(C660,'Charge Conversion'!A:C,3,0),\" \")","v":" "}," "," ",null,null,null,null,null,{"$f":"VLOOKUP(D660,'Group Name'!A:B,2,0)","v":{"$error":"#N/A"}}," "]
[null,null,null,null,null,null,null,null,null,{"$f":"+IFERROR(VLOOKUP(C661,'Charge Conversion'!A:C,3,0),\" \")","v":" "}," "," ",null,null,null,null,null,{"$f":"VLOOKUP(D661,'Group Name'!A:B,2,0)","v":{"$error":"#N/A"}}," "]
[null,null,null,null,null,null,null,null,null,{"$f":"+IFERROR(VLOOKUP(C662,'Charge Conversion'!A:C,3,0),\" \")","v":" "}," "," ",null,null,null,null,null,{"$f":"VLOOKUP(D662,'Group Name'!A:B,2,0)","v":{"$error":"#N/A"}}," "]
[null,null,null,null,null,null,null,null,null,{"$f":"+IFERROR(VLOOKUP(C663,'Charge Conversion'!A:C,3,0),\" \")","v":" "}," "," ",null,null,null,null,null,{"$f":"VLOOKUP(D663,'Group Name'!A:B,2,0)","v":{"$error":"#N/A"}}," "]
[null,null,null,null,null,null,null,null,null,{"$f":"+IFERROR(VLOOKUP(C664,'Charge Conversion'!A:C,3,0),\" \")","v":" "}," "," ",null,null,null,null,null,{"$f":"VLOOKUP(D664,'Group Name'!A:B,2,0)","v":{"$error":"#N/A"}}," "]
[null,null,null,null,null,null,null,null,null,{"$f":"+IFERROR(VLOOKUP(C665,'Charge Conversion'!A:C,3,0),\" \")","v":" "}," "," ",null,null,null,null,null,{"$f":"VLOOKUP(D665,'Group Name'!A:B,2,0)","v":{"$error":"#N/A"}}," "]
[null,null,null,null,null,null,null,null,null,{"$f":"+IFERROR(VLOOKUP(C666,'Charge Conversion'!A:C,3,0),\" \")","v":" "}," "," ",null,null,null,null,null,{"$f":"VLOOKUP(D666,'Group Name'!A:B,2,0)","v":{"$error":"#N/A"}}," "]
[null,null,null,null,null,null,null,null,null,{"$f":"+IFERROR(VLOOKUP(C667,'Charge Conversion'!A:C,3,0),\" \")","v":" "}," "," ",null,null,null,null,null,{"$f":"VLOOKUP(D667,'Group Name'!A:B,2,0)","v":{"$error":"#N/A"}}," "]
[null,null,null,null,null,null,null,null,null,{"$f":"+IFERROR(VLOOKUP(C668,'Charge Conversion'!A:C,3,0),\" \")","v":" "}," "," ",null,null,null,null,null,{"$f":"VLOOKUP(D668,'Group Name'!A:B,2,0)","v":{"$error":"#N/A"}}," "]
[null,null,null,null,null,null,null,null,null,{"$f":"+IFERROR(VLOOKUP(C669,'Charge Conversion'!A:C,3,0),\" \")","v":" "}," "," ",null,null,null,null,null,{"$f":"VLOOKUP(D669,'Group Name'!A:B,2,0)","v":{"$error":"#N/A"}}," "]
[null,null,null,null,null,null,null,null,null,{"$f":"+IFERROR(VLOOKUP(C670,'Charge Conversion'!A:C,3,0),\" \")","v":" "}," "," ",null,null,null,null,null,{"$f":"VLOOKUP(D670,'Group Name'!A:B,2,0)","v":{"$error":"#N/A"}}," "]
[null,null,null,null,null,null,null,null,null,{"$f":"+IFERROR(VLOOKUP(C671,'Charge Conversion'!A:C,3,0),\" \")","v":" "}," "," ",null,null,null,null,null,{"$f":"VLOOKUP(D671,'Group Name'!A:B,2,0)","v":{"$error":"#N/A"}}," "]
[null,null,null,null,null,null,null,null,null,{"$f":"+IFERROR(VLOOKUP(C672,'Charge Conversion'!A:C,3,0),\" \")","v":" "}," "," ",null,null,null,null,null,{"$f":"VLOOKUP(D672,'Group Name'!A:B,2,0)","v":{"$error":"#N/A"}}," "]
[null,null,null,null,null,null,null,null,null,{"$f":"+IFERROR(VLOOKUP(C673,'Charge Conversion'!A:C,3,0),\" \")","v":" "}," "," ",null,null,null,null,null,{"$f":"VLOOKUP(D673,'Group Name'!A:B,2,0)","v":{"$error":"#N/A"}}," "]
[null,null,null,null,null,null,null,null,null,{"$f":"+IFERROR(VLOOKUP(C674,'Charge Conversion'!A:C,3,0),\" \")","v":" "}," "," ",null,null,null,null,null,{"$f":"VLOOKUP(D674,'Group Name'!A:B,2,0)","v":{"$error":"#N/A"}}," "]
[null,null,null,null,null,null,null,null,null,{"$f":"+IFERROR(VLOOKUP(C675,'Charge Conversion'!A:C,3,0),\" \")","v":" "}," "," ",null,null,null,null,null,{"$f":"VLOOKUP(D675,'Group Name'!A:B,2,0)","v":{"$error":"#N/A"}}," "]
[null,null,null,null,null,null,null,null,null,{"$f":"+IFERROR(VLOOKUP(C676,'Charge Conversion'!A:C,3,0),\" \")","v":" "}," "," ",null,null,null,null,null,{"$f":"VLOOKUP(D676,'Group Name'!A:B,2,0)","v":{"$error":"#N/A"}}," "]
[null,null,null,null,null,null,null,null,null,{"$f":"+IFERROR(VLOOKUP(C677,'Charge Conversion'!A:C,3,0),\" \")","v":" "}," "," ",null,null,null,null,null,{"$f":"VLOOKUP(D677,'Group Name'!A:B,2,0)","v":{"$error":"#N/A"}}," "]
[null,null,null,null,null,null,null,null,null,{"$f":"+IFERROR(VLOOKUP(C678,'Charge Conversion'!A:C,3,0),\" \")","v":" "}," "," ",null,null,null,null,null,{"$f":"VLOOKUP(D678,'Group Name'!A:B,2,0)","v":{"$error":"#N/A"}}," "]
[null,null,null,null,null,null,null,null,null,{"$f":"+IFERROR(VLOOKUP(C679,'Charge Conversion'!A:C,3,0),\" \")","v":" "}," "," ",null,null,null,null,null,{"$f":"VLOOKUP(D679,'Group Name'!A:B,2,0)","v":{"$error":"#N/A"}}," "]
[null,null,null,null,null,null,null,null,null,{"$f":"+IFERROR(VLOOKUP(C680,'Charge Conversion'!A:C,3,0),\" \")","v":" "}," "," ",null,null,null,null,null,{"$f":"VLOOKUP(D680,'Group Name'!A:B,2,0)","v":{"$error":"#N/A"}}," "]
[null,null,null,null,null,null,null,null,null,{"$f":"+IFERROR(VLOOKUP(C681,'Charge Conversion'!A:C,3,0),\" \")","v":" "}," "," ",null,null,null,null,null,{"$f":"VLOOKUP(D681,'Group Name'!A:B,2,0)","v":{"$error":"#N/A"}}," "]
[null,null,null,null,null,null,null,null,null,{"$f":"+IFERROR(VLOOKUP(C682,'Charge Conversion'!A:C,3,0),\" \")","v":" "}," "," ",null,null,null,null,null,{"$f":"VLOOKUP(D682,'Group Name'!A:B,2,0)","v":{"$error":"#N/A"}}," "]
[null,null,null,null,null,null,null,null,null,{"$f":"+IFERROR(VLOOKUP(C683,'Charge Conversion'!A:C,3,0),\" \")","v":" "}," "," ",null,null,null,null,null,{"$f":"VLOOKUP(D683,'Group Name'!A:B,2,0)","v":{"$error":"#N/A"}}," "]
[null,null,null,null,null,null,null,null,null,{"$f":"+IFERROR(VLOOKUP(C684,'Charge Conversion'!A:C,3,0),\" \")","v":" "}," "," ",null,null,null,null,null,{"$f":"VLOOKUP(D684,'Group Name'!A:B,2,0)","v":{"$error":"#N/A"}}," "]
[null,null,null,null,null,null,null,null,null,{"$f":"+IFERROR(VLOOKUP(C685,'Charge Conversion'!A:C,3,0),\" \")","v":" "}," "," ",null,null,null,null,null,{"$f":"VLOOKUP(D685,'Group Name'!A:B,2,0)","v":{"$error":"#N/A"}}," "]
[null,null,null,null,null,null,null,null,null,{"$f":"+IFERROR(VLOOKUP(C686,'Charge Conversion'!A:C,3,0),\" \")","v":" "}," "," ",null,null,null,null,null,{"$f":"VLOOKUP(D686,'Group Name'!A:B,2,0)","v":{"$error":"#N/A"}}," "]
[null,null,null,null,null,null,null,null,null,{"$f":"+IFERROR(VLOOKUP(C687,'Charge Conversion'!A:C,3,0),\" \")","v":" "}," "," ",null,null,null,null,null,{"$f":"VLOOKUP(D687,'Group Name'!A:B,2,0)","v":{"$error":"#N/A"}}," "]
[null,null,null,null,null,null,null,null,null,{"$f":"+IFERROR(VLOOKUP(C688,'Charge Conversion'!A:C,3,0),\" \")","v":" "}," "," ",null,null,null,null,null,{"$f":"VLOOKUP(D688,'Group Name'!A:B,2,0)","v":{"$error":"#N/A"}}," "]
[null,null,null,null,null,null,null,null,null,{"$f":"+IFERROR(VLOOKUP(C689,'Charge Conversion'!A:C,3,0),\" \")","v":" "}," "," ",null,null,null,null,null,{"$f":"VLOOKUP(D689,'Group Name'!A:B,2,0)","v":{"$error":"#N/A"}}," "]
[null,null,null,null,null,null,null,null,null,{"$f":"+IFERROR(VLOOKUP(C690,'Charge Conversion'!A:C,3,0),\" \")","v":" "}," "," ",null,null,null,null,null,{"$f":"VLOOKUP(D690,'Group Name'!A:B,2,0)","v":{"$error":"#N/A"}}," "]
[null,null,null,null,null,null,null,null,null,{"$f":"+IFERROR(VLOOKUP(C691,'Charge Conversion'!A:C,3,0),\" \")","v":" "}," "," ",null,null,null,null,null,{"$f":"VLOOKUP(D691,'Group Name'!A:B,2,0)","v":{"$error":"#N/A"}}," "]
[null,null,null,null,null,null,null,null,null,{"$f":"+IFERROR(VLOOKUP(C692,'Charge Conversion'!A:C,3,0),\" \")","v":" "}," "," ",null,null,null,null,null,{"$f":"VLOOKUP(D692,'Group Name'!A:B,2,0)","v":{"$error":"#N/A"}}," "]
[null,null,null,null,null,null,null,null,null,{"$f":"+IFERROR(VLOOKUP(C693,'Charge Conversion'!A:C,3,0),\" \")","v":" "}," "," ",null,null,null,null,null,{"$f":"VLOOKUP(D693,'Group Name'!A:B,2,0)","v":{"$error":"#N/A"}}," "]
[null,null,null,null,null,null,null,null,null,{"$f":"+IFERROR(VLOOKUP(C694,'Charge Conversion'!A:C,3,0),\" \")","v":" "}," "," ",null,null,null,null,null,{"$f":"VLOOKUP(D694,'Group Name'!A:B,2,0)","v":{"$error":"#N/A"}}," "]
[null,null,null,null,null,null,null,null,null,{"$f":"+IFERROR(VLOOKUP(C695,'Charge Conversion'!A:C,3,0),\" \")","v":" "}," "," ",null,null,null,null,null,{"$f":"VLOOKUP(D695,'Group Name'!A:B,2,0)","v":{"$error":"#N/A"}}," "]
[null,null,null,null,null,null,null,null,null,{"$f":"+IFERROR(VLOOKUP(C696,'Charge Conversion'!A:C,3,0),\" \")","v":" "}," "," ",null,null,null,null,null,{"$f":"VLOOKUP(D696,'Group Name'!A:B,2,0)","v":{"$error":"#N/A"}}," "]
[null,null,null,null,null,null,null,null,null,{"$f":"+IFERROR(VLOOKUP(C697,'Charge Conversion'!A:C,3,0),\" \")","v":" "}," "," ",null,null,null,null,null,{"$f":"VLOOKUP(D697,'Group Name'!A:B,2,0)","v":{"$error":"#N/A"}}," "]
[null,null,null,null,null,null,null,null,null,{"$f":"+IFERROR(VLOOKUP(C698,'Charge Conversion'!A:C,3,0),\" \")","v":" "}," "," ",null,null,null,null,null,{"$f":"VLOOKUP(D698,'Group Name'!A:B,2,0)","v":{"$error":"#N/A"}}," "]
[null,null,null,null,null,null,null,null,null,{"$f":"+IFERROR(VLOOKUP(C699,'Charge Conversion'!A:C,3,0),\" \")","v":" "}," "," ",null,null,null,null,null,{"$f":"VLOOKUP(D699,'Group Name'!A:B,2,0)","v":{"$error":"#N/A"}}," "]
[null,null,null,null,null,null,null,null,null,{"$f":"+IFERROR(VLOOKUP(C700,'Charge Conversion'!A:C,3,0),\" \")","v":" "}," "," ",null,null,null,null,null,{"$f":"VLOOKUP(D700,'Group Name'!A:B,2,0)","v":{"$error":"#N/A"}}," "]
[null,null,null,null,null,null,null,null,null,{"$f":"+IFERROR(VLOOKUP(C701,'Charge Conversion'!A:C,3,0),\" \")","v":" "}," "," ",null,null,null,null,null,{"$f":"VLOOKUP(D701,'Group Name'!A:B,2,0)","v":{"$error":"#N/A"}}," "]
[null,null,null,null,null,null,null,null,null,{"$f":"+IFERROR(VLOOKUP(C702,'Charge Conversion'!A:C,3,0),\" \")","v":" "}," "," ",null,null,null,null,null,{"$f":"VLOOKUP(D702,'Group Name'!A:B,2,0)","v":{"$error":"#N/A"}}," "]
[null,null,null,null,null,null,null,null,null,{"$f":"+IFERROR(VLOOKUP(C703,'Charge Conversion'!A:C,3,0),\" \")","v":" "}," "," ",null,null,null,null,null,{"$f":"VLOOKUP(D703,'Group Name'!A:B,2,0)","v":{"$error":"#N/A"}}," "]
[null,null,null,null,null,null,null,null,null,{"$f":"+IFERROR(VLOOKUP(C704,'Charge Conversion'!A:C,3,0),\" \")","v":" "}," "," ",null,null,null,null,null,{"$f":"VLOOKUP(D704,'Group Name'!A:B,2,0)","v":{"$error":"#N/A"}}," "]
[null,null,null,null,null,null,null,null,null,{"$f":"+IFERROR(VLOOKUP(C705,'Charge Conversion'!A:C,3,0),\" \")","v":" "}," "," ",null,null,null,null,null,{"$f":"VLOOKUP(D705,'Group Name'!A:B,2,0)","v":{"$error":"#N/A"}}," "]
[null,null,null,null,null,null,null,null,null,{"$f":"+IFERROR(VLOOKUP(C706,'Charge Conversion'!A:C,3,0),\" \")","v":" "}," "," ",null,null,null,null,null,{"$f":"VLOOKUP(D706,'Group Name'!A:B,2,0)","v":{"$error":"#N/A"}}," "]
[null,null,null,null,null,null,null,null,null,{"$f":"+IFERROR(VLOOKUP(C707,'Charge Conversion'!A:C,3,0),\" \")","v":" "}," "," ",null,null,null,null,null,{"$f":"VLOOKUP(D707,'Group Name'!A:B,2,0)","v":{"$error":"#N/A"}}," "]
[null,null,null,null,null,null,null,null,null,{"$f":"+IFERROR(VLOOKUP(C708,'Charge Conversion'!A:C,3,0),\" \")","v":" "}," "," ",null,null,null,null,null,{"$f":"VLOOKUP(D708,'Group Name'!A:B,2,0)","v":{"$error":"#N/A"}}," "]
[null,null,null,null,null,null,null,null,null,{"$f":"+IFERROR(VLOOKUP(C709,'Charge Conversion'!A:C,3,0),\" \")","v":" "},{"$f":"+IFERROR(I709*J709,\" \")","v":" "},{"$f":"S709","v":" "},null,null,null,null,null,{"$f":"VLOOKUP(D709,'Group Name'!A:B,2,0)","v":{"$error":"#N/A"}},{"$f":"IFERROR((IF(A709=\" \",\" \",R709)),\" \")","v":" "}]
[null,null,null,null,null,null,null,null,null,{"$f":"+IFERROR(VLOOKUP(C710,'Charge Conversion'!A:C,3,0),\" \")","v":" "}," "," ",null,null,null,null,null,{"$f":"VLOOKUP(D710,'Group Name'!A:B,2,0)","v":{"$error":"#N/A"}}," "]
[null,null,null,null,null,null,null,null,null,{"$f":"+IFERROR(VLOOKUP(C711,'Charge Conversion'!A:C,3,0),\" \")","v":" "}," "," ",null,null,null,null,null,{"$f":"VLOOKUP(D711,'Group Name'!A:B,2,0)","v":{"$error":"#N/A"}}," "]
[null,null,null,null,null,null,null,null,null,{"$f":"+IFERROR(VLOOKUP(C712,'Charge Conversion'!A:C,3,0),\" \")","v":" "}," "," ",null,null,null,null,null,{"$f":"VLOOKUP(D712,'Group Name'!A:B,2,0)","v":{"$error":"#N/A"}}," "]
[null,null,null,null,null,null,null,null,null,{"$f":"+IFERROR(VLOOKUP(C713,'Charge Conversion'!A:C,3,0),\" \")","v":" "}," "," ",null,null,null,null,null,{"$f":"VLOOKUP(D713,'Group Name'!A:B,2,0)","v":{"$error":"#N/A"}}," "]
[null,null,null,null,null,null,null,null,null,{"$f":"+IFERROR(VLOOKUP(C714,'Charge Conversion'!A:C,3,0),\" \")","v":" "}," "," ",null,null,null,null,null,{"$f":"VLOOKUP(D714,'Group Name'!A:B,2,0)","v":{"$error":"#N/A"}}," "]
[null,null,null,null,null,null,null,null,null,{"$f":"+IFERROR(VLOOKUP(C715,'Charge Conversion'!A:C,3,0),\" \")","v":" "}," "," ",null,null,null,null,null,{"$f":"VLOOKUP(D715,'Group Name'!A:B,2,0)","v":{"$error":"#N/A"}}," "]
[null,null,null,null,null,null,null,null,null,{"$f":"+IFERROR(VLOOKUP(C716,'Charge Conversion'!A:C,3,0),\" \")","v":" "}," "," ",null,null,null,null,null,{"$f":"VLOOKUP(D716,'Group Name'!A:B,2,0)","v":{"$error":"#N/A"}}," "]
[null,null,null,null,null,null,null,null,null,{"$f":"+IFERROR(VLOOKUP(C717,'Charge Conversion'!A:C,3,0),\" \")","v":" "}," "," ",null,null,null,null,null,{"$f":"VLOOKUP(D717,'Group Name'!A:B,2,0)","v":{"$error":"#N/A"}}," "]
[null,null,null,null,null,null,null,null,null,{"$f":"+IFERROR(VLOOKUP(C718,'Charge Conversion'!A:C,3,0),\" \")","v":" "}," "," ",null,null,null,null,null,{"$f":"VLOOKUP(D718,'Group Name'!A:B,2,0)","v":{"$error":"#N/A"}}," "]
[null,null,null,null,null,null,null,null,null,{"$f":"+IFERROR(VLOOKUP(C719,'Charge Conversion'!A:C,3,0),\" \")","v":" "}," "," ",null,null,null,null,null,{"$f":"VLOOKUP(D719,'Group Name'!A:B,2,0)","v":{"$error":"#N/A"}}," "]
[null,null,null,null,null,null,null,null,null,{"$f":"+IFERROR(VLOOKUP(C720,'Charge Conversion'!A:C,3,0),\" \")","v":" "}," "," ",null,null,null,null,null,{"$f":"VLOOKUP(D720,'Group Name'!A:B,2,0)","v":{"$error":"#N/A"}}," "]
[null,null,null,null,null,null,null,null,null,{"$f":"+IFERROR(VLOOKUP(C721,'Charge Conversion'!A:C,3,0),\" \")","v":" "}," "," ",null,null,null,null,null,{"$f":"VLOOKUP(D721,'Group Name'!A:B,2,0)","v":{"$error":"#N/A"}}," "]
[null,null,null,null,null,null,null,null,null,{"$f":"+IFERROR(VLOOKUP(C722,'Charge Conversion'!A:C,3,0),\" \")","v":" "}," "," ",null,null,null,null,null,{"$f":"VLOOKUP(D722,'Group Name'!A:B,2,0)","v":{"$error":"#N/A"}}," "]
[null,null,null,null,null,null,null,null,null,{"$f":"+IFERROR(VLOOKUP(C723,'Charge Conversion'!A:C,3,0),\" \")","v":" "}," "," ",null,null,null,null,null,{"$f":"VLOOKUP(D723,'Group Name'!A:B,2,0)","v":{"$error":"#N/A"}}," "]
[null,null,null,null,null,null,null,null,null,{"$f":"+IFERROR(VLOOKUP(C724,'Charge Conversion'!A:C,3,0),\" \")","v":" "}," "," ",null,null,null,null,null,{"$f":"VLOOKUP(D724,'Group Name'!A:B,2,0)","v":{"$error":"#N/A"}}," "]
[null,null,null,null,null,null,null,null,null,{"$f":"+IFERROR(VLOOKUP(C725,'Charge Conversion'!A:C,3,0),\" \")","v":" "}," "," ",null,null,null,null,null,{"$f":"VLOOKUP(D725,'Group Name'!A:B,2,0)","v":{"$error":"#N/A"}}," "]
[null,null,null,null,null,null,null,null,null,{"$f":"+IFERROR(VLOOKUP(C726,'Charge Conversion'!A:C,3,0),\" \")","v":" "}," "," ",null,null,null,null,null,{"$f":"VLOOKUP(D726,'Group Name'!A:B,2,0)","v":{"$error":"#N/A"}}," "]
[null,null,null,null,null,null,null,null,null,{"$f":"+IFERROR(VLOOKUP(C727,'Charge Conversion'!A:C,3,0),\" \")","v":" "}," "," ",null,null,null,null,null,{"$f":"VLOOKUP(D727,'Group Name'!A:B,2,0)","v":{"$error":"#N/A"}}," "]
[null,null,null,null,null,null,null,null,null,{"$f":"+IFERROR(VLOOKUP(C728,'Charge Conversion'!A:C,3,0),\" \")","v":" "}," "," ",null,null,null,null,null,{"$f":"VLOOKUP(D728,'Group Name'!A:B,2,0)","v":{"$error":"#N/A"}}," "]
[null,null,null,null,null,null,null,null,null,{"$f":"+IFERROR(VLOOKUP(C729,'Charge Conversion'!A:C,3,0),\" \")","v":" "}," "," ",null,null,null,null,null,{"$f":"VLOOKUP(D729,'Group Name'!A:B,2,0)","v":{"$error":"#N/A"}}," "]
[null,null,null,null,null,null,null,null,null,{"$f":"+IFERROR(VLOOKUP(C730,'Charge Conversion'!A:C,3,0),\" \")","v":" "}," "," ",null,null,null,null,null,{"$f":"VLOOKUP(D730,'Group Name'!A:B,2,0)","v":{"$error":"#N/A"}}," "]
[null,null,null,null,null,null,null,null,null,{"$f":"+IFERROR(VLOOKUP(C731,'Charge Conversion'!A:C,3,0),\" \")","v":" "}," "," ",null,null,null,null,null,{"$f":"VLOOKUP(D731,'Group Name'!A:B,2,0)","v":{"$error":"#N/A"}}," "]
[null,null,null,null,null,null,null,null,null,{"$f":"+IFERROR(VLOOKUP(C732,'Charge Conversion'!A:C,3,0),\" \")","v":" "}," "," ",null,null,null,null,null,{"$f":"VLOOKUP(D732,'Group Name'!A:B,2,0)","v":{"$error":"#N/A"}}," "]
[null,null,null,null,null,null,null,null,null,{"$f":"+IFERROR(VLOOKUP(C733,'Charge Conversion'!A:C,3,0),\" \")","v":" "}," "," ",null,null,null,null,null,{"$f":"VLOOKUP(D733,'Group Name'!A:B,2,0)","v":{"$error":"#N/A"}}," "]
[null,null,null,null,null,null,null,null,null,{"$f":"+IFERROR(VLOOKUP(C734,'Charge Conversion'!A:C,3,0),\" \")","v":" "}," "," ",null,null,null,null,null,{"$f":"VLOOKUP(D734,'Group Name'!A:B,2,0)","v":{"$error":"#N/A"}}," "]
[null,null,null,null,null,null,null,null,null,{"$f":"+IFERROR(VLOOKUP(C735,'Charge Conversion'!A:C,3,0),\" \")","v":" "}," "," ",null,null,null,null,null,{"$f":"VLOOKUP(D735,'Group Name'!A:B,2,0)","v":{"$error":"#N/A"}}," "]
[null,null,null,null,null,null,null,null,null,{"$f":"+IFERROR(VLOOKUP(C736,'Charge Conversion'!A:C,3,0),\" \")","v":" "}," "," ",null,null,null,null,null,{"$f":"VLOOKUP(D736,'Group Name'!A:B,2,0)","v":{"$error":"#N/A"}}," "]
[null,null,null,null,null,null,null,null,null,{"$f":"+IFERROR(VLOOKUP(C737,'Charge Conversion'!A:C,3,0),\" \")","v":" "}," "," ",null,null,null,null,null,{"$f":"VLOOKUP(D737,'Group Name'!A:B,2,0)","v":{"$error":"#N/A"}}," "]
[null,null,null,null,null,null,null,null,null,{"$f":"+IFERROR(VLOOKUP(C738,'Charge Conversion'!A:C,3,0),\" \")","v":" "}," "," ",null,null,null,null,null,{"$f":"VLOOKUP(D738,'Group Name'!A:B,2,0)","v":{"$error":"#N/A"}}," "]
[null,null,null,null,null,null,null,null,null,{"$f":"+IFERROR(VLOOKUP(C739,'Charge Conversion'!A:C,3,0),\" \")","v":" "}," "," ",null,null,null,null,null,{"$f":"VLOOKUP(D739,'Group Name'!A:B,2,0)","v":{"$error":"#N/A"}}," "]
[null,null,null,null,null,null,null,null,null,{"$f":"+IFERROR(VLOOKUP(C740,'Charge Conversion'!A:C,3,0),\" \")","v":" "}," "," ",null,null,null,null,null,{"$f":"VLOOKUP(D740,'Group Name'!A:B,2,0)","v":{"$error":"#N/A"}}," "]
[null,null,null,null,null,null,null,null,null,{"$f":"+IFERROR(VLOOKUP(C741,'Charge Conversion'!A:C,3,0),\" \")","v":" "}," "," ",null,null,null,null,null,{"$f":"VLOOKUP(D741,'Group Name'!A:B,2,0)","v":{"$error":"#N/A"}}," "]
[null,null,null,null,null,null,null,null,null,{"$f":"+IFERROR(VLOOKUP(C742,'Charge Conversion'!A:C,3,0),\" \")","v":" "}," "," ",null,null,null,null,null,{"$f":"VLOOKUP(D742,'Group Name'!A:B,2,0)","v":{"$error":"#N/A"}}," "]
[null,null,null,null,null,null,null,null,null,{"$f":"+IFERROR(VLOOKUP(C743,'Charge Conversion'!A:C,3,0),\" \")","v":" "}," "," ",null,null,null,null,null,{"$f":"VLOOKUP(D743,'Group Name'!A:B,2,0)","v":{"$error":"#N/A"}}," "]
[null,null,null,null,null,null,null,null,null,{"$f":"+IFERROR(VLOOKUP(C744,'Charge Conversion'!A:C,3,0),\" \")","v":" "}," "," ",null,null,null,null,null,{"$f":"VLOOKUP(D744,'Group Name'!A:B,2,0)","v":{"$error":"#N/A"}}," "]
[null,null,null,null,null,null,null,null,null,{"$f":"+IFERROR(VLOOKUP(C745,'Charge Conversion'!A:C,3,0),\" \")","v":" "}," "," ",null,null,null,null,null,{"$f":"VLOOKUP(D745,'Group Name'!A:B,2,0)","v":{"$error":"#N/A"}}," "]
[null,null,null,null,null,null,null,null,null,{"$f":"+IFERROR(VLOOKUP(C746,'Charge Conversion'!A:C,3,0),\" \")","v":" "}," "," ",null,null,null,null,null,{"$f":"VLOOKUP(D746,'Group Name'!A:B,2,0)","v":{"$error":"#N/A"}}," "]
[null,null,null,null,null,null,null,null,null,{"$f":"+IFERROR(VLOOKUP(C747,'Charge Conversion'!A:C,3,0),\" \")","v":" "}," "," ",null,null,null,null,null,{"$f":"VLOOKUP(D747,'Group Name'!A:B,2,0)","v":{"$error":"#N/A"}}," "]
[null,null,null,null,null,null,null,null,null,{"$f":"+IFERROR(VLOOKUP(C748,'Charge Conversion'!A:C,3,0),\" \")","v":" "}," "," ",null,null,null,null,null,{"$f":"VLOOKUP(D748,'Group Name'!A:B,2,0)","v":{"$error":"#N/A"}}," "]
[null,null,null,null,null,null,null,null,null,{"$f":"+IFERROR(VLOOKUP(C749,'Charge Conversion'!A:C,3,0),\" \")","v":" "}," "," ",null,null,null,null,null,{"$f":"VLOOKUP(D749,'Group Name'!A:B,2,0)","v":{"$error":"#N/A"}}," "]
[null,null,null,null,null,null,null,null,null,{"$f":"+IFERROR(VLOOKUP(C750,'Charge Conversion'!A:C,3,0),\" \")","v":" "}," "," ",null,null,null,null,null,{"$f":"VLOOKUP(D750,'Group Name'!A:B,2,0)","v":{"$error":"#N/A"}}," "]
[null,null,null,null,null,null,null,null,null,{"$f":"+IFERROR(VLOOKUP(C751,'Charge Conversion'!A:C,3,0),\" \")","v":" "}," "," ",null,null,null,null,null,{"$f":"VLOOKUP(D751,'Group Name'!A:B,2,0)","v":{"$error":"#N/A"}}," "]
[null,null,null,null,null,null,null,null,null,{"$f":"+IFERROR(VLOOKUP(C752,'Charge Conversion'!A:C,3,0),\" \")","v":" "}," "," ",null,null,null,null,null,{"$f":"VLOOKUP(D752,'Group Name'!A:B,2,0)","v":{"$error":"#N/A"}}," "]
[null,null,null,null,null,null,null,null,null,{"$f":"+IFERROR(VLOOKUP(C753,'Charge Conversion'!A:C,3,0),\" \")","v":" "}," "," ",null,null,null,null,null,{"$f":"VLOOKUP(D753,'Group Name'!A:B,2,0)","v":{"$error":"#N/A"}}," "]
[null,null,null,null,null,null,null,null,null,{"$f":"+IFERROR(VLOOKUP(C754,'Charge Conversion'!A:C,3,0),\" \")","v":" "}," "," ",null,null,null,null,null,{"$f":"VLOOKUP(D754,'Group Name'!A:B,2,0)","v":{"$error":"#N/A"}}," "]
[null,null,null,null,null,null,null,null,null,{"$f":"+IFERROR(VLOOKUP(C755,'Charge Conversion'!A:C,3,0),\" \")","v":" "}," "," ",null,null,null,null,null,{"$f":"VLOOKUP(D755,'Group Name'!A:B,2,0)","v":{"$error":"#N/A"}}," "]
[null,null,null,null,null,null,null,null,null,{"$f":"+IFERROR(VLOOKUP(C756,'Charge Conversion'!A:C,3,0),\" \")","v":" "}," "," ",null,null,null,null,null,{"$f":"VLOOKUP(D756,'Group Name'!A:B,2,0)","v":{"$error":"#N/A"}}," "]
[null,null,null,null,null,null,null,null,null,{"$f":"+IFERROR(VLOOKUP(C757,'Charge Conversion'!A:C,3,0),\" \")","v":" "}," "," ",null,null,null,null,null,{"$f":"VLOOKUP(D757,'Group Name'!A:B,2,0)","v":{"$error":"#N/A"}}," "]
[null,null,null,null,null,null,null,null,null,{"$f":"+IFERROR(VLOOKUP(C758,'Charge Conversion'!A:C,3,0),\" \")","v":" "}," "," ",null,null,null,null,null,{"$f":"VLOOKUP(D758,'Group Name'!A:B,2,0)","v":{"$error":"#N/A"}}," "]
[null,null,null,null,null,null,null,null,null,{"$f":"+IFERROR(VLOOKUP(C759,'Charge Conversion'!A:C,3,0),\" \")","v":" "}," "," ",null,null,null,null,null,{"$f":"VLOOKUP(D759,'Group Name'!A:B,2,0)","v":{"$error":"#N/A"}}," "]
[null,null,null,null,null,null,null,null,null,{"$f":"+IFERROR(VLOOKUP(C760,'Charge Conversion'!A:C,3,0),\" \")","v":" "}," "," ",null,null,null,null,null,{"$f":"VLOOKUP(D760,'Group Name'!A:B,2,0)","v":{"$error":"#N/A"}}," "]
[null,null,null,null,null,null,null,null,null,{"$f":"+IFERROR(VLOOKUP(C761,'Charge Conversion'!A:C,3,0),\" \")","v":" "}," "," ",null,null,null,null,null,{"$f":"VLOOKUP(D761,'Group Name'!A:B,2,0)","v":{"$error":"#N/A"}}," "]
[null,null,null,null,null,null,null,null,null,{"$f":"+IFERROR(VLOOKUP(C762,'Charge Conversion'!A:C,3,0),\" \")","v":" "}," "," ",null,null,null,null,null,{"$f":"VLOOKUP(D762,'Group Name'!A:B,2,0)","v":{"$error":"#N/A"}}," "]
[null,null,null,null,null,null,null,null,null,{"$f":"+IFERROR(VLOOKUP(C763,'Charge Conversion'!A:C,3,0),\" \")","v":" "}," "," ",null,null,null,null,null,{"$f":"VLOOKUP(D763,'Group Name'!A:B,2,0)","v":{"$error":"#N/A"}}," "]
[null,null,null,null,null,null,null,null,null,{"$f":"+IFERROR(VLOOKUP(C764,'Charge Conversion'!A:C,3,0),\" \")","v":" "}," "," ",null,null,null,null,null,{"$f":"VLOOKUP(D764,'Group Name'!A:B,2,0)","v":{"$error":"#N/A"}}," "]
[null,null,null,null,null,null,null,null,null,{"$f":"+IFERROR(VLOOKUP(C765,'Charge Conversion'!A:C,3,0),\" \")","v":" "}," "," ",null,null,null,null,null,{"$f":"VLOOKUP(D765,'Group Name'!A:B,2,0)","v":{"$error":"#N/A"}}," "]
[null,null,null,null,null,null,null,null,null,{"$f":"+IFERROR(VLOOKUP(C766,'Charge Conversion'!A:C,3,0),\" \")","v":" "}," "," ",null,null,null,null,null,{"$f":"VLOOKUP(D766,'Group Name'!A:B,2,0)","v":{"$error":"#N/A"}}," "]
[null,null,null,null,null,null,null,null,null,{"$f":"+IFERROR(VLOOKUP(C767,'Charge Conversion'!A:C,3,0),\" \")","v":" "}," "," ",null,null,null,null,null,{"$f":"VLOOKUP(D767,'Group Name'!A:B,2,0)","v":{"$error":"#N/A"}}," "]
[null,null,null,null,null,null,null,null,null,{"$f":"+IFERROR(VLOOKUP(C768,'Charge Conversion'!A:C,3,0),\" \")","v":" "}," "," ",null,null,null,null,null,{"$f":"VLOOKUP(D768,'Group Name'!A:B,2,0)","v":{"$error":"#N/A"}}," "]
[null,null,null,null,null,null,null,null,null,{"$f":"+IFERROR(VLOOKUP(C769,'Charge Conversion'!A:C,3,0),\" \")","v":" "}," "," ",null,null,null,null,null,{"$f":"VLOOKUP(D769,'Group Name'!A:B,2,0)","v":{"$error":"#N/A"}}," "]
[null,null,null,null,null,null,null,null,null,{"$f":"+IFERROR(VLOOKUP(C770,'Charge Conversion'!A:C,3,0),\" \")","v":" "}," "," ",null,null,null,null,null,{"$f":"VLOOKUP(D770,'Group Name'!A:B,2,0)","v":{"$error":"#N/A"}}," "]
[null,null,null,null,null,null,null,null,null,{"$f":"+IFERROR(VLOOKUP(C771,'Charge Conversion'!A:C,3,0),\" \")","v":" "}," "," ",null,null,null,null,null,{"$f":"VLOOKUP(D771,'Group Name'!A:B,2,0)","v":{"$error":"#N/A"}}," "]
[null,null,null,null,null,null,null,null,null,{"$f":"+IFERROR(VLOOKUP(C772,'Charge Conversion'!A:C,3,0),\" \")","v":" "}," "," ",null,null,null,null,null,{"$f":"VLOOKUP(D772,'Group Name'!A:B,2,0)","v":{"$error":"#N/A"}}," "]
[null,null,null,null,null,null,null,null,null,{"$f":"+IFERROR(VLOOKUP(C773,'Charge Conversion'!A:C,3,0),\" \")","v":" "},{"$f":"+IFERROR(I773*J773,\" \")","v":" "},{"$f":"S773","v":" "},null,null,null,null,null,{"$f":"VLOOKUP(D773,'Group Name'!A:B,2,0)","v":{"$error":"#N/A"}},{"$f":"IFERROR((IF(A773=\" \",\" \",R773)),\" \")","v":" "}]
[null,null,null,null,null,null,null,null,null,{"$f":"+IFERROR(VLOOKUP(C774,'Charge Conversion'!A:C,3,0),\" \")","v":" "}," "," ",null,null,null,null,null,{"$f":"VLOOKUP(D774,'Group Name'!A:B,2,0)","v":{"$error":"#N/A"}}," "]
[null,null,null,null,null,null,null,null,null,{"$f":"+IFERROR(VLOOKUP(C775,'Charge Conversion'!A:C,3,0),\" \")","v":" "}," "," ",null,null,null,null,null,{"$f":"VLOOKUP(D775,'Group Name'!A:B,2,0)","v":{"$error":"#N/A"}}," "]
[null,null,null,null,null,null,null,null,null,{"$f":"+IFERROR(VLOOKUP(C776,'Charge Conversion'!A:C,3,0),\" \")","v":" "}," "," ",null,null,null,null,null,{"$f":"VLOOKUP(D776,'Group Name'!A:B,2,0)","v":{"$error":"#N/A"}}," "]
[null,null,null,null,null,null,null,null,null,{"$f":"+IFERROR(VLOOKUP(C777,'Charge Conversion'!A:C,3,0),\" \")","v":" "}," "," ",null,null,null,null,null,{"$f":"VLOOKUP(D777,'Group Name'!A:B,2,0)","v":{"$error":"#N/A"}}," "]
[null,null,null,null,null,null,null,null,null,{"$f":"+IFERROR(VLOOKUP(C778,'Charge Conversion'!A:C,3,0),\" \")","v":" "}," "," ",null,null,null,null,null,{"$f":"VLOOKUP(D778,'Group Name'!A:B,2,0)","v":{"$error":"#N/A"}}," "]
[null,null,null,null,null,null,null,null,null,{"$f":"+IFERROR(VLOOKUP(C779,'Charge Conversion'!A:C,3,0),\" \")","v":" "}," "," ",null,null,null,null,null,{"$f":"VLOOKUP(D779,'Group Name'!A:B,2,0)","v":{"$error":"#N/A"}}," "]
[null,null,null,null,null,null,null,null,null,{"$f":"+IFERROR(VLOOKUP(C780,'Charge Conversion'!A:C,3,0),\" \")","v":" "}," "," ",null,null,null,null,null,{"$f":"VLOOKUP(D780,'Group Name'!A:B,2,0)","v":{"$error":"#N/A"}}," "]
[null,null,null,null,null,null,null,null,null,{"$f":"+IFERROR(VLOOKUP(C781,'Charge Conversion'!A:C,3,0),\" \")","v":" "}," "," ",null,null,null,null,null,{"$f":"VLOOKUP(D781,'Group Name'!A:B,2,0)","v":{"$error":"#N/A"}}," "]
[null,null,null,null,null,null,null,null,null,{"$f":"+IFERROR(VLOOKUP(C782,'Charge Conversion'!A:C,3,0),\" \")","v":" "}," "," ",null,null,null,null,null,{"$f":"VLOOKUP(D782,'Group Name'!A:B,2,0)","v":{"$error":"#N/A"}}," "]
[null,null,null,null,null,null,null,null,null,{"$f":"+IFERROR(VLOOKUP(C783,'Charge Conversion'!A:C,3,0),\" \")","v":" "}," "," ",null,null,null,null,null,{"$f":"VLOOKUP(D783,'Group Name'!A:B,2,0)","v":{"$error":"#N/A"}}," "]
[null,null,null,null,null,null,null,null,null,{"$f":"+IFERROR(VLOOKUP(C784,'Charge Conversion'!A:C,3,0),\" \")","v":" "}," "," ",null,null,null,null,null,{"$f":"VLOOKUP(D784,'Group Name'!A:B,2,0)","v":{"$error":"#N/A"}}," "]
[null,null,null,null,null,null,null,null,null,{"$f":"+IFERROR(VLOOKUP(C785,'Charge Conversion'!A:C,3,0),\" \")","v":" "}," "," ",null,null,null,null,null,{"$f":"VLOOKUP(D785,'Group Name'!A:B,2,0)","v":{"$error":"#N/A"}}," "]
[null,null,null,null,null,null,null,null,null,{"$f":"+IFERROR(VLOOKUP(C786,'Charge Conversion'!A:C,3,0),\" \")","v":" "}," "," ",null,null,null,null,null,{"$f":"VLOOKUP(D786,'Group Name'!A:B,2,0)","v":{"$error":"#N/A"}}," "]
[null,null,null,null,null,null,null,null,null,{"$f":"+IFERROR(VLOOKUP(C787,'Charge Conversion'!A:C,3,0),\" \")","v":" "}," "," ",null,null,null,null,null,{"$f":"VLOOKUP(D787,'Group Name'!A:B,2,0)","v":{"$error":"#N/A"}}," "]
[null,null,null,null,null,null,null,null,null,{"$f":"+IFERROR(VLOOKUP(C788,'Charge Conversion'!A:C,3,0),\" \")","v":" "}," "," ",null,null,null,null,null,{"$f":"VLOOKUP(D788,'Group Name'!A:B,2,0)","v":{"$error":"#N/A"}}," "]
[null,null,null,null,null,null,null,null,null,{"$f":"+IFERROR(VLOOKUP(C789,'Charge Conversion'!A:C,3,0),\" \")","v":" "}," "," ",null,null,null,null,null,{"$f":"VLOOKUP(D789,'Group Name'!A:B,2,0)","v":{"$error":"#N/A"}}," "]
[null,null,null,null,null,null,null,null,null,{"$f":"+IFERROR(VLOOKUP(C790,'Charge Conversion'!A:C,3,0),\" \")","v":" "}," "," ",null,null,null,null,null,{"$f":"VLOOKUP(D790,'Group Name'!A:B,2,0)","v":{"$error":"#N/A"}}," "]
[null,null,null,null,null,null,null,null,null,{"$f":"+IFERROR(VLOOKUP(C791,'Charge Conversion'!A:C,3,0),\" \")","v":" "}," "," ",null,null,null,null,null,{"$f":"VLOOKUP(D791,'Group Name'!A:B,2,0)","v":{"$error":"#N/A"}}," "]
[null,null,null,null,null,null,null,null,null,{"$f":"+IFERROR(VLOOKUP(C792,'Charge Conversion'!A:C,3,0),\" \")","v":" "}," "," ",null,null,null,null,null,{"$f":"VLOOKUP(D792,'Group Name'!A:B,2,0)","v":{"$error":"#N/A"}}," "]
[null,null,null,null,null,null,null,null,null,{"$f":"+IFERROR(VLOOKUP(C793,'Charge Conversion'!A:C,3,0),\" \")","v":" "}," "," ",null,null,null,null,null,{"$f":"VLOOKUP(D793,'Group Name'!A:B,2,0)","v":{"$error":"#N/A"}}," "]
[null,null,null,null,null,null,null,null,null,{"$f":"+IFERROR(VLOOKUP(C794,'Charge Conversion'!A:C,3,0),\" \")","v":" "}," "," ",null,null,null,null,null,{"$f":"VLOOKUP(D794,'Group Name'!A:B,2,0)","v":{"$error":"#N/A"}}," "]
[null,null,null,null,null,null,null,null,null,{"$f":"+IFERROR(VLOOKUP(C795,'Charge Conversion'!A:C,3,0),\" \")","v":" "}," "," ",null,null,null,null,null,{"$f":"VLOOKUP(D795,'Group Name'!A:B,2,0)","v":{"$error":"#N/A"}}," "]
[null,null,null,null,null,null,null,null,null,{"$f":"+IFERROR(VLOOKUP(C796,'Charge Conversion'!A:C,3,0),\" \")","v":" "}," "," ",null,null,null,null,null,{"$f":"VLOOKUP(D796,'Group Name'!A:B,2,0)","v":{"$error":"#N/A"}}," "]
[null,null,null,null,null,null,null,null,null,{"$f":"+IFERROR(VLOOKUP(C797,'Charge Conversion'!A:C,3,0),\" \")","v":" "}," "," ",null,null,null,null,null,{"$f":"VLOOKUP(D797,'Group Name'!A:B,2,0)","v":{"$error":"#N/A"}}," "]
[null,null,null,null,null,null,null,null,null,{"$f":"+IFERROR(VLOOKUP(C798,'Charge Conversion'!A:C,3,0),\" \")","v":" "}," "," ",null,null,null,null,null,{"$f":"VLOOKUP(D798,'Group Name'!A:B,2,0)","v":{"$error":"#N/A"}}," "]
[null,null,null,null,null,null,null,null,null,{"$f":"+IFERROR(VLOOKUP(C799,'Charge Conversion'!A:C,3,0),\" \")","v":" "}," "," ",null,null,null,null,null,{"$f":"VLOOKUP(D799,'Group Name'!A:B,2,0)","v":{"$error":"#N/A"}}," "]
[null,null,null,null,null,null,null,null,null,{"$f":"+IFERROR(VLOOKUP(C800,'Charge Conversion'!A:C,3,0),\" \")","v":" "}," "," ",null,null,null,null,null,{"$f":"VLOOKUP(D800,'Group Name'!A:B,2,0)","v":{"$error":"#N/A"}}," "]
[null,null,null,null,null,null,null,null,null,{"$f":"+IFERROR(VLOOKUP(C801,'Charge Conversion'!A:C,3,0),\" \")","v":" "}," "," ",null,null,null,null,null,{"$f":"VLOOKUP(D801,'Group Name'!A:B,2,0)","v":{"$error":"#N/A"}}," "]
[null,null,null,null,null,null,null,null,null,{"$f":"+IFERROR(VLOOKUP(C802,'Charge Conversion'!A:C,3,0),\" \")","v":" "}," "," ",null,null,null,null,null,{"$f":"VLOOKUP(D802,'Group Name'!A:B,2,0)","v":{"$error":"#N/A"}}," "]
[null,null,null,null,null,null,null,null,null,{"$f":"+IFERROR(VLOOKUP(C803,'Charge Conversion'!A:C,3,0),\" \")","v":" "}," "," ",null,null,null,null,null,{"$f":"VLOOKUP(D803,'Group Name'!A:B,2,0)","v":{"$error":"#N/A"}}," "]
[null,null,null,null,null,null,null,null,null,{"$f":"+IFERROR(VLOOKUP(C804,'Charge Conversion'!A:C,3,0),\" \")","v":" "}," "," ",null,null,null,null,null,{"$f":"VLOOKUP(D804,'Group Name'!A:B,2,0)","v":{"$error":"#N/A"}}," "]
[null,null,null,null,null,null,null,null,null,{"$f":"+IFERROR(VLOOKUP(C805,'Charge Conversion'!A:C,3,0),\" \")","v":" "}," "," ",null,null,null,null,null,{"$f":"VLOOKUP(D805,'Group Name'!A:B,2,0)","v":{"$error":"#N/A"}}," "]
[null,null,null,null,null,null,null,null,null,{"$f":"+IFERROR(VLOOKUP(C806,'Charge Conversion'!A:C,3,0),\" \")","v":" "}," "," ",null,null,null,null,null,{"$f":"VLOOKUP(D806,'Group Name'!A:B,2,0)","v":{"$error":"#N/A"}}," "]
[null,null,null,null,null,null,null,null,null,{"$f":"+IFERROR(VLOOKUP(C807,'Charge Conversion'!A:C,3,0),\" \")","v":" "}," "," ",null,null,null,null,null,{"$f":"VLOOKUP(D807,'Group Name'!A:B,2,0)","v":{"$error":"#N/A"}}," "]
[null,null,null,null,null,null,null,null,null,{"$f":"+IFERROR(VLOOKUP(C808,'Charge Conversion'!A:C,3,0),\" \")","v":" "}," "," ",null,null,null,null,null,{"$f":"VLOOKUP(D808,'Group Name'!A:B,2,0)","v":{"$error":"#N/A"}}," "]
[null,null,null,null,null,null,null,null,null,{"$f":"+IFERROR(VLOOKUP(C809,'Charge Conversion'!A:C,3,0),\" \")","v":" "}," "," ",null,null,null,null,null,{"$f":"VLOOKUP(D809,'Group Name'!A:B,2,0)","v":{"$error":"#N/A"}}," "]
[null,null,null,null,null,null,null,null,null,{"$f":"+IFERROR(VLOOKUP(C810,'Charge Conversion'!A:C,3,0),\" \")","v":" "}," "," ",null,null,null,null,null,{"$f":"VLOOKUP(D810,'Group Name'!A:B,2,0)","v":{"$error":"#N/A"}}," "]
[null,null,null,null,null,null,null,null,null,{"$f":"+IFERROR(VLOOKUP(C811,'Charge Conversion'!A:C,3,0),\" \")","v":" "}," "," ",null,null,null,null,null,{"$f":"VLOOKUP(D811,'Group Name'!A:B,2,0)","v":{"$error":"#N/A"}}," "]
[null,null,null,null,null,null,null,null,null,{"$f":"+IFERROR(VLOOKUP(C812,'Charge Conversion'!A:C,3,0),\" \")","v":" "}," "," ",null,null,null,null,null,{"$f":"VLOOKUP(D812,'Group Name'!A:B,2,0)","v":{"$error":"#N/A"}}," "]
[null,null,null,null,null,null,null,null,null,{"$f":"+IFERROR(VLOOKUP(C813,'Charge Conversion'!A:C,3,0),\" \")","v":" "}," "," ",null,null,null,null,null,{"$f":"VLOOKUP(D813,'Group Name'!A:B,2,0)","v":{"$error":"#N/A"}}," "]
[null,null,null,null,null,null,null,null,null,{"$f":"+IFERROR(VLOOKUP(C814,'Charge Conversion'!A:C,3,0),\" \")","v":" "}," "," ",null,null,null,null,null,{"$f":"VLOOKUP(D814,'Group Name'!A:B,2,0)","v":{"$error":"#N/A"}}," "]
[null,null,null,null,null,null,null,null,null,{"$f":"+IFERROR(VLOOKUP(C815,'Charge Conversion'!A:C,3,0),\" \")","v":" "}," "," ",null,null,null,null,null,{"$f":"VLOOKUP(D815,'Group Name'!A:B,2,0)","v":{"$error":"#N/A"}}," "]
[null,null,null,null,null,null,null,null,null,{"$f":"+IFERROR(VLOOKUP(C816,'Charge Conversion'!A:C,3,0),\" \")","v":" "}," "," ",null,null,null,null,null,{"$f":"VLOOKUP(D816,'Group Name'!A:B,2,0)","v":{"$error":"#N/A"}}," "]
[null,null,null,null,null,null,null,null,null,{"$f":"+IFERROR(VLOOKUP(C817,'Charge Conversion'!A:C,3,0),\" \")","v":" "}," "," ",null,null,null,null,null,{"$f":"VLOOKUP(D817,'Group Name'!A:B,2,0)","v":{"$error":"#N/A"}}," "]
[null,null,null,null,null,null,null,null,null,{"$f":"+IFERROR(VLOOKUP(C818,'Charge Conversion'!A:C,3,0),\" \")","v":" "}," "," ",null,null,null,null,null,{"$f":"VLOOKUP(D818,'Group Name'!A:B,2,0)","v":{"$error":"#N/A"}}," "]
[null,null,null,null,null,null,null,null,null,{"$f":"+IFERROR(VLOOKUP(C819,'Charge Conversion'!A:C,3,0),\" \")","v":" "}," "," ",null,null,null,null,null,{"$f":"VLOOKUP(D819,'Group Name'!A:B,2,0)","v":{"$error":"#N/A"}}," "]
[null,null,null,null,null,null,null,null,null,{"$f":"+IFERROR(VLOOKUP(C820,'Charge Conversion'!A:C,3,0),\" \")","v":" "}," "," ",null,null,null,null,null,{"$f":"VLOOKUP(D820,'Group Name'!A:B,2,0)","v":{"$error":"#N/A"}}," "]
[null,null,null,null,null,null,null,null,null,{"$f":"+IFERROR(VLOOKUP(C821,'Charge Conversion'!A:C,3,0),\" \")","v":" "}," "," ",null,null,null,null,null,{"$f":"VLOOKUP(D821,'Group Name'!A:B,2,0)","v":{"$error":"#N/A"}}," "]
[null,null,null,null,null,null,null,null,null,{"$f":"+IFERROR(VLOOKUP(C822,'Charge Conversion'!A:C,3,0),\" \")","v":" "}," "," ",null,null,null,null,null,{"$f":"VLOOKUP(D822,'Group Name'!A:B,2,0)","v":{"$error":"#N/A"}}," "]
[null,null,null,null,null,null,null,null,null,{"$f":"+IFERROR(VLOOKUP(C823,'Charge Conversion'!A:C,3,0),\" \")","v":" "}," "," ",null,null,null,null,null,{"$f":"VLOOKUP(D823,'Group Name'!A:B,2,0)","v":{"$error":"#N/A"}}," "]
[null,null,null,null,null,null,null,null,null,{"$f":"+IFERROR(VLOOKUP(C824,'Charge Conversion'!A:C,3,0),\" \")","v":" "}," "," ",null,null,null,null,null,{"$f":"VLOOKUP(D824,'Group Name'!A:B,2,0)","v":{"$error":"#N/A"}}," "]
[null,null,null,null,null,null,null,null,null,{"$f":"+IFERROR(VLOOKUP(C825,'Charge Conversion'!A:C,3,0),\" \")","v":" "}," "," ",null,null,null,null,null,{"$f":"VLOOKUP(D825,'Group Name'!A:B,2,0)","v":{"$error":"#N/A"}}," "]
[null,null,null,null,null,null,null,null,null,{"$f":"+IFERROR(VLOOKUP(C826,'Charge Conversion'!A:C,3,0),\" \")","v":" "}," "," ",null,null,null,null,null,{"$f":"VLOOKUP(D826,'Group Name'!A:B,2,0)","v":{"$error":"#N/A"}}," "]
[null,null,null,null,null,null,null,null,null,{"$f":"+IFERROR(VLOOKUP(C827,'Charge Conversion'!A:C,3,0),\" \")","v":" "}," "," ",null,null,null,null,null,{"$f":"VLOOKUP(D827,'Group Name'!A:B,2,0)","v":{"$error":"#N/A"}}," "]
[null,null,null,null,null,null,null,null,null,{"$f":"+IFERROR(VLOOKUP(C828,'Charge Conversion'!A:C,3,0),\" \")","v":" "}," "," ",null,null,null,null,null,{"$f":"VLOOKUP(D828,'Group Name'!A:B,2,0)","v":{"$error":"#N/A"}}," "]
[null,null,null,null,null,null,null,null,null,{"$f":"+IFERROR(VLOOKUP(C829,'Charge Conversion'!A:C,3,0),\" \")","v":" "}," "," ",null,null,null,null,null,{"$f":"VLOOKUP(D829,'Group Name'!A:B,2,0)","v":{"$error":"#N/A"}}," "]
[null,null,null,null,null,null,null,null,null,{"$f":"+IFERROR(VLOOKUP(C830,'Charge Conversion'!A:C,3,0),\" \")","v":" "}," "," ",null,null,null,null,null,{"$f":"VLOOKUP(D830,'Group Name'!A:B,2,0)","v":{"$error":"#N/A"}}," "]
[null,null,null,null,null,null,null,null,null,{"$f":"+IFERROR(VLOOKUP(C831,'Charge Conversion'!A:C,3,0),\" \")","v":" "}," "," ",null,null,null,null,null,{"$f":"VLOOKUP(D831,'Group Name'!A:B,2,0)","v":{"$error":"#N/A"}}," "]
[null,null,null,null,null,null,null,null,null,{"$f":"+IFERROR(VLOOKUP(C832,'Charge Conversion'!A:C,3,0),\" \")","v":" "}," "," ",null,null,null,null,null,{"$f":"VLOOKUP(D832,'Group Name'!A:B,2,0)","v":{"$error":"#N/A"}}," "]
[null,null,null,null,null,null,null,null,null,{"$f":"+IFERROR(VLOOKUP(C833,'Charge Conversion'!A:C,3,0),\" \")","v":" "}," "," ",null,null,null,null,null,{"$f":"VLOOKUP(D833,'Group Name'!A:B,2,0)","v":{"$error":"#N/A"}}," "]
[null,null,null,null,null,null,null,null,null,{"$f":"+IFERROR(VLOOKUP(C834,'Charge Conversion'!A:C,3,0),\" \")","v":" "}," "," ",null,null,null,null,null,{"$f":"VLOOKUP(D834,'Group Name'!A:B,2,0)","v":{"$error":"#N/A"}}," "]
[null,null,null,null,null,null,null,null,null,{"$f":"+IFERROR(VLOOKUP(C835,'Charge Conversion'!A:C,3,0),\" \")","v":" "}," "," ",null,null,null,null,null,{"$f":"VLOOKUP(D835,'Group Name'!A:B,2,0)","v":{"$error":"#N/A"}}," "]
[null,null,null,null,null,null,null,null,null,{"$f":"+IFERROR(VLOOKUP(C836,'Charge Conversion'!A:C,3,0),\" \")","v":" "}," "," ",null,null,null,null,null,{"$f":"VLOOKUP(D836,'Group Name'!A:B,2,0)","v":{"$error":"#N/A"}}," "]
[null,null,null,null,null,null,null,null,null,{"$f":"+IFERROR(VLOOKUP(C837,'Charge Conversion'!A:C,3,0),\" \")","v":" "},{"$f":"+IFERROR(I837*J837,\" \")","v":" "},{"$f":"S837","v":" "},null,null,null,null,null,{"$f":"VLOOKUP(D837,'Group Name'!A:B,2,0)","v":{"$error":"#N/A"}},{"$f":"IFERROR((IF(A837=\" \",\" \",R837)),\" \")","v":" "}]
[null,null,null,null,null,null,null,null,null,{"$f":"+IFERROR(VLOOKUP(C838,'Charge Conversion'!A:C,3,0),\" \")","v":" "}," "," ",null,null,null,null,null,{"$f":"VLOOKUP(D838,'Group Name'!A:B,2,0)","v":{"$error":"#N/A"}}," "]
[null,null,null,null,null,null,null,null,null,{"$f":"+IFERROR(VLOOKUP(C839,'Charge Conversion'!A:C,3,0),\" \")","v":" "}," "," ",null,null,null,null,null,{"$f":"VLOOKUP(D839,'Group Name'!A:B,2,0)","v":{"$error":"#N/A"}}," "]
[null,null,null,null,null,null,null,null,null,{"$f":"+IFERROR(VLOOKUP(C840,'Charge Conversion'!A:C,3,0),\" \")","v":" "}," "," ",null,null,null,null,null,{"$f":"VLOOKUP(D840,'Group Name'!A:B,2,0)","v":{"$error":"#N/A"}}," "]
[null,null,null,null,null,null,null,null,null,{"$f":"+IFERROR(VLOOKUP(C841,'Charge Conversion'!A:C,3,0),\" \")","v":" "}," "," ",null,null,null,null,null,{"$f":"VLOOKUP(D841,'Group Name'!A:B,2,0)","v":{"$error":"#N/A"}}," "]
[null,null,null,null,null,null,null,null,null,{"$f":"+IFERROR(VLOOKUP(C842,'Charge Conversion'!A:C,3,0),\" \")","v":" "}," "," ",null,null,null,null,null,{"$f":"VLOOKUP(D842,'Group Name'!A:B,2,0)","v":{"$error":"#N/A"}}," "]
[null,null,null,null,null,null,null,null,null,{"$f":"+IFERROR(VLOOKUP(C843,'Charge Conversion'!A:C,3,0),\" \")","v":" "}," "," ",null,null,null,null,null,{"$f":"VLOOKUP(D843,'Group Name'!A:B,2,0)","v":{"$error":"#N/A"}}," "]
[null,null,null,null,null,null,null,null,null,{"$f":"+IFERROR(VLOOKUP(C844,'Charge Conversion'!A:C,3,0),\" \")","v":" "}," "," ",null,null,null,null,null,{"$f":"VLOOKUP(D844,'Group Name'!A:B,2,0)","v":{"$error":"#N/A"}}," "]
[null,null,null,null,null,null,null,null,null,{"$f":"+IFERROR(VLOOKUP(C845,'Charge Conversion'!A:C,3,0),\" \")","v":" "}," "," ",null,null,null,null,null,{"$f":"VLOOKUP(D845,'Group Name'!A:B,2,0)","v":{"$error":"#N/A"}}," "]
[null,null,null,null,null,null,null,null,null,{"$f":"+IFERROR(VLOOKUP(C846,'Charge Conversion'!A:C,3,0),\" \")","v":" "}," "," ",null,null,null,null,null,{"$f":"VLOOKUP(D846,'Group Name'!A:B,2,0)","v":{"$error":"#N/A"}}," "]
[null,null,null,null,null,null,null,null,null,{"$f":"+IFERROR(VLOOKUP(C847,'Charge Conversion'!A:C,3,0),\" \")","v":" "}," "," ",null,null,null,null,null,{"$f":"VLOOKUP(D847,'Group Name'!A:B,2,0)","v":{"$error":"#N/A"}}," "]
[null,null,null,null,null,null,null,null,null,{"$f":"+IFERROR(VLOOKUP(C848,'Charge Conversion'!A:C,3,0),\" \")","v":" "}," "," ",null,null,null,null,null,{"$f":"VLOOKUP(D848,'Group Name'!A:B,2,0)","v":{"$error":"#N/A"}}," "]
[null,null,null,null,null,null,null,null,null,{"$f":"+IFERROR(VLOOKUP(C849,'Charge Conversion'!A:C,3,0),\" \")","v":" "}," "," ",null,null,null,null,null,{"$f":"VLOOKUP(D849,'Group Name'!A:B,2,0)","v":{"$error":"#N/A"}}," "]
[null,null,null,null,null,null,null,null,null,{"$f":"+IFERROR(VLOOKUP(C850,'Charge Conversion'!A:C,3,0),\" \")","v":" "}," "," ",null,null,null,null,null,{"$f":"VLOOKUP(D850,'Group Name'!A:B,2,0)","v":{"$error":"#N/A"}}," "]
[null,null,null,null,null,null,null,null,null,{"$f":"+IFERROR(VLOOKUP(C851,'Charge Conversion'!A:C,3,0),\" \")","v":" "}," "," ",null,null,null,null,null,{"$f":"VLOOKUP(D851,'Group Name'!A:B,2,0)","v":{"$error":"#N/A"}}," "]
[null,null,null,null,null,null,null,null,null,{"$f":"+IFERROR(VLOOKUP(C852,'Charge Conversion'!A:C,3,0),\" \")","v":" "}," "," ",null,null,null,null,null,{"$f":"VLOOKUP(D852,'Group Name'!A:B,2,0)","v":{"$error":"#N/A"}}," "]
[null,null,null,null,null,null,null,null,null,{"$f":"+IFERROR(VLOOKUP(C853,'Charge Conversion'!A:C,3,0),\" \")","v":" "}," "," ",null,null,null,null,null,{"$f":"VLOOKUP(D853,'Group Name'!A:B,2,0)","v":{"$error":"#N/A"}}," "]
[null,null,null,null,null,null,null,null,null,{"$f":"+IFERROR(VLOOKUP(C854,'Charge Conversion'!A:C,3,0),\" \")","v":" "}," "," ",null,null,null,null,null,{"$f":"VLOOKUP(D854,'Group Name'!A:B,2,0)","v":{"$error":"#N/A"}}," "]
[null,null,null,null,null,null,null,null,null,{"$f":"+IFERROR(VLOOKUP(C855,'Charge Conversion'!A:C,3,0),\" \")","v":" "}," "," ",null,null,null,null,null,{"$f":"VLOOKUP(D855,'Group Name'!A:B,2,0)","v":{"$error":"#N/A"}}," "]
[null,null,null,null,null,null,null,null,null,{"$f":"+IFERROR(VLOOKUP(C856,'Charge Conversion'!A:C,3,0),\" \")","v":" "}," "," ",null,null,null,null,null,{"$f":"VLOOKUP(D856,'Group Name'!A:B,2,0)","v":{"$error":"#N/A"}}," "]
[null,null,null,null,null,null,null,null,null,{"$f":"+IFERROR(VLOOKUP(C857,'Charge Conversion'!A:C,3,0),\" \")","v":" "}," "," ",null,null,null,null,null,{"$f":"VLOOKUP(D857,'Group Name'!A:B,2,0)","v":{"$error":"#N/A"}}," "]
[null,null,null,null,null,null,null,null,null,{"$f":"+IFERROR(VLOOKUP(C858,'Charge Conversion'!A:C,3,0),\" \")","v":" "}," "," ",null,null,null,null,null,{"$f":"VLOOKUP(D858,'Group Name'!A:B,2,0)","v":{"$error":"#N/A"}}," "]
[null,null,null,null,null,null,null,null,null,{"$f":"+IFERROR(VLOOKUP(C859,'Charge Conversion'!A:C,3,0),\" \")","v":" "}," "," ",null,null,null,null,null,{"$f":"VLOOKUP(D859,'Group Name'!A:B,2,0)","v":{"$error":"#N/A"}}," "]
[null,null,null,null,null,null,null,null,null,{"$f":"+IFERROR(VLOOKUP(C860,'Charge Conversion'!A:C,3,0),\" \")","v":" "}," "," ",null,null,null,null,null,{"$f":"VLOOKUP(D860,'Group Name'!A:B,2,0)","v":{"$error":"#N/A"}}," "]
[null,null,null,null,null,null,null,null,null,{"$f":"+IFERROR(VLOOKUP(C861,'Charge Conversion'!A:C,3,0),\" \")","v":" "}," "," ",null,null,null,null,null,{"$f":"VLOOKUP(D861,'Group Name'!A:B,2,0)","v":{"$error":"#N/A"}}," "]
[null,null,null,null,null,null,null,null,null,{"$f":"+IFERROR(VLOOKUP(C862,'Charge Conversion'!A:C,3,0),\" \")","v":" "}," "," ",null,null,null,null,null,{"$f":"VLOOKUP(D862,'Group Name'!A:B,2,0)","v":{"$error":"#N/A"}}," "]
[null,null,null,null,null,null,null,null,null,{"$f":"+IFERROR(VLOOKUP(C863,'Charge Conversion'!A:C,3,0),\" \")","v":" "}," "," ",null,null,null,null,null,{"$f":"VLOOKUP(D863,'Group Name'!A:B,2,0)","v":{"$error":"#N/A"}}," "]
[null,null,null,null,null,null,null,null,null,{"$f":"+IFERROR(VLOOKUP(C864,'Charge Conversion'!A:C,3,0),\" \")","v":" "}," "," ",null,null,null,null,null,{"$f":"VLOOKUP(D864,'Group Name'!A:B,2,0)","v":{"$error":"#N/A"}}," "]
[null,null,null,null,null,null,null,null,null,{"$f":"+IFERROR(VLOOKUP(C865,'Charge Conversion'!A:C,3,0),\" \")","v":" "}," "," ",null,null,null,null,null,{"$f":"VLOOKUP(D865,'Group Name'!A:B,2,0)","v":{"$error":"#N/A"}}," "]
[null,null,null,null,null,null,null,null,null,{"$f":"+IFERROR(VLOOKUP(C866,'Charge Conversion'!A:C,3,0),\" \")","v":" "}," "," ",null,null,null,null,null,{"$f":"VLOOKUP(D866,'Group Name'!A:B,2,0)","v":{"$error":"#N/A"}}," "]
[null,null,null,null,null,null,null,null,null,{"$f":"+IFERROR(VLOOKUP(C867,'Charge Conversion'!A:C,3,0),\" \")","v":" "}," "," ",null,null,null,null,null,{"$f":"VLOOKUP(D867,'Group Name'!A:B,2,0)","v":{"$error":"#N/A"}}," "]
[null,null,null,null,null,null,null,null,null,{"$f":"+IFERROR(VLOOKUP(C868,'Charge Conversion'!A:C,3,0),\" \")","v":" "}," "," ",null,null,null,null,null,{"$f":"VLOOKUP(D868,'Group Name'!A:B,2,0)","v":{"$error":"#N/A"}}," "]
[null,null,null,null,null,null,null,null,null,{"$f":"+IFERROR(VLOOKUP(C869,'Charge Conversion'!A:C,3,0),\" \")","v":" "}," "," ",null,null,null,null,null,{"$f":"VLOOKUP(D869,'Group Name'!A:B,2,0)","v":{"$error":"#N/A"}}," "]
[null,null,null,null,null,null,null,null,null,{"$f":"+IFERROR(VLOOKUP(C870,'Charge Conversion'!A:C,3,0),\" \")","v":" "}," "," ",null,null,null,null,null,{"$f":"VLOOKUP(D870,'Group Name'!A:B,2,0)","v":{"$error":"#N/A"}}," "]
[null,null,null,null,null,null,null,null,null,{"$f":"+IFERROR(VLOOKUP(C871,'Charge Conversion'!A:C,3,0),\" \")","v":" "}," "," ",null,null,null,null,null,{"$f":"VLOOKUP(D871,'Group Name'!A:B,2,0)","v":{"$error":"#N/A"}}," "]
[null,null,null,null,null,null,null,null,null,{"$f":"+IFERROR(VLOOKUP(C872,'Charge Conversion'!A:C,3,0),\" \")","v":" "}," "," ",null,null,null,null,null,{"$f":"VLOOKUP(D872,'Group Name'!A:B,2,0)","v":{"$error":"#N/A"}}," "]
[null,null,null,null,null,null,null,null,null,{"$f":"+IFERROR(VLOOKUP(C873,'Charge Conversion'!A:C,3,0),\" \")","v":" "}," "," ",null,null,null,null,null,{"$f":"VLOOKUP(D873,'Group Name'!A:B,2,0)","v":{"$error":"#N/A"}}," "]
[null,null,null,null,null,null,null,null,null,{"$f":"+IFERROR(VLOOKUP(C874,'Charge Conversion'!A:C,3,0),\" \")","v":" "}," "," ",null,null,null,null,null,{"$f":"VLOOKUP(D874,'Group Name'!A:B,2,0)","v":{"$error":"#N/A"}}," "]
[null,null,null,null,null,null,null,null,null,{"$f":"+IFERROR(VLOOKUP(C875,'Charge Conversion'!A:C,3,0),\" \")","v":" "}," "," ",null,null,null,null,null,{"$f":"VLOOKUP(D875,'Group Name'!A:B,2,0)","v":{"$error":"#N/A"}}," "]
[null,null,null,null,null,null,null,null,null,{"$f":"+IFERROR(VLOOKUP(C876,'Charge Conversion'!A:C,3,0),\" \")","v":" "}," "," ",null,null,null,null,null,{"$f":"VLOOKUP(D876,'Group Name'!A:B,2,0)","v":{"$error":"#N/A"}}," "]
[null,null,null,null,null,null,null,null,null,{"$f":"+IFERROR(VLOOKUP(C877,'Charge Conversion'!A:C,3,0),\" \")","v":" "}," "," ",null,null,null,null,null,{"$f":"VLOOKUP(D877,'Group Name'!A:B,2,0)","v":{"$error":"#N/A"}}," "]
[null,null,null,null,null,null,null,null,null,{"$f":"+IFERROR(VLOOKUP(C878,'Charge Conversion'!A:C,3,0),\" \")","v":" "}," "," ",null,null,null,null,null,{"$f":"VLOOKUP(D878,'Group Name'!A:B,2,0)","v":{"$error":"#N/A"}}," "]
[null,null,null,null,null,null,null,null,null,{"$f":"+IFERROR(VLOOKUP(C879,'Charge Conversion'!A:C,3,0),\" \")","v":" "}," "," ",null,null,null,null,null,{"$f":"VLOOKUP(D879,'Group Name'!A:B,2,0)","v":{"$error":"#N/A"}}," "]
[null,null,null,null,null,null,null,null,null,{"$f":"+IFERROR(VLOOKUP(C880,'Charge Conversion'!A:C,3,0),\" \")","v":" "}," "," ",null,null,null,null,null,{"$f":"VLOOKUP(D880,'Group Name'!A:B,2,0)","v":{"$error":"#N/A"}}," "]
[null,null,null,null,null,null,null,null,null,{"$f":"+IFERROR(VLOOKUP(C881,'Charge Conversion'!A:C,3,0),\" \")","v":" "}," "," ",null,null,null,null,null,{"$f":"VLOOKUP(D881,'Group Name'!A:B,2,0)","v":{"$error":"#N/A"}}," "]
[null,null,null,null,null,null,null,null,null,{"$f":"+IFERROR(VLOOKUP(C882,'Charge Conversion'!A:C,3,0),\" \")","v":" "}," "," ",null,null,null,null,null,{"$f":"VLOOKUP(D882,'Group Name'!A:B,2,0)","v":{"$error":"#N/A"}}," "]
[null,null,null,null,null,null,null,null,null,{"$f":"+IFERROR(VLOOKUP(C883,'Charge Conversion'!A:C,3,0),\" \")","v":" "}," "," ",null,null,null,null,null,{"$f":"VLOOKUP(D883,'Group Name'!A:B,2,0)","v":{"$error":"#N/A"}}," "]
[null,null,null,null,null,null,null,null,null,{"$f":"+IFERROR(VLOOKUP(C884,'Charge Conversion'!A:C,3,0),\" \")","v":" "}," "," ",null,null,null,null,null,{"$f":"VLOOKUP(D884,'Group Name'!A:B,2,0)","v":{"$error":"#N/A"}}," "]
[null,null,null,null,null,null,null,null,null,{"$f":"+IFERROR(VLOOKUP(C885,'Charge Conversion'!A:C,3,0),\" \")","v":" "}," "," ",null,null,null,null,null,{"$f":"VLOOKUP(D885,'Group Name'!A:B,2,0)","v":{"$error":"#N/A"}}," "]
[null,null,null,null,null,null,null,null,null,{"$f":"+IFERROR(VLOOKUP(C886,'Charge Conversion'!A:C,3,0),\" \")","v":" "}," "," ",null,null,null,null,null,{"$f":"VLOOKUP(D886,'Group Name'!A:B,2,0)","v":{"$error":"#N/A"}}," "]
[null,null,null,null,null,null,null,null,null,{"$f":"+IFERROR(VLOOKUP(C887,'Charge Conversion'!A:C,3,0),\" \")","v":" "}," "," ",null,null,null,null,null,{"$f":"VLOOKUP(D887,'Group Name'!A:B,2,0)","v":{"$error":"#N/A"}}," "]
[null,null,null,null,null,null,null,null,null,{"$f":"+IFERROR(VLOOKUP(C888,'Charge Conversion'!A:C,3,0),\" \")","v":" "}," "," ",null,null,null,null,null,{"$f":"VLOOKUP(D888,'Group Name'!A:B,2,0)","v":{"$error":"#N/A"}}," "]
[null,null,null,null,null,null,null,null,null,{"$f":"+IFERROR(VLOOKUP(C889,'Charge Conversion'!A:C,3,0),\" \")","v":" "}," "," ",null,null,null,null,null,{"$f":"VLOOKUP(D889,'Group Name'!A:B,2,0)","v":{"$error":"#N/A"}}," "]
[null,null,null,null,null,null,null,null,null,{"$f":"+IFERROR(VLOOKUP(C890,'Charge Conversion'!A:C,3,0),\" \")","v":" "}," "," ",null,null,null,null,null,{"$f":"VLOOKUP(D890,'Group Name'!A:B,2,0)","v":{"$error":"#N/A"}}," "]
[null,null,null,null,null,null,null,null,null,{"$f":"+IFERROR(VLOOKUP(C891,'Charge Conversion'!A:C,3,0),\" \")","v":" "}," "," ",null,null,null,null,null,{"$f":"VLOOKUP(D891,'Group Name'!A:B,2,0)","v":{"$error":"#N/A"}}," "]
[null,null,null,null,null,null,null,null,null,{"$f":"+IFERROR(VLOOKUP(C892,'Charge Conversion'!A:C,3,0),\" \")","v":" "}," "," ",null,null,null,null,null,{"$f":"VLOOKUP(D892,'Group Name'!A:B,2,0)","v":{"$error":"#N/A"}}," "]
[null,null,null,null,null,null,null,null,null,{"$f":"+IFERROR(VLOOKUP(C893,'Charge Conversion'!A:C,3,0),\" \")","v":" "}," "," ",null,null,null,null,null,{"$f":"VLOOKUP(D893,'Group Name'!A:B,2,0)","v":{"$error":"#N/A"}}," "]
[null,null,null,null,null,null,null,null,null,{"$f":"+IFERROR(VLOOKUP(C894,'Charge Conversion'!A:C,3,0),\" \")","v":" "}," "," ",null,null,null,null,null,{"$f":"VLOOKUP(D894,'Group Name'!A:B,2,0)","v":{"$error":"#N/A"}}," "]
[null,null,null,null,null,null,null,null,null,{"$f":"+IFERROR(VLOOKUP(C895,'Charge Conversion'!A:C,3,0),\" \")","v":" "}," "," ",null,null,null,null,null,{"$f":"VLOOKUP(D895,'Group Name'!A:B,2,0)","v":{"$error":"#N/A"}}," "]
[null,null,null,null,null,null,null,null,null,{"$f":"+IFERROR(VLOOKUP(C896,'Charge Conversion'!A:C,3,0),\" \")","v":" "}," "," ",null,null,null,null,null,{"$f":"VLOOKUP(D896,'Group Name'!A:B,2,0)","v":{"$error":"#N/A"}}," "]
[null,null,null,null,null,null,null,null,null,{"$f":"+IFERROR(VLOOKUP(C897,'Charge Conversion'!A:C,3,0),\" \")","v":" "}," "," ",null,null,null,null,null,{"$f":"VLOOKUP(D897,'Group Name'!A:B,2,0)","v":{"$error":"#N/A"}}," "]
[null,null,null,null,null,null,null,null,null,{"$f":"+IFERROR(VLOOKUP(C898,'Charge Conversion'!A:C,3,0),\" \")","v":" "}," "," ",null,null,null,null,null,{"$f":"VLOOKUP(D898,'Group Name'!A:B,2,0)","v":{"$error":"#N/A"}}," "]
[null,null,null,null,null,null,null,null,null,{"$f":"+IFERROR(VLOOKUP(C899,'Charge Conversion'!A:C,3,0),\" \")","v":" "}," "," ",null,null,null,null,null,{"$f":"VLOOKUP(D899,'Group Name'!A:B,2,0)","v":{"$error":"#N/A"}}," "]
[null,null,null,null,null,null,null,null,null,{"$f":"+IFERROR(VLOOKUP(C900,'Charge Conversion'!A:C,3,0),\" \")","v":" "}," "," ",null,null,null,null,null,{"$f":"VLOOKUP(D900,'Group Name'!A:B,2,0)","v":{"$error":"#N/A"}}," "]
[null,null,null,null,null,null,null,null,null,{"$f":"+IFERROR(VLOOKUP(C901,'Charge Conversion'!A:C,3,0),\" \")","v":" "},{"$f":"+IFERROR(I901*J901,\" \")","v":" "},{"$f":"S901","v":" "},null,null,null,null,null,{"$f":"VLOOKUP(D901,'Group Name'!A:B,2,0)","v":{"$error":"#N/A"}},{"$f":"IFERROR((IF(A901=\" \",\" \",R901)),\" \")","v":" "}]
[null,null,null,null,null,null,null,null,null,{"$f":"+IFERROR(VLOOKUP(C902,'Charge Conversion'!A:C,3,0),\" \")","v":" "}," "," ",null,null,null,null,null,{"$f":"VLOOKUP(D902,'Group Name'!A:B,2,0)","v":{"$error":"#N/A"}}," "]
[null,null,null,null,null,null,null,null,null,{"$f":"+IFERROR(VLOOKUP(C903,'Charge Conversion'!A:C,3,0),\" \")","v":" "}," "," ",null,null,null,null,null,{"$f":"VLOOKUP(D903,'Group Name'!A:B,2,0)","v":{"$error":"#N/A"}}," "]
[null,null,null,null,null,null,null,null,null,{"$f":"+IFERROR(VLOOKUP(C904,'Charge Conversion'!A:C,3,0),\" \")","v":" "}," "," ",null,null,null,null,null,{"$f":"VLOOKUP(D904,'Group Name'!A:B,2,0)","v":{"$error":"#N/A"}}," "]
[null,null,null,null,null,null,null,null,null,{"$f":"+IFERROR(VLOOKUP(C905,'Charge Conversion'!A:C,3,0),\" \")","v":" "}," "," ",null,null,null,null,null,{"$f":"VLOOKUP(D905,'Group Name'!A:B,2,0)","v":{"$error":"#N/A"}}," "]
[null,null,null,null,null,null,null,null,null,{"$f":"+IFERROR(VLOOKUP(C906,'Charge Conversion'!A:C,3,0),\" \")","v":" "}," "," ",null,null,null,null,null,{"$f":"VLOOKUP(D906,'Group Name'!A:B,2,0)","v":{"$error":"#N/A"}}," "]
[null,null,null,null,null,null,null,null,null,{"$f":"+IFERROR(VLOOKUP(C907,'Charge Conversion'!A:C,3,0),\" \")","v":" "}," "," ",null,null,null,null,null,{"$f":"VLOOKUP(D907,'Group Name'!A:B,2,0)","v":{"$error":"#N/A"}}," "]
[null,null,null,null,null,null,null,null,null,{"$f":"+IFERROR(VLOOKUP(C908,'Charge Conversion'!A:C,3,0),\" \")","v":" "}," "," ",null,null,null,null,null,{"$f":"VLOOKUP(D908,'Group Name'!A:B,2,0)","v":{"$error":"#N/A"}}," "]
[null,null,null,null,null,null,null,null,null,{"$f":"+IFERROR(VLOOKUP(C909,'Charge Conversion'!A:C,3,0),\" \")","v":" "}," "," ",null,null,null,null,null,{"$f":"VLOOKUP(D909,'Group Name'!A:B,2,0)","v":{"$error":"#N/A"}}," "]
[null,null,null,null,null,null,null,null,null,{"$f":"+IFERROR(VLOOKUP(C910,'Charge Conversion'!A:C,3,0),\" \")","v":" "}," "," ",null,null,null,null,null,{"$f":"VLOOKUP(D910,'Group Name'!A:B,2,0)","v":{"$error":"#N/A"}}," "]
[null,null,null,null,null,null,null,null,null,{"$f":"+IFERROR(VLOOKUP(C911,'Charge Conversion'!A:C,3,0),\" \")","v":" "}," "," ",null,null,null,null,null,{"$f":"VLOOKUP(D911,'Group Name'!A:B,2,0)","v":{"$error":"#N/A"}}," "]
[null,null,null,null,null,null,null,null,null,{"$f":"+IFERROR(VLOOKUP(C912,'Charge Conversion'!A:C,3,0),\" \")","v":" "}," "," ",null,null,null,null,null,{"$f":"VLOOKUP(D912,'Group Name'!A:B,2,0)","v":{"$error":"#N/A"}}," "]
[null,null,null,null,null,null,null,null,null,{"$f":"+IFERROR(VLOOKUP(C913,'Charge Conversion'!A:C,3,0),\" \")","v":" "}," "," ",null,null,null,null,null,{"$f":"VLOOKUP(D913,'Group Name'!A:B,2,0)","v":{"$error":"#N/A"}}," "]
[null,null,null,null,null,null,null,null,null,{"$f":"+IFERROR(VLOOKUP(C914,'Charge Conversion'!A:C,3,0),\" \")","v":" "}," "," ",null,null,null,null,null,{"$f":"VLOOKUP(D914,'Group Name'!A:B,2,0)","v":{"$error":"#N/A"}}," "]
[null,null,null,null,null,null,null,null,null,{"$f":"+IFERROR(VLOOKUP(C915,'Charge Conversion'!A:C,3,0),\" \")","v":" "}," "," ",null,null,null,null,null,{"$f":"VLOOKUP(D915,'Group Name'!A:B,2,0)","v":{"$error":"#N/A"}}," "]
[null,null,null,null,null,null,null,null,null,{"$f":"+IFERROR(VLOOKUP(C916,'Charge Conversion'!A:C,3,0),\" \")","v":" "}," "," ",null,null,null,null,null,{"$f":"VLOOKUP(D916,'Group Name'!A:B,2,0)","v":{"$error":"#N/A"}}," "]
[null,null,null,null,null,null,null,null,null,{"$f":"+IFERROR(VLOOKUP(C917,'Charge Conversion'!A:C,3,0),\" \")","v":" "}," "," ",null,null,null,null,null,{"$f":"VLOOKUP(D917,'Group Name'!A:B,2,0)","v":{"$error":"#N/A"}}," "]
[null,null,null,null,null,null,null,null,null,{"$f":"+IFERROR(VLOOKUP(C918,'Charge Conversion'!A:C,3,0),\" \")","v":" "}," "," ",null,null,null,null,null,{"$f":"VLOOKUP(D918,'Group Name'!A:B,2,0)","v":{"$error":"#N/A"}}," "]
[null,null,null,null,null,null,null,null,null,{"$f":"+IFERROR(VLOOKUP(C919,'Charge Conversion'!A:C,3,0),\" \")","v":" "}," "," ",null,null,null,null,null,{"$f":"VLOOKUP(D919,'Group Name'!A:B,2,0)","v":{"$error":"#N/A"}}," "]
[null,null,null,null,null,null,null,null,null,{"$f":"+IFERROR(VLOOKUP(C920,'Charge Conversion'!A:C,3,0),\" \")","v":" "}," "," ",null,null,null,null,null,{"$f":"VLOOKUP(D920,'Group Name'!A:B,2,0)","v":{"$error":"#N/A"}}," "]
[null,null,null,null,null,null,null,null,null,{"$f":"+IFERROR(VLOOKUP(C921,'Charge Conversion'!A:C,3,0),\" \")","v":" "}," "," ",null,null,null,null,null,{"$f":"VLOOKUP(D921,'Group Name'!A:B,2,0)","v":{"$error":"#N/A"}}," "]
[null,null,null,null,null,null,null,null,null,{"$f":"+IFERROR(VLOOKUP(C922,'Charge Conversion'!A:C,3,0),\" \")","v":" "}," "," ",null,null,null,null,null,{"$f":"VLOOKUP(D922,'Group Name'!A:B,2,0)","v":{"$error":"#N/A"}}," "]
[null,null,null,null,null,null,null,null,null,{"$f":"+IFERROR(VLOOKUP(C923,'Charge Conversion'!A:C,3,0),\" \")","v":" "}," "," ",null,null,null,null,null,{"$f":"VLOOKUP(D923,'Group Name'!A:B,2,0)","v":{"$error":"#N/A"}}," "]
[null,null,null,null,null,null,null,null,null,{"$f":"+IFERROR(VLOOKUP(C924,'Charge Conversion'!A:C,3,0),\" \")","v":" "}," "," ",null,null,null,null,null,{"$f":"VLOOKUP(D924,'Group Name'!A:B,2,0)","v":{"$error":"#N/A"}}," "]
[null,null,null,null,null,null,null,null,null,{"$f":"+IFERROR(VLOOKUP(C925,'Charge Conversion'!A:C,3,0),\" \")","v":" "}," "," ",null,null,null,null,null,{"$f":"VLOOKUP(D925,'Group Name'!A:B,2,0)","v":{"$error":"#N/A"}}," "]
[null,null,null,null,null,null,null,null,null,{"$f":"+IFERROR(VLOOKUP(C926,'Charge Conversion'!A:C,3,0),\" \")","v":" "}," "," ",null,null,null,null,null,{"$f":"VLOOKUP(D926,'Group Name'!A:B,2,0)","v":{"$error":"#N/A"}}," "]
[null,null,null,null,null,null,null,null,null,{"$f":"+IFERROR(VLOOKUP(C927,'Charge Conversion'!A:C,3,0),\" \")","v":" "}," "," ",null,null,null,null,null,{"$f":"VLOOKUP(D927,'Group Name'!A:B,2,0)","v":{"$error":"#N/A"}}," "]
[null,null,null,null,null,null,null,null,null,{"$f":"+IFERROR(VLOOKUP(C928,'Charge Conversion'!A:C,3,0),\" \")","v":" "}," "," ",null,null,null,null,null,{"$f":"VLOOKUP(D928,'Group Name'!A:B,2,0)","v":{"$error":"#N/A"}}," "]
[null,null,null,null,null,null,null,null,null,{"$f":"+IFERROR(VLOOKUP(C929,'Charge Conversion'!A:C,3,0),\" \")","v":" "}," "," ",null,null,null,null,null,{"$f":"VLOOKUP(D929,'Group Name'!A:B,2,0)","v":{"$error":"#N/A"}}," "]
[null,null,null,null,null,null,null,null,null,{"$f":"+IFERROR(VLOOKUP(C930,'Charge Conversion'!A:C,3,0),\" \")","v":" "}," "," ",null,null,null,null,null,{"$f":"VLOOKUP(D930,'Group Name'!A:B,2,0)","v":{"$error":"#N/A"}}," "]
[null,null,null,null,null,null,null,null,null,{"$f":"+IFERROR(VLOOKUP(C931,'Charge Conversion'!A:C,3,0),\" \")","v":" "}," "," ",null,null,null,null,null,{"$f":"VLOOKUP(D931,'Group Name'!A:B,2,0)","v":{"$error":"#N/A"}}," "]
[null,null,null,null,null,null,null,null,null,{"$f":"+IFERROR(VLOOKUP(C932,'Charge Conversion'!A:C,3,0),\" \")","v":" "}," "," ",null,null,null,null,null,{"$f":"VLOOKUP(D932,'Group Name'!A:B,2,0)","v":{"$error":"#N/A"}}," "]
[null,null,null,null,null,null,null,null,null,{"$f":"+IFERROR(VLOOKUP(C933,'Charge Conversion'!A:C,3,0),\" \")","v":" "}," "," ",null,null,null,null,null,{"$f":"VLOOKUP(D933,'Group Name'!A:B,2,0)","v":{"$error":"#N/A"}}," "]
[null,null,null,null,null,null,null,null,null,{"$f":"+IFERROR(VLOOKUP(C934,'Charge Conversion'!A:C,3,0),\" \")","v":" "}," "," ",null,null,null,null,null,{"$f":"VLOOKUP(D934,'Group Name'!A:B,2,0)","v":{"$error":"#N/A"}}," "]
[null,null,null,null,null,null,null,null,null,{"$f":"+IFERROR(VLOOKUP(C935,'Charge Conversion'!A:C,3,0),\" \")","v":" "}," "," ",null,null,null,null,null,{"$f":"VLOOKUP(D935,'Group Name'!A:B,2,0)","v":{"$error":"#N/A"}}," "]
[null,null,null,null,null,null,null,null,null,{"$f":"+IFERROR(VLOOKUP(C936,'Charge Conversion'!A:C,3,0),\" \")","v":" "}," "," ",null,null,null,null,null,{"$f":"VLOOKUP(D936,'Group Name'!A:B,2,0)","v":{"$error":"#N/A"}}," "]
[null,null,null,null,null,null,null,null,null,{"$f":"+IFERROR(VLOOKUP(C937,'Charge Conversion'!A:C,3,0),\" \")","v":" "}," "," ",null,null,null,null,null,{"$f":"VLOOKUP(D937,'Group Name'!A:B,2,0)","v":{"$error":"#N/A"}}," "]
[null,null,null,null,null,null,null,null,null,{"$f":"+IFERROR(VLOOKUP(C938,'Charge Conversion'!A:C,3,0),\" \")","v":" "}," "," ",null,null,null,null,null,{"$f":"VLOOKUP(D938,'Group Name'!A:B,2,0)","v":{"$error":"#N/A"}}," "]
[null,null,null,null,null,null,null,null,null,{"$f":"+IFERROR(VLOOKUP(C939,'Charge Conversion'!A:C,3,0),\" \")","v":" "}," "," ",null,null,null,null,null,{"$f":"VLOOKUP(D939,'Group Name'!A:B,2,0)","v":{"$error":"#N/A"}}," "]
[null,null,null,null,null,null,null,null,null,{"$f":"+IFERROR(VLOOKUP(C940,'Charge Conversion'!A:C,3,0),\" \")","v":" "}," "," ",null,null,null,null,null,{"$f":"VLOOKUP(D940,'Group Name'!A:B,2,0)","v":{"$error":"#N/A"}}," "]
[null,null,null,null,null,null,null,null,null,{"$f":"+IFERROR(VLOOKUP(C941,'Charge Conversion'!A:C,3,0),\" \")","v":" "}," "," ",null,null,null,null,null,{"$f":"VLOOKUP(D941,'Group Name'!A:B,2,0)","v":{"$error":"#N/A"}}," "]
[null,null,null,null,null,null,null,null,null,{"$f":"+IFERROR(VLOOKUP(C942,'Charge Conversion'!A:C,3,0),\" \")","v":" "}," "," ",null,null,null,null,null,{"$f":"VLOOKUP(D942,'Group Name'!A:B,2,0)","v":{"$error":"#N/A"}}," "]
[null,null,null,null,null,null,null,null,null,{"$f":"+IFERROR(VLOOKUP(C943,'Charge Conversion'!A:C,3,0),\" \")","v":" "}," "," ",null,null,null,null,null,{"$f":"VLOOKUP(D943,'Group Name'!A:B,2,0)","v":{"$error":"#N/A"}}," "]
[null,null,null,null,null,null,null,null,null,{"$f":"+IFERROR(VLOOKUP(C944,'Charge Conversion'!A:C,3,0),\" \")","v":" "}," "," ",null,null,null,null,null,{"$f":"VLOOKUP(D944,'Group Name'!A:B,2,0)","v":{"$error":"#N/A"}}," "]
[null,null,null,null,null,null,null,null,null,{"$f":"+IFERROR(VLOOKUP(C945,'Charge Conversion'!A:C,3,0),\" \")","v":" "}," "," ",null,null,null,null,null,{"$f":"VLOOKUP(D945,'Group Name'!A:B,2,0)","v":{"$error":"#N/A"}}," "]
[null,null,null,null,null,null,null,null,null,{"$f":"+IFERROR(VLOOKUP(C946,'Charge Conversion'!A:C,3,0),\" \")","v":" "}," "," ",null,null,null,null,null,{"$f":"VLOOKUP(D946,'Group Name'!A:B,2,0)","v":{"$error":"#N/A"}}," "]
[null,null,null,null,null,null,null,null,null,{"$f":"+IFERROR(VLOOKUP(C947,'Charge Conversion'!A:C,3,0),\" \")","v":" "}," "," ",null,null,null,null,null,{"$f":"VLOOKUP(D947,'Group Name'!A:B,2,0)","v":{"$error":"#N/A"}}," "]
[null,null,null,null,null,null,null,null,null,{"$f":"+IFERROR(VLOOKUP(C948,'Charge Conversion'!A:C,3,0),\" \")","v":" "}," "," ",null,null,null,null,null,{"$f":"VLOOKUP(D948,'Group Name'!A:B,2,0)","v":{"$error":"#N/A"}}," "]
[null,null,null,null,null,null,null,null,null,{"$f":"+IFERROR(VLOOKUP(C949,'Charge Conversion'!A:C,3,0),\" \")","v":" "}," "," ",null,null,null,null,null,{"$f":"VLOOKUP(D949,'Group Name'!A:B,2,0)","v":{"$error":"#N/A"}}," "]
[null,null,null,null,null,null,null,null,null,{"$f":"+IFERROR(VLOOKUP(C950,'Charge Conversion'!A:C,3,0),\" \")","v":" "}," "," ",null,null,null,null,null,{"$f":"VLOOKUP(D950,'Group Name'!A:B,2,0)","v":{"$error":"#N/A"}}," "]
[null,null,null,null,null,null,null,null,null,{"$f":"+IFERROR(VLOOKUP(C951,'Charge Conversion'!A:C,3,0),\" \")","v":" "}," "," ",null,null,null,null,null,{"$f":"VLOOKUP(D951,'Group Name'!A:B,2,0)","v":{"$error":"#N/A"}}," "]
[null,null,null,null,null,null,null,null,null,{"$f":"+IFERROR(VLOOKUP(C952,'Charge Conversion'!A:C,3,0),\" \")","v":" "}," "," ",null,null,null,null,null,{"$f":"VLOOKUP(D952,'Group Name'!A:B,2,0)","v":{"$error":"#N/A"}}," "]
[null,null,null,null,null,null,null,null,null,{"$f":"+IFERROR(VLOOKUP(C953,'Charge Conversion'!A:C,3,0),\" \")","v":" "}," "," ",null,null,null,null,null,{"$f":"VLOOKUP(D953,'Group Name'!A:B,2,0)","v":{"$error":"#N/A"}}," "]
[null,null,null,null,null,null,null,null,null,{"$f":"+IFERROR(VLOOKUP(C954,'Charge Conversion'!A:C,3,0),\" \")","v":" "}," "," ",null,null,null,null,null,{"$f":"VLOOKUP(D954,'Group Name'!A:B,2,0)","v":{"$error":"#N/A"}}," "]
[null,null,null,null,null,null,null,null,null,{"$f":"+IFERROR(VLOOKUP(C955,'Charge Conversion'!A:C,3,0),\" \")","v":" "}," "," ",null,null,null,null,null,{"$f":"VLOOKUP(D955,'Group Name'!A:B,2,0)","v":{"$error":"#N/A"}}," "]
[null,null,null,null,null,null,null,null,null,{"$f":"+IFERROR(VLOOKUP(C956,'Charge Conversion'!A:C,3,0),\" \")","v":" "}," "," ",null,null,null,null,null,{"$f":"VLOOKUP(D956,'Group Name'!A:B,2,0)","v":{"$error":"#N/A"}}," "]
[null,null,null,null,null,null,null,null,null,{"$f":"+IFERROR(VLOOKUP(C957,'Charge Conversion'!A:C,3,0),\" \")","v":" "}," "," ",null,null,null,null,null,{"$f":"VLOOKUP(D957,'Group Name'!A:B,2,0)","v":{"$error":"#N/A"}}," "]
[null,null,null,null,null,null,null,null,null,{"$f":"+IFERROR(VLOOKUP(C958,'Charge Conversion'!A:C,3,0),\" \")","v":" "}," "," ",null,null,null,null,null,{"$f":"VLOOKUP(D958,'Group Name'!A:B,2,0)","v":{"$error":"#N/A"}}," "]
[null,null,null,null,null,null,null,null,null,{"$f":"+IFERROR(VLOOKUP(C959,'Charge Conversion'!A:C,3,0),\" \")","v":" "}," "," ",null,null,null,null,null,{"$f":"VLOOKUP(D959,'Group Name'!A:B,2,0)","v":{"$error":"#N/A"}}," "]
[null,null,null,null,null,null,null,null,null,{"$f":"+IFERROR(VLOOKUP(C960,'Charge Conversion'!A:C,3,0),\" \")","v":" "}," "," ",null,null,null,null,null,{"$f":"VLOOKUP(D960,'Group Name'!A:B,2,0)","v":{"$error":"#N/A"}}," "]
[null,null,null,null,null,null,null,null,null,{"$f":"+IFERROR(VLOOKUP(C961,'Charge Conversion'!A:C,3,0),\" \")","v":" "}," "," ",null,null,null,null,null,{"$f":"VLOOKUP(D961,'Group Name'!A:B,2,0)","v":{"$error":"#N/A"}}," "]
[null,null,null,null,null,null,null,null,null,{"$f":"+IFERROR(VLOOKUP(C962,'Charge Conversion'!A:C,3,0),\" \")","v":" "}," "," ",null,null,null,null,null,{"$f":"VLOOKUP(D962,'Group Name'!A:B,2,0)","v":{"$error":"#N/A"}}," "]
[null,null,null,null,null,null,null,null,null,{"$f":"+IFERROR(VLOOKUP(C963,'Charge Conversion'!A:C,3,0),\" \")","v":" "}," "," ",null,null,null,null,null,{"$f":"VLOOKUP(D963,'Group Name'!A:B,2,0)","v":{"$error":"#N/A"}}," "]
[null,null,null,null,null,null,null,null,null,{"$f":"+IFERROR(VLOOKUP(C964,'Charge Conversion'!A:C,3,0),\" \")","v":" "}," "," ",null,null,null,null,null,{"$f":"VLOOKUP(D964,'Group Name'!A:B,2,0)","v":{"$error":"#N/A"}}," "]
[null,null,null,null,null,null,null,null,null,{"$f":"+IFERROR(VLOOKUP(C965,'Charge Conversion'!A:C,3,0),\" \")","v":" "},{"$f":"+IFERROR(I965*J965,\" \")","v":" "},{"$f":"S965","v":" "},null,null,null,null,null,{"$f":"VLOOKUP(D965,'Group Name'!A:B,2,0)","v":{"$error":"#N/A"}},{"$f":"IFERROR((IF(A965=\" \",\" \",R965)),\" \")","v":" "}]
[null,null,null,null,null,null,null,null,null,{"$f":"+IFERROR(VLOOKUP(C966,'Charge Conversion'!A:C,3,0),\" \")","v":" "}," "," ",null,null,null,null,null,{"$f":"VLOOKUP(D966,'Group Name'!A:B,2,0)","v":{"$error":"#N/A"}}," "]
[null,null,null,null,null,null,null,null,null,{"$f":"+IFERROR(VLOOKUP(C967,'Charge Conversion'!A:C,3,0),\" \")","v":" "}," "," ",null,null,null,null,null,{"$f":"VLOOKUP(D967,'Group Name'!A:B,2,0)","v":{"$error":"#N/A"}}," "]
[null,null,null,null,null,null,null,null,null,{"$f":"+IFERROR(VLOOKUP(C968,'Charge Conversion'!A:C,3,0),\" \")","v":" "}," "," ",null,null,null,null,null,{"$f":"VLOOKUP(D968,'Group Name'!A:B,2,0)","v":{"$error":"#N/A"}}," "]
[null,null,null,null,null,null,null,null,null,{"$f":"+IFERROR(VLOOKUP(C969,'Charge Conversion'!A:C,3,0),\" \")","v":" "}," "," ",null,null,null,null,null,{"$f":"VLOOKUP(D969,'Group Name'!A:B,2,0)","v":{"$error":"#N/A"}}," "]
[null,null,null,null,null,null,null,null,null,{"$f":"+IFERROR(VLOOKUP(C970,'Charge Conversion'!A:C,3,0),\" \")","v":" "}," "," ",null,null,null,null,null,{"$f":"VLOOKUP(D970,'Group Name'!A:B,2,0)","v":{"$error":"#N/A"}}," "]
[null,null,null,null,null,null,null,null,null,{"$f":"+IFERROR(VLOOKUP(C971,'Charge Conversion'!A:C,3,0),\" \")","v":" "}," "," ",null,null,null,null,null,{"$f":"VLOOKUP(D971,'Group Name'!A:B,2,0)","v":{"$error":"#N/A"}}," "]
[null,null,null,null,null,null,null,null,null,{"$f":"+IFERROR(VLOOKUP(C972,'Charge Conversion'!A:C,3,0),\" \")","v":" "}," "," ",null,null,null,null,null,{"$f":"VLOOKUP(D972,'Group Name'!A:B,2,0)","v":{"$error":"#N/A"}}," "]
[null,null,null,null,null,null,null,null,null,{"$f":"+IFERROR(VLOOKUP(C973,'Charge Conversion'!A:C,3,0),\" \")","v":" "}," "," ",null,null,null,null,null,{"$f":"VLOOKUP(D973,'Group Name'!A:B,2,0)","v":{"$error":"#N/A"}}," "]
[null,null,null,null,null,null,null,null,null,{"$f":"+IFERROR(VLOOKUP(C974,'Charge Conversion'!A:C,3,0),\" \")","v":" "}," "," ",null,null,null,null,null,{"$f":"VLOOKUP(D974,'Group Name'!A:B,2,0)","v":{"$error":"#N/A"}}," "]
[null,null,null,null,null,null,null,null,null,{"$f":"+IFERROR(VLOOKUP(C975,'Charge Conversion'!A:C,3,0),\" \")","v":" "}," "," ",null,null,null,null,null,{"$f":"VLOOKUP(D975,'Group Name'!A:B,2,0)","v":{"$error":"#N/A"}}," "]
[null,null,null,null,null,null,null,null,null,{"$f":"+IFERROR(VLOOKUP(C976,'Charge Conversion'!A:C,3,0),\" \")","v":" "}," "," ",null,null,null,null,null,{"$f":"VLOOKUP(D976,'Group Name'!A:B,2,0)","v":{"$error":"#N/A"}}," "]
[null,null,null,null,null,null,null,null,null,{"$f":"+IFERROR(VLOOKUP(C977,'Charge Conversion'!A:C,3,0),\" \")","v":" "}," "," ",null,null,null,null,null,{"$f":"VLOOKUP(D977,'Group Name'!A:B,2,0)","v":{"$error":"#N/A"}}," "]
[null,null,null,null,null,null,null,null,null,{"$f":"+IFERROR(VLOOKUP(C978,'Charge Conversion'!A:C,3,0),\" \")","v":" "}," "," ",null,null,null,null,null,{"$f":"VLOOKUP(D978,'Group Name'!A:B,2,0)","v":{"$error":"#N/A"}}," "]
[null,null,null,null,null,null,null,null,null,{"$f":"+IFERROR(VLOOKUP(C979,'Charge Conversion'!A:C,3,0),\" \")","v":" "}," "," ",null,null,null,null,null,{"$f":"VLOOKUP(D979,'Group Name'!A:B,2,0)","v":{"$error":"#N/A"}}," "]
[null,null,null,null,null,null,null,null,null,{"$f":"+IFERROR(VLOOKUP(C980,'Charge Conversion'!A:C,3,0),\" \")","v":" "}," "," ",null,null,null,null,null,{"$f":"VLOOKUP(D980,'Group Name'!A:B,2,0)","v":{"$error":"#N/A"}}," "]
[null,null,null,null,null,null,null,null,null,{"$f":"+IFERROR(VLOOKUP(C981,'Charge Conversion'!A:C,3,0),\" \")","v":" "}," "," ",null,null,null,null,null,{"$f":"VLOOKUP(D981,'Group Name'!A:B,2,0)","v":{"$error":"#N/A"}}," "]
[null,null,null,null,null,null,null,null,null,{"$f":"+IFERROR(VLOOKUP(C982,'Charge Conversion'!A:C,3,0),\" \")","v":" "}," "," ",null,null,null,null,null,{"$f":"VLOOKUP(D982,'Group Name'!A:B,2,0)","v":{"$error":"#N/A"}}," "]
[null,null,null,null,null,null,null,null,null,{"$f":"+IFERROR(VLOOKUP(C983,'Charge Conversion'!A:C,3,0),\" \")","v":" "}," "," ",null,null,null,null,null,{"$f":"VLOOKUP(D983,'Group Name'!A:B,2,0)","v":{"$error":"#N/A"}}," "]
[null,null,null,null,null,null,null,null,null,{"$f":"+IFERROR(VLOOKUP(C984,'Charge Conversion'!A:C,3,0),\" \")","v":" "}," "," ",null,null,null,null,null,{"$f":"VLOOKUP(D984,'Group Name'!A:B,2,0)","v":{"$error":"#N/A"}}," "]
[null,null,null,null,null,null,null,null,null,{"$f":"+IFERROR(VLOOKUP(C985,'Charge Conversion'!A:C,3,0),\" \")","v":" "}," "," ",null,null,null,null,null,{"$f":"VLOOKUP(D985,'Group Name'!A:B,2,0)","v":{"$error":"#N/A"}}," "]
[null,null,null,null,null,null,null,null,null,{"$f":"+IFERROR(VLOOKUP(C986,'Charge Conversion'!A:C,3,0),\" \")","v":" "}," "," ",null,null,null,null,null,{"$f":"VLOOKUP(D986,'Group Name'!A:B,2,0)","v":{"$error":"#N/A"}}," "]
[null,null,null,null,null,null,null,null,null,{"$f":"+IFERROR(VLOOKUP(C987,'Charge Conversion'!A:C,3,0),\" \")","v":" "}," "," ",null,null,null,null,null,{"$f":"VLOOKUP(D987,'Group Name'!A:B,2,0)","v":{"$error":"#N/A"}}," "]
[null,null,null,null,null,null,null,null,null,{"$f":"+IFERROR(VLOOKUP(C988,'Charge Conversion'!A:C,3,0),\" \")","v":" "}," "," ",null,null,null,null,null,{"$f":"VLOOKUP(D988,'Group Name'!A:B,2,0)","v":{"$error":"#N/A"}}," "]
[null,null,null,null,null,null,null,null,null,{"$f":"+IFERROR(VLOOKUP(C989,'Charge Conversion'!A:C,3,0),\" \")","v":" "}," "," ",null,null,null,null,null,{"$f":"VLOOKUP(D989,'Group Name'!A:B,2,0)","v":{"$error":"#N/A"}}," "]
[null,null,null,null,null,null,null,null,null,{"$f":"+IFERROR(VLOOKUP(C990,'Charge Conversion'!A:C,3,0),\" \")","v":" "}," "," ",null,null,null,null,null,{"$f":"VLOOKUP(D990,'Group Name'!A:B,2,0)","v":{"$error":"#N/A"}}," "]
[null,null,null,null,null,null,null,null,null,{"$f":"+IFERROR(VLOOKUP(C991,'Charge Conversion'!A:C,3,0),\" \")","v":" "}," "," ",null,null,null,null,null,{"$f":"VLOOKUP(D991,'Group Name'!A:B,2,0)","v":{"$error":"#N/A"}}," "]
[null,null,null,null,null,null,null,null,null,{"$f":"+IFERROR(VLOOKUP(C992,'Charge Conversion'!A:C,3,0),\" \")","v":" "}," "," ",null,null,null,null,null,{"$f":"VLOOKUP(D992,'Group Name'!A:B,2,0)","v":{"$error":"#N/A"}}," "]
[null,null,null,null,null,null,null,null,null,{"$f":"+IFERROR(VLOOKUP(C993,'Charge Conversion'!A:C,3,0),\" \")","v":" "}," "," ",null,null,null,null,null,{"$f":"VLOOKUP(D993,'Group Name'!A:B,2,0)","v":{"$error":"#N/A"}}," "]
[null,null,null,null,null,null,null,null,null,{"$f":"+IFERROR(VLOOKUP(C994,'Charge Conversion'!A:C,3,0),\" \")","v":" "}," "," ",null,null,null,null,null,{"$f":"VLOOKUP(D994,'Group Name'!A:B,2,0)","v":{"$error":"#N/A"}}," "]
[null,null,null,null,null,null,null,null,null,{"$f":"+IFERROR(VLOOKUP(C995,'Charge Conversion'!A:C,3,0),\" \")","v":" "}," "," ",null,null,null,null,null,{"$f":"VLOOKUP(D995,'Group Name'!A:B,2,0)","v":{"$error":"#N/A"}}," "]
[null,null,null,null,null,null,null,null,null,{"$f":"+IFERROR(VLOOKUP(C996,'Charge Conversion'!A:C,3,0),\" \")","v":" "}," "," ",null,null,null,null,null,{"$f":"VLOOKUP(D996,'Group Name'!A:B,2,0)","v":{"$error":"#N/A"}}," "]
[null,null,null,null,null,null,null,null,null,{"$f":"+IFERROR(VLOOKUP(C997,'Charge Conversion'!A:C,3,0),\" \")","v":" "}," "," ",null,null,null,null,null,{"$f":"VLOOKUP(D997,'Group Name'!A:B,2,0)","v":{"$error":"#N/A"}}," "]
[null,null,null,null,null,null,null,null,null,{"$f":"+IFERROR(VLOOKUP(C998,'Charge Conversion'!A:C,3,0),\" \")","v":" "}," "," ",null,null,null,null,null,{"$f":"VLOOKUP(D998,'Group Name'!A:B,2,0)","v":{"$error":"#N/A"}}," "]
[null,null,null,null,null,null,null,null,null,{"$f":"+IFERROR(VLOOKUP(C999,'Charge Conversion'!A:C,3,0),\" \")","v":" "}," "," ",null,null,null,null,null,{"$f":"VLOOKUP(D999,'Group Name'!A:B,2,0)","v":{"$error":"#N/A"}}," "]
[null,null,null,null,null,null,null,null,null,{"$f":"+IFERROR(VLOOKUP(C1000,'Charge Conversion'!A:C,3,0),\" \")","v":" "}," "," ",null,null,null,null,null,{"$f":"VLOOKUP(D1000,'Group Name'!A:B,2,0)","v":{"$error":"#N/A"}}," "]
[null,null,null,null,null,null,null,null,null,{"$f":"+IFERROR(VLOOKUP(C1001,'Charge Conversion'!A:C,3,0),\" \")","v":" "}," "," ",null,null,null,null,null,{"$f":"VLOOKUP(D1001,'Group Name'!A:B,2,0)","v":{"$error":"#N/A"}}," "]
[null,null,null,null,null,null,null,null,null,{"$f":"+IFERROR(VLOOKUP(C1002,'Charge Conversion'!A:C,3,0),\" \")","v":" "}," "," ",null,null,null,null,null,{"$f":"VLOOKUP(D1002,'Group Name'!A:B,2,0)","v":{"$error":"#N/A"}}," "]
[null,null,null,null,null,null,null,null,null,{"$f":"+IFERROR(VLOOKUP(C1003,'Charge Conversion'!A:C,3,0),\" \")","v":" "}," "," ",null,null,null,null,null,{"$f":"VLOOKUP(D1003,'Group Name'!A:B,2,0)","v":{"$error":"#N/A"}}," "]
[null,null,null,null,null,null,null,null,null,{"$f":"+IFERROR(VLOOKUP(C1004,'Charge Conversion'!A:C,3,0),\" \")","v":" "}," "," ",null,null,null,null,null,{"$f":"VLOOKUP(D1004,'Group Name'!A:B,2,0)","v":{"$error":"#N/A"}}," "]
[null,null,null,null,null,null,null,null,null,{"$f":"+IFERROR(VLOOKUP(C1005,'Charge Conversion'!A:C,3,0),\" \")","v":" "}," "," ",null,null,null,null,null,{"$f":"VLOOKUP(D1005,'Group Name'!A:B,2,0)","v":{"$error":"#N/A"}}," "]
[null,null,null,null,null,null,null,null,null,{"$f":"+IFERROR(VLOOKUP(C1006,'Charge Conversion'!A:C,3,0),\" \")","v":" "}," "," ",null,null,null,null,null,{"$f":"VLOOKUP(D1006,'Group Name'!A:B,2,0)","v":{"$error":"#N/A"}}," "]
[null,null,null,null,null,null,null,null,null,{"$f":"+IFERROR(VLOOKUP(C1007,'Charge Conversion'!A:C,3,0),\" \")","v":" "}," "," ",null,null,null,null,null,{"$f":"VLOOKUP(D1007,'Group Name'!A:B,2,0)","v":{"$error":"#N/A"}}," "]
[null,null,null,null,null,null,null,null,null,{"$f":"+IFERROR(VLOOKUP(C1008,'Charge Conversion'!A:C,3,0),\" \")","v":" "}," "," ",null,null,null,null,null,{"$f":"VLOOKUP(D1008,'Group Name'!A:B,2,0)","v":{"$error":"#N/A"}}," "]
[null,null,null,null,null,null,null,null,null,{"$f":"+IFERROR(VLOOKUP(C1009,'Charge Conversion'!A:C,3,0),\" \")","v":" "}," "," ",null,null,null,null,null,{"$f":"VLOOKUP(D1009,'Group Name'!A:B,2,0)","v":{"$error":"#N/A"}}," "]
[null,null,null,null,null,null,null,null,null,{"$f":"+IFERROR(VLOOKUP(C1010,'Charge Conversion'!A:C,3,0),\" \")","v":" "}," "," ",null,null,null,null,null,{"$f":"VLOOKUP(D1010,'Group Name'!A:B,2,0)","v":{"$error":"#N/A"}}," "]
[null,null,null,null,null,null,null,null,null,{"$f":"+IFERROR(VLOOKUP(C1011,'Charge Conversion'!A:C,3,0),\" \")","v":" "}," "," ",null,null,null,null,null,{"$f":"VLOOKUP(D1011,'Group Name'!A:B,2,0)","v":{"$error":"#N/A"}}," "]
[null,null,null,null,null,null,null,null,null,{"$f":"+IFERROR(VLOOKUP(C1012,'Charge Conversion'!A:C,3,0),\" \")","v":" "}," "," ",null,null,null,null,null,{"$f":"VLOOKUP(D1012,'Group Name'!A:B,2,0)","v":{"$error":"#N/A"}}," "]
[null,null,null,null,null,null,null,null,null,{"$f":"+IFERROR(VLOOKUP(C1013,'Charge Conversion'!A:C,3,0),\" \")","v":" "}," "," ",null,null,null,null,null,{"$f":"VLOOKUP(D1013,'Group Name'!A:B,2,0)","v":{"$error":"#N/A"}}," "]
[null,null,null,null,null,null,null,null,null,{"$f":"+IFERROR(VLOOKUP(C1014,'Charge Conversion'!A:C,3,0),\" \")","v":" "}," "," ",null,null,null,null,null,{"$f":"VLOOKUP(D1014,'Group Name'!A:B,2,0)","v":{"$error":"#N/A"}}," "]
[null,null,null,null,null,null,null,null,null,{"$f":"+IFERROR(VLOOKUP(C1015,'Charge Conversion'!A:C,3,0),\" \")","v":" "}," "," ",null,null,null,null,null,{"$f":"VLOOKUP(D1015,'Group Name'!A:B,2,0)","v":{"$error":"#N/A"}}," "]
[null,null,null,null,null,null,null,null,null,{"$f":"+IFERROR(VLOOKUP(C1016,'Charge Conversion'!A:C,3,0),\" \")","v":" "}," "," ",null,null,null,null,null,{"$f":"VLOOKUP(D1016,'Group Name'!A:B,2,0)","v":{"$error":"#N/A"}}," "]
[null,null,null,null,null,null,null,null,null,{"$f":"+IFERROR(VLOOKUP(C1017,'Charge Conversion'!A:C,3,0),\" \")","v":" "}," "," ",null,null,null,null,null,{"$f":"VLOOKUP(D1017,'Group Name'!A:B,2,0)","v":{"$error":"#N/A"}}," "]
[null,null,null,null,null,null,null,null,null,{"$f":"+IFERROR(VLOOKUP(C1018,'Charge Conversion'!A:C,3,0),\" \")","v":" "}," "," ",null,null,null,null,null,{"$f":"VLOOKUP(D1018,'Group Name'!A:B,2,0)","v":{"$error":"#N/A"}}," "]
[null,null,null,null,null,null,null,null,null,{"$f":"+IFERROR(VLOOKUP(C1019,'Charge Conversion'!A:C,3,0),\" \")","v":" "}," "," ",null,null,null,null,null,{"$f":"VLOOKUP(D1019,'Group Name'!A:B,2,0)","v":{"$error":"#N/A"}}," "]
[null,null,null,null,null,null,null,null,null,{"$f":"+IFERROR(VLOOKUP(C1020,'Charge Conversion'!A:C,3,0),\" \")","v":" "}," "," ",null,null,null,null,null,{"$f":"VLOOKUP(D1020,'Group Name'!A:B,2,0)","v":{"$error":"#N/A"}}," "]
[null,null,null,null,null,null,null,null,null,{"$f":"+IFERROR(VLOOKUP(C1021,'Charge Conversion'!A:C,3,0),\" \")","v":" "}," "," ",null,null,null,null,null,{"$f":"VLOOKUP(D1021,'Group Name'!A:B,2,0)","v":{"$error":"#N/A"}}," "]
[null,null,null,null,null,null,null,null,null,{"$f":"+IFERROR(VLOOKUP(C1022,'Charge Conversion'!A:C,3,0),\" \")","v":" "}," "," ",null,null,null,null,null,{"$f":"VLOOKUP(D1022,'Group Name'!A:B,2,0)","v":{"$error":"#N/A"}}," "]
[null,null,null,null,null,null,null,null,null,{"$f":"+IFERROR(VLOOKUP(C1023,'Charge Conversion'!A:C,3,0),\" \")","v":" "}," "," ",null,null,null,null,null,{"$f":"VLOOKUP(D1023,'Group Name'!A:B,2,0)","v":{"$error":"#N/A"}}," "]
[null,null,null,null,null,null,null,null,null,{"$f":"+IFERROR(VLOOKUP(C1024,'Charge Conversion'!A:C,3,0),\" \")","v":" "}," "," ",null,null,null,null,null,{"$f":"VLOOKUP(D1024,'Group Name'!A:B,2,0)","v":{"$error":"#N/A"}}," "]
[null,null,null,null,null,null,null,null,null,{"$f":"+IFERROR(VLOOKUP(C1025,'Charge Conversion'!A:C,3,0),\" \")","v":" "}," "," ",null,null,null,null,null,{"$f":"VLOOKUP(D1025,'Group Name'!A:B,2,0)","v":{"$error":"#N/A"}}," "]
[null,null,null,null,null,null,null,null,null,{"$f":"+IFERROR(VLOOKUP(C1026,'Charge Conversion'!A:C,3,0),\" \")","v":" "}," "," ",null,null,null,null,null,{"$f":"VLOOKUP(D1026,'Group Name'!A:B,2,0)","v":{"$error":"#N/A"}}," "]
[null,null,null,null,null,null,null,null,null,{"$f":"+IFERROR(VLOOKUP(C1027,'Charge Conversion'!A:C,3,0),\" \")","v":" "}," "," ",null,null,null,null,null,{"$f":"VLOOKUP(D1027,'Group Name'!A:B,2,0)","v":{"$error":"#N/A"}}," "]
[null,null,null,null,null,null,null,null,null,{"$f":"+IFERROR(VLOOKUP(C1028,'Charge Conversion'!A:C,3,0),\" \")","v":" "}," "," ",null,null,null,null,null,{"$f":"VLOOKUP(D1028,'Group Name'!A:B,2,0)","v":{"$error":"#N/A"}}," "]
[null,null,null,null,null,null,null,null,null,{"$f":"+IFERROR(VLOOKUP(C1029,'Charge Conversion'!A:C,3,0),\" \")","v":" "},{"$f":"+IFERROR(I1029*J1029,\" \")","v":" "},{"$f":"S1029","v":" "},null,null,null,null,null,{"$f":"VLOOKUP(D1029,'Group Name'!A:B,2,0)","v":{"$error":"#N/A"}},{"$f":"IFERROR((IF(A1029=\" \",\" \",R1029)),\" \")","v":" "}]
[null,null,null,null,null,null,null,null,null,{"$f":"+IFERROR(VLOOKUP(C1030,'Charge Conversion'!A:C,3,0),\" \")","v":" "}," "," ",null,null,null,null,null,{"$f":"VLOOKUP(D1030,'Group Name'!A:B,2,0)","v":{"$error":"#N/A"}}," "]
[null,null,null,null,null,null,null,null,null,{"$f":"+IFERROR(VLOOKUP(C1031,'Charge Conversion'!A:C,3,0),\" \")","v":" "}," "," ",null,null,null,null,null,{"$f":"VLOOKUP(D1031,'Group Name'!A:B,2,0)","v":{"$error":"#N/A"}}," "]
[null,null,null,null,null,null,null,null,null,{"$f":"+IFERROR(VLOOKUP(C1032,'Charge Conversion'!A:C,3,0),\" \")","v":" "}," "," ",null,null,null,null,null,{"$f":"VLOOKUP(D1032,'Group Name'!A:B,2,0)","v":{"$error":"#N/A"}}," "]
[null,null,null,null,null,null,null,null,null,{"$f":"+IFERROR(VLOOKUP(C1033,'Charge Conversion'!A:C,3,0),\" \")","v":" "}," "," ",null,null,null,null,null,{"$f":"VLOOKUP(D1033,'Group Name'!A:B,2,0)","v":{"$error":"#N/A"}}," "]
[null,null,null,null,null,null,null,null,null,{"$f":"+IFERROR(VLOOKUP(C1034,'Charge Conversion'!A:C,3,0),\" \")","v":" "}," "," ",null,null,null,null,null,{"$f":"VLOOKUP(D1034,'Group Name'!A:B,2,0)","v":{"$error":"#N/A"}}," "]
[null,null,null,null,null,null,null,null,null,{"$f":"+IFERROR(VLOOKUP(C1035,'Charge Conversion'!A:C,3,0),\" \")","v":" "}," "," ",null,null,null,null,null,{"$f":"VLOOKUP(D1035,'Group Name'!A:B,2,0)","v":{"$error":"#N/A"}}," "]
[null,null,null,null,null,null,null,null,null,{"$f":"+IFERROR(VLOOKUP(C1036,'Charge Conversion'!A:C,3,0),\" \")","v":" "}," "," ",null,null,null,null,null,{"$f":"VLOOKUP(D1036,'Group Name'!A:B,2,0)","v":{"$error":"#N/A"}}," "]
[null,null,null,null,null,null,null,null,null,{"$f":"+IFERROR(VLOOKUP(C1037,'Charge Conversion'!A:C,3,0),\" \")","v":" "}," "," ",null,null,null,null,null,{"$f":"VLOOKUP(D1037,'Group Name'!A:B,2,0)","v":{"$error":"#N/A"}}," "]
[null,null,null,null,null,null,null,null,null,{"$f":"+IFERROR(VLOOKUP(C1038,'Charge Conversion'!A:C,3,0),\" \")","v":" "}," "," ",null,null,null,null,null,{"$f":"VLOOKUP(D1038,'Group Name'!A:B,2,0)","v":{"$error":"#N/A"}}," "]
[null,null,null,null,null,null,null,null,null,{"$f":"+IFERROR(VLOOKUP(C1039,'Charge Conversion'!A:C,3,0),\" \")","v":" "}," "," ",null,null,null,null,null,{"$f":"VLOOKUP(D1039,'Group Name'!A:B,2,0)","v":{"$error":"#N/A"}}," "]
[null,null,null,null,null,null,null,null,null,{"$f":"+IFERROR(VLOOKUP(C1040,'Charge Conversion'!A:C,3,0),\" \")","v":" "}," "," ",null,null,null,null,null,{"$f":"VLOOKUP(D1040,'Group Name'!A:B,2,0)","v":{"$error":"#N/A"}}," "]
[null,null,null,null,null,null,null,null,null,{"$f":"+IFERROR(VLOOKUP(C1041,'Charge Conversion'!A:C,3,0),\" \")","v":" "}," "," ",null,null,null,null,null,{"$f":"VLOOKUP(D1041,'Group Name'!A:B,2,0)","v":{"$error":"#N/A"}}," "]
[null,null,null,null,null,null,null,null,null,{"$f":"+IFERROR(VLOOKUP(C1042,'Charge Conversion'!A:C,3,0),\" \")","v":" "}," "," ",null,null,null,null,null,{"$f":"VLOOKUP(D1042,'Group Name'!A:B,2,0)","v":{"$error":"#N/A"}}," "]
[null,null,null,null,null,null,null,null,null,{"$f":"+IFERROR(VLOOKUP(C1043,'Charge Conversion'!A:C,3,0),\" \")","v":" "}," "," ",null,null,null,null,null,{"$f":"VLOOKUP(D1043,'Group Name'!A:B,2,0)","v":{"$error":"#N/A"}}," "]
[null,null,null,null,null,null,null,null,null,{"$f":"+IFERROR(VLOOKUP(C1044,'Charge Conversion'!A:C,3,0),\" \")","v":" "}," "," ",null,null,null,null,null,{"$f":"VLOOKUP(D1044,'Group Name'!A:B,2,0)","v":{"$error":"#N/A"}}," "]
[null,null,null,null,null,null,null,null,null,{"$f":"+IFERROR(VLOOKUP(C1045,'Charge Conversion'!A:C,3,0),\" \")","v":" "}," "," ",null,null,null,null,null,{"$f":"VLOOKUP(D1045,'Group Name'!A:B,2,0)","v":{"$error":"#N/A"}}," "]
[null,null,null,null,null,null,null,null,null,{"$f":"+IFERROR(VLOOKUP(C1046,'Charge Conversion'!A:C,3,0),\" \")","v":" "}," "," ",null,null,null,null,null,{"$f":"VLOOKUP(D1046,'Group Name'!A:B,2,0)","v":{"$error":"#N/A"}}," "]
[null,null,null,null,null,null,null,null,null,{"$f":"+IFERROR(VLOOKUP(C1047,'Charge Conversion'!A:C,3,0),\" \")","v":" "}," "," ",null,null,null,null,null,{"$f":"VLOOKUP(D1047,'Group Name'!A:B,2,0)","v":{"$error":"#N/A"}}," "]
[null,null,null,null,null,null,null,null,null,{"$f":"+IFERROR(VLOOKUP(C1048,'Charge Conversion'!A:C,3,0),\" \")","v":" "}," "," ",null,null,null,null,null,{"$f":"VLOOKUP(D1048,'Group Name'!A:B,2,0)","v":{"$error":"#N/A"}}," "]
[null,null,null,null,null,null,null,null,null,{"$f":"+IFERROR(VLOOKUP(C1049,'Charge Conversion'!A:C,3,0),\" \")","v":" "}," "," ",null,null,null,null,null,{"$f":"VLOOKUP(D1049,'Group Name'!A:B,2,0)","v":{"$error":"#N/A"}}," "]
[null,null,null,null,null,null,null,null,null,{"$f":"+IFERROR(VLOOKUP(C1050,'Charge Conversion'!A:C,3,0),\" \")","v":" "}," "," ",null,null,null,null,null,{"$f":"VLOOKUP(D1050,'Group Name'!A:B,2,0)","v":{"$error":"#N/A"}}," "]
[null,null,null,null,null,null,null,null,null,{"$f":"+IFERROR(VLOOKUP(C1051,'Charge Conversion'!A:C,3,0),\" \")","v":" "}," "," ",null,null,null,null,null,{"$f":"VLOOKUP(D1051,'Group Name'!A:B,2,0)","v":{"$error":"#N/A"}}," "]
[null,null,null,null,null,null,null,null,null,{"$f":"+IFERROR(VLOOKUP(C1052,'Charge Conversion'!A:C,3,0),\" \")","v":" "}," "," ",null,null,null,null,null,{"$f":"VLOOKUP(D1052,'Group Name'!A:B,2,0)","v":{"$error":"#N/A"}}," "]
[null,null,null,null,null,null,null,null,null,{"$f":"+IFERROR(VLOOKUP(C1053,'Charge Conversion'!A:C,3,0),\" \")","v":" "}," "," ",null,null,null,null,null,{"$f":"VLOOKUP(D1053,'Group Name'!A:B,2,0)","v":{"$error":"#N/A"}}," "]
[null,null,null,null,null,null,null,null,null,{"$f":"+IFERROR(VLOOKUP(C1054,'Charge Conversion'!A:C,3,0),\" \")","v":" "}," "," ",null,null,null,null,null,{"$f":"VLOOKUP(D1054,'Group Name'!A:B,2,0)","v":{"$error":"#N/A"}}," "]
[null,null,null,null,null,null,null,null,null,{"$f":"+IFERROR(VLOOKUP(C1055,'Charge Conversion'!A:C,3,0),\" \")","v":" "}," "," ",null,null,null,null,null,{"$f":"VLOOKUP(D1055,'Group Name'!A:B,2,0)","v":{"$error":"#N/A"}}," "]
[null,null,null,null,null,null,null,null,null,{"$f":"+IFERROR(VLOOKUP(C1056,'Charge Conversion'!A:C,3,0),\" \")","v":" "}," "," ",null,null,null,null,null,{"$f":"VLOOKUP(D1056,'Group Name'!A:B,2,0)","v":{"$error":"#N/A"}}," "]
[null,null,null,null,null,null,null,null,null,{"$f":"+IFERROR(VLOOKUP(C1057,'Charge Conversion'!A:C,3,0),\" \")","v":" "}," "," ",null,null,null,null,null,{"$f":"VLOOKUP(D1057,'Group Name'!A:B,2,0)","v":{"$error":"#N/A"}}," "]
[null,null,null,null,null,null,null,null,null,{"$f":"+IFERROR(VLOOKUP(C1058,'Charge Conversion'!A:C,3,0),\" \")","v":" "}," "," ",null,null,null,null,null,{"$f":"VLOOKUP(D1058,'Group Name'!A:B,2,0)","v":{"$error":"#N/A"}}," "]
[null,null,null,null,null,null,null,null,null,{"$f":"+IFERROR(VLOOKUP(C1059,'Charge Conversion'!A:C,3,0),\" \")","v":" "}," "," ",null,null,null,null,null,{"$f":"VLOOKUP(D1059,'Group Name'!A:B,2,0)","v":{"$error":"#N/A"}}," "]
[null,null,null,null,null,null,null,null,null,{"$f":"+IFERROR(VLOOKUP(C1060,'Charge Conversion'!A:C,3,0),\" \")","v":" "}," "," ",null,null,null,null,null,{"$f":"VLOOKUP(D1060,'Group Name'!A:B,2,0)","v":{"$error":"#N/A"}}," "]
[null,null,null,null,null,null,null,null,null,{"$f":"+IFERROR(VLOOKUP(C1061,'Charge Conversion'!A:C,3,0),\" \")","v":" "}," "," ",null,null,null,null,null,{"$f":"VLOOKUP(D1061,'Group Name'!A:B,2,0)","v":{"$error":"#N/A"}}," "]
[null,null,null,null,null,null,null,null,null,{"$f":"+IFERROR(VLOOKUP(C1062,'Charge Conversion'!A:C,3,0),\" \")","v":" "}," "," ",null,null,null,null,null,{"$f":"VLOOKUP(D1062,'Group Name'!A:B,2,0)","v":{"$error":"#N/A"}}," "]
[null,null,null,null,null,null,null,null,null,{"$f":"+IFERROR(VLOOKUP(C1063,'Charge Conversion'!A:C,3,0),\" \")","v":" "}," "," ",null,null,null,null,null,{"$f":"VLOOKUP(D1063,'Group Name'!A:B,2,0)","v":{"$error":"#N/A"}}," "]
[null,null,null,null,null,null,null,null,null,{"$f":"+IFERROR(VLOOKUP(C1064,'Charge Conversion'!A:C,3,0),\" \")","v":" "}," "," ",null,null,null,null,null,{"$f":"VLOOKUP(D1064,'Group Name'!A:B,2,0)","v":{"$error":"#N/A"}}," "]
[null,null,null,null,null,null,null,null,null,{"$f":"+IFERROR(VLOOKUP(C1065,'Charge Conversion'!A:C,3,0),\" \")","v":" "}," "," ",null,null,null,null,null,{"$f":"VLOOKUP(D1065,'Group Name'!A:B,2,0)","v":{"$error":"#N/A"}}," "]
[null,null,null,null,null,null,null,null,null,{"$f":"+IFERROR(VLOOKUP(C1066,'Charge Conversion'!A:C,3,0),\" \")","v":" "}," "," ",null,null,null,null,null,{"$f":"VLOOKUP(D1066,'Group Name'!A:B,2,0)","v":{"$error":"#N/A"}}," "]
[null,null,null,null,null,null,null,null,null,{"$f":"+IFERROR(VLOOKUP(C1067,'Charge Conversion'!A:C,3,0),\" \")","v":" "}," "," ",null,null,null,null,null,{"$f":"VLOOKUP(D1067,'Group Name'!A:B,2,0)","v":{"$error":"#N/A"}}," "]
[null,null,null,null,null,null,null,null,null,{"$f":"+IFERROR(VLOOKUP(C1068,'Charge Conversion'!A:C,3,0),\" \")","v":" "}," "," ",null,null,null,null,null,{"$f":"VLOOKUP(D1068,'Group Name'!A:B,2,0)","v":{"$error":"#N/A"}}," "]
[null,null,null,null,null,null,null,null,null,{"$f":"+IFERROR(VLOOKUP(C1069,'Charge Conversion'!A:C,3,0),\" \")","v":" "}," "," ",null,null,null,null,null,{"$f":"VLOOKUP(D1069,'Group Name'!A:B,2,0)","v":{"$error":"#N/A"}}," "]
[null,null,null,null,null,null,null,null,null,{"$f":"+IFERROR(VLOOKUP(C1070,'Charge Conversion'!A:C,3,0),\" \")","v":" "}," "," ",null,null,null,null,null,{"$f":"VLOOKUP(D1070,'Group Name'!A:B,2,0)","v":{"$error":"#N/A"}}," "]
[null,null,null,null,null,null,null,null,null,{"$f":"+IFERROR(VLOOKUP(C1071,'Charge Conversion'!A:C,3,0),\" \")","v":" "}," "," ",null,null,null,null,null,{"$f":"VLOOKUP(D1071,'Group Name'!A:B,2,0)","v":{"$error":"#N/A"}}," "]
[null,null,null,null,null,null,null,null,null,{"$f":"+IFERROR(VLOOKUP(C1072,'Charge Conversion'!A:C,3,0),\" \")","v":" "}," "," ",null,null,null,null,null,{"$f":"VLOOKUP(D1072,'Group Name'!A:B,2,0)","v":{"$error":"#N/A"}}," "]
[null,null,null,null,null,null,null,null,null,{"$f":"+IFERROR(VLOOKUP(C1073,'Charge Conversion'!A:C,3,0),\" \")","v":" "}," "," ",null,null,null,null,null,{"$f":"VLOOKUP(D1073,'Group Name'!A:B,2,0)","v":{"$error":"#N/A"}}," "]
[null,null,null,null,null,null,null,null,null,{"$f":"+IFERROR(VLOOKUP(C1074,'Charge Conversion'!A:C,3,0),\" \")","v":" "}," "," ",null,null,null,null,null,{"$f":"VLOOKUP(D1074,'Group Name'!A:B,2,0)","v":{"$error":"#N/A"}}," "]
[null,null,null,null,null,null,null,null,null,{"$f":"+IFERROR(VLOOKUP(C1075,'Charge Conversion'!A:C,3,0),\" \")","v":" "}," "," ",null,null,null,null,null,{"$f":"VLOOKUP(D1075,'Group Name'!A:B,2,0)","v":{"$error":"#N/A"}}," "]
[null,null,null,null,null,null,null,null,null,{"$f":"+IFERROR(VLOOKUP(C1076,'Charge Conversion'!A:C,3,0),\" \")","v":" "}," "," ",null,null,null,null,null,{"$f":"VLOOKUP(D1076,'Group Name'!A:B,2,0)","v":{"$error":"#N/A"}}," "]
[null,null,null,null,null,null,null,null,null,{"$f":"+IFERROR(VLOOKUP(C1077,'Charge Conversion'!A:C,3,0),\" \")","v":" "}," "," ",null,null,null,null,null,{"$f":"VLOOKUP(D1077,'Group Name'!A:B,2,0)","v":{"$error":"#N/A"}}," "]
[null,null,null,null,null,null,null,null,null,{"$f":"+IFERROR(VLOOKUP(C1078,'Charge Conversion'!A:C,3,0),\" \")","v":" "}," "," ",null,null,null,null,null,{"$f":"VLOOKUP(D1078,'Group Name'!A:B,2,0)","v":{"$error":"#N/A"}}," "]
[null,null,null,null,null,null,null,null,null,{"$f":"+IFERROR(VLOOKUP(C1079,'Charge Conversion'!A:C,3,0),\" \")","v":" "}," "," ",null,null,null,null,null,{"$f":"VLOOKUP(D1079,'Group Name'!A:B,2,0)","v":{"$error":"#N/A"}}," "]
[null,null,null,null,null,null,null,null,null,{"$f":"+IFERROR(VLOOKUP(C1080,'Charge Conversion'!A:C,3,0),\" \")","v":" "}," "," ",null,null,null,null,null,{"$f":"VLOOKUP(D1080,'Group Name'!A:B,2,0)","v":{"$error":"#N/A"}}," "]
[null,null,null,null,null,null,null,null,null,{"$f":"+IFERROR(VLOOKUP(C1081,'Charge Conversion'!A:C,3,0),\" \")","v":" "}," "," ",null,null,null,null,null,{"$f":"VLOOKUP(D1081,'Group Name'!A:B,2,0)","v":{"$error":"#N/A"}}," "]
[null,null,null,null,null,null,null,null,null,{"$f":"+IFERROR(VLOOKUP(C1082,'Charge Conversion'!A:C,3,0),\" \")","v":" "}," "," ",null,null,null,null,null,{"$f":"VLOOKUP(D1082,'Group Name'!A:B,2,0)","v":{"$error":"#N/A"}}," "]
[null,null,null,null,null,null,null,null,null,{"$f":"+IFERROR(VLOOKUP(C1083,'Charge Conversion'!A:C,3,0),\" \")","v":" "}," "," ",null,null,null,null,null,{"$f":"VLOOKUP(D1083,'Group Name'!A:B,2,0)","v":{"$error":"#N/A"}}," "]
[null,null,null,null,null,null,null,null,null,{"$f":"+IFERROR(VLOOKUP(C1084,'Charge Conversion'!A:C,3,0),\" \")","v":" "}," "," ",null,null,null,null,null,{"$f":"VLOOKUP(D1084,'Group Name'!A:B,2,0)","v":{"$error":"#N/A"}}," "]
[null,null,null,null,null,null,null,null,null,{"$f":"+IFERROR(VLOOKUP(C1085,'Charge Conversion'!A:C,3,0),\" \")","v":" "}," "," ",null,null,null,null,null,{"$f":"VLOOKUP(D1085,'Group Name'!A:B,2,0)","v":{"$error":"#N/A"}}," "]
[null,null,null,null,null,null,null,null,null,{"$f":"+IFERROR(VLOOKUP(C1086,'Charge Conversion'!A:C,3,0),\" \")","v":" "}," "," ",null,null,null,null,null,{"$f":"VLOOKUP(D1086,'Group Name'!A:B,2,0)","v":{"$error":"#N/A"}}," "]
[null,null,null,null,null,null,null,null,null,{"$f":"+IFERROR(VLOOKUP(C1087,'Charge Conversion'!A:C,3,0),\" \")","v":" "}," "," ",null,null,null,null,null,{"$f":"VLOOKUP(D1087,'Group Name'!A:B,2,0)","v":{"$error":"#N/A"}}," "]
[null,null,null,null,null,null,null,null,null,{"$f":"+IFERROR(VLOOKUP(C1088,'Charge Conversion'!A:C,3,0),\" \")","v":" "}," "," ",null,null,null,null,null,{"$f":"VLOOKUP(D1088,'Group Name'!A:B,2,0)","v":{"$error":"#N/A"}}," "]
[null,null,null,null,null,null,null,null,null,{"$f":"+IFERROR(VLOOKUP(C1089,'Charge Conversion'!A:C,3,0),\" \")","v":" "}," "," ",null,null,null,null,null,{"$f":"VLOOKUP(D1089,'Group Name'!A:B,2,0)","v":{"$error":"#N/A"}}," "]
[null,null,null,null,null,null,null,null,null,{"$f":"+IFERROR(VLOOKUP(C1090,'Charge Conversion'!A:C,3,0),\" \")","v":" "}," "," ",null,null,null,null,null,{"$f":"VLOOKUP(D1090,'Group Name'!A:B,2,0)","v":{"$error":"#N/A"}}," "]
[null,null,null,null,null,null,null,null,null,{"$f":"+IFERROR(VLOOKUP(C1091,'Charge Conversion'!A:C,3,0),\" \")","v":" "}," "," ",null,null,null,null,null,{"$f":"VLOOKUP(D1091,'Group Name'!A:B,2,0)","v":{"$error":"#N/A"}}," "]
[null,null,null,null,null,null,null,null,null,{"$f":"+IFERROR(VLOOKUP(C1092,'Charge Conversion'!A:C,3,0),\" \")","v":" "}," "," ",null,null,null,null,null,{"$f":"VLOOKUP(D1092,'Group Name'!A:B,2,0)","v":{"$error":"#N/A"}}," "]
[null,null,null,null,null,null,null,null,null,{"$f":"+IFERROR(VLOOKUP(C1093,'Charge Conversion'!A:C,3,0),\" \")","v":" "},{"$f":"+IFERROR(I1093*J1093,\" \")","v":" "},{"$f":"S1093","v":" "},null,null,null,null,null,{"$f":"VLOOKUP(D1093,'Group Name'!A:B,2,0)","v":{"$error":"#N/A"}},{"$f":"IFERROR((IF(A1093=\" \",\" \",R1093)),\" \")","v":" "}]
[null,null,null,null,null,null,null,null,null,{"$f":"+IFERROR(VLOOKUP(C1094,'Charge Conversion'!A:C,3,0),\" \")","v":" "}," "," ",null,null,null,null,null,{"$f":"VLOOKUP(D1094,'Group Name'!A:B,2,0)","v":{"$error":"#N/A"}}," "]
[null,null,null,null,null,null,null,null,null,{"$f":"+IFERROR(VLOOKUP(C1095,'Charge Conversion'!A:C,3,0),\" \")","v":" "}," "," ",null,null,null,null,null,{"$f":"VLOOKUP(D1095,'Group Name'!A:B,2,0)","v":{"$error":"#N/A"}}," "]
[null,null,null,null,null,null,null,null,null,{"$f":"+IFERROR(VLOOKUP(C1096,'Charge Conversion'!A:C,3,0),\" \")","v":" "}," "," ",null,null,null,null,null,{"$f":"VLOOKUP(D1096,'Group Name'!A:B,2,0)","v":{"$error":"#N/A"}}," "]
[null,null,null,null,null,null,null,null,null,{"$f":"+IFERROR(VLOOKUP(C1097,'Charge Conversion'!A:C,3,0),\" \")","v":" "}," "," ",null,null,null,null,null,{"$f":"VLOOKUP(D1097,'Group Name'!A:B,2,0)","v":{"$error":"#N/A"}}," "]
[null,null,null,null,null,null,null,null,null,{"$f":"+IFERROR(VLOOKUP(C1098,'Charge Conversion'!A:C,3,0),\" \")","v":" "}," "," ",null,null,null,null,null,{"$f":"VLOOKUP(D1098,'Group Name'!A:B,2,0)","v":{"$error":"#N/A"}}," "]
[null,null,null,null,null,null,null,null,null,{"$f":"+IFERROR(VLOOKUP(C1099,'Charge Conversion'!A:C,3,0),\" \")","v":" "}," "," ",null,null,null,null,null,{"$f":"VLOOKUP(D1099,'Group Name'!A:B,2,0)","v":{"$error":"#N/A"}}," "]
[null,null,null,null,null,null,null,null,null,{"$f":"+IFERROR(VLOOKUP(C1100,'Charge Conversion'!A:C,3,0),\" \")","v":" "}," "," ",null,null,null,null,null,{"$f":"VLOOKUP(D1100,'Group Name'!A:B,2,0)","v":{"$error":"#N/A"}}," "]
[null,null,null,null,null,null,null,null,null,{"$f":"+IFERROR(VLOOKUP(C1101,'Charge Conversion'!A:C,3,0),\" \")","v":" "}," "," ",null,null,null,null,null,{"$f":"VLOOKUP(D1101,'Group Name'!A:B,2,0)","v":{"$error":"#N/A"}}," "]
[null,null,null,null,null,null,null,null,null,{"$f":"+IFERROR(VLOOKUP(C1102,'Charge Conversion'!A:C,3,0),\" \")","v":" "}," "," ",null,null,null,null,null,{"$f":"VLOOKUP(D1102,'Group Name'!A:B,2,0)","v":{"$error":"#N/A"}}," "]
[null,null,null,null,null,null,null,null,null,{"$f":"+IFERROR(VLOOKUP(C1103,'Charge Conversion'!A:C,3,0),\" \")","v":" "}," "," ",null,null,null,null,null,{"$f":"VLOOKUP(D1103,'Group Name'!A:B,2,0)","v":{"$error":"#N/A"}}," "]
[null,null,null,null,null,null,null,null,null,{"$f":"+IFERROR(VLOOKUP(C1104,'Charge Conversion'!A:C,3,0),\" \")","v":" "}," "," ",null,null,null,null,null,{"$f":"VLOOKUP(D1104,'Group Name'!A:B,2,0)","v":{"$error":"#N/A"}}," "]
[null,null,null,null,null,null,null,null,null,{"$f":"+IFERROR(VLOOKUP(C1105,'Charge Conversion'!A:C,3,0),\" \")","v":" "}," "," ",null,null,null,null,null,{"$f":"VLOOKUP(D1105,'Group Name'!A:B,2,0)","v":{"$error":"#N/A"}}," "]
[null,null,null,null,null,null,null,null,null,{"$f":"+IFERROR(VLOOKUP(C1106,'Charge Conversion'!A:C,3,0),\" \")","v":" "}," "," ",null,null,null,null,null,{"$f":"VLOOKUP(D1106,'Group Name'!A:B,2,0)","v":{"$error":"#N/A"}}," "]
[null,null,null,null,null,null,null,null,null,{"$f":"+IFERROR(VLOOKUP(C1107,'Charge Conversion'!A:C,3,0),\" \")","v":" "}," "," ",null,null,null,null,null,{"$f":"VLOOKUP(D1107,'Group Name'!A:B,2,0)","v":{"$error":"#N/A"}}," "]
[null,null,null,null,null,null,null,null,null,{"$f":"+IFERROR(VLOOKUP(C1108,'Charge Conversion'!A:C,3,0),\" \")","v":" "}," "," ",null,null,null,null,null,{"$f":"VLOOKUP(D1108,'Group Name'!A:B,2,0)","v":{"$error":"#N/A"}}," "]
[null,null,null,null,null,null,null,null,null,{"$f":"+IFERROR(VLOOKUP(C1109,'Charge Conversion'!A:C,3,0),\" \")","v":" "}," "," ",null,null,null,null,null,{"$f":"VLOOKUP(D1109,'Group Name'!A:B,2,0)","v":{"$error":"#N/A"}}," "]
[null,null,null,null,null,null,null,null,null,{"$f":"+IFERROR(VLOOKUP(C1110,'Charge Conversion'!A:C,3,0),\" \")","v":" "}," "," ",null,null,null,null,null,{"$f":"VLOOKUP(D1110,'Group Name'!A:B,2,0)","v":{"$error":"#N/A"}}," "]
[null,null,null,null,null,null,null,null,null,{"$f":"+IFERROR(VLOOKUP(C1111,'Charge Conversion'!A:C,3,0),\" \")","v":" "}," "," ",null,null,null,null,null,{"$f":"VLOOKUP(D1111,'Group Name'!A:B,2,0)","v":{"$error":"#N/A"}}," "]
[null,null,null,null,null,null,null,null,null,{"$f":"+IFERROR(VLOOKUP(C1112,'Charge Conversion'!A:C,3,0),\" \")","v":" "}," "," ",null,null,null,null,null,{"$f":"VLOOKUP(D1112,'Group Name'!A:B,2,0)","v":{"$error":"#N/A"}}," "]
[null,null,null,null,null,null,null,null,null,{"$f":"+IFERROR(VLOOKUP(C1113,'Charge Conversion'!A:C,3,0),\" \")","v":" "}," "," ",null,null,null,null,null,{"$f":"VLOOKUP(D1113,'Group Name'!A:B,2,0)","v":{"$error":"#N/A"}}," "]
[null,null,null,null,null,null,null,null,null,{"$f":"+IFERROR(VLOOKUP(C1114,'Charge Conversion'!A:C,3,0),\" \")","v":" "}," "," ",null,null,null,null,null,{"$f":"VLOOKUP(D1114,'Group Name'!A:B,2,0)","v":{"$error":"#N/A"}}," "]
[null,null,null,null,null,null,null,null,null,{"$f":"+IFERROR(VLOOKUP(C1115,'Charge Conversion'!A:C,3,0),\" \")","v":" "}," "," ",null,null,null,null,null,{"$f":"VLOOKUP(D1115,'Group Name'!A:B,2,0)","v":{"$error":"#N/A"}}," "]
[null,null,null,null,null,null,null,null,null,{"$f":"+IFERROR(VLOOKUP(C1116,'Charge Conversion'!A:C,3,0),\" \")","v":" "}," "," ",null,null,null,null,null,{"$f":"VLOOKUP(D1116,'Group Name'!A:B,2,0)","v":{"$error":"#N/A"}}," "]
[null,null,null,null,null,null,null,null,null,{"$f":"+IFERROR(VLOOKUP(C1117,'Charge Conversion'!A:C,3,0),\" \")","v":" "}," "," ",null,null,null,null,null,{"$f":"VLOOKUP(D1117,'Group Name'!A:B,2,0)","v":{"$error":"#N/A"}}," "]
[null,null,null,null,null,null,null,null,null,{"$f":"+IFERROR(VLOOKUP(C1118,'Charge Conversion'!A:C,3,0),\" \")","v":" "}," "," ",null,null,null,null,null,{"$f":"VLOOKUP(D1118,'Group Name'!A:B,2,0)","v":{"$error":"#N/A"}}," "]
[null,null,null,null,null,null,null,null,null,{"$f":"+IFERROR(VLOOKUP(C1119,'Charge Conversion'!A:C,3,0),\" \")","v":" "}," "," ",null,null,null,null,null,{"$f":"VLOOKUP(D1119,'Group Name'!A:B,2,0)","v":{"$error":"#N/A"}}," "]
[null,null,null,null,null,null,null,null,null,{"$f":"+IFERROR(VLOOKUP(C1120,'Charge Conversion'!A:C,3,0),\" \")","v":" "}," "," ",null,null,null,null,null,{"$f":"VLOOKUP(D1120,'Group Name'!A:B,2,0)","v":{"$error":"#N/A"}}," "]
[null,null,null,null,null,null,null,null,null,{"$f":"+IFERROR(VLOOKUP(C1121,'Charge Conversion'!A:C,3,0),\" \")","v":" "}," "," ",null,null,null,null,null,{"$f":"VLOOKUP(D1121,'Group Name'!A:B,2,0)","v":{"$error":"#N/A"}}," "]
[null,null,null,null,null,null,null,null,null,{"$f":"+IFERROR(VLOOKUP(C1122,'Charge Conversion'!A:C,3,0),\" \")","v":" "}," "," ",null,null,null,null,null,{"$f":"VLOOKUP(D1122,'Group Name'!A:B,2,0)","v":{"$error":"#N/A"}}," "]
[null,null,null,null,null,null,null,null,null,{"$f":"+IFERROR(VLOOKUP(C1123,'Charge Conversion'!A:C,3,0),\" \")","v":" "}," "," ",null,null,null,null,null,{"$f":"VLOOKUP(D1123,'Group Name'!A:B,2,0)","v":{"$error":"#N/A"}}," "]
[null,null,null,null,null,null,null,null,null,{"$f":"+IFERROR(VLOOKUP(C1124,'Charge Conversion'!A:C,3,0),\" \")","v":" "}," "," ",null,null,null,null,null,{"$f":"VLOOKUP(D1124,'Group Name'!A:B,2,0)","v":{"$error":"#N/A"}}," "]
[null,null,null,null,null,null,null,null,null,{"$f":"+IFERROR(VLOOKUP(C1125,'Charge Conversion'!A:C,3,0),\" \")","v":" "}," "," ",null,null,null,null,null,{"$f":"VLOOKUP(D1125,'Group Name'!A:B,2,0)","v":{"$error":"#N/A"}}," "]
[null,null,null,null,null,null,null,null,null,{"$f":"+IFERROR(VLOOKUP(C1126,'Charge Conversion'!A:C,3,0),\" \")","v":" "}," "," ",null,null,null,null,null,{"$f":"VLOOKUP(D1126,'Group Name'!A:B,2,0)","v":{"$error":"#N/A"}}," "]
[null,null,null,null,null,null,null,null,null,{"$f":"+IFERROR(VLOOKUP(C1127,'Charge Conversion'!A:C,3,0),\" \")","v":" "}," "," ",null,null,null,null,null,{"$f":"VLOOKUP(D1127,'Group Name'!A:B,2,0)","v":{"$error":"#N/A"}}," "]
[null,null,null,null,null,null,null,null,null,{"$f":"+IFERROR(VLOOKUP(C1128,'Charge Conversion'!A:C,3,0),\" \")","v":" "}," "," ",null,null,null,null,null,{"$f":"VLOOKUP(D1128,'Group Name'!A:B,2,0)","v":{"$error":"#N/A"}}," "]
[null,null,null,null,null,null,null,null,null,{"$f":"+IFERROR(VLOOKUP(C1129,'Charge Conversion'!A:C,3,0),\" \")","v":" "}," "," ",null,null,null,null,null,{"$f":"VLOOKUP(D1129,'Group Name'!A:B,2,0)","v":{"$error":"#N/A"}}," "]
[null,null,null,null,null,null,null,null,null,{"$f":"+IFERROR(VLOOKUP(C1130,'Charge Conversion'!A:C,3,0),\" \")","v":" "}," "," ",null,null,null,null,null,{"$f":"VLOOKUP(D1130,'Group Name'!A:B,2,0)","v":{"$error":"#N/A"}}," "]
[null,null,null,null,null,null,null,null,null,{"$f":"+IFERROR(VLOOKUP(C1131,'Charge Conversion'!A:C,3,0),\" \")","v":" "}," "," ",null,null,null,null,null,{"$f":"VLOOKUP(D1131,'Group Name'!A:B,2,0)","v":{"$error":"#N/A"}}," "]
[null,null,null,null,null,null,null,null,null,{"$f":"+IFERROR(VLOOKUP(C1132,'Charge Conversion'!A:C,3,0),\" \")","v":" "}," "," ",null,null,null,null,null,{"$f":"VLOOKUP(D1132,'Group Name'!A:B,2,0)","v":{"$error":"#N/A"}}," "]
[null,null,null,null,null,null,null,null,null,{"$f":"+IFERROR(VLOOKUP(C1133,'Charge Conversion'!A:C,3,0),\" \")","v":" "}," "," ",null,null,null,null,null,{"$f":"VLOOKUP(D1133,'Group Name'!A:B,2,0)","v":{"$error":"#N/A"}}," "]
[null,null,null,null,null,null,null,null,null,{"$f":"+IFERROR(VLOOKUP(C1134,'Charge Conversion'!A:C,3,0),\" \")","v":" "}," "," ",null,null,null,null,null,{"$f":"VLOOKUP(D1134,'Group Name'!A:B,2,0)","v":{"$error":"#N/A"}}," "]
[null,null,null,null,null,null,null,null,null,{"$f":"+IFERROR(VLOOKUP(C1135,'Charge Conversion'!A:C,3,0),\" \")","v":" "}," "," ",null,null,null,null,null,{"$f":"VLOOKUP(D1135,'Group Name'!A:B,2,0)","v":{"$error":"#N/A"}}," "]
[null,null,null,null,null,null,null,null,null,{"$f":"+IFERROR(VLOOKUP(C1136,'Charge Conversion'!A:C,3,0),\" \")","v":" "}," "," ",null,null,null,null,null,{"$f":"VLOOKUP(D1136,'Group Name'!A:B,2,0)","v":{"$error":"#N/A"}}," "]
[null,null,null,null,null,null,null,null,null,{"$f":"+IFERROR(VLOOKUP(C1137,'Charge Conversion'!A:C,3,0),\" \")","v":" "}," "," ",null,null,null,null,null,{"$f":"VLOOKUP(D1137,'Group Name'!A:B,2,0)","v":{"$error":"#N/A"}}," "]
[null,null,null,null,null,null,null,null,null,{"$f":"+IFERROR(VLOOKUP(C1138,'Charge Conversion'!A:C,3,0),\" \")","v":" "}," "," ",null,null,null,null,null,{"$f":"VLOOKUP(D1138,'Group Name'!A:B,2,0)","v":{"$error":"#N/A"}}," "]
[null,null,null,null,null,null,null,null,null,{"$f":"+IFERROR(VLOOKUP(C1139,'Charge Conversion'!A:C,3,0),\" \")","v":" "}," "," ",null,null,null,null,null,{"$f":"VLOOKUP(D1139,'Group Name'!A:B,2,0)","v":{"$error":"#N/A"}}," "]
[null,null,null,null,null,null,null,null,null,{"$f":"+IFERROR(VLOOKUP(C1140,'Charge Conversion'!A:C,3,0),\" \")","v":" "}," "," ",null,null,null,null,null,{"$f":"VLOOKUP(D1140,'Group Name'!A:B,2,0)","v":{"$error":"#N/A"}}," "]
[null,null,null,null,null,null,null,null,null,{"$f":"+IFERROR(VLOOKUP(C1141,'Charge Conversion'!A:C,3,0),\" \")","v":" "}," "," ",null,null,null,null,null,{"$f":"VLOOKUP(D1141,'Group Name'!A:B,2,0)","v":{"$error":"#N/A"}}," "]
[null,null,null,null,null,null,null,null,null,{"$f":"+IFERROR(VLOOKUP(C1142,'Charge Conversion'!A:C,3,0),\" \")","v":" "}," "," ",null,null,null,null,null,{"$f":"VLOOKUP(D1142,'Group Name'!A:B,2,0)","v":{"$error":"#N/A"}}," "]
[null,null,null,null,null,null,null,null,null,{"$f":"+IFERROR(VLOOKUP(C1143,'Charge Conversion'!A:C,3,0),\" \")","v":" "}," "," ",null,null,null,null,null,{"$f":"VLOOKUP(D1143,'Group Name'!A:B,2,0)","v":{"$error":"#N/A"}}," "]
[null,null,null,null,null,null,null,null,null,{"$f":"+IFERROR(VLOOKUP(C1144,'Charge Conversion'!A:C,3,0),\" \")","v":" "}," "," ",null,null,null,null,null,{"$f":"VLOOKUP(D1144,'Group Name'!A:B,2,0)","v":{"$error":"#N/A"}}," "]
[null,null,null,null,null,null,null,null,null,{"$f":"+IFERROR(VLOOKUP(C1145,'Charge Conversion'!A:C,3,0),\" \")","v":" "}," "," ",null,null,null,null,null,{"$f":"VLOOKUP(D1145,'Group Name'!A:B,2,0)","v":{"$error":"#N/A"}}," "]
[null,null,null,null,null,null,null,null,null,{"$f":"+IFERROR(VLOOKUP(C1146,'Charge Conversion'!A:C,3,0),\" \")","v":" "}," "," ",null,null,null,null,null,{"$f":"VLOOKUP(D1146,'Group Name'!A:B,2,0)","v":{"$error":"#N/A"}}," "]
[null,null,null,null,null,null,null,null,null,{"$f":"+IFERROR(VLOOKUP(C1147,'Charge Conversion'!A:C,3,0),\" \")","v":" "}," "," ",null,null,null,null,null,{"$f":"VLOOKUP(D1147,'Group Name'!A:B,2,0)","v":{"$error":"#N/A"}}," "]
[null,null,null,null,null,null,null,null,null,{"$f":"+IFERROR(VLOOKUP(C1148,'Charge Conversion'!A:C,3,0),\" \")","v":" "}," "," ",null,null,null,null,null,{"$f":"VLOOKUP(D1148,'Group Name'!A:B,2,0)","v":{"$error":"#N/A"}}," "]
[null,null,null,null,null,null,null,null,null,{"$f":"+IFERROR(VLOOKUP(C1149,'Charge Conversion'!A:C,3,0),\" \")","v":" "}," "," ",null,null,null,null,null,{"$f":"VLOOKUP(D1149,'Group Name'!A:B,2,0)","v":{"$error":"#N/A"}}," "]
[null,null,null,null,null,null,null,null,null,{"$f":"+IFERROR(VLOOKUP(C1150,'Charge Conversion'!A:C,3,0),\" \")","v":" "}," "," ",null,null,null,null,null,{"$f":"VLOOKUP(D1150,'Group Name'!A:B,2,0)","v":{"$error":"#N/A"}}," "]
[null,null,null,null,null,null,null,null,null,{"$f":"+IFERROR(VLOOKUP(C1151,'Charge Conversion'!A:C,3,0),\" \")","v":" "}," "," ",null,null,null,null,null,{"$f":"VLOOKUP(D1151,'Group Name'!A:B,2,0)","v":{"$error":"#N/A"}}," "]
[null,null,null,null,null,null,null,null,null,{"$f":"+IFERROR(VLOOKUP(C1152,'Charge Conversion'!A:C,3,0),\" \")","v":" "}," "," ",null,null,null,null,null,{"$f":"VLOOKUP(D1152,'Group Name'!A:B,2,0)","v":{"$error":"#N/A"}}," "]
[null,null,null,null,null,null,null,null,null,{"$f":"+IFERROR(VLOOKUP(C1153,'Charge Conversion'!A:C,3,0),\" \")","v":" "}," "," ",null,null,null,null,null,{"$f":"VLOOKUP(D1153,'Group Name'!A:B,2,0)","v":{"$error":"#N/A"}}," "]
[null,null,null,null,null,null,null,null,null,{"$f":"+IFERROR(VLOOKUP(C1154,'Charge Conversion'!A:C,3,0),\" \")","v":" "}," "," ",null,null,null,null,null,{"$f":"VLOOKUP(D1154,'Group Name'!A:B,2,0)","v":{"$error":"#N/A"}}," "]
[null,null,null,null,null,null,null,null,null,{"$f":"+IFERROR(VLOOKUP(C1155,'Charge Conversion'!A:C,3,0),\" \")","v":" "}," "," ",null,null,null,null,null,{"$f":"VLOOKUP(D1155,'Group Name'!A:B,2,0)","v":{"$error":"#N/A"}}," "]
[null,null,null,null,null,null,null,null,null,{"$f":"+IFERROR(VLOOKUP(C1156,'Charge Conversion'!A:C,3,0),\" \")","v":" "}," "," ",null,null,null,null,null,{"$f":"VLOOKUP(D1156,'Group Name'!A:B,2,0)","v":{"$error":"#N/A"}}," "]
[null,null,null,null,null,null,null,null,null,{"$f":"+IFERROR(VLOOKUP(C1157,'Charge Conversion'!A:C,3,0),\" \")","v":" "},{"$f":"+IFERROR(I1157*J1157,\" \")","v":" "},{"$f":"S1157","v":" "},null,null,null,null,null,{"$f":"VLOOKUP(D1157,'Group Name'!A:B,2,0)","v":{"$error":"#N/A"}},{"$f":"IFERROR((IF(A1157=\" \",\" \",R1157)),\" \")","v":" "}]
[null,null,null,null,null,null,null,null,null,{"$f":"+IFERROR(VLOOKUP(C1158,'Charge Conversion'!A:C,3,0),\" \")","v":" "}," "," ",null,null,null,null,null,{"$f":"VLOOKUP(D1158,'Group Name'!A:B,2,0)","v":{"$error":"#N/A"}}," "]
[null,null,null,null,null,null,null,null,null,{"$f":"+IFERROR(VLOOKUP(C1159,'Charge Conversion'!A:C,3,0),\" \")","v":" "}," "," ",null,null,null,null,null,{"$f":"VLOOKUP(D1159,'Group Name'!A:B,2,0)","v":{"$error":"#N/A"}}," "]
[null,null,null,null,null,null,null,null,null,{"$f":"+IFERROR(VLOOKUP(C1160,'Charge Conversion'!A:C,3,0),\" \")","v":" "}," "," ",null,null,null,null,null,{"$f":"VLOOKUP(D1160,'Group Name'!A:B,2,0)","v":{"$error":"#N/A"}}," "]
[null,null,null,null,null,null,null,null,null,{"$f":"+IFERROR(VLOOKUP(C1161,'Charge Conversion'!A:C,3,0),\" \")","v":" "}," "," ",null,null,null,null,null,{"$f":"VLOOKUP(D1161,'Group Name'!A:B,2,0)","v":{"$error":"#N/A"}}," "]
[null,null,null,null,null,null,null,null,null,{"$f":"+IFERROR(VLOOKUP(C1162,'Charge Conversion'!A:C,3,0),\" \")","v":" "}," "," ",null,null,null,null,null,{"$f":"VLOOKUP(D1162,'Group Name'!A:B,2,0)","v":{"$error":"#N/A"}}," "]
[null,null,null,null,null,null,null,null,null,{"$f":"+IFERROR(VLOOKUP(C1163,'Charge Conversion'!A:C,3,0),\" \")","v":" "}," "," ",null,null,null,null,null,{"$f":"VLOOKUP(D1163,'Group Name'!A:B,2,0)","v":{"$error":"#N/A"}}," "]
[null,null,null,null,null,null,null,null,null,{"$f":"+IFERROR(VLOOKUP(C1164,'Charge Conversion'!A:C,3,0),\" \")","v":" "}," "," ",null,null,null,null,null,{"$f":"VLOOKUP(D1164,'Group Name'!A:B,2,0)","v":{"$error":"#N/A"}}," "]
[null,null,null,null,null,null,null,null,null,{"$f":"+IFERROR(VLOOKUP(C1165,'Charge Conversion'!A:C,3,0),\" \")","v":" "}," "," ",null,null,null,null,null,{"$f":"VLOOKUP(D1165,'Group Name'!A:B,2,0)","v":{"$error":"#N/A"}}," "]
[null,null,null,null,null,null,null,null,null,{"$f":"+IFERROR(VLOOKUP(C1166,'Charge Conversion'!A:C,3,0),\" \")","v":" "}," "," ",null,null,null,null,null,{"$f":"VLOOKUP(D1166,'Group Name'!A:B,2,0)","v":{"$error":"#N/A"}}," "]
[null,null,null,null,null,null,null,null,null,{"$f":"+IFERROR(VLOOKUP(C1167,'Charge Conversion'!A:C,3,0),\" \")","v":" "}," "," ",null,null,null,null,null,{"$f":"VLOOKUP(D1167,'Group Name'!A:B,2,0)","v":{"$error":"#N/A"}}," "]
[null,null,null,null,null,null,null,null,null,{"$f":"+IFERROR(VLOOKUP(C1168,'Charge Conversion'!A:C,3,0),\" \")","v":" "}," "," ",null,null,null,null,null,{"$f":"VLOOKUP(D1168,'Group Name'!A:B,2,0)","v":{"$error":"#N/A"}}," "]
[null,null,null,null,null,null,null,null,null,{"$f":"+IFERROR(VLOOKUP(C1169,'Charge Conversion'!A:C,3,0),\" \")","v":" "}," "," ",null,null,null,null,null,{"$f":"VLOOKUP(D1169,'Group Name'!A:B,2,0)","v":{"$error":"#N/A"}}," "]
[null,null,null,null,null,null,null,null,null,{"$f":"+IFERROR(VLOOKUP(C1170,'Charge Conversion'!A:C,3,0),\" \")","v":" "}," "," ",null,null,null,null,null,{"$f":"VLOOKUP(D1170,'Group Name'!A:B,2,0)","v":{"$error":"#N/A"}}," "]
[null,null,null,null,null,null,null,null,null,{"$f":"+IFERROR(VLOOKUP(C1171,'Charge Conversion'!A:C,3,0),\" \")","v":" "}," "," ",null,null,null,null,null,{"$f":"VLOOKUP(D1171,'Group Name'!A:B,2,0)","v":{"$error":"#N/A"}}," "]
[null,null,null,null,null,null,null,null,null,{"$f":"+IFERROR(VLOOKUP(C1172,'Charge Conversion'!A:C,3,0),\" \")","v":" "}," "," ",null,null,null,null,null,{"$f":"VLOOKUP(D1172,'Group Name'!A:B,2,0)","v":{"$error":"#N/A"}}," "]
[null,null,null,null,null,null,null,null,null,{"$f":"+IFERROR(VLOOKUP(C1173,'Charge Conversion'!A:C,3,0),\" \")","v":" "}," "," ",null,null,null,null,null,{"$f":"VLOOKUP(D1173,'Group Name'!A:B,2,0)","v":{"$error":"#N/A"}}," "]
[null,null,null,null,null,null,null,null,null,{"$f":"+IFERROR(VLOOKUP(C1174,'Charge Conversion'!A:C,3,0),\" \")","v":" "}," "," ",null,null,null,null,null,{"$f":"VLOOKUP(D1174,'Group Name'!A:B,2,0)","v":{"$error":"#N/A"}}," "]
[null,null,null,null,null,null,null,null,null,{"$f":"+IFERROR(VLOOKUP(C1175,'Charge Conversion'!A:C,3,0),\" \")","v":" "}," "," ",null,null,null,null,null,{"$f":"VLOOKUP(D1175,'Group Name'!A:B,2,0)","v":{"$error":"#N/A"}}," "]
[null,null,null,null,null,null,null,null,null,{"$f":"+IFERROR(VLOOKUP(C1176,'Charge Conversion'!A:C,3,0),\" \")","v":" "}," "," ",null,null,null,null,null,{"$f":"VLOOKUP(D1176,'Group Name'!A:B,2,0)","v":{"$error":"#N/A"}}," "]
[null,null,null,null,null,null,null,null,null,{"$f":"+IFERROR(VLOOKUP(C1177,'Charge Conversion'!A:C,3,0),\" \")","v":" "}," "," ",null,null,null,null,null,{"$f":"VLOOKUP(D1177,'Group Name'!A:B,2,0)","v":{"$error":"#N/A"}}," "]
[null,null,null,null,null,null,null,null,null,{"$f":"+IFERROR(VLOOKUP(C1178,'Charge Conversion'!A:C,3,0),\" \")","v":" "}," "," ",null,null,null,null,null,{"$f":"VLOOKUP(D1178,'Group Name'!A:B,2,0)","v":{"$error":"#N/A"}}," "]
[null,null,null,null,null,null,null,null,null,{"$f":"+IFERROR(VLOOKUP(C1179,'Charge Conversion'!A:C,3,0),\" \")","v":" "}," "," ",null,null,null,null,null,{"$f":"VLOOKUP(D1179,'Group Name'!A:B,2,0)","v":{"$error":"#N/A"}}," "]
[null,null,null,null,null,null,null,null,null,{"$f":"+IFERROR(VLOOKUP(C1180,'Charge Conversion'!A:C,3,0),\" \")","v":" "}," "," ",null,null,null,null,null,{"$f":"VLOOKUP(D1180,'Group Name'!A:B,2,0)","v":{"$error":"#N/A"}}," "]
[null,null,null,null,null,null,null,null,null,{"$f":"+IFERROR(VLOOKUP(C1181,'Charge Conversion'!A:C,3,0),\" \")","v":" "}," "," ",null,null,null,null,null,{"$f":"VLOOKUP(D1181,'Group Name'!A:B,2,0)","v":{"$error":"#N/A"}}," "]
[null,null,null,null,null,null,null,null,null,{"$f":"+IFERROR(VLOOKUP(C1182,'Charge Conversion'!A:C,3,0),\" \")","v":" "}," "," ",null,null,null,null,null,{"$f":"VLOOKUP(D1182,'Group Name'!A:B,2,0)","v":{"$error":"#N/A"}}," "]
[null,null,null,null,null,null,null,null,null,{"$f":"+IFERROR(VLOOKUP(C1183,'Charge Conversion'!A:C,3,0),\" \")","v":" "}," "," ",null,null,null,null,null,{"$f":"VLOOKUP(D1183,'Group Name'!A:B,2,0)","v":{"$error":"#N/A"}}," "]
[null,null,null,null,null,null,null,null,null,{"$f":"+IFERROR(VLOOKUP(C1184,'Charge Conversion'!A:C,3,0),\" \")","v":" "}," "," ",null,null,null,null,null,{"$f":"VLOOKUP(D1184,'Group Name'!A:B,2,0)","v":{"$error":"#N/A"}}," "]
[null,null,null,null,null,null,null,null,null,{"$f":"+IFERROR(VLOOKUP(C1185,'Charge Conversion'!A:C,3,0),\" \")","v":" "}," "," ",null,null,null,null,null,{"$f":"VLOOKUP(D1185,'Group Name'!A:B,2,0)","v":{"$error":"#N/A"}}," "]
[null,null,null,null,null,null,null,null,null,{"$f":"+IFERROR(VLOOKUP(C1186,'Charge Conversion'!A:C,3,0),\" \")","v":" "}," "," ",null,null,null,null,null,{"$f":"VLOOKUP(D1186,'Group Name'!A:B,2,0)","v":{"$error":"#N/A"}}," "]
[null,null,null,null,null,null,null,null,null,{"$f":"+IFERROR(VLOOKUP(C1187,'Charge Conversion'!A:C,3,0),\" \")","v":" "}," "," ",null,null,null,null,null,{"$f":"VLOOKUP(D1187,'Group Name'!A:B,2,0)","v":{"$error":"#N/A"}}," "]
[null,null,null,null,null,null,null,null,null,{"$f":"+IFERROR(VLOOKUP(C1188,'Charge Conversion'!A:C,3,0),\" \")","v":" "}," "," ",null,null,null,null,null,{"$f":"VLOOKUP(D1188,'Group Name'!A:B,2,0)","v":{"$error":"#N/A"}}," "]
[null,null,null,null,null,null,null,null,null,{"$f":"+IFERROR(VLOOKUP(C1189,'Charge Conversion'!A:C,3,0),\" \")","v":" "}," "," ",null,null,null,null,null,{"$f":"VLOOKUP(D1189,'Group Name'!A:B,2,0)","v":{"$error":"#N/A"}}," "]
[null,null,null,null,null,null,null,null,null,{"$f":"+IFERROR(VLOOKUP(C1190,'Charge Conversion'!A:C,3,0),\" \")","v":" "}," "," ",null,null,null,null,null,{"$f":"VLOOKUP(D1190,'Group Name'!A:B,2,0)","v":{"$error":"#N/A"}}," "]
[null,null,null,null,null,null,null,null,null,{"$f":"+IFERROR(VLOOKUP(C1191,'Charge Conversion'!A:C,3,0),\" \")","v":" "}," "," ",null,null,null,null,null,{"$f":"VLOOKUP(D1191,'Group Name'!A:B,2,0)","v":{"$error":"#N/A"}}," "]
[null,null,null,null,null,null,null,null,null,{"$f":"+IFERROR(VLOOKUP(C1192,'Charge Conversion'!A:C,3,0),\" \")","v":" "}," "," ",null,null,null,null,null,{"$f":"VLOOKUP(D1192,'Group Name'!A:B,2,0)","v":{"$error":"#N/A"}}," "]
[null,null,null,null,null,null,null,null,null,{"$f":"+IFERROR(VLOOKUP(C1193,'Charge Conversion'!A:C,3,0),\" \")","v":" "}," "," ",null,null,null,null,null,{"$f":"VLOOKUP(D1193,'Group Name'!A:B,2,0)","v":{"$error":"#N/A"}}," "]
[null,null,null,null,null,null,null,null,null,{"$f":"+IFERROR(VLOOKUP(C1194,'Charge Conversion'!A:C,3,0),\" \")","v":" "}," "," ",null,null,null,null,null,{"$f":"VLOOKUP(D1194,'Group Name'!A:B,2,0)","v":{"$error":"#N/A"}}," "]
[null,null,null,null,null,null,null,null,null,{"$f":"+IFERROR(VLOOKUP(C1195,'Charge Conversion'!A:C,3,0),\" \")","v":" "}," "," ",null,null,null,null,null,{"$f":"VLOOKUP(D1195,'Group Name'!A:B,2,0)","v":{"$error":"#N/A"}}," "]
[null,null,null,null,null,null,null,null,null,{"$f":"+IFERROR(VLOOKUP(C1196,'Charge Conversion'!A:C,3,0),\" \")","v":" "}," "," ",null,null,null,null,null,{"$f":"VLOOKUP(D1196,'Group Name'!A:B,2,0)","v":{"$error":"#N/A"}}," "]
[null,null,null,null,null,null,null,null,null,{"$f":"+IFERROR(VLOOKUP(C1197,'Charge Conversion'!A:C,3,0),\" \")","v":" "}," "," ",null,null,null,null,null,{"$f":"VLOOKUP(D1197,'Group Name'!A:B,2,0)","v":{"$error":"#N/A"}}," "]
[null,null,null,null,null,null,null,null,null,{"$f":"+IFERROR(VLOOKUP(C1198,'Charge Conversion'!A:C,3,0),\" \")","v":" "}," "," ",null,null,null,null,null,{"$f":"VLOOKUP(D1198,'Group Name'!A:B,2,0)","v":{"$error":"#N/A"}}," "]
[null,null,null,null,null,null,null,null,null,{"$f":"+IFERROR(VLOOKUP(C1199,'Charge Conversion'!A:C,3,0),\" \")","v":" "}," "," ",null,null,null,null,null,{"$f":"VLOOKUP(D1199,'Group Name'!A:B,2,0)","v":{"$error":"#N/A"}}," "]
[null,null,null,null,null,null,null,null,null,{"$f":"+IFERROR(VLOOKUP(C1200,'Charge Conversion'!A:C,3,0),\" \")","v":" "}," "," ",null,null,null,null,null,{"$f":"VLOOKUP(D1200,'Group Name'!A:B,2,0)","v":{"$error":"#N/A"}}," "]
[null,null,null,null,null,null,null,null,null,{"$f":"+IFERROR(VLOOKUP(C1201,'Charge Conversion'!A:C,3,0),\" \")","v":" "}," "," ",null,null,null,null,null,{"$f":"VLOOKUP(D1201,'Group Name'!A:B,2,0)","v":{"$error":"#N/A"}}," "]
[null,null,null,null,null,null,null,null,null,{"$f":"+IFERROR(VLOOKUP(C1202,'Charge Conversion'!A:C,3,0),\" \")","v":" "}," "," ",null,null,null,null,null,{"$f":"VLOOKUP(D1202,'Group Name'!A:B,2,0)","v":{"$error":"#N/A"}}," "]
[null,null,null,null,null,null,null,null,null,{"$f":"+IFERROR(VLOOKUP(C1203,'Charge Conversion'!A:C,3,0),\" \")","v":" "}," "," ",null,null,null,null,null,{"$f":"VLOOKUP(D1203,'Group Name'!A:B,2,0)","v":{"$error":"#N/A"}}," "]
[null,null,null,null,null,null,null,null,null,{"$f":"+IFERROR(VLOOKUP(C1204,'Charge Conversion'!A:C,3,0),\" \")","v":" "}," "," ",null,null,null,null,null,{"$f":"VLOOKUP(D1204,'Group Name'!A:B,2,0)","v":{"$error":"#N/A"}}," "]
[null,null,null,null,null,null,null,null,null,{"$f":"+IFERROR(VLOOKUP(C1205,'Charge Conversion'!A:C,3,0),\" \")","v":" "}," "," ",null,null,null,null,null,{"$f":"VLOOKUP(D1205,'Group Name'!A:B,2,0)","v":{"$error":"#N/A"}}," "]
[null,null,null,null,null,null,null,null,null,{"$f":"+IFERROR(VLOOKUP(C1206,'Charge Conversion'!A:C,3,0),\" \")","v":" "}," "," ",null,null,null,null,null,{"$f":"VLOOKUP(D1206,'Group Name'!A:B,2,0)","v":{"$error":"#N/A"}}," "]
[null,null,null,null,null,null,null,null,null,{"$f":"+IFERROR(VLOOKUP(C1207,'Charge Conversion'!A:C,3,0),\" \")","v":" "}," "," ",null,null,null,null,null,{"$f":"VLOOKUP(D1207,'Group Name'!A:B,2,0)","v":{"$error":"#N/A"}}," "]
[null,null,null,null,null,null,null,null,null,{"$f":"+IFERROR(VLOOKUP(C1208,'Charge Conversion'!A:C,3,0),\" \")","v":" "}," "," ",null,null,null,null,null,{"$f":"VLOOKUP(D1208,'Group Name'!A:B,2,0)","v":{"$error":"#N/A"}}," "]
[null,null,null,null,null,null,null,null,null,{"$f":"+IFERROR(VLOOKUP(C1209,'Charge Conversion'!A:C,3,0),\" \")","v":" "}," "," ",null,null,null,null,null,{"$f":"VLOOKUP(D1209,'Group Name'!A:B,2,0)","v":{"$error":"#N/A"}}," "]
[null,null,null,null,null,null,null,null,null,{"$f":"+IFERROR(VLOOKUP(C1210,'Charge Conversion'!A:C,3,0),\" \")","v":" "}," "," ",null,null,null,null,null,{"$f":"VLOOKUP(D1210,'Group Name'!A:B,2,0)","v":{"$error":"#N/A"}}," "]
[null,null,null,null,null,null,null,null,null,{"$f":"+IFERROR(VLOOKUP(C1211,'Charge Conversion'!A:C,3,0),\" \")","v":" "}," "," ",null,null,null,null,null,{"$f":"VLOOKUP(D1211,'Group Name'!A:B,2,0)","v":{"$error":"#N/A"}}," "]
[null,null,null,null,null,null,null,null,null,{"$f":"+IFERROR(VLOOKUP(C1212,'Charge Conversion'!A:C,3,0),\" \")","v":" "}," "," ",null,null,null,null,null,{"$f":"VLOOKUP(D1212,'Group Name'!A:B,2,0)","v":{"$error":"#N/A"}}," "]
[null,null,null,null,null,null,null,null,null,{"$f":"+IFERROR(VLOOKUP(C1213,'Charge Conversion'!A:C,3,0),\" \")","v":" "}," "," ",null,null,null,null,null,{"$f":"VLOOKUP(D1213,'Group Name'!A:B,2,0)","v":{"$error":"#N/A"}}," "]
[null,null,null,null,null,null,null,null,null,{"$f":"+IFERROR(VLOOKUP(C1214,'Charge Conversion'!A:C,3,0),\" \")","v":" "}," "," ",null,null,null,null,null,{"$f":"VLOOKUP(D1214,'Group Name'!A:B,2,0)","v":{"$error":"#N/A"}}," "]
[null,null,null,null,null,null,null,null,null,{"$f":"+IFERROR(VLOOKUP(C1215,'Charge Conversion'!A:C,3,0),\" \")","v":" "}," "," ",null,null,null,null,null,{"$f":"VLOOKUP(D1215,'Group Name'!A:B,2,0)","v":{"$error":"#N/A"}}," "]
[null,null,null,null,null,null,null,null,null,{"$f":"+IFERROR(VLOOKUP(C1216,'Charge Conversion'!A:C,3,0),\" \")","v":" "}," "," ",null,null,null,null,null,{"$f":"VLOOKUP(D1216,'Group Name'!A:B,2,0)","v":{"$error":"#N/A"}}," "]
[null,null,null,null,null,null,null,null,null,{"$f":"+IFERROR(VLOOKUP(C1217,'Charge Conversion'!A:C,3,0),\" \")","v":" "}," "," ",null,null,null,null,null,{"$f":"VLOOKUP(D1217,'Group Name'!A:B,2,0)","v":{"$error":"#N/A"}}," "]
[null,null,null,null,null,null,null,null,null,{"$f":"+IFERROR(VLOOKUP(C1218,'Charge Conversion'!A:C,3,0),\" \")","v":" "}," "," ",null,null,null,null,null,{"$f":"VLOOKUP(D1218,'Group Name'!A:B,2,0)","v":{"$error":"#N/A"}}," "]
[null,null,null,null,null,null,null,null,null,{"$f":"+IFERROR(VLOOKUP(C1219,'Charge Conversion'!A:C,3,0),\" \")","v":" "}," "," ",null,null,null,null,null,{"$f":"VLOOKUP(D1219,'Group Name'!A:B,2,0)","v":{"$error":"#N/A"}}," "]
[null,null,null,null,null,null,null,null,null,{"$f":"+IFERROR(VLOOKUP(C1220,'Charge Conversion'!A:C,3,0),\" \")","v":" "}," "," ",null,null,null,null,null,{"$f":"VLOOKUP(D1220,'Group Name'!A:B,2,0)","v":{"$error":"#N/A"}}," "]
[null,null,null,null,null,null,null,null,null,{"$f":"+IFERROR(VLOOKUP(C1221,'Charge Conversion'!A:C,3,0),\" \")","v":" "},{"$f":"+IFERROR(I1221*J1221,\" \")","v":" "},{"$f":"S1221","v":" "},null,null,null,null,null,{"$f":"VLOOKUP(D1221,'Group Name'!A:B,2,0)","v":{"$error":"#N/A"}},{"$f":"IFERROR((IF(A1221=\" \",\" \",R1221)),\" \")","v":" "}]
[null,null,null,null,null,null,null,null,null,{"$f":"+IFERROR(VLOOKUP(C1222,'Charge Conversion'!A:C,3,0),\" \")","v":" "}," "," ",null,null,null,null,null,{"$f":"VLOOKUP(D1222,'Group Name'!A:B,2,0)","v":{"$error":"#N/A"}}," "]
[null,null,null,null,null,null,null,null,null,{"$f":"+IFERROR(VLOOKUP(C1223,'Charge Conversion'!A:C,3,0),\" \")","v":" "}," "," ",null,null,null,null,null,{"$f":"VLOOKUP(D1223,'Group Name'!A:B,2,0)","v":{"$error":"#N/A"}}," "]
[null,null,null,null,null,null,null,null,null,{"$f":"+IFERROR(VLOOKUP(C1224,'Charge Conversion'!A:C,3,0),\" \")","v":" "}," "," ",null,null,null,null,null,{"$f":"VLOOKUP(D1224,'Group Name'!A:B,2,0)","v":{"$error":"#N/A"}}," "]
[null,null,null,null,null,null,null,null,null,{"$f":"+IFERROR(VLOOKUP(C1225,'Charge Conversion'!A:C,3,0),\" \")","v":" "}," "," ",null,null,null,null,null,{"$f":"VLOOKUP(D1225,'Group Name'!A:B,2,0)","v":{"$error":"#N/A"}}," "]
[null,null,null,null,null,null,null,null,null,{"$f":"+IFERROR(VLOOKUP(C1226,'Charge Conversion'!A:C,3,0),\" \")","v":" "}," "," ",null,null,null,null,null,{"$f":"VLOOKUP(D1226,'Group Name'!A:B,2,0)","v":{"$error":"#N/A"}}," "]
[null,null,null,null,null,null,null,null,null,{"$f":"+IFERROR(VLOOKUP(C1227,'Charge Conversion'!A:C,3,0),\" \")","v":" "}," "," ",null,null,null,null,null,{"$f":"VLOOKUP(D1227,'Group Name'!A:B,2,0)","v":{"$error":"#N/A"}}," "]
[null,null,null,null,null,null,null,null,null,{"$f":"+IFERROR(VLOOKUP(C1228,'Charge Conversion'!A:C,3,0),\" \")","v":" "}," "," ",null,null,null,null,null,{"$f":"VLOOKUP(D1228,'Group Name'!A:B,2,0)","v":{"$error":"#N/A"}}," "]
[null,null,null,null,null,null,null,null,null,{"$f":"+IFERROR(VLOOKUP(C1229,'Charge Conversion'!A:C,3,0),\" \")","v":" "}," "," ",null,null,null,null,null,{"$f":"VLOOKUP(D1229,'Group Name'!A:B,2,0)","v":{"$error":"#N/A"}}," "]
[null,null,null,null,null,null,null,null,null,{"$f":"+IFERROR(VLOOKUP(C1230,'Charge Conversion'!A:C,3,0),\" \")","v":" "}," "," ",null,null,null,null,null,{"$f":"VLOOKUP(D1230,'Group Name'!A:B,2,0)","v":{"$error":"#N/A"}}," "]
[null,null,null,null,null,null,null,null,null,{"$f":"+IFERROR(VLOOKUP(C1231,'Charge Conversion'!A:C,3,0),\" \")","v":" "}," "," ",null,null,null,null,null,{"$f":"VLOOKUP(D1231,'Group Name'!A:B,2,0)","v":{"$error":"#N/A"}}," "]
[null,null,null,null,null,null,null,null,null,{"$f":"+IFERROR(VLOOKUP(C1232,'Charge Conversion'!A:C,3,0),\" \")","v":" "}," "," ",null,null,null,null,null,{"$f":"VLOOKUP(D1232,'Group Name'!A:B,2,0)","v":{"$error":"#N/A"}}," "]
[null,null,null,null,null,null,null,null,null,{"$f":"+IFERROR(VLOOKUP(C1233,'Charge Conversion'!A:C,3,0),\" \")","v":" "}," "," ",null,null,null,null,null,{"$f":"VLOOKUP(D1233,'Group Name'!A:B,2,0)","v":{"$error":"#N/A"}}," "]
[null,null,null,null,null,null,null,null,null,{"$f":"+IFERROR(VLOOKUP(C1234,'Charge Conversion'!A:C,3,0),\" \")","v":" "}," "," ",null,null,null,null,null,{"$f":"VLOOKUP(D1234,'Group Name'!A:B,2,0)","v":{"$error":"#N/A"}}," "]
[null,null,null,null,null,null,null,null,null,{"$f":"+IFERROR(VLOOKUP(C1235,'Charge Conversion'!A:C,3,0),\" \")","v":" "}," "," ",null,null,null,null,null,{"$f":"VLOOKUP(D1235,'Group Name'!A:B,2,0)","v":{"$error":"#N/A"}}," "]
[null,null,null,null,null,null,null,null,null,{"$f":"+IFERROR(VLOOKUP(C1236,'Charge Conversion'!A:C,3,0),\" \")","v":" "}," "," ",null,null,null,null,null,{"$f":"VLOOKUP(D1236,'Group Name'!A:B,2,0)","v":{"$error":"#N/A"}}," "]
[null,null,null,null,null,null,null,null,null,{"$f":"+IFERROR(VLOOKUP(C1237,'Charge Conversion'!A:C,3,0),\" \")","v":" "}," "," ",null,null,null,null,null,{"$f":"VLOOKUP(D1237,'Group Name'!A:B,2,0)","v":{"$error":"#N/A"}}," "]
[null,null,null,null,null,null,null,null,null,{"$f":"+IFERROR(VLOOKUP(C1238,'Charge Conversion'!A:C,3,0),\" \")","v":" "}," "," ",null,null,null,null,null,{"$f":"VLOOKUP(D1238,'Group Name'!A:B,2,0)","v":{"$error":"#N/A"}}," "]
[null,null,null,null,null,null,null,null,null,{"$f":"+IFERROR(VLOOKUP(C1239,'Charge Conversion'!A:C,3,0),\" \")","v":" "}," "," ",null,null,null,null,null,{"$f":"VLOOKUP(D1239,'Group Name'!A:B,2,0)","v":{"$error":"#N/A"}}," "]
[null,null,null,null,null,null,null,null,null,{"$f":"+IFERROR(VLOOKUP(C1240,'Charge Conversion'!A:C,3,0),\" \")","v":" "}," "," ",null,null,null,null,null,{"$f":"VLOOKUP(D1240,'Group Name'!A:B,2,0)","v":{"$error":"#N/A"}}," "]
[null,null,null,null,null,null,null,null,null,{"$f":"+IFERROR(VLOOKUP(C1241,'Charge Conversion'!A:C,3,0),\" \")","v":" "}," "," ",null,null,null,null,null,{"$f":"VLOOKUP(D1241,'Group Name'!A:B,2,0)","v":{"$error":"#N/A"}}," "]
[null,null,null,null,null,null,null,null,null,{"$f":"+IFERROR(VLOOKUP(C1242,'Charge Conversion'!A:C,3,0),\" \")","v":" "}," "," ",null,null,null,null,null,{"$f":"VLOOKUP(D1242,'Group Name'!A:B,2,0)","v":{"$error":"#N/A"}}," "]
[null,null,null,null,null,null,null,null,null,{"$f":"+IFERROR(VLOOKUP(C1243,'Charge Conversion'!A:C,3,0),\" \")","v":" "}," "," ",null,null,null,null,null,{"$f":"VLOOKUP(D1243,'Group Name'!A:B,2,0)","v":{"$error":"#N/A"}}," "]
[null,null,null,null,null,null,null,null,null,{"$f":"+IFERROR(VLOOKUP(C1244,'Charge Conversion'!A:C,3,0),\" \")","v":" "}," "," ",null,null,null,null,null,{"$f":"VLOOKUP(D1244,'Group Name'!A:B,2,0)","v":{"$error":"#N/A"}}," "]
[null,null,null,null,null,null,null,null,null,{"$f":"+IFERROR(VLOOKUP(C1245,'Charge Conversion'!A:C,3,0),\" \")","v":" "}," "," ",null,null,null,null,null,{"$f":"VLOOKUP(D1245,'Group Name'!A:B,2,0)","v":{"$error":"#N/A"}}," "]
[null,null,null,null,null,null,null,null,null,{"$f":"+IFERROR(VLOOKUP(C1246,'Charge Conversion'!A:C,3,0),\" \")","v":" "}," "," ",null,null,null,null,null,{"$f":"VLOOKUP(D1246,'Group Name'!A:B,2,0)","v":{"$error":"#N/A"}}," "]
[null,null,null,null,null,null,null,null,null,{"$f":"+IFERROR(VLOOKUP(C1247,'Charge Conversion'!A:C,3,0),\" \")","v":" "}," "," ",null,null,null,null,null,{"$f":"VLOOKUP(D1247,'Group Name'!A:B,2,0)","v":{"$error":"#N/A"}}," "]
[null,null,null,null,null,null,null,null,null,{"$f":"+IFERROR(VLOOKUP(C1248,'Charge Conversion'!A:C,3,0),\" \")","v":" "}," "," ",null,null,null,null,null,{"$f":"VLOOKUP(D1248,'Group Name'!A:B,2,0)","v":{"$error":"#N/A"}}," "]
[null,null,null,null,null,null,null,null,null,{"$f":"+IFERROR(VLOOKUP(C1249,'Charge Conversion'!A:C,3,0),\" \")","v":" "}," "," ",null,null,null,null,null,{"$f":"VLOOKUP(D1249,'Group Name'!A:B,2,0)","v":{"$error":"#N/A"}}," "]
[null,null,null,null,null,null,null,null,null,{"$f":"+IFERROR(VLOOKUP(C1250,'Charge Conversion'!A:C,3,0),\" \")","v":" "}," "," ",null,null,null,null,null,{"$f":"VLOOKUP(D1250,'Group Name'!A:B,2,0)","v":{"$error":"#N/A"}}," "]
[null,null,null,null,null,null,null,null,null,{"$f":"+IFERROR(VLOOKUP(C1251,'Charge Conversion'!A:C,3,0),\" \")","v":" "}," "," ",null,null,null,null,null,{"$f":"VLOOKUP(D1251,'Group Name'!A:B,2,0)","v":{"$error":"#N/A"}}," "]
[null,null,null,null,null,null,null,null,null,{"$f":"+IFERROR(VLOOKUP(C1252,'Charge Conversion'!A:C,3,0),\" \")","v":" "}," "," ",null,null,null,null,null,{"$f":"VLOOKUP(D1252,'Group Name'!A:B,2,0)","v":{"$error":"#N/A"}}," "]
[null,null,null,null,null,null,null,null,null,{"$f":"+IFERROR(VLOOKUP(C1253,'Charge Conversion'!A:C,3,0),\" \")","v":" "}," "," ",null,null,null,null,null,{"$f":"VLOOKUP(D1253,'Group Name'!A:B,2,0)","v":{"$error":"#N/A"}}," "]
[null,null,null,null,null,null,null,null,null,{"$f":"+IFERROR(VLOOKUP(C1254,'Charge Conversion'!A:C,3,0),\" \")","v":" "}," "," ",null,null,null,null,null,{"$f":"VLOOKUP(D1254,'Group Name'!A:B,2,0)","v":{"$error":"#N/A"}}," "]
[null,null,null,null,null,null,null,null,null,{"$f":"+IFERROR(VLOOKUP(C1255,'Charge Conversion'!A:C,3,0),\" \")","v":" "}," "," ",null,null,null,null,null,{"$f":"VLOOKUP(D1255,'Group Name'!A:B,2,0)","v":{"$error":"#N/A"}}," "]
[null,null,null,null,null,null,null,null,null,{"$f":"+IFERROR(VLOOKUP(C1256,'Charge Conversion'!A:C,3,0),\" \")","v":" "}," "," ",null,null,null,null,null,{"$f":"VLOOKUP(D1256,'Group Name'!A:B,2,0)","v":{"$error":"#N/A"}}," "]
[null,null,null,null,null,null,null,null,null,{"$f":"+IFERROR(VLOOKUP(C1257,'Charge Conversion'!A:C,3,0),\" \")","v":" "}," "," ",null,null,null,null,null,{"$f":"VLOOKUP(D1257,'Group Name'!A:B,2,0)","v":{"$error":"#N/A"}}," "]
[null,null,null,null,null,null,null,null,null,{"$f":"+IFERROR(VLOOKUP(C1258,'Charge Conversion'!A:C,3,0),\" \")","v":" "}," "," ",null,null,null,null,null,{"$f":"VLOOKUP(D1258,'Group Name'!A:B,2,0)","v":{"$error":"#N/A"}}," "]
[null,null,null,null,null,null,null,null,null,{"$f":"+IFERROR(VLOOKUP(C1259,'Charge Conversion'!A:C,3,0),\" \")","v":" "}," "," ",null,null,null,null,null,{"$f":"VLOOKUP(D1259,'Group Name'!A:B,2,0)","v":{"$error":"#N/A"}}," "]
[null,null,null,null,null,null,null,null,null,{"$f":"+IFERROR(VLOOKUP(C1260,'Charge Conversion'!A:C,3,0),\" \")","v":" "}," "," ",null,null,null,null,null,{"$f":"VLOOKUP(D1260,'Group Name'!A:B,2,0)","v":{"$error":"#N/A"}}," "]
[null,null,null,null,null,null,null,null,null,{"$f":"+IFERROR(VLOOKUP(C1261,'Charge Conversion'!A:C,3,0),\" \")","v":" "}," "," ",null,null,null,null,null,{"$f":"VLOOKUP(D1261,'Group Name'!A:B,2,0)","v":{"$error":"#N/A"}}," "]
[null,null,null,null,null,null,null,null,null,{"$f":"+IFERROR(VLOOKUP(C1262,'Charge Conversion'!A:C,3,0),\" \")","v":" "}," "," ",null,null,null,null,null,{"$f":"VLOOKUP(D1262,'Group Name'!A:B,2,0)","v":{"$error":"#N/A"}}," "]
[null,null,null,null,null,null,null,null,null,{"$f":"+IFERROR(VLOOKUP(C1263,'Charge Conversion'!A:C,3,0),\" \")","v":" "}," "," ",null,null,null,null,null,{"$f":"VLOOKUP(D1263,'Group Name'!A:B,2,0)","v":{"$error":"#N/A"}}," "]
[null,null,null,null,null,null,null,null,null,{"$f":"+IFERROR(VLOOKUP(C1264,'Charge Conversion'!A:C,3,0),\" \")","v":" "}," "," ",null,null,null,null,null,{"$f":"VLOOKUP(D1264,'Group Name'!A:B,2,0)","v":{"$error":"#N/A"}}," "]
[null,null,null,null,null,null,null,null,null,{"$f":"+IFERROR(VLOOKUP(C1265,'Charge Conversion'!A:C,3,0),\" \")","v":" "}," "," ",null,null,null,null,null,{"$f":"VLOOKUP(D1265,'Group Name'!A:B,2,0)","v":{"$error":"#N/A"}}," "]
[null,null,null,null,null,null,null,null,null,{"$f":"+IFERROR(VLOOKUP(C1266,'Charge Conversion'!A:C,3,0),\" \")","v":" "}," "," ",null,null,null,null,null,{"$f":"VLOOKUP(D1266,'Group Name'!A:B,2,0)","v":{"$error":"#N/A"}}," "]
[null,null,null,null,null,null,null,null,null,{"$f":"+IFERROR(VLOOKUP(C1267,'Charge Conversion'!A:C,3,0),\" \")","v":" "}," "," ",null,null,null,null,null,{"$f":"VLOOKUP(D1267,'Group Name'!A:B,2,0)","v":{"$error":"#N/A"}}," "]
[null,null,null,null,null,null,null,null,null,{"$f":"+IFERROR(VLOOKUP(C1268,'Charge Conversion'!A:C,3,0),\" \")","v":" "}," "," ",null,null,null,null,null,{"$f":"VLOOKUP(D1268,'Group Name'!A:B,2,0)","v":{"$error":"#N/A"}}," "]
[null,null,null,null,null,null,null,null,null,{"$f":"+IFERROR(VLOOKUP(C1269,'Charge Conversion'!A:C,3,0),\" \")","v":" "}," "," ",null,null,null,null,null,{"$f":"VLOOKUP(D1269,'Group Name'!A:B,2,0)","v":{"$error":"#N/A"}}," "]
[null,null,null,null,null,null,null,null,null,{"$f":"+IFERROR(VLOOKUP(C1270,'Charge Conversion'!A:C,3,0),\" \")","v":" "}," "," ",null,null,null,null,null,{"$f":"VLOOKUP(D1270,'Group Name'!A:B,2,0)","v":{"$error":"#N/A"}}," "]
[null,null,null,null,null,null,null,null,null,{"$f":"+IFERROR(VLOOKUP(C1271,'Charge Conversion'!A:C,3,0),\" \")","v":" "}," "," ",null,null,null,null,null,{"$f":"VLOOKUP(D1271,'Group Name'!A:B,2,0)","v":{"$error":"#N/A"}}," "]
[null,null,null,null,null,null,null,null,null,{"$f":"+IFERROR(VLOOKUP(C1272,'Charge Conversion'!A:C,3,0),\" \")","v":" "}," "," ",null,null,null,null,null,{"$f":"VLOOKUP(D1272,'Group Name'!A:B,2,0)","v":{"$error":"#N/A"}}," "]
[null,null,null,null,null,null,null,null,null,{"$f":"+IFERROR(VLOOKUP(C1273,'Charge Conversion'!A:C,3,0),\" \")","v":" "}," "," ",null,null,null,null,null,{"$f":"VLOOKUP(D1273,'Group Name'!A:B,2,0)","v":{"$error":"#N/A"}}," "]
[null,null,null,null,null,null,null,null,null,{"$f":"+IFERROR(VLOOKUP(C1274,'Charge Conversion'!A:C,3,0),\" \")","v":" "}," "," ",null,null,null,null,null,{"$f":"VLOOKUP(D1274,'Group Name'!A:B,2,0)","v":{"$error":"#N/A"}}," "]
[null,null,null,null,null,null,null,null,null,{"$f":"+IFERROR(VLOOKUP(C1275,'Charge Conversion'!A:C,3,0),\" \")","v":" "}," "," ",null,null,null,null,null,{"$f":"VLOOKUP(D1275,'Group Name'!A:B,2,0)","v":{"$error":"#N/A"}}," "]
[null,null,null,null,null,null,null,null,null,{"$f":"+IFERROR(VLOOKUP(C1276,'Charge Conversion'!A:C,3,0),\" \")","v":" "}," "," ",null,null,null,null,null,{"$f":"VLOOKUP(D1276,'Group Name'!A:B,2,0)","v":{"$error":"#N/A"}}," "]
[null,null,null,null,null,null,null,null,null,{"$f":"+IFERROR(VLOOKUP(C1277,'Charge Conversion'!A:C,3,0),\" \")","v":" "}," "," ",null,null,null,null,null,{"$f":"VLOOKUP(D1277,'Group Name'!A:B,2,0)","v":{"$error":"#N/A"}}," "]
[null,null,null,null,null,null,null,null,null,{"$f":"+IFERROR(VLOOKUP(C1278,'Charge Conversion'!A:C,3,0),\" \")","v":" "}," "," ",null,null,null,null,null,{"$f":"VLOOKUP(D1278,'Group Name'!A:B,2,0)","v":{"$error":"#N/A"}}," "]
[null,null,null,null,null,null,null,null,null,{"$f":"+IFERROR(VLOOKUP(C1279,'Charge Conversion'!A:C,3,0),\" \")","v":" "}," "," ",null,null,null,null,null,{"$f":"VLOOKUP(D1279,'Group Name'!A:B,2,0)","v":{"$error":"#N/A"}}," "]
[null,null,null,null,null,null,null,null,null,{"$f":"+IFERROR(VLOOKUP(C1280,'Charge Conversion'!A:C,3,0),\" \")","v":" "}," "," ",null,null,null,null,null,{"$f":"VLOOKUP(D1280,'Group Name'!A:B,2,0)","v":{"$error":"#N/A"}}," "]
[null,null,null,null,null,null,null,null,null,{"$f":"+IFERROR(VLOOKUP(C1281,'Charge Conversion'!A:C,3,0),\" \")","v":" "}," "," ",null,null,null,null,null,{"$f":"VLOOKUP(D1281,'Group Name'!A:B,2,0)","v":{"$error":"#N/A"}}," "]
[null,null,null,null,null,null,null,null,null,{"$f":"+IFERROR(VLOOKUP(C1282,'Charge Conversion'!A:C,3,0),\" \")","v":" "}," "," ",null,null,null,null,null,{"$f":"VLOOKUP(D1282,'Group Name'!A:B,2,0)","v":{"$error":"#N/A"}}," "]
[null,null,null,null,null,null,null,null,null,{"$f":"+IFERROR(VLOOKUP(C1283,'Charge Conversion'!A:C,3,0),\" \")","v":" "}," "," ",null,null,null,null,null,{"$f":"VLOOKUP(D1283,'Group Name'!A:B,2,0)","v":{"$error":"#N/A"}}," "]
[null,null,null,null,null,null,null,null,null,{"$f":"+IFERROR(VLOOKUP(C1284,'Charge Conversion'!A:C,3,0),\" \")","v":" "}," "," ",null,null,null,null,null,{"$f":"VLOOKUP(D1284,'Group Name'!A:B,2,0)","v":{"$error":"#N/A"}}," "]
[null,null,null,null,null,null,null,null,null,{"$f":"+IFERROR(VLOOKUP(C1285,'Charge Conversion'!A:C,3,0),\" \")","v":" "},{"$f":"+IFERROR(I1285*J1285,\" \")","v":" "},{"$f":"S1285","v":" "},null,null,null,null,null,{"$f":"VLOOKUP(D1285,'Group Name'!A:B,2,0)","v":{"$error":"#N/A"}},{"$f":"IFERROR((IF(A1285=\" \",\" \",R1285)),\" \")","v":" "}]
[null,null,null,null,null,null,null,null,null,{"$f":"+IFERROR(VLOOKUP(C1286,'Charge Conversion'!A:C,3,0),\" \")","v":" "}," "," ",null,null,null,null,null,{"$f":"VLOOKUP(D1286,'Group Name'!A:B,2,0)","v":{"$error":"#N/A"}}," "]
[null,null,null,null,null,null,null,null,null,{"$f":"+IFERROR(VLOOKUP(C1287,'Charge Conversion'!A:C,3,0),\" \")","v":" "}," "," ",null,null,null,null,null,{"$f":"VLOOKUP(D1287,'Group Name'!A:B,2,0)","v":{"$error":"#N/A"}}," "]
[null,null,null,null,null,null,null,null,null,{"$f":"+IFERROR(VLOOKUP(C1288,'Charge Conversion'!A:C,3,0),\" \")","v":" "}," "," ",null,null,null,null,null,{"$f":"VLOOKUP(D1288,'Group Name'!A:B,2,0)","v":{"$error":"#N/A"}}," "]
[null,null,null,null,null,null,null,null,null,{"$f":"+IFERROR(VLOOKUP(C1289,'Charge Conversion'!A:C,3,0),\" \")","v":" "}," "," ",null,null,null,null,null,{"$f":"VLOOKUP(D1289,'Group Name'!A:B,2,0)","v":{"$error":"#N/A"}}," "]
[null,null,null,null,null,null,null,null,null,{"$f":"+IFERROR(VLOOKUP(C1290,'Charge Conversion'!A:C,3,0),\" \")","v":" "}," "," ",null,null,null,null,null,{"$f":"VLOOKUP(D1290,'Group Name'!A:B,2,0)","v":{"$error":"#N/A"}}," "]
[null,null,null,null,null,null,null,null,null,{"$f":"+IFERROR(VLOOKUP(C1291,'Charge Conversion'!A:C,3,0),\" \")","v":" "}," "," ",null,null,null,null,null,{"$f":"VLOOKUP(D1291,'Group Name'!A:B,2,0)","v":{"$error":"#N/A"}}," "]
[null,null,null,null,null,null,null,null,null,{"$f":"+IFERROR(VLOOKUP(C1292,'Charge Conversion'!A:C,3,0),\" \")","v":" "}," "," ",null,null,null,null,null,{"$f":"VLOOKUP(D1292,'Group Name'!A:B,2,0)","v":{"$error":"#N/A"}}," "]
[null,null,null,null,null,null,null,null,null,{"$f":"+IFERROR(VLOOKUP(C1293,'Charge Conversion'!A:C,3,0),\" \")","v":" "}," "," ",null,null,null,null,null,{"$f":"VLOOKUP(D1293,'Group Name'!A:B,2,0)","v":{"$error":"#N/A"}}," "]
[null,null,null,null,null,null,null,null,null,{"$f":"+IFERROR(VLOOKUP(C1294,'Charge Conversion'!A:C,3,0),\" \")","v":" "}," "," ",null,null,null,null,null,{"$f":"VLOOKUP(D1294,'Group Name'!A:B,2,0)","v":{"$error":"#N/A"}}," "]
[null,null,null,null,null,null,null,null,null,{"$f":"+IFERROR(VLOOKUP(C1295,'Charge Conversion'!A:C,3,0),\" \")","v":" "}," "," ",null,null,null,null,null,{"$f":"VLOOKUP(D1295,'Group Name'!A:B,2,0)","v":{"$error":"#N/A"}}," "]
[null,null,null,null,null,null,null,null,null,{"$f":"+IFERROR(VLOOKUP(C1296,'Charge Conversion'!A:C,3,0),\" \")","v":" "}," "," ",null,null,null,null,null,{"$f":"VLOOKUP(D1296,'Group Name'!A:B,2,0)","v":{"$error":"#N/A"}}," "]
[null,null,null,null,null,null,null,null,null,{"$f":"+IFERROR(VLOOKUP(C1297,'Charge Conversion'!A:C,3,0),\" \")","v":" "}," "," ",null,null,null,null,null,{"$f":"VLOOKUP(D1297,'Group Name'!A:B,2,0)","v":{"$error":"#N/A"}}," "]
[null,null,null,null,null,null,null,null,null,{"$f":"+IFERROR(VLOOKUP(C1298,'Charge Conversion'!A:C,3,0),\" \")","v":" "}," "," ",null,null,null,null,null,{"$f":"VLOOKUP(D1298,'Group Name'!A:B,2,0)","v":{"$error":"#N/A"}}," "]
[null,null,null,null,null,null,null,null,null,{"$f":"+IFERROR(VLOOKUP(C1299,'Charge Conversion'!A:C,3,0),\" \")","v":" "}," "," ",null,null,null,null,null,{"$f":"VLOOKUP(D1299,'Group Name'!A:B,2,0)","v":{"$error":"#N/A"}}," "]
[null,null,null,null,null,null,null,null,null,{"$f":"+IFERROR(VLOOKUP(C1300,'Charge Conversion'!A:C,3,0),\" \")","v":" "}," "," ",null,null,null,null,null,{"$f":"VLOOKUP(D1300,'Group Name'!A:B,2,0)","v":{"$error":"#N/A"}}," "]
[null,null,null,null,null,null,null,null,null,{"$f":"+IFERROR(VLOOKUP(C1301,'Charge Conversion'!A:C,3,0),\" \")","v":" "}," "," ",null,null,null,null,null,{"$f":"VLOOKUP(D1301,'Group Name'!A:B,2,0)","v":{"$error":"#N/A"}}," "]
[null,null,null,null,null,null,null,null,null,{"$f":"+IFERROR(VLOOKUP(C1302,'Charge Conversion'!A:C,3,0),\" \")","v":" "}," "," ",null,null,null,null,null,{"$f":"VLOOKUP(D1302,'Group Name'!A:B,2,0)","v":{"$error":"#N/A"}}," "]
[null,null,null,null,null,null,null,null,null,{"$f":"+IFERROR(VLOOKUP(C1303,'Charge Conversion'!A:C,3,0),\" \")","v":" "}," "," ",null,null,null,null,null,{"$f":"VLOOKUP(D1303,'Group Name'!A:B,2,0)","v":{"$error":"#N/A"}}," "]
[null,null,null,null,null,null,null,null,null,{"$f":"+IFERROR(VLOOKUP(C1304,'Charge Conversion'!A:C,3,0),\" \")","v":" "}," "," ",null,null,null,null,null,{"$f":"VLOOKUP(D1304,'Group Name'!A:B,2,0)","v":{"$error":"#N/A"}}," "]
[null,null,null,null,null,null,null,null,null,{"$f":"+IFERROR(VLOOKUP(C1305,'Charge Conversion'!A:C,3,0),\" \")","v":" "}," "," ",null,null,null,null,null,{"$f":"VLOOKUP(D1305,'Group Name'!A:B,2,0)","v":{"$error":"#N/A"}}," "]
[null,null,null,null,null,null,null,null,null,{"$f":"+IFERROR(VLOOKUP(C1306,'Charge Conversion'!A:C,3,0),\" \")","v":" "}," "," ",null,null,null,null,null,{"$f":"VLOOKUP(D1306,'Group Name'!A:B,2,0)","v":{"$error":"#N/A"}}," "]
[null,null,null,null,null,null,null,null,null,{"$f":"+IFERROR(VLOOKUP(C1307,'Charge Conversion'!A:C,3,0),\" \")","v":" "}," "," ",null,null,null,null,null,{"$f":"VLOOKUP(D1307,'Group Name'!A:B,2,0)","v":{"$error":"#N/A"}}," "]
[null,null,null,null,null,null,null,null,null,{"$f":"+IFERROR(VLOOKUP(C1308,'Charge Conversion'!A:C,3,0),\" \")","v":" "}," "," ",null,null,null,null,null,{"$f":"VLOOKUP(D1308,'Group Name'!A:B,2,0)","v":{"$error":"#N/A"}}," "]
[null,null,null,null,null,null,null,null,null,{"$f":"+IFERROR(VLOOKUP(C1309,'Charge Conversion'!A:C,3,0),\" \")","v":" "}," "," ",null,null,null,null,null,{"$f":"VLOOKUP(D1309,'Group Name'!A:B,2,0)","v":{"$error":"#N/A"}}," "]
[null,null,null,null,null,null,null,null,null,{"$f":"+IFERROR(VLOOKUP(C1310,'Charge Conversion'!A:C,3,0),\" \")","v":" "}," "," ",null,null,null,null,null,{"$f":"VLOOKUP(D1310,'Group Name'!A:B,2,0)","v":{"$error":"#N/A"}}," "]
[null,null,null,null,null,null,null,null,null,{"$f":"+IFERROR(VLOOKUP(C1311,'Charge Conversion'!A:C,3,0),\" \")","v":" "}," "," ",null,null,null,null,null,{"$f":"VLOOKUP(D1311,'Group Name'!A:B,2,0)","v":{"$error":"#N/A"}}," "]
[null,null,null,null,null,null,null,null,null,{"$f":"+IFERROR(VLOOKUP(C1312,'Charge Conversion'!A:C,3,0),\" \")","v":" "}," "," ",null,null,null,null,null,{"$f":"VLOOKUP(D1312,'Group Name'!A:B,2,0)","v":{"$error":"#N/A"}}," "]
[null,null,null,null,null,null,null,null,null,{"$f":"+IFERROR(VLOOKUP(C1313,'Charge Conversion'!A:C,3,0),\" \")","v":" "}," "," ",null,null,null,null,null,{"$f":"VLOOKUP(D1313,'Group Name'!A:B,2,0)","v":{"$error":"#N/A"}}," "]
[null,null,null,null,null,null,null,null,null,{"$f":"+IFERROR(VLOOKUP(C1314,'Charge Conversion'!A:C,3,0),\" \")","v":" "}," "," ",null,null,null,null,null,{"$f":"VLOOKUP(D1314,'Group Name'!A:B,2,0)","v":{"$error":"#N/A"}}," "]
[null,null,null,null,null,null,null,null,null,{"$f":"+IFERROR(VLOOKUP(C1315,'Charge Conversion'!A:C,3,0),\" \")","v":" "}," "," ",null,null,null,null,null,{"$f":"VLOOKUP(D1315,'Group Name'!A:B,2,0)","v":{"$error":"#N/A"}}," "]
[null,null,null,null,null,null,null,null,null,{"$f":"+IFERROR(VLOOKUP(C1316,'Charge Conversion'!A:C,3,0),\" \")","v":" "}," "," ",null,null,null,null,null,{"$f":"VLOOKUP(D1316,'Group Name'!A:B,2,0)","v":{"$error":"#N/A"}}," "]
[null,null,null,null,null,null,null,null,null,{"$f":"+IFERROR(VLOOKUP(C1317,'Charge Conversion'!A:C,3,0),\" \")","v":" "}," "," ",null,null,null,null,null,{"$f":"VLOOKUP(D1317,'Group Name'!A:B,2,0)","v":{"$error":"#N/A"}}," "]
[null,null,null,null,null,null,null,null,null,{"$f":"+IFERROR(VLOOKUP(C1318,'Charge Conversion'!A:C,3,0),\" \")","v":" "}," "," ",null,null,null,null,null,{"$f":"VLOOKUP(D1318,'Group Name'!A:B,2,0)","v":{"$error":"#N/A"}}," "]
[null,null,null,null,null,null,null,null,null,{"$f":"+IFERROR(VLOOKUP(C1319,'Charge Conversion'!A:C,3,0),\" \")","v":" "}," "," ",null,null,null,null,null,{"$f":"VLOOKUP(D1319,'Group Name'!A:B,2,0)","v":{"$error":"#N/A"}}," "]
[null,null,null,null,null,null,null,null,null,{"$f":"+IFERROR(VLOOKUP(C1320,'Charge Conversion'!A:C,3,0),\" \")","v":" "}," "," ",null,null,null,null,null,{"$f":"VLOOKUP(D1320,'Group Name'!A:B,2,0)","v":{"$error":"#N/A"}}," "]
[null,null,null,null,null,null,null,null,null,{"$f":"+IFERROR(VLOOKUP(C1321,'Charge Conversion'!A:C,3,0),\" \")","v":" "}," "," ",null,null,null,null,null,{"$f":"VLOOKUP(D1321,'Group Name'!A:B,2,0)","v":{"$error":"#N/A"}}," "]
[null,null,null,null,null,null,null,null,null,{"$f":"+IFERROR(VLOOKUP(C1322,'Charge Conversion'!A:C,3,0),\" \")","v":" "}," "," ",null,null,null,null,null,{"$f":"VLOOKUP(D1322,'Group Name'!A:B,2,0)","v":{"$error":"#N/A"}}," "]
[null,null,null,null,null,null,null,null,null,{"$f":"+IFERROR(VLOOKUP(C1323,'Charge Conversion'!A:C,3,0),\" \")","v":" "}," "," ",null,null,null,null,null,{"$f":"VLOOKUP(D1323,'Group Name'!A:B,2,0)","v":{"$error":"#N/A"}}," "]
[null,null,null,null,null,null,null,null,null,{"$f":"+IFERROR(VLOOKUP(C1324,'Charge Conversion'!A:C,3,0),\" \")","v":" "}," "," ",null,null,null,null,null,{"$f":"VLOOKUP(D1324,'Group Name'!A:B,2,0)","v":{"$error":"#N/A"}}," "]
[null,null,null,null,null,null,null,null,null,{"$f":"+IFERROR(VLOOKUP(C1325,'Charge Conversion'!A:C,3,0),\" \")","v":" "}," "," ",null,null,null,null,null,{"$f":"VLOOKUP(D1325,'Group Name'!A:B,2,0)","v":{"$error":"#N/A"}}," "]
[null,null,null,null,null,null,null,null,null,{"$f":"+IFERROR(VLOOKUP(C1326,'Charge Conversion'!A:C,3,0),\" \")","v":" "}," "," ",null,null,null,null,null,{"$f":"VLOOKUP(D1326,'Group Name'!A:B,2,0)","v":{"$error":"#N/A"}}," "]
[null,null,null,null,null,null,null,null,null,{"$f":"+IFERROR(VLOOKUP(C1327,'Charge Conversion'!A:C,3,0),\" \")","v":" "}," "," ",null,null,null,null,null,{"$f":"VLOOKUP(D1327,'Group Name'!A:B,2,0)","v":{"$error":"#N/A"}}," "]
[null,null,null,null,null,null,null,null,null,{"$f":"+IFERROR(VLOOKUP(C1328,'Charge Conversion'!A:C,3,0),\" \")","v":" "}," "," ",null,null,null,null,null,{"$f":"VLOOKUP(D1328,'Group Name'!A:B,2,0)","v":{"$error":"#N/A"}}," "]
[null,null,null,null,null,null,null,null,null,{"$f":"+IFERROR(VLOOKUP(C1329,'Charge Conversion'!A:C,3,0),\" \")","v":" "}," "," ",null,null,null,null,null,{"$f":"VLOOKUP(D1329,'Group Name'!A:B,2,0)","v":{"$error":"#N/A"}}," "]
[null,null,null,null,null,null,null,null,null,{"$f":"+IFERROR(VLOOKUP(C1330,'Charge Conversion'!A:C,3,0),\" \")","v":" "}," "," ",null,null,null,null,null,{"$f":"VLOOKUP(D1330,'Group Name'!A:B,2,0)","v":{"$error":"#N/A"}}," "]
[null,null,null,null,null,null,null,null,null,{"$f":"+IFERROR(VLOOKUP(C1331,'Charge Conversion'!A:C,3,0),\" \")","v":" "}," "," ",null,null,null,null,null,{"$f":"VLOOKUP(D1331,'Group Name'!A:B,2,0)","v":{"$error":"#N/A"}}," "]
[null,null,null,null,null,null,null,null,null,{"$f":"+IFERROR(VLOOKUP(C1332,'Charge Conversion'!A:C,3,0),\" \")","v":" "}," "," ",null,null,null,null,null,{"$f":"VLOOKUP(D1332,'Group Name'!A:B,2,0)","v":{"$error":"#N/A"}}," "]
[null,null,null,null,null,null,null,null,null,{"$f":"+IFERROR(VLOOKUP(C1333,'Charge Conversion'!A:C,3,0),\" \")","v":" "}," "," ",null,null,null,null,null,{"$f":"VLOOKUP(D1333,'Group Name'!A:B,2,0)","v":{"$error":"#N/A"}}," "]
[null,null,null,null,null,null,null,null,null,{"$f":"+IFERROR(VLOOKUP(C1334,'Charge Conversion'!A:C,3,0),\" \")","v":" "}," "," ",null,null,null,null,null,{"$f":"VLOOKUP(D1334,'Group Name'!A:B,2,0)","v":{"$error":"#N/A"}}," "]
[null,null,null,null,null,null,null,null,null,{"$f":"+IFERROR(VLOOKUP(C1335,'Charge Conversion'!A:C,3,0),\" \")","v":" "}," "," ",null,null,null,null,null,{"$f":"VLOOKUP(D1335,'Group Name'!A:B,2,0)","v":{"$error":"#N/A"}}," "]
[null,null,null,null,null,null,null,null,null,{"$f":"+IFERROR(VLOOKUP(C1336,'Charge Conversion'!A:C,3,0),\" \")","v":" "}," "," ",null,null,null,null,null,{"$f":"VLOOKUP(D1336,'Group Name'!A:B,2,0)","v":{"$error":"#N/A"}}," "]
[null,null,null,null,null,null,null,null,null,{"$f":"+IFERROR(VLOOKUP(C1337,'Charge Conversion'!A:C,3,0),\" \")","v":" "}," "," ",null,null,null,null,null,{"$f":"VLOOKUP(D1337,'Group Name'!A:B,2,0)","v":{"$error":"#N/A"}}," "]
[null,null,null,null,null,null,null,null,null,{"$f":"+IFERROR(VLOOKUP(C1338,'Charge Conversion'!A:C,3,0),\" \")","v":" "}," "," ",null,null,null,null,null,{"$f":"VLOOKUP(D1338,'Group Name'!A:B,2,0)","v":{"$error":"#N/A"}}," "]
[null,null,null,null,null,null,null,null,null,{"$f":"+IFERROR(VLOOKUP(C1339,'Charge Conversion'!A:C,3,0),\" \")","v":" "}," "," ",null,null,null,null,null,{"$f":"VLOOKUP(D1339,'Group Name'!A:B,2,0)","v":{"$error":"#N/A"}}," "]
[null,null,null,null,null,null,null,null,null,{"$f":"+IFERROR(VLOOKUP(C1340,'Charge Conversion'!A:C,3,0),\" \")","v":" "}," "," ",null,null,null,null,null,{"$f":"VLOOKUP(D1340,'Group Name'!A:B,2,0)","v":{"$error":"#N/A"}}," "]
[null,null,null,null,null,null,null,null,null,{"$f":"+IFERROR(VLOOKUP(C1341,'Charge Conversion'!A:C,3,0),\" \")","v":" "}," "," ",null,null,null,null,null,{"$f":"VLOOKUP(D1341,'Group Name'!A:B,2,0)","v":{"$error":"#N/A"}}," "]
[null,null,null,null,null,null,null,null,null,{"$f":"+IFERROR(VLOOKUP(C1342,'Charge Conversion'!A:C,3,0),\" \")","v":" "}," ",{"$f":"S1342","v":" "},null,null,null,null,null,{"$f":"VLOOKUP(D1342,'Group Name'!A:B,2,0)","v":{"$error":"#N/A"}}," "]
[null,null,null,null,null,null,null,null,null,{"$f":"+IFERROR(VLOOKUP(C1343,'Charge Conversion'!A:C,3,0),\" \")","v":" "}," "," ",null,null,null,null,null,{"$f":"VLOOKUP(D1343,'Group Name'!A:B,2,0)","v":{"$error":"#N/A"}}," "]
[null,null,null,null,null,null,null,null,null,{"$f":"+IFERROR(VLOOKUP(C1344,'Charge Conversion'!A:C,3,0),\" \")","v":" "}," "," ",null,null,null,null,null,{"$f":"VLOOKUP(D1344,'Group Name'!A:B,2,0)","v":{"$error":"#N/A"}}," "]
[null,null,null,null,null,null,null,null,null,{"$f":"+IFERROR(VLOOKUP(C1345,'Charge Conversion'!A:C,3,0),\" \")","v":" "}," "," ",null,null,null,null,null,{"$f":"VLOOKUP(D1345,'Group Name'!A:B,2,0)","v":{"$error":"#N/A"}}," "]
[null,null,null,null,null,null,null,null,null,{"$f":"+IFERROR(VLOOKUP(C1346,'Charge Conversion'!A:C,3,0),\" \")","v":" "}," "," ",null,null,null,null,null,{"$f":"VLOOKUP(D1346,'Group Name'!A:B,2,0)","v":{"$error":"#N/A"}}," "]
[null,null,null,null,null,null,null,null,null,{"$f":"+IFERROR(VLOOKUP(C1347,'Charge Conversion'!A:C,3,0),\" \")","v":" "}," "," ",null,null,null,null,null,{"$f":"VLOOKUP(D1347,'Group Name'!A:B,2,0)","v":{"$error":"#N/A"}}," "]
[null,null,null,null,null,null,null,null,null,{"$f":"+IFERROR(VLOOKUP(C1348,'Charge Conversion'!A:C,3,0),\" \")","v":" "}," "," ",null,null,null,null,null,{"$f":"VLOOKUP(D1348,'Group Name'!A:B,2,0)","v":{"$error":"#N/A"}}," "]
[null,null,null,null,null,null,null,null,null,{"$f":"+IFERROR(VLOOKUP(C1349,'Charge Conversion'!A:C,3,0),\" \")","v":" "},{"$f":"+IFERROR(I1349*J1349,\" \")","v":" "},{"$f":"S1349","v":" "},null,null,null,null,null,{"$f":"VLOOKUP(D1349,'Group Name'!A:B,2,0)","v":{"$error":"#N/A"}},{"$f":"IFERROR((IF(A1349=\" \",\" \",R1349)),\" \")","v":" "}]
[null,null,null,null,null,null,null,null,null,{"$f":"+IFERROR(VLOOKUP(C1350,'Charge Conversion'!A:C,3,0),\" \")","v":" "}," "," ",null,null,null,null,null,{"$f":"VLOOKUP(D1350,'Group Name'!A:B,2,0)","v":{"$error":"#N/A"}}," "]
[null,null,null,null,null,null,null,null,null,{"$f":"+IFERROR(VLOOKUP(C1351,'Charge Conversion'!A:C,3,0),\" \")","v":" "}," "," ",null,null,null,null,null,{"$f":"VLOOKUP(D1351,'Group Name'!A:B,2,0)","v":{"$error":"#N/A"}}," "]
[null,null,null,null,null,null,null,null,null,{"$f":"+IFERROR(VLOOKUP(C1352,'Charge Conversion'!A:C,3,0),\" \")","v":" "}," "," ",null,null,null,null,null,{"$f":"VLOOKUP(D1352,'Group Name'!A:B,2,0)","v":{"$error":"#N/A"}}," "]
[null,null,null,null,null,null,null,null,null,{"$f":"+IFERROR(VLOOKUP(C1353,'Charge Conversion'!A:C,3,0),\" \")","v":" "}," "," ",null,null,null,null,null,{"$f":"VLOOKUP(D1353,'Group Name'!A:B,2,0)","v":{"$error":"#N/A"}}," "]
[null,null,null,null,null,null,null,null,null,{"$f":"+IFERROR(VLOOKUP(C1354,'Charge Conversion'!A:C,3,0),\" \")","v":" "}," "," ",null,null,null,null,null,{"$f":"VLOOKUP(D1354,'Group Name'!A:B,2,0)","v":{"$error":"#N/A"}}," "]
[null,null,null,null,null,null,null,null,null,{"$f":"+IFERROR(VLOOKUP(C1355,'Charge Conversion'!A:C,3,0),\" \")","v":" "}," "," ",null,null,null,null,null,{"$f":"VLOOKUP(D1355,'Group Name'!A:B,2,0)","v":{"$error":"#N/A"}}," "]
[null,null,null,null,null,null,null,null,null,{"$f":"+IFERROR(VLOOKUP(C1356,'Charge Conversion'!A:C,3,0),\" \")","v":" "}," "," ",null,null,null,null,null,{"$f":"VLOOKUP(D1356,'Group Name'!A:B,2,0)","v":{"$error":"#N/A"}}," "]
[null,null,null,null,null,null,null,null,null,{"$f":"+IFERROR(VLOOKUP(C1357,'Charge Conversion'!A:C,3,0),\" \")","v":" "}," "," ",null,null,null,null,null,{"$f":"VLOOKUP(D1357,'Group Name'!A:B,2,0)","v":{"$error":"#N/A"}}," "]
[null,null,null,null,null,null,null,null,null,{"$f":"+IFERROR(VLOOKUP(C1358,'Charge Conversion'!A:C,3,0),\" \")","v":" "}," "," ",null,null,null,null,null,{"$f":"VLOOKUP(D1358,'Group Name'!A:B,2,0)","v":{"$error":"#N/A"}}," "]
[null,null,null,null,null,null,null,null,null,{"$f":"+IFERROR(VLOOKUP(C1359,'Charge Conversion'!A:C,3,0),\" \")","v":" "}," "," ",null,null,null,null,null,{"$f":"VLOOKUP(D1359,'Group Name'!A:B,2,0)","v":{"$error":"#N/A"}}," "]
[null,null,null,null,null,null,null,null,null,{"$f":"+IFERROR(VLOOKUP(C1360,'Charge Conversion'!A:C,3,0),\" \")","v":" "}," "," ",null,null,null,null,null,{"$f":"VLOOKUP(D1360,'Group Name'!A:B,2,0)","v":{"$error":"#N/A"}}," "]
[null,null,null,null,null,null,null,null,null,{"$f":"+IFERROR(VLOOKUP(C1361,'Charge Conversion'!A:C,3,0),\" \")","v":" "}," "," ",null,null,null,null,null,{"$f":"VLOOKUP(D1361,'Group Name'!A:B,2,0)","v":{"$error":"#N/A"}}," "]
[null,null,null,null,null,null,null,null,null,{"$f":"+IFERROR(VLOOKUP(C1362,'Charge Conversion'!A:C,3,0),\" \")","v":" "}," "," ",null,null,null,null,null,{"$f":"VLOOKUP(D1362,'Group Name'!A:B,2,0)","v":{"$error":"#N/A"}}," "]
[null,null,null,null,null,null,null,null,null,{"$f":"+IFERROR(VLOOKUP(C1363,'Charge Conversion'!A:C,3,0),\" \")","v":" "}," "," ",null,null,null,null,null,{"$f":"VLOOKUP(D1363,'Group Name'!A:B,2,0)","v":{"$error":"#N/A"}}," "]
[null,null,null,null,null,null,null,null,null,{"$f":"+IFERROR(VLOOKUP(C1364,'Charge Conversion'!A:C,3,0),\" \")","v":" "}," "," ",null,null,null,null,null,{"$f":"VLOOKUP(D1364,'Group Name'!A:B,2,0)","v":{"$error":"#N/A"}}," "]
[null,null,null,null,null,null,null,null,null,{"$f":"+IFERROR(VLOOKUP(C1365,'Charge Conversion'!A:C,3,0),\" \")","v":" "}," "," ",null,null,null,null,null,{"$f":"VLOOKUP(D1365,'Group Name'!A:B,2,0)","v":{"$error":"#N/A"}}," "]
[null,null,null,null,null,null,null,null,null,{"$f":"+IFERROR(VLOOKUP(C1366,'Charge Conversion'!A:C,3,0),\" \")","v":" "}," "," ",null,null,null,null,null,{"$f":"VLOOKUP(D1366,'Group Name'!A:B,2,0)","v":{"$error":"#N/A"}}," "]
[null,null,null,null,null,null,null,null,null,{"$f":"+IFERROR(VLOOKUP(C1367,'Charge Conversion'!A:C,3,0),\" \")","v":" "}," "," ",null,null,null,null,null,{"$f":"VLOOKUP(D1367,'Group Name'!A:B,2,0)","v":{"$error":"#N/A"}}," "]
[null,null,null,null,null,null,null,null,null,{"$f":"+IFERROR(VLOOKUP(C1368,'Charge Conversion'!A:C,3,0),\" \")","v":" "}," "," ",null,null,null,null,null,{"$f":"VLOOKUP(D1368,'Group Name'!A:B,2,0)","v":{"$error":"#N/A"}}," "]
[null,null,null,null,null,null,null,null,null,{"$f":"+IFERROR(VLOOKUP(C1369,'Charge Conversion'!A:C,3,0),\" \")","v":" "}," "," ",null,null,null,null,null,{"$f":"VLOOKUP(D1369,'Group Name'!A:B,2,0)","v":{"$error":"#N/A"}}," "]
[null,null,null,null,null,null,null,null,null,{"$f":"+IFERROR(VLOOKUP(C1370,'Charge Conversion'!A:C,3,0),\" \")","v":" "}," "," ",null,null,null,null,null,{"$f":"VLOOKUP(D1370,'Group Name'!A:B,2,0)","v":{"$error":"#N/A"}}," "]
[null,null,null,null,null,null,null,null,null,{"$f":"+IFERROR(VLOOKUP(C1371,'Charge Conversion'!A:C,3,0),\" \")","v":" "}," "," ",null,null,null,null,null,{"$f":"VLOOKUP(D1371,'Group Name'!A:B,2,0)","v":{"$error":"#N/A"}}," "]
[null,null,null,null,null,null,null,null,null,{"$f":"+IFERROR(VLOOKUP(C1372,'Charge Conversion'!A:C,3,0),\" \")","v":" "}," "," ",null,null,null,null,null,{"$f":"VLOOKUP(D1372,'Group Name'!A:B,2,0)","v":{"$error":"#N/A"}}," "]
[null,null,null,null,null,null,null,null,null,{"$f":"+IFERROR(VLOOKUP(C1373,'Charge Conversion'!A:C,3,0),\" \")","v":" "}," "," ",null,null,null,null,null,{"$f":"VLOOKUP(D1373,'Group Name'!A:B,2,0)","v":{"$error":"#N/A"}}," "]
[null,null,null,null,null,null,null,null,null,{"$f":"+IFERROR(VLOOKUP(C1374,'Charge Conversion'!A:C,3,0),\" \")","v":" "}," "," ",null,null,null,null,null,{"$f":"VLOOKUP(D1374,'Group Name'!A:B,2,0)","v":{"$error":"#N/A"}}," "]
[null,null,null,null,null,null,null,null,null,{"$f":"+IFERROR(VLOOKUP(C1375,'Charge Conversion'!A:C,3,0),\" \")","v":" "}," "," ",null,null,null,null,null,{"$f":"VLOOKUP(D1375,'Group Name'!A:B,2,0)","v":{"$error":"#N/A"}}," "]
[null,null,null,null,null,null,null,null,null,{"$f":"+IFERROR(VLOOKUP(C1376,'Charge Conversion'!A:C,3,0),\" \")","v":" "}," "," ",null,null,null,null,null,{"$f":"VLOOKUP(D1376,'Group Name'!A:B,2,0)","v":{"$error":"#N/A"}}," "]
[null,null,null,null,null,null,null,null,null,{"$f":"+IFERROR(VLOOKUP(C1377,'Charge Conversion'!A:C,3,0),\" \")","v":" "}," "," ",null,null,null,null,null,{"$f":"VLOOKUP(D1377,'Group Name'!A:B,2,0)","v":{"$error":"#N/A"}}," "]
[null,null,null,null,null,null,null,null,null,{"$f":"+IFERROR(VLOOKUP(C1378,'Charge Conversion'!A:C,3,0),\" \")","v":" "}," "," ",null,null,null,null,null,{"$f":"VLOOKUP(D1378,'Group Name'!A:B,2,0)","v":{"$error":"#N/A"}}," "]
[null,null,null,null,null,null,null,null,null,{"$f":"+IFERROR(VLOOKUP(C1379,'Charge Conversion'!A:C,3,0),\" \")","v":" "}," "," ",null,null,null,null,null,{"$f":"VLOOKUP(D1379,'Group Name'!A:B,2,0)","v":{"$error":"#N/A"}}," "]
[null,null,null,null,null,null,null,null,null,{"$f":"+IFERROR(VLOOKUP(C1380,'Charge Conversion'!A:C,3,0),\" \")","v":" "}," "," ",null,null,null,null,null,{"$f":"VLOOKUP(D1380,'Group Name'!A:B,2,0)","v":{"$error":"#N/A"}}," "]
[null,null,null,null,null,null,null,null,null,{"$f":"+IFERROR(VLOOKUP(C1381,'Charge Conversion'!A:C,3,0),\" \")","v":" "}," "," ",null,null,null,null,null,{"$f":"VLOOKUP(D1381,'Group Name'!A:B,2,0)","v":{"$error":"#N/A"}}," "]
[null,null,null,null,null,null,null,null,null,{"$f":"+IFERROR(VLOOKUP(C1382,'Charge Conversion'!A:C,3,0),\" \")","v":" "}," "," ",null,null,null,null,null,{"$f":"VLOOKUP(D1382,'Group Name'!A:B,2,0)","v":{"$error":"#N/A"}}," "]
[null,null,null,null,null,null,null,null,null,{"$f":"+IFERROR(VLOOKUP(C1383,'Charge Conversion'!A:C,3,0),\" \")","v":" "}," "," ",null,null,null,null,null,{"$f":"VLOOKUP(D1383,'Group Name'!A:B,2,0)","v":{"$error":"#N/A"}}," "]
[null,null,null,null,null,null,null,null,null,{"$f":"+IFERROR(VLOOKUP(C1384,'Charge Conversion'!A:C,3,0),\" \")","v":" "}," "," ",null,null,null,null,null,{"$f":"VLOOKUP(D1384,'Group Name'!A:B,2,0)","v":{"$error":"#N/A"}}," "]
[null,null,null,null,null,null,null,null,null,{"$f":"+IFERROR(VLOOKUP(C1385,'Charge Conversion'!A:C,3,0),\" \")","v":" "}," "," ",null,null,null,null,null,{"$f":"VLOOKUP(D1385,'Group Name'!A:B,2,0)","v":{"$error":"#N/A"}}," "]
[null,null,null,null,null,null,null,null,null,{"$f":"+IFERROR(VLOOKUP(C1386,'Charge Conversion'!A:C,3,0),\" \")","v":" "}," "," ",null,null,null,null,null,{"$f":"VLOOKUP(D1386,'Group Name'!A:B,2,0)","v":{"$error":"#N/A"}}," "]
[null,null,null,null,null,null,null,null,null,{"$f":"+IFERROR(VLOOKUP(C1387,'Charge Conversion'!A:C,3,0),\" \")","v":" "}," "," ",null,null,null,null,null,{"$f":"VLOOKUP(D1387,'Group Name'!A:B,2,0)","v":{"$error":"#N/A"}}," "]
[null,null,null,null,null,null,null,null,null,{"$f":"+IFERROR(VLOOKUP(C1388,'Charge Conversion'!A:C,3,0),\" \")","v":" "}," "," ",null,null,null,null,null,{"$f":"VLOOKUP(D1388,'Group Name'!A:B,2,0)","v":{"$error":"#N/A"}}," "]
[null,null,null,null,null,null,null,null,null,{"$f":"+IFERROR(VLOOKUP(C1389,'Charge Conversion'!A:C,3,0),\" \")","v":" "}," "," ",null,null,null,null,null,{"$f":"VLOOKUP(D1389,'Group Name'!A:B,2,0)","v":{"$error":"#N/A"}}," "]
[null,null,null,null,null,null,null,null,null,{"$f":"+IFERROR(VLOOKUP(C1390,'Charge Conversion'!A:C,3,0),\" \")","v":" "}," "," ",null,null,null,null,null,{"$f":"VLOOKUP(D1390,'Group Name'!A:B,2,0)","v":{"$error":"#N/A"}}," "]
[null,null,null,null,null,null,null,null,null,{"$f":"+IFERROR(VLOOKUP(C1391,'Charge Conversion'!A:C,3,0),\" \")","v":" "}," "," ",null,null,null,null,null,{"$f":"VLOOKUP(D1391,'Group Name'!A:B,2,0)","v":{"$error":"#N/A"}}," "]
[null,null,null,null,null,null,null,null,null,{"$f":"+IFERROR(VLOOKUP(C1392,'Charge Conversion'!A:C,3,0),\" \")","v":" "}," "," ",null,null,null,null,null,{"$f":"VLOOKUP(D1392,'Group Name'!A:B,2,0)","v":{"$error":"#N/A"}}," "]
[null,null,null,null,null,null,null,null,null,{"$f":"+IFERROR(VLOOKUP(C1393,'Charge Conversion'!A:C,3,0),\" \")","v":" "}," "," ",null,null,null,null,null,{"$f":"VLOOKUP(D1393,'Group Name'!A:B,2,0)","v":{"$error":"#N/A"}}," "]
[null,null,null,null,null,null,null,null,null,{"$f":"+IFERROR(VLOOKUP(C1394,'Charge Conversion'!A:C,3,0),\" \")","v":" "}," "," ",null,null,null,null,null,{"$f":"VLOOKUP(D1394,'Group Name'!A:B,2,0)","v":{"$error":"#N/A"}}," "]
[null,null,null,null,null,null,null,null,null,{"$f":"+IFERROR(VLOOKUP(C1395,'Charge Conversion'!A:C,3,0),\" \")","v":" "}," "," ",null,null,null,null,null,{"$f":"VLOOKUP(D1395,'Group Name'!A:B,2,0)","v":{"$error":"#N/A"}}," "]
[null,null,null,null,null,null,null,null,null,{"$f":"+IFERROR(VLOOKUP(C1396,'Charge Conversion'!A:C,3,0),\" \")","v":" "}," "," ",null,null,null,null,null,{"$f":"VLOOKUP(D1396,'Group Name'!A:B,2,0)","v":{"$error":"#N/A"}}," "]
[null,null,null,null,null,null,null,null,null,{"$f":"+IFERROR(VLOOKUP(C1397,'Charge Conversion'!A:C,3,0),\" \")","v":" "}," "," ",null,null,null,null,null,{"$f":"VLOOKUP(D1397,'Group Name'!A:B,2,0)","v":{"$error":"#N/A"}}," "]
[null,null,null,null,null,null,null,null,null,{"$f":"+IFERROR(VLOOKUP(C1398,'Charge Conversion'!A:C,3,0),\" \")","v":" "}," "," ",null,null,null,null,null,{"$f":"VLOOKUP(D1398,'Group Name'!A:B,2,0)","v":{"$error":"#N/A"}}," "]
[null,null,null,null,null,null,null,null,null,{"$f":"+IFERROR(VLOOKUP(C1399,'Charge Conversion'!A:C,3,0),\" \")","v":" "}," "," ",null,null,null,null,null,{"$f":"VLOOKUP(D1399,'Group Name'!A:B,2,0)","v":{"$error":"#N/A"}}," "]
[null,null,null,null,null,null,null,null,null,{"$f":"+IFERROR(VLOOKUP(C1400,'Charge Conversion'!A:C,3,0),\" \")","v":" "}," "," ",null,null,null,null,null,{"$f":"VLOOKUP(D1400,'Group Name'!A:B,2,0)","v":{"$error":"#N/A"}}," "]
[null,null,null,null,null,null,null,null,null,{"$f":"+IFERROR(VLOOKUP(C1401,'Charge Conversion'!A:C,3,0),\" \")","v":" "}," "," ",null,null,null,null,null,{"$f":"VLOOKUP(D1401,'Group Name'!A:B,2,0)","v":{"$error":"#N/A"}}," "]
[null,null,null,null,null,null,null,null,null,{"$f":"+IFERROR(VLOOKUP(C1402,'Charge Conversion'!A:C,3,0),\" \")","v":" "}," "," ",null,null,null,null,null,{"$f":"VLOOKUP(D1402,'Group Name'!A:B,2,0)","v":{"$error":"#N/A"}}," "]
[null,null,null,null,null,null,null,null,null,{"$f":"+IFERROR(VLOOKUP(C1403,'Charge Conversion'!A:C,3,0),\" \")","v":" "}," "," ",null,null,null,null,null,{"$f":"VLOOKUP(D1403,'Group Name'!A:B,2,0)","v":{"$error":"#N/A"}}," "]
[null,null,null,null,null,null,null,null,null,{"$f":"+IFERROR(VLOOKUP(C1404,'Charge Conversion'!A:C,3,0),\" \")","v":" "}," "," ",null,null,null,null,null,{"$f":"VLOOKUP(D1404,'Group Name'!A:B,2,0)","v":{"$error":"#N/A"}}," "]
[null,null,null,null,null,null,null,null,null,{"$f":"+IFERROR(VLOOKUP(C1405,'Charge Conversion'!A:C,3,0),\" \")","v":" "}," "," ",null,null,null,null,null,{"$f":"VLOOKUP(D1405,'Group Name'!A:B,2,0)","v":{"$error":"#N/A"}}," "]
[null,null,null,null,null,null,null,null,null,{"$f":"+IFERROR(VLOOKUP(C1406,'Charge Conversion'!A:C,3,0),\" \")","v":" "}," "," ",null,null,null,null,null,{"$f":"VLOOKUP(D1406,'Group Name'!A:B,2,0)","v":{"$error":"#N/A"}}," "]
[null,null,null,null,null,null,null,null,null,{"$f":"+IFERROR(VLOOKUP(C1407,'Charge Conversion'!A:C,3,0),\" \")","v":" "}," "," ",null,null,null,null,null,{"$f":"VLOOKUP(D1407,'Group Name'!A:B,2,0)","v":{"$error":"#N/A"}}," "]
[null,null,null,null,null,null,null,null,null,{"$f":"+IFERROR(VLOOKUP(C1408,'Charge Conversion'!A:C,3,0),\" \")","v":" "}," "," ",null,null,null,null,null,{"$f":"VLOOKUP(D1408,'Group Name'!A:B,2,0)","v":{"$error":"#N/A"}}," "]
[null,null,null,null,null,null,null,null,null,{"$f":"+IFERROR(VLOOKUP(C1409,'Charge Conversion'!A:C,3,0),\" \")","v":" "}," "," ",null,null,null,null,null,{"$f":"VLOOKUP(D1409,'Group Name'!A:B,2,0)","v":{"$error":"#N/A"}}," "]
[null,null,null,null,null,null,null,null,null,{"$f":"+IFERROR(VLOOKUP(C1410,'Charge Conversion'!A:C,3,0),\" \")","v":" "}," "," ",null,null,null,null,null,{"$f":"VLOOKUP(D1410,'Group Name'!A:B,2,0)","v":{"$error":"#N/A"}}," "]
[null,null,null,null,null,null,null,null,null,{"$f":"+IFERROR(VLOOKUP(C1411,'Charge Conversion'!A:C,3,0),\" \")","v":" "}," "," ",null,null,null,null,null,{"$f":"VLOOKUP(D1411,'Group Name'!A:B,2,0)","v":{"$error":"#N/A"}}," "]
[null,null,null,null,null,null,null,null,null,{"$f":"+IFERROR(VLOOKUP(C1412,'Charge Conversion'!A:C,3,0),\" \")","v":" "}," "," ",null,null,null,null,null,{"$f":"VLOOKUP(D1412,'Group Name'!A:B,2,0)","v":{"$error":"#N/A"}}," "]
[null,null,null,null,null,null,null,null,null,{"$f":"+IFERROR(VLOOKUP(C1413,'Charge Conversion'!A:C,3,0),\" \")","v":" "},{"$f":"+IFERROR(I1413*J1413,\" \")","v":" "},{"$f":"S1413","v":" "},null,null,null,null,null,{"$f":"VLOOKUP(D1413,'Group Name'!A:B,2,0)","v":{"$error":"#N/A"}},{"$f":"IFERROR((IF(A1413=\" \",\" \",R1413)),\" \")","v":" "}]
[null,null,null,null,null,null,null,null,null,{"$f":"+IFERROR(VLOOKUP(C1414,'Charge Conversion'!A:C,3,0),\" \")","v":" "}," "," ",null,null,null,null,null,{"$f":"VLOOKUP(D1414,'Group Name'!A:B,2,0)","v":{"$error":"#N/A"}}," "]
[null,null,null,null,null,null,null,null,null,{"$f":"+IFERROR(VLOOKUP(C1415,'Charge Conversion'!A:C,3,0),\" \")","v":" "}," "," ",null,null,null,null,null,{"$f":"VLOOKUP(D1415,'Group Name'!A:B,2,0)","v":{"$error":"#N/A"}}," "]
[null,null,null,null,null,null,null,null,null,{"$f":"+IFERROR(VLOOKUP(C1416,'Charge Conversion'!A:C,3,0),\" \")","v":" "}," "," ",null,null,null,null,null,{"$f":"VLOOKUP(D1416,'Group Name'!A:B,2,0)","v":{"$error":"#N/A"}}," "]
[null,null,null,null,null,null,null,null,null,{"$f":"+IFERROR(VLOOKUP(C1417,'Charge Conversion'!A:C,3,0),\" \")","v":" "}," "," ",null,null,null,null,null,{"$f":"VLOOKUP(D1417,'Group Name'!A:B,2,0)","v":{"$error":"#N/A"}}," "]
[null,null,null,null,null,null,null,null,null,{"$f":"+IFERROR(VLOOKUP(C1418,'Charge Conversion'!A:C,3,0),\" \")","v":" "}," "," ",null,null,null,null,null,{"$f":"VLOOKUP(D1418,'Group Name'!A:B,2,0)","v":{"$error":"#N/A"}}," "]
[null,null,null,null,null,null,null,null,null,{"$f":"+IFERROR(VLOOKUP(C1419,'Charge Conversion'!A:C,3,0),\" \")","v":" "}," "," ",null,null,null,null,null,{"$f":"VLOOKUP(D1419,'Group Name'!A:B,2,0)","v":{"$error":"#N/A"}}," "]
[null,null,null,null,null,null,null,null,null,{"$f":"+IFERROR(VLOOKUP(C1420,'Charge Conversion'!A:C,3,0),\" \")","v":" "}," "," ",null,null,null,null,null,{"$f":"VLOOKUP(D1420,'Group Name'!A:B,2,0)","v":{"$error":"#N/A"}}," "]
[null,null,null,null,null,null,null,null,null,{"$f":"+IFERROR(VLOOKUP(C1421,'Charge Conversion'!A:C,3,0),\" \")","v":" "}," "," ",null,null,null,null,null,{"$f":"VLOOKUP(D1421,'Group Name'!A:B,2,0)","v":{"$error":"#N/A"}}," "]
[null,null,null,null,null,null,null,null,null,{"$f":"+IFERROR(VLOOKUP(C1422,'Charge Conversion'!A:C,3,0),\" \")","v":" "}," "," ",null,null,null,null,null,{"$f":"VLOOKUP(D1422,'Group Name'!A:B,2,0)","v":{"$error":"#N/A"}}," "]
[null,null,null,null,null,null,null,null,null,{"$f":"+IFERROR(VLOOKUP(C1423,'Charge Conversion'!A:C,3,0),\" \")","v":" "}," "," ",null,null,null,null,null,{"$f":"VLOOKUP(D1423,'Group Name'!A:B,2,0)","v":{"$error":"#N/A"}}," "]
[null,null,null,null,null,null,null,null,null,{"$f":"+IFERROR(VLOOKUP(C1424,'Charge Conversion'!A:C,3,0),\" \")","v":" "}," "," ",null,null,null,null,null,{"$f":"VLOOKUP(D1424,'Group Name'!A:B,2,0)","v":{"$error":"#N/A"}}," "]
[null,null,null,null,null,null,null,null,null,{"$f":"+IFERROR(VLOOKUP(C1425,'Charge Conversion'!A:C,3,0),\" \")","v":" "}," "," ",null,null,null,null,null,{"$f":"VLOOKUP(D1425,'Group Name'!A:B,2,0)","v":{"$error":"#N/A"}}," "]
[null,null,null,null,null,null,null,null,null,{"$f":"+IFERROR(VLOOKUP(C1426,'Charge Conversion'!A:C,3,0),\" \")","v":" "}," "," ",null,null,null,null,null,{"$f":"VLOOKUP(D1426,'Group Name'!A:B,2,0)","v":{"$error":"#N/A"}}," "]
[null,null,null,null,null,null,null,null,null,{"$f":"+IFERROR(VLOOKUP(C1427,'Charge Conversion'!A:C,3,0),\" \")","v":" "}," "," ",null,null,null,null,null,{"$f":"VLOOKUP(D1427,'Group Name'!A:B,2,0)","v":{"$error":"#N/A"}}," "]
[null,null,null,null,null,null,null,null,null,{"$f":"+IFERROR(VLOOKUP(C1428,'Charge Conversion'!A:C,3,0),\" \")","v":" "}," "," ",null,null,null,null,null,{"$f":"VLOOKUP(D1428,'Group Name'!A:B,2,0)","v":{"$error":"#N/A"}}," "]
[null,null,null,null,null,null,null,null,null,{"$f":"+IFERROR(VLOOKUP(C1429,'Charge Conversion'!A:C,3,0),\" \")","v":" "}," "," ",null,null,null,null,null,{"$f":"VLOOKUP(D1429,'Group Name'!A:B,2,0)","v":{"$error":"#N/A"}}," "]
[null,null,null,null,null,null,null,null,null,{"$f":"+IFERROR(VLOOKUP(C1430,'Charge Conversion'!A:C,3,0),\" \")","v":" "}," "," ",null,null,null,null,null,{"$f":"VLOOKUP(D1430,'Group Name'!A:B,2,0)","v":{"$error":"#N/A"}}," "]
[null,null,null,null,null,null,null,null,null,{"$f":"+IFERROR(VLOOKUP(C1431,'Charge Conversion'!A:C,3,0),\" \")","v":" "}," "," ",null,null,null,null,null,{"$f":"VLOOKUP(D1431,'Group Name'!A:B,2,0)","v":{"$error":"#N/A"}}," "]
[null,null,null,null,null,null,null,null,null,{"$f":"+IFERROR(VLOOKUP(C1432,'Charge Conversion'!A:C,3,0),\" \")","v":" "}," "," ",null,null,null,null,null,{"$f":"VLOOKUP(D1432,'Group Name'!A:B,2,0)","v":{"$error":"#N/A"}}," "]
[null,null,null,null,null,null,null,null,null,{"$f":"+IFERROR(VLOOKUP(C1433,'Charge Conversion'!A:C,3,0),\" \")","v":" "}," "," ",null,null,null,null,null,{"$f":"VLOOKUP(D1433,'Group Name'!A:B,2,0)","v":{"$error":"#N/A"}}," "]
[null,null,null,null,null,null,null,null,null,{"$f":"+IFERROR(VLOOKUP(C1434,'Charge Conversion'!A:C,3,0),\" \")","v":" "}," "," ",null,null,null,null,null,{"$f":"VLOOKUP(D1434,'Group Name'!A:B,2,0)","v":{"$error":"#N/A"}}," "]
[null,null,null,null,null,null,null,null,null,{"$f":"+IFERROR(VLOOKUP(C1435,'Charge Conversion'!A:C,3,0),\" \")","v":" "}," "," ",null,null,null,null,null,{"$f":"VLOOKUP(D1435,'Group Name'!A:B,2,0)","v":{"$error":"#N/A"}}," "]
[null,null,null,null,null,null,null,null,null,{"$f":"+IFERROR(VLOOKUP(C1436,'Charge Conversion'!A:C,3,0),\" \")","v":" "}," "," ",null,null,null,null,null,{"$f":"VLOOKUP(D1436,'Group Name'!A:B,2,0)","v":{"$error":"#N/A"}}," "]
[null,null,null,null,null,null,null,null,null,{"$f":"+IFERROR(VLOOKUP(C1437,'Charge Conversion'!A:C,3,0),\" \")","v":" "}," "," ",null,null,null,null,null,{"$f":"VLOOKUP(D1437,'Group Name'!A:B,2,0)","v":{"$error":"#N/A"}}," "]
[null,null,null,null,null,null,null,null,null,{"$f":"+IFERROR(VLOOKUP(C1438,'Charge Conversion'!A:C,3,0),\" \")","v":" "}," "," ",null,null,null,null,null,{"$f":"VLOOKUP(D1438,'Group Name'!A:B,2,0)","v":{"$error":"#N/A"}}," "]
[null,null,null,null,null,null,null,null,null,{"$f":"+IFERROR(VLOOKUP(C1439,'Charge Conversion'!A:C,3,0),\" \")","v":" "}," "," ",null,null,null,null,null,{"$f":"VLOOKUP(D1439,'Group Name'!A:B,2,0)","v":{"$error":"#N/A"}}," "]
[null,null,null,null,null,null,null,null,null,{"$f":"+IFERROR(VLOOKUP(C1440,'Charge Conversion'!A:C,3,0),\" \")","v":" "}," "," ",null,null,null,null,null,{"$f":"VLOOKUP(D1440,'Group Name'!A:B,2,0)","v":{"$error":"#N/A"}}," "]
[null,null,null,null,null,null,null,null,null,{"$f":"+IFERROR(VLOOKUP(C1441,'Charge Conversion'!A:C,3,0),\" \")","v":" "}," "," ",null,null,null,null,null,{"$f":"VLOOKUP(D1441,'Group Name'!A:B,2,0)","v":{"$error":"#N/A"}}," "]
[null,null,null,null,null,null,null,null,null,{"$f":"+IFERROR(VLOOKUP(C1442,'Charge Conversion'!A:C,3,0),\" \")","v":" "}," "," ",null,null,null,null,null,{"$f":"VLOOKUP(D1442,'Group Name'!A:B,2,0)","v":{"$error":"#N/A"}}," "]
[null,null,null,null,null,null,null,null,null,{"$f":"+IFERROR(VLOOKUP(C1443,'Charge Conversion'!A:C,3,0),\" \")","v":" "}," "," ",null,null,null,null,null,{"$f":"VLOOKUP(D1443,'Group Name'!A:B,2,0)","v":{"$error":"#N/A"}}," "]
[null,null,null,null,null,null,null,null,null,{"$f":"+IFERROR(VLOOKUP(C1444,'Charge Conversion'!A:C,3,0),\" \")","v":" "}," "," ",null,null,null,null,null,{"$f":"VLOOKUP(D1444,'Group Name'!A:B,2,0)","v":{"$error":"#N/A"}}," "]
[null,null,null,null,null,null,null,null,null,{"$f":"+IFERROR(VLOOKUP(C1445,'Charge Conversion'!A:C,3,0),\" \")","v":" "}," "," ",null,null,null,null,null,{"$f":"VLOOKUP(D1445,'Group Name'!A:B,2,0)","v":{"$error":"#N/A"}}," "]
[null,null,null,null,null,null,null,null,null,{"$f":"+IFERROR(VLOOKUP(C1446,'Charge Conversion'!A:C,3,0),\" \")","v":" "}," "," ",null,null,null,null,null,{"$f":"VLOOKUP(D1446,'Group Name'!A:B,2,0)","v":{"$error":"#N/A"}}," "]
[null,null,null,null,null,null,null,null,null,{"$f":"+IFERROR(VLOOKUP(C1447,'Charge Conversion'!A:C,3,0),\" \")","v":" "}," "," ",null,null,null,null,null,{"$f":"VLOOKUP(D1447,'Group Name'!A:B,2,0)","v":{"$error":"#N/A"}}," "]
[null,null,null,null,null,null,null,null,null,{"$f":"+IFERROR(VLOOKUP(C1448,'Charge Conversion'!A:C,3,0),\" \")","v":" "}," "," ",null,null,null,null,null,{"$f":"VLOOKUP(D1448,'Group Name'!A:B,2,0)","v":{"$error":"#N/A"}}," "]
[null,null,null,null,null,null,null,null,null,{"$f":"+IFERROR(VLOOKUP(C1449,'Charge Conversion'!A:C,3,0),\" \")","v":" "}," "," ",null,null,null,null,null,{"$f":"VLOOKUP(D1449,'Group Name'!A:B,2,0)","v":{"$error":"#N/A"}}," "]
[null,null,null,null,null,null,null,null,null,{"$f":"+IFERROR(VLOOKUP(C1450,'Charge Conversion'!A:C,3,0),\" \")","v":" "}," "," ",null,null,null,null,null,{"$f":"VLOOKUP(D1450,'Group Name'!A:B,2,0)","v":{"$error":"#N/A"}}," "]
[null,null,null,null,null,null,null,null,null,{"$f":"+IFERROR(VLOOKUP(C1451,'Charge Conversion'!A:C,3,0),\" \")","v":" "}," "," ",null,null,null,null,null,{"$f":"VLOOKUP(D1451,'Group Name'!A:B,2,0)","v":{"$error":"#N/A"}}," "]
[null,null,null,null,null,null,null,null,null,{"$f":"+IFERROR(VLOOKUP(C1452,'Charge Conversion'!A:C,3,0),\" \")","v":" "}," "," ",null,null,null,null,null,{"$f":"VLOOKUP(D1452,'Group Name'!A:B,2,0)","v":{"$error":"#N/A"}}," "]
[null,null,null,null,null,null,null,null,null,{"$f":"+IFERROR(VLOOKUP(C1453,'Charge Conversion'!A:C,3,0),\" \")","v":" "}," "," ",null,null,null,null,null,{"$f":"VLOOKUP(D1453,'Group Name'!A:B,2,0)","v":{"$error":"#N/A"}}," "]
[null,null,null,null,null,null,null,null,null,{"$f":"+IFERROR(VLOOKUP(C1454,'Charge Conversion'!A:C,3,0),\" \")","v":" "}," "," ",null,null,null,null,null,{"$f":"VLOOKUP(D1454,'Group Name'!A:B,2,0)","v":{"$error":"#N/A"}}," "]
[null,null,null,null,null,null,null,null,null,{"$f":"+IFERROR(VLOOKUP(C1455,'Charge Conversion'!A:C,3,0),\" \")","v":" "}," "," ",null,null,null,null,null,{"$f":"VLOOKUP(D1455,'Group Name'!A:B,2,0)","v":{"$error":"#N/A"}}," "]
[null,null,null,null,null,null,null,null,null,{"$f":"+IFERROR(VLOOKUP(C1456,'Charge Conversion'!A:C,3,0),\" \")","v":" "}," "," ",null,null,null,null,null,{"$f":"VLOOKUP(D1456,'Group Name'!A:B,2,0)","v":{"$error":"#N/A"}}," "]
[null,null,null,null,null,null,null,null,null,{"$f":"+IFERROR(VLOOKUP(C1457,'Charge Conversion'!A:C,3,0),\" \")","v":" "}," "," ",null,null,null,null,null,{"$f":"VLOOKUP(D1457,'Group Name'!A:B,2,0)","v":{"$error":"#N/A"}}," "]
[null,null,null,null,null,null,null,null,null,{"$f":"+IFERROR(VLOOKUP(C1458,'Charge Conversion'!A:C,3,0),\" \")","v":" "}," "," ",null,null,null,null,null,{"$f":"VLOOKUP(D1458,'Group Name'!A:B,2,0)","v":{"$error":"#N/A"}}," "]
[null,null,null,null,null,null,null,null,null,{"$f":"+IFERROR(VLOOKUP(C1459,'Charge Conversion'!A:C,3,0),\" \")","v":" "}," "," ",null,null,null,null,null,{"$f":"VLOOKUP(D1459,'Group Name'!A:B,2,0)","v":{"$error":"#N/A"}}," "]
[null,null,null,null,null,null,null,null,null,{"$f":"+IFERROR(VLOOKUP(C1460,'Charge Conversion'!A:C,3,0),\" \")","v":" "}," "," ",null,null,null,null,null,{"$f":"VLOOKUP(D1460,'Group Name'!A:B,2,0)","v":{"$error":"#N/A"}}," "]
[null,null,null,null,null,null,null,null,null,{"$f":"+IFERROR(VLOOKUP(C1461,'Charge Conversion'!A:C,3,0),\" \")","v":" "}," "," ",null,null,null,null,null,{"$f":"VLOOKUP(D1461,'Group Name'!A:B,2,0)","v":{"$error":"#N/A"}}," "]
[null,null,null,null,null,null,null,null,null,{"$f":"+IFERROR(VLOOKUP(C1462,'Charge Conversion'!A:C,3,0),\" \")","v":" "}," "," ",null,null,null,null,null,{"$f":"VLOOKUP(D1462,'Group Name'!A:B,2,0)","v":{"$error":"#N/A"}}," "]
[null,null,null,null,null,null,null,null,null,{"$f":"+IFERROR(VLOOKUP(C1463,'Charge Conversion'!A:C,3,0),\" \")","v":" "}," "," ",null,null,null,null,null,{"$f":"VLOOKUP(D1463,'Group Name'!A:B,2,0)","v":{"$error":"#N/A"}}," "]
[null,null,null,null,null,null,null,null,null,{"$f":"+IFERROR(VLOOKUP(C1464,'Charge Conversion'!A:C,3,0),\" \")","v":" "}," "," ",null,null,null,null,null,{"$f":"VLOOKUP(D1464,'Group Name'!A:B,2,0)","v":{"$error":"#N/A"}}," "]
[null,null,null,null,null,null,null,null,null,{"$f":"+IFERROR(VLOOKUP(C1465,'Charge Conversion'!A:C,3,0),\" \")","v":" "}," "," ",null,null,null,null,null,{"$f":"VLOOKUP(D1465,'Group Name'!A:B,2,0)","v":{"$error":"#N/A"}}," "]
[null,null,null,null,null,null,null,null,null,{"$f":"+IFERROR(VLOOKUP(C1466,'Charge Conversion'!A:C,3,0),\" \")","v":" "}," "," ",null,null,null,null,null,{"$f":"VLOOKUP(D1466,'Group Name'!A:B,2,0)","v":{"$error":"#N/A"}}," "]
[null,null,null,null,null,null,null,null,null,{"$f":"+IFERROR(VLOOKUP(C1467,'Charge Conversion'!A:C,3,0),\" \")","v":" "}," "," ",null,null,null,null,null,{"$f":"VLOOKUP(D1467,'Group Name'!A:B,2,0)","v":{"$error":"#N/A"}}," "]
[null,null,null,null,null,null,null,null,null,{"$f":"+IFERROR(VLOOKUP(C1468,'Charge Conversion'!A:C,3,0),\" \")","v":" "}," "," ",null,null,null,null,null,{"$f":"VLOOKUP(D1468,'Group Name'!A:B,2,0)","v":{"$error":"#N/A"}}," "]
[null,null,null,null,null,null,null,null,null,{"$f":"+IFERROR(VLOOKUP(C1469,'Charge Conversion'!A:C,3,0),\" \")","v":" "}," "," ",null,null,null,null,null,{"$f":"VLOOKUP(D1469,'Group Name'!A:B,2,0)","v":{"$error":"#N/A"}}," "]
[null,null,null,null,null,null,null,null,null,{"$f":"+IFERROR(VLOOKUP(C1470,'Charge Conversion'!A:C,3,0),\" \")","v":" "}," "," ",null,null,null,null,null,{"$f":"VLOOKUP(D1470,'Group Name'!A:B,2,0)","v":{"$error":"#N/A"}}," "]
[null,null,null,null,null,null,null,null,null,{"$f":"+IFERROR(VLOOKUP(C1471,'Charge Conversion'!A:C,3,0),\" \")","v":" "}," "," ",null,null,null,null,null,{"$f":"VLOOKUP(D1471,'Group Name'!A:B,2,0)","v":{"$error":"#N/A"}}," "]
[null,null,null,null,null,null,null,null,null,{"$f":"+IFERROR(VLOOKUP(C1472,'Charge Conversion'!A:C,3,0),\" \")","v":" "}," "," ",null,null,null,null,null,{"$f":"VLOOKUP(D1472,'Group Name'!A:B,2,0)","v":{"$error":"#N/A"}}," "]
[null,null,null,null,null,null,null,null,null,{"$f":"+IFERROR(VLOOKUP(C1473,'Charge Conversion'!A:C,3,0),\" \")","v":" "}," "," ",null,null,null,null,null,{"$f":"VLOOKUP(D1473,'Group Name'!A:B,2,0)","v":{"$error":"#N/A"}}," "]
[null,null,null,null,null,null,null,null,null,{"$f":"+IFERROR(VLOOKUP(C1474,'Charge Conversion'!A:C,3,0),\" \")","v":" "}," "," ",null,null,null,null,null,{"$f":"VLOOKUP(D1474,'Group Name'!A:B,2,0)","v":{"$error":"#N/A"}}," "]
[null,null,null,null,null,null,null,null,null,{"$f":"+IFERROR(VLOOKUP(C1475,'Charge Conversion'!A:C,3,0),\" \")","v":" "}," "," ",null,null,null,null,null,{"$f":"VLOOKUP(D1475,'Group Name'!A:B,2,0)","v":{"$error":"#N/A"}}," "]
[null,null,null,null,null,null,null,null,null,{"$f":"+IFERROR(VLOOKUP(C1476,'Charge Conversion'!A:C,3,0),\" \")","v":" "}," "," ",null,null,null,null,null,{"$f":"VLOOKUP(D1476,'Group Name'!A:B,2,0)","v":{"$error":"#N/A"}}," "]
[null,null,null,null,null,null,null,null,null,{"$f":"+IFERROR(VLOOKUP(C1477,'Charge Conversion'!A:C,3,0),\" \")","v":" "},{"$f":"+IFERROR(I1477*J1477,\" \")","v":" "},{"$f":"S1477","v":" "},null,null,null,null,null,{"$f":"VLOOKUP(D1477,'Group Name'!A:B,2,0)","v":{"$error":"#N/A"}},{"$f":"IFERROR((IF(A1477=\" \",\" \",R1477)),\" \")","v":" "}]
[null,null,null,null,null,null,null,null,null,{"$f":"+IFERROR(VLOOKUP(C1478,'Charge Conversion'!A:C,3,0),\" \")","v":" "}," "," ",null,null,null,null,null,{"$f":"VLOOKUP(D1478,'Group Name'!A:B,2,0)","v":{"$error":"#N/A"}}," "]
[null,null,null,null,null,null,null,null,null,{"$f":"+IFERROR(VLOOKUP(C1479,'Charge Conversion'!A:C,3,0),\" \")","v":" "}," "," ",null,null,null,null,null,{"$f":"VLOOKUP(D1479,'Group Name'!A:B,2,0)","v":{"$error":"#N/A"}}," "]
[null,null,null,null,null,null,null,null,null,{"$f":"+IFERROR(VLOOKUP(C1480,'Charge Conversion'!A:C,3,0),\" \")","v":" "}," "," ",null,null,null,null,null,{"$f":"VLOOKUP(D1480,'Group Name'!A:B,2,0)","v":{"$error":"#N/A"}}," "]
[null,null,null,null,null,null,null,null,null,{"$f":"+IFERROR(VLOOKUP(C1481,'Charge Conversion'!A:C,3,0),\" \")","v":" "}," "," ",null,null,null,null,null,{"$f":"VLOOKUP(D1481,'Group Name'!A:B,2,0)","v":{"$error":"#N/A"}}," "]
[null,null,null,null,null,null,null,null,null,{"$f":"+IFERROR(VLOOKUP(C1482,'Charge Conversion'!A:C,3,0),\" \")","v":" "}," "," ",null,null,null,null,null,{"$f":"VLOOKUP(D1482,'Group Name'!A:B,2,0)","v":{"$error":"#N/A"}}," "]
[null,null,null,null,null,null,null,null,null,{"$f":"+IFERROR(VLOOKUP(C1483,'Charge Conversion'!A:C,3,0),\" \")","v":" "}," "," ",null,null,null,null,null,{"$f":"VLOOKUP(D1483,'Group Name'!A:B,2,0)","v":{"$error":"#N/A"}}," "]
[null,null,null,null,null,null,null,null,null,{"$f":"+IFERROR(VLOOKUP(C1484,'Charge Conversion'!A:C,3,0),\" \")","v":" "}," "," ",null,null,null,null,null,{"$f":"VLOOKUP(D1484,'Group Name'!A:B,2,0)","v":{"$error":"#N/A"}}," "]
[null,null,null,null,null,null,null,null,null,{"$f":"+IFERROR(VLOOKUP(C1485,'Charge Conversion'!A:C,3,0),\" \")","v":" "}," "," ",null,null,null,null,null,{"$f":"VLOOKUP(D1485,'Group Name'!A:B,2,0)","v":{"$error":"#N/A"}}," "]
[null,null,null,null,null,null,null,null,null,{"$f":"+IFERROR(VLOOKUP(C1486,'Charge Conversion'!A:C,3,0),\" \")","v":" "}," "," ",null,null,null,null,null,{"$f":"VLOOKUP(D1486,'Group Name'!A:B,2,0)","v":{"$error":"#N/A"}}," "]
[null,null,null,null,null,null,null,null,null,{"$f":"+IFERROR(VLOOKUP(C1487,'Charge Conversion'!A:C,3,0),\" \")","v":" "}," "," ",null,null,null,null,null,{"$f":"VLOOKUP(D1487,'Group Name'!A:B,2,0)","v":{"$error":"#N/A"}}," "]
[null,null,null,null,null,null,null,null,null,{"$f":"+IFERROR(VLOOKUP(C1488,'Charge Conversion'!A:C,3,0),\" \")","v":" "}," "," ",null,null,null,null,null,{"$f":"VLOOKUP(D1488,'Group Name'!A:B,2,0)","v":{"$error":"#N/A"}}," "]
[null,null,null,null,null,null,null,null,null,{"$f":"+IFERROR(VLOOKUP(C1489,'Charge Conversion'!A:C,3,0),\" \")","v":" "}," "," ",null,null,null,null,null,{"$f":"VLOOKUP(D1489,'Group Name'!A:B,2,0)","v":{"$error":"#N/A"}}," "]
[null,null,null,null,null,null,null,null,null,{"$f":"+IFERROR(VLOOKUP(C1490,'Charge Conversion'!A:C,3,0),\" \")","v":" "}," "," ",null,null,null,null,null,{"$f":"VLOOKUP(D1490,'Group Name'!A:B,2,0)","v":{"$error":"#N/A"}}," "]
[null,null,null,null,null,null,null,null,null,{"$f":"+IFERROR(VLOOKUP(C1491,'Charge Conversion'!A:C,3,0),\" \")","v":" "}," "," ",null,null,null,null,null,{"$f":"VLOOKUP(D1491,'Group Name'!A:B,2,0)","v":{"$error":"#N/A"}}," "]
[null,null,null,null,null,null,null,null,null,{"$f":"+IFERROR(VLOOKUP(C1492,'Charge Conversion'!A:C,3,0),\" \")","v":" "}," "," ",null,null,null,null,null,{"$f":"VLOOKUP(D1492,'Group Name'!A:B,2,0)","v":{"$error":"#N/A"}}," "]
[null,null,null,null,null,null,null,null,null,{"$f":"+IFERROR(VLOOKUP(C1493,'Charge Conversion'!A:C,3,0),\" \")","v":" "}," "," ",null,null,null,null,null,{"$f":"VLOOKUP(D1493,'Group Name'!A:B,2,0)","v":{"$error":"#N/A"}}," "]
[null,null,null,null,null,null,null,null,null,{"$f":"+IFERROR(VLOOKUP(C1494,'Charge Conversion'!A:C,3,0),\" \")","v":" "}," "," ",null,null,null,null,null,{"$f":"VLOOKUP(D1494,'Group Name'!A:B,2,0)","v":{"$error":"#N/A"}}," "]
[null,null,null,null,null,null,null,null,null,{"$f":"+IFERROR(VLOOKUP(C1495,'Charge Conversion'!A:C,3,0),\" \")","v":" "}," "," ",null,null,null,null,null,{"$f":"VLOOKUP(D1495,'Group Name'!A:B,2,0)","v":{"$error":"#N/A"}}," "]
[null,null,null,null,null,null,null,null,null,{"$f":"+IFERROR(VLOOKUP(C1496,'Charge Conversion'!A:C,3,0),\" \")","v":" "}," "," ",null,null,null,null,null,{"$f":"VLOOKUP(D1496,'Group Name'!A:B,2,0)","v":{"$error":"#N/A"}}," "]
[null,null,null,null,null,null,null,null,null,{"$f":"+IFERROR(VLOOKUP(C1497,'Charge Conversion'!A:C,3,0),\" \")","v":" "}," "," ",null,null,null,null,null,{"$f":"VLOOKUP(D1497,'Group Name'!A:B,2,0)","v":{"$error":"#N/A"}}," "]
[null,null,null,null,null,null,null,null,null,{"$f":"+IFERROR(VLOOKUP(C1498,'Charge Conversion'!A:C,3,0),\" \")","v":" "}," "," ",null,null,null,null,null,{"$f":"VLOOKUP(D1498,'Group Name'!A:B,2,0)","v":{"$error":"#N/A"}}," "]
[null,null,null,null,null,null,null,null,null,{"$f":"+IFERROR(VLOOKUP(C1499,'Charge Conversion'!A:C,3,0),\" \")","v":" "}," "," ",null,null,null,null,null,{"$f":"VLOOKUP(D1499,'Group Name'!A:B,2,0)","v":{"$error":"#N/A"}}," "]
[null,null,null,null,null,null,null,null,null,{"$f":"+IFERROR(VLOOKUP(C1500,'Charge Conversion'!A:C,3,0),\" \")","v":" "}," "," ",null,null,null,null,null,{"$f":"VLOOKUP(D1500,'Group Name'!A:B,2,0)","v":{"$error":"#N/A"}}," "]
[null,null,null,null,null,null,null,null,null,{"$f":"+IFERROR(VLOOKUP(C1501,'Charge Conversion'!A:C,3,0),\" \")","v":" "}," "," ",null,null,null,null,null,{"$f":"VLOOKUP(D1501,'Group Name'!A:B,2,0)","v":{"$error":"#N/A"}}," "]
[null,null,null,null,null,null,null,null,null,{"$f":"+IFERROR(VLOOKUP(C1502,'Charge Conversion'!A:C,3,0),\" \")","v":" "}," "," ",null,null,null,null,null,{"$f":"VLOOKUP(D1502,'Group Name'!A:B,2,0)","v":{"$error":"#N/A"}}," "]
[null,null,null,null,null,null,null,null,null,{"$f":"+IFERROR(VLOOKUP(C1503,'Charge Conversion'!A:C,3,0),\" \")","v":" "}," "," ",null,null,null,null,null,{"$f":"VLOOKUP(D1503,'Group Name'!A:B,2,0)","v":{"$error":"#N/A"}}," "]
[null,null,null,null,null,null,null,null,null,{"$f":"+IFERROR(VLOOKUP(C1504,'Charge Conversion'!A:C,3,0),\" \")","v":" "}," "," ",null,null,null,null,null,{"$f":"VLOOKUP(D1504,'Group Name'!A:B,2,0)","v":{"$error":"#N/A"}}," "]
[null,null,null,null,null,null,null,null,null,{"$f":"+IFERROR(VLOOKUP(C1505,'Charge Conversion'!A:C,3,0),\" \")","v":" "}," "," ",null,null,null,null,null,{"$f":"VLOOKUP(D1505,'Group Name'!A:B,2,0)","v":{"$error":"#N/A"}}," "]
[null,null,null,null,null,null,null,null,null,{"$f":"+IFERROR(VLOOKUP(C1506,'Charge Conversion'!A:C,3,0),\" \")","v":" "}," "," ",null,null,null,null,null,{"$f":"VLOOKUP(D1506,'Group Name'!A:B,2,0)","v":{"$error":"#N/A"}}," "]
[null,null,null,null,null,null,null,null,null,{"$f":"+IFERROR(VLOOKUP(C1507,'Charge Conversion'!A:C,3,0),\" \")","v":" "}," "," ",null,null,null,null,null,{"$f":"VLOOKUP(D1507,'Group Name'!A:B,2,0)","v":{"$error":"#N/A"}}," "]
[null,null,null,null,null,null,null,null,null,{"$f":"+IFERROR(VLOOKUP(C1508,'Charge Conversion'!A:C,3,0),\" \")","v":" "}," "," ",null,null,null,null,null,{"$f":"VLOOKUP(D1508,'Group Name'!A:B,2,0)","v":{"$error":"#N/A"}}," "]
[null,null,null,null,null,null,null,null,null,{"$f":"+IFERROR(VLOOKUP(C1509,'Charge Conversion'!A:C,3,0),\" \")","v":" "}," "," ",null,null,null,null,null,{"$f":"VLOOKUP(D1509,'Group Name'!A:B,2,0)","v":{"$error":"#N/A"}}," "]
[null,null,null,null,null,null,null,null,null,{"$f":"+IFERROR(VLOOKUP(C1510,'Charge Conversion'!A:C,3,0),\" \")","v":" "}," "," ",null,null,null,null,null,{"$f":"VLOOKUP(D1510,'Group Name'!A:B,2,0)","v":{"$error":"#N/A"}}," "]
[null,null,null,null,null,null,null,null,null,{"$f":"+IFERROR(VLOOKUP(C1511,'Charge Conversion'!A:C,3,0),\" \")","v":" "}," "," ",null,null,null,null,null,{"$f":"VLOOKUP(D1511,'Group Name'!A:B,2,0)","v":{"$error":"#N/A"}}," "]
[null,null,null,null,null,null,null,null,null,{"$f":"+IFERROR(VLOOKUP(C1512,'Charge Conversion'!A:C,3,0),\" \")","v":" "}," "," ",null,null,null,null,null,{"$f":"VLOOKUP(D1512,'Group Name'!A:B,2,0)","v":{"$error":"#N/A"}}," "]
[null,null,null,null,null,null,null,null,null,{"$f":"+IFERROR(VLOOKUP(C1513,'Charge Conversion'!A:C,3,0),\" \")","v":" "}," "," ",null,null,null,null,null,{"$f":"VLOOKUP(D1513,'Group Name'!A:B,2,0)","v":{"$error":"#N/A"}}," "]
[null,null,null,null,null,null,null,null,null,{"$f":"+IFERROR(VLOOKUP(C1514,'Charge Conversion'!A:C,3,0),\" \")","v":" "}," "," ",null,null,null,null,null,{"$f":"VLOOKUP(D1514,'Group Name'!A:B,2,0)","v":{"$error":"#N/A"}}," "]
[null,null,null,null,null,null,null,null,null,{"$f":"+IFERROR(VLOOKUP(C1515,'Charge Conversion'!A:C,3,0),\" \")","v":" "}," "," ",null,null,null,null,null,{"$f":"VLOOKUP(D1515,'Group Name'!A:B,2,0)","v":{"$error":"#N/A"}}," "]
[null,null,null,null,null,null,null,null,null,{"$f":"+IFERROR(VLOOKUP(C1516,'Charge Conversion'!A:C,3,0),\" \")","v":" "}," "," ",null,null,null,null,null,{"$f":"VLOOKUP(D1516,'Group Name'!A:B,2,0)","v":{"$error":"#N/A"}}," "]
[null,null,null,null,null,null,null,null,null,{"$f":"+IFERROR(VLOOKUP(C1517,'Charge Conversion'!A:C,3,0),\" \")","v":" "}," "," ",null,null,null,null,null,{"$f":"VLOOKUP(D1517,'Group Name'!A:B,2,0)","v":{"$error":"#N/A"}}," "]
[null,null,null,null,null,null,null,null,null,{"$f":"+IFERROR(VLOOKUP(C1518,'Charge Conversion'!A:C,3,0),\" \")","v":" "}," "," ",null,null,null,null,null,{"$f":"VLOOKUP(D1518,'Group Name'!A:B,2,0)","v":{"$error":"#N/A"}}," "]
[null,null,null,null,null,null,null,null,null,{"$f":"+IFERROR(VLOOKUP(C1519,'Charge Conversion'!A:C,3,0),\" \")","v":" "}," "," ",null,null,null,null,null,{"$f":"VLOOKUP(D1519,'Group Name'!A:B,2,0)","v":{"$error":"#N/A"}}," "]
[null,null,null,null,null,null,null,null,null,{"$f":"+IFERROR(VLOOKUP(C1520,'Charge Conversion'!A:C,3,0),\" \")","v":" "}," "," ",null,null,null,null,null,{"$f":"VLOOKUP(D1520,'Group Name'!A:B,2,0)","v":{"$error":"#N/A"}}," "]
[null,null,null,null,null,null,null,null,null,{"$f":"+IFERROR(VLOOKUP(C1521,'Charge Conversion'!A:C,3,0),\" \")","v":" "}," "," ",null,null,null,null,null,{"$f":"VLOOKUP(D1521,'Group Name'!A:B,2,0)","v":{"$error":"#N/A"}}," "]
[null,null,null,null,null,null,null,null,null,{"$f":"+IFERROR(VLOOKUP(C1522,'Charge Conversion'!A:C,3,0),\" \")","v":" "}," "," ",null,null,null,null,null,{"$f":"VLOOKUP(D1522,'Group Name'!A:B,2,0)","v":{"$error":"#N/A"}}," "]
[null,null,null,null,null,null,null,null,null,{"$f":"+IFERROR(VLOOKUP(C1523,'Charge Conversion'!A:C,3,0),\" \")","v":" "}," "," ",null,null,null,null,null,{"$f":"VLOOKUP(D1523,'Group Name'!A:B,2,0)","v":{"$error":"#N/A"}}," "]
[null,null,null,null,null,null,null,null,null,{"$f":"+IFERROR(VLOOKUP(C1524,'Charge Conversion'!A:C,3,0),\" \")","v":" "}," "," ",null,null,null,null,null,{"$f":"VLOOKUP(D1524,'Group Name'!A:B,2,0)","v":{"$error":"#N/A"}}," "]
[null,null,null,null,null,null,null,null,null,{"$f":"+IFERROR(VLOOKUP(C1525,'Charge Conversion'!A:C,3,0),\" \")","v":" "}," "," ",null,null,null,null,null,{"$f":"VLOOKUP(D1525,'Group Name'!A:B,2,0)","v":{"$error":"#N/A"}}," "]
[null,null,null,null,null,null,null,null,null,{"$f":"+IFERROR(VLOOKUP(C1526,'Charge Conversion'!A:C,3,0),\" \")","v":" "}," "," ",null,null,null,null,null,{"$f":"VLOOKUP(D1526,'Group Name'!A:B,2,0)","v":{"$error":"#N/A"}}," "]
[null,null,null,null,null,null,null,null,null,{"$f":"+IFERROR(VLOOKUP(C1527,'Charge Conversion'!A:C,3,0),\" \")","v":" "}," "," ",null,null,null,null,null,{"$f":"VLOOKUP(D1527,'Group Name'!A:B,2,0)","v":{"$error":"#N/A"}}," "]
[null,null,null,null,null,null,null,null,null,{"$f":"+IFERROR(VLOOKUP(C1528,'Charge Conversion'!A:C,3,0),\" \")","v":" "}," "," ",null,null,null,null,null,{"$f":"VLOOKUP(D1528,'Group Name'!A:B,2,0)","v":{"$error":"#N/A"}}," "]
[null,null,null,null,null,null,null,null,null,{"$f":"+IFERROR(VLOOKUP(C1529,'Charge Conversion'!A:C,3,0),\" \")","v":" "}," "," ",null,null,null,null,null,{"$f":"VLOOKUP(D1529,'Group Name'!A:B,2,0)","v":{"$error":"#N/A"}}," "]
[null,null,null,null,null,null,null,null,null,{"$f":"+IFERROR(VLOOKUP(C1530,'Charge Conversion'!A:C,3,0),\" \")","v":" "}," "," ",null,null,null,null,null,{"$f":"VLOOKUP(D1530,'Group Name'!A:B,2,0)","v":{"$error":"#N/A"}}," "]
[null,null,null,null,null,null,null,null,null,{"$f":"+IFERROR(VLOOKUP(C1531,'Charge Conversion'!A:C,3,0),\" \")","v":" "}," "," ",null,null,null,null,null,{"$f":"VLOOKUP(D1531,'Group Name'!A:B,2,0)","v":{"$error":"#N/A"}}," "]
[null,null,null,null,null,null,null,null,null,{"$f":"+IFERROR(VLOOKUP(C1532,'Charge Conversion'!A:C,3,0),\" \")","v":" "}," "," ",null,null,null,null,null,{"$f":"VLOOKUP(D1532,'Group Name'!A:B,2,0)","v":{"$error":"#N/A"}}," "]
[null,null,null,null,null,null,null,null,null,{"$f":"+IFERROR(VLOOKUP(C1533,'Charge Conversion'!A:C,3,0),\" \")","v":" "}," "," ",null,null,null,null,null,{"$f":"VLOOKUP(D1533,'Group Name'!A:B,2,0)","v":{"$error":"#N/A"}}," "]
[null,null,null,null,null,null,null,null,null,{"$f":"+IFERROR(VLOOKUP(C1534,'Charge Conversion'!A:C,3,0),\" \")","v":" "}," "," ",null,null,null,null,null,{"$f":"VLOOKUP(D1534,'Group Name'!A:B,2,0)","v":{"$error":"#N/A"}}," "]
[null,null,null,null,null,null,null,null,null,{"$f":"+IFERROR(VLOOKUP(C1535,'Charge Conversion'!A:C,3,0),\" \")","v":" "}," "," ",null,null,null,null,null,{"$f":"VLOOKUP(D1535,'Group Name'!A:B,2,0)","v":{"$error":"#N/A"}}," "]
[null,null,null,null,null,null,null,null,null,{"$f":"+IFERROR(VLOOKUP(C1536,'Charge Conversion'!A:C,3,0),\" \")","v":" "}," "," ",null,null,null,null,null,{"$f":"VLOOKUP(D1536,'Group Name'!A:B,2,0)","v":{"$error":"#N/A"}}," "]
[null,null,null,null,null,null,null,null,null,{"$f":"+IFERROR(VLOOKUP(C1537,'Charge Conversion'!A:C,3,0),\" \")","v":" "}," "," ",null,null,null,null,null,{"$f":"VLOOKUP(D1537,'Group Name'!A:B,2,0)","v":{"$error":"#N/A"}}," "]
[null,null,null,null,null,null,null,null,null,{"$f":"+IFERROR(VLOOKUP(C1538,'Charge Conversion'!A:C,3,0),\" \")","v":" "}," "," ",null,null,null,null,null,{"$f":"VLOOKUP(D1538,'Group Name'!A:B,2,0)","v":{"$error":"#N/A"}}," "]
[null,null,null,null,null,null,null,null,null,{"$f":"+IFERROR(VLOOKUP(C1539,'Charge Conversion'!A:C,3,0),\" \")","v":" "}," "," ",null,null,null,null,null,{"$f":"VLOOKUP(D1539,'Group Name'!A:B,2,0)","v":{"$error":"#N/A"}}," "]
[null,null,null,null,null,null,null,null,null,{"$f":"+IFERROR(VLOOKUP(C1540,'Charge Conversion'!A:C,3,0),\" \")","v":" "}," "," ",null,null,null,null,null,{"$f":"VLOOKUP(D1540,'Group Name'!A:B,2,0)","v":{"$error":"#N/A"}}," "]
[null,null,null,null,null,null,null,null,null,{"$f":"+IFERROR(VLOOKUP(C1541,'Charge Conversion'!A:C,3,0),\" \")","v":" "},{"$f":"+IFERROR(I1541*J1541,\" \")","v":" "},{"$f":"S1541","v":" "},null,null,null,null,null,{"$f":"VLOOKUP(D1541,'Group Name'!A:B,2,0)","v":{"$error":"#N/A"}},{"$f":"IFERROR((IF(A1541=\" \",\" \",R1541)),\" \")","v":" "}]
[null,null,null,null,null,null,null,null,null,{"$f":"+IFERROR(VLOOKUP(C1542,'Charge Conversion'!A:C,3,0),\" \")","v":" "}," "," ",null,null,null,null,null,{"$f":"VLOOKUP(D1542,'Group Name'!A:B,2,0)","v":{"$error":"#N/A"}}," "]
[null,null,null,null,null,null,null,null,null,{"$f":"+IFERROR(VLOOKUP(C1543,'Charge Conversion'!A:C,3,0),\" \")","v":" "}," "," ",null,null,null,null,null,{"$f":"VLOOKUP(D1543,'Group Name'!A:B,2,0)","v":{"$error":"#N/A"}}," "]
[null,null,null,null,null,null,null,null,null,{"$f":"+IFERROR(VLOOKUP(C1544,'Charge Conversion'!A:C,3,0),\" \")","v":" "}," "," ",null,null,null,null,null,{"$f":"VLOOKUP(D1544,'Group Name'!A:B,2,0)","v":{"$error":"#N/A"}}," "]
[null,null,null,null,null,null,null,null,null,{"$f":"+IFERROR(VLOOKUP(C1545,'Charge Conversion'!A:C,3,0),\" \")","v":" "}," "," ",null,null,null,null,null,{"$f":"VLOOKUP(D1545,'Group Name'!A:B,2,0)","v":{"$error":"#N/A"}}," "]
[null,null,null,null,null,null,null,null,null,{"$f":"+IFERROR(VLOOKUP(C1546,'Charge Conversion'!A:C,3,0),\" \")","v":" "}," "," ",null,null,null,null,null,{"$f":"VLOOKUP(D1546,'Group Name'!A:B,2,0)","v":{"$error":"#N/A"}}," "]
[null,null,null,null,null,null,null,null,null,{"$f":"+IFERROR(VLOOKUP(C1547,'Charge Conversion'!A:C,3,0),\" \")","v":" "}," "," ",null,null,null,null,null,{"$f":"VLOOKUP(D1547,'Group Name'!A:B,2,0)","v":{"$error":"#N/A"}}," "]
[null,null,null,null,null,null,null,null,null,{"$f":"+IFERROR(VLOOKUP(C1548,'Charge Conversion'!A:C,3,0),\" \")","v":" "}," "," ",null,null,null,null,null,{"$f":"VLOOKUP(D1548,'Group Name'!A:B,2,0)","v":{"$error":"#N/A"}}," "]
[null,null,null,null,null,null,null,null,null,{"$f":"+IFERROR(VLOOKUP(C1549,'Charge Conversion'!A:C,3,0),\" \")","v":" "}," "," ",null,null,null,null,null,{"$f":"VLOOKUP(D1549,'Group Name'!A:B,2,0)","v":{"$error":"#N/A"}}," "]
[null,null,null,null,null,null,null,null,null,{"$f":"+IFERROR(VLOOKUP(C1550,'Charge Conversion'!A:C,3,0),\" \")","v":" "}," "," ",null,null,null,null,null,{"$f":"VLOOKUP(D1550,'Group Name'!A:B,2,0)","v":{"$error":"#N/A"}}," "]
[null,null,null,null,null,null,null,null,null,{"$f":"+IFERROR(VLOOKUP(C1551,'Charge Conversion'!A:C,3,0),\" \")","v":" "}," "," ",null,null,null,null,null,{"$f":"VLOOKUP(D1551,'Group Name'!A:B,2,0)","v":{"$error":"#N/A"}}," "]
[null,null,null,null,null,null,null,null,null,{"$f":"+IFERROR(VLOOKUP(C1552,'Charge Conversion'!A:C,3,0),\" \")","v":" "}," "," ",null,null,null,null,null,{"$f":"VLOOKUP(D1552,'Group Name'!A:B,2,0)","v":{"$error":"#N/A"}}," "]
[null,null,null,null,null,null,null,null,null,{"$f":"+IFERROR(VLOOKUP(C1553,'Charge Conversion'!A:C,3,0),\" \")","v":" "}," "," ",null,null,null,null,null,{"$f":"VLOOKUP(D1553,'Group Name'!A:B,2,0)","v":{"$error":"#N/A"}}," "]
[null,null,null,null,null,null,null,null,null,{"$f":"+IFERROR(VLOOKUP(C1554,'Charge Conversion'!A:C,3,0),\" \")","v":" "}," "," ",null,null,null,null,null,{"$f":"VLOOKUP(D1554,'Group Name'!A:B,2,0)","v":{"$error":"#N/A"}}," "]
[null,null,null,null,null,null,null,null,null,{"$f":"+IFERROR(VLOOKUP(C1555,'Charge Conversion'!A:C,3,0),\" \")","v":" "}," "," ",null,null,null,null,null,{"$f":"VLOOKUP(D1555,'Group Name'!A:B,2,0)","v":{"$error":"#N/A"}}," "]
[null,null,null,null,null,null,null,null,null,{"$f":"+IFERROR(VLOOKUP(C1556,'Charge Conversion'!A:C,3,0),\" \")","v":" "}," "," ",null,null,null,null,null,{"$f":"VLOOKUP(D1556,'Group Name'!A:B,2,0)","v":{"$error":"#N/A"}}," "]
[null,null,null,null,null,null,null,null,null,{"$f":"+IFERROR(VLOOKUP(C1557,'Charge Conversion'!A:C,3,0),\" \")","v":" "}," "," ",null,null,null,null,null,{"$f":"VLOOKUP(D1557,'Group Name'!A:B,2,0)","v":{"$error":"#N/A"}}," "]
[null,null,null,null,null,null,null,null,null,{"$f":"+IFERROR(VLOOKUP(C1558,'Charge Conversion'!A:C,3,0),\" \")","v":" "}," "," ",null,null,null,null,null,{"$f":"VLOOKUP(D1558,'Group Name'!A:B,2,0)","v":{"$error":"#N/A"}}," "]
[null,null,null,null,null,null,null,null,null,{"$f":"+IFERROR(VLOOKUP(C1559,'Charge Conversion'!A:C,3,0),\" \")","v":" "}," "," ",null,null,null,null,null,{"$f":"VLOOKUP(D1559,'Group Name'!A:B,2,0)","v":{"$error":"#N/A"}}," "]
[null,null,null,null,null,null,null,null,null,{"$f":"+IFERROR(VLOOKUP(C1560,'Charge Conversion'!A:C,3,0),\" \")","v":" "}," "," ",null,null,null,null,null,{"$f":"VLOOKUP(D1560,'Group Name'!A:B,2,0)","v":{"$error":"#N/A"}}," "]
[null,null,null,null,null,null,null,null,null,{"$f":"+IFERROR(VLOOKUP(C1561,'Charge Conversion'!A:C,3,0),\" \")","v":" "}," "," ",null,null,null,null,null,{"$f":"VLOOKUP(D1561,'Group Name'!A:B,2,0)","v":{"$error":"#N/A"}}," "]
[null,null,null,null,null,null,null,null,null,{"$f":"+IFERROR(VLOOKUP(C1562,'Charge Conversion'!A:C,3,0),\" \")","v":" "}," "," ",null,null,null,null,null,{"$f":"VLOOKUP(D1562,'Group Name'!A:B,2,0)","v":{"$error":"#N/A"}}," "]
[null,null,null,null,null,null,null,null,null,{"$f":"+IFERROR(VLOOKUP(C1563,'Charge Conversion'!A:C,3,0),\" \")","v":" "}," "," ",null,null,null,null,null,{"$f":"VLOOKUP(D1563,'Group Name'!A:B,2,0)","v":{"$error":"#N/A"}}," "]
[null,null,null,null,null,null,null,null,null,{"$f":"+IFERROR(VLOOKUP(C1564,'Charge Conversion'!A:C,3,0),\" \")","v":" "}," "," ",null,null,null,null,null,{"$f":"VLOOKUP(D1564,'Group Name'!A:B,2,0)","v":{"$error":"#N/A"}}," "]
[null,null,null,null,null,null,null,null,null,{"$f":"+IFERROR(VLOOKUP(C1565,'Charge Conversion'!A:C,3,0),\" \")","v":" "}," "," ",null,null,null,null,null,{"$f":"VLOOKUP(D1565,'Group Name'!A:B,2,0)","v":{"$error":"#N/A"}}," "]
[null,null,null,null,null,null,null,null,null,{"$f":"+IFERROR(VLOOKUP(C1566,'Charge Conversion'!A:C,3,0),\" \")","v":" "}," "," ",null,null,null,null,null,{"$f":"VLOOKUP(D1566,'Group Name'!A:B,2,0)","v":{"$error":"#N/A"}}," "]
[null,null,null,null,null,null,null,null,null,{"$f":"+IFERROR(VLOOKUP(C1567,'Charge Conversion'!A:C,3,0),\" \")","v":" "}," "," ",null,null,null,null,null,{"$f":"VLOOKUP(D1567,'Group Name'!A:B,2,0)","v":{"$error":"#N/A"}}," "]
[null,null,null,null,null,null,null,null,null,{"$f":"+IFERROR(VLOOKUP(C1568,'Charge Conversion'!A:C,3,0),\" \")","v":" "}," "," ",null,null,null,null,null,{"$f":"VLOOKUP(D1568,'Group Name'!A:B,2,0)","v":{"$error":"#N/A"}}," "]
[null,null,null,null,null,null,null,null,null,{"$f":"+IFERROR(VLOOKUP(C1569,'Charge Conversion'!A:C,3,0),\" \")","v":" "}," "," ",null,null,null,null,null,{"$f":"VLOOKUP(D1569,'Group Name'!A:B,2,0)","v":{"$error":"#N/A"}}," "]
[null,null,null,null,null,null,null,null,null,{"$f":"+IFERROR(VLOOKUP(C1570,'Charge Conversion'!A:C,3,0),\" \")","v":" "}," "," ",null,null,null,null,null,{"$f":"VLOOKUP(D1570,'Group Name'!A:B,2,0)","v":{"$error":"#N/A"}}," "]
[null,null,null,null,null,null,null,null,null,{"$f":"+IFERROR(VLOOKUP(C1571,'Charge Conversion'!A:C,3,0),\" \")","v":" "}," "," ",null,null,null,null,null,{"$f":"VLOOKUP(D1571,'Group Name'!A:B,2,0)","v":{"$error":"#N/A"}}," "]
[null,null,null,null,null,null,null,null,null,{"$f":"+IFERROR(VLOOKUP(C1572,'Charge Conversion'!A:C,3,0),\" \")","v":" "}," "," ",null,null,null,null,null,{"$f":"VLOOKUP(D1572,'Group Name'!A:B,2,0)","v":{"$error":"#N/A"}}," "]
[null,null,null,null,null,null,null,null,null,{"$f":"+IFERROR(VLOOKUP(C1573,'Charge Conversion'!A:C,3,0),\" \")","v":" "}," "," ",null,null,null,null,null,{"$f":"VLOOKUP(D1573,'Group Name'!A:B,2,0)","v":{"$error":"#N/A"}}," "]
[null,null,null,null,null,null,null,null,null,{"$f":"+IFERROR(VLOOKUP(C1574,'Charge Conversion'!A:C,3,0),\" \")","v":" "}," "," ",null,null,null,null,null,{"$f":"VLOOKUP(D1574,'Group Name'!A:B,2,0)","v":{"$error":"#N/A"}}," "]
[null,null,null,null,null,null,null,null,null,{"$f":"+IFERROR(VLOOKUP(C1575,'Charge Conversion'!A:C,3,0),\" \")","v":" "}," "," ",null,null,null,null,null,{"$f":"VLOOKUP(D1575,'Group Name'!A:B,2,0)","v":{"$error":"#N/A"}}," "]
[null,null,null,null,null,null,null,null,null,{"$f":"+IFERROR(VLOOKUP(C1576,'Charge Conversion'!A:C,3,0),\" \")","v":" "}," "," ",null,null,null,null,null,{"$f":"VLOOKUP(D1576,'Group Name'!A:B,2,0)","v":{"$error":"#N/A"}}," "]
[null,null,null,null,null,null,null,null,null,{"$f":"+IFERROR(VLOOKUP(C1577,'Charge Conversion'!A:C,3,0),\" \")","v":" "}," "," ",null,null,null,null,null,{"$f":"VLOOKUP(D1577,'Group Name'!A:B,2,0)","v":{"$error":"#N/A"}}," "]
[null,null,null,null,null,null,null,null,null,{"$f":"+IFERROR(VLOOKUP(C1578,'Charge Conversion'!A:C,3,0),\" \")","v":" "}," "," ",null,null,null,null,null,{"$f":"VLOOKUP(D1578,'Group Name'!A:B,2,0)","v":{"$error":"#N/A"}}," "]
[null,null,null,null,null,null,null,null,null,{"$f":"+IFERROR(VLOOKUP(C1579,'Charge Conversion'!A:C,3,0),\" \")","v":" "}," "," ",null,null,null,null,null,{"$f":"VLOOKUP(D1579,'Group Name'!A:B,2,0)","v":{"$error":"#N/A"}}," "]
[null,null,null,null,null,null,null,null,null,{"$f":"+IFERROR(VLOOKUP(C1580,'Charge Conversion'!A:C,3,0),\" \")","v":" "}," "," ",null,null,null,null,null,{"$f":"VLOOKUP(D1580,'Group Name'!A:B,2,0)","v":{"$error":"#N/A"}}," "]
[null,null,null,null,null,null,null,null,null,{"$f":"+IFERROR(VLOOKUP(C1581,'Charge Conversion'!A:C,3,0),\" \")","v":" "}," "," ",null,null,null,null,null,{"$f":"VLOOKUP(D1581,'Group Name'!A:B,2,0)","v":{"$error":"#N/A"}}," "]
[null,null,null,null,null,null,null,null,null,{"$f":"+IFERROR(VLOOKUP(C1582,'Charge Conversion'!A:C,3,0),\" \")","v":" "}," "," ",null,null,null,null,null,{"$f":"VLOOKUP(D1582,'Group Name'!A:B,2,0)","v":{"$error":"#N/A"}}," "]
[null,null,null,null,null,null,null,null,null,{"$f":"+IFERROR(VLOOKUP(C1583,'Charge Conversion'!A:C,3,0),\" \")","v":" "}," "," ",null,null,null,null,null,{"$f":"VLOOKUP(D1583,'Group Name'!A:B,2,0)","v":{"$error":"#N/A"}}," "]
[null,null,null,null,null,null,null,null,null,{"$f":"+IFERROR(VLOOKUP(C1584,'Charge Conversion'!A:C,3,0),\" \")","v":" "}," "," ",null,null,null,null,null,{"$f":"VLOOKUP(D1584,'Group Name'!A:B,2,0)","v":{"$error":"#N/A"}}," "]
[null,null,null,null,null,null,null,null,null,{"$f":"+IFERROR(VLOOKUP(C1585,'Charge Conversion'!A:C,3,0),\" \")","v":" "}," "," ",null,null,null,null,null,{"$f":"VLOOKUP(D1585,'Group Name'!A:B,2,0)","v":{"$error":"#N/A"}}," "]
[null,null,null,null,null,null,null,null,null,{"$f":"+IFERROR(VLOOKUP(C1586,'Charge Conversion'!A:C,3,0),\" \")","v":" "}," "," ",null,null,null,null,null,{"$f":"VLOOKUP(D1586,'Group Name'!A:B,2,0)","v":{"$error":"#N/A"}}," "]
[null,null,null,null,null,null,null,null,null,{"$f":"+IFERROR(VLOOKUP(C1587,'Charge Conversion'!A:C,3,0),\" \")","v":" "}," "," ",null,null,null,null,null,{"$f":"VLOOKUP(D1587,'Group Name'!A:B,2,0)","v":{"$error":"#N/A"}}," "]
[null,null,null,null,null,null,null,null,null,{"$f":"+IFERROR(VLOOKUP(C1588,'Charge Conversion'!A:C,3,0),\" \")","v":" "}," "," ",null,null,null,null,null,{"$f":"VLOOKUP(D1588,'Group Name'!A:B,2,0)","v":{"$error":"#N/A"}}," "]
[null,null,null,null,null,null,null,null,null,{"$f":"+IFERROR(VLOOKUP(C1589,'Charge Conversion'!A:C,3,0),\" \")","v":" "}," "," ",null,null,null,null,null,{"$f":"VLOOKUP(D1589,'Group Name'!A:B,2,0)","v":{"$error":"#N/A"}}," "]
[null,null,null,null,null,null,null,null,null,{"$f":"+IFERROR(VLOOKUP(C1590,'Charge Conversion'!A:C,3,0),\" \")","v":" "}," "," ",null,null,null,null,null,{"$f":"VLOOKUP(D1590,'Group Name'!A:B,2,0)","v":{"$error":"#N/A"}}," "]
[null,null,null,null,null,null,null,null,null,{"$f":"+IFERROR(VLOOKUP(C1591,'Charge Conversion'!A:C,3,0),\" \")","v":" "}," "," ",null,null,null,null,null,{"$f":"VLOOKUP(D1591,'Group Name'!A:B,2,0)","v":{"$error":"#N/A"}}," "]
[null,null,null,null,null,null,null,null,null,{"$f":"+IFERROR(VLOOKUP(C1592,'Charge Conversion'!A:C,3,0),\" \")","v":" "}," "," ",null,null,null,null,null,{"$f":"VLOOKUP(D1592,'Group Name'!A:B,2,0)","v":{"$error":"#N/A"}}," "]
[null,null,null,null,null,null,null,null,null,{"$f":"+IFERROR(VLOOKUP(C1593,'Charge Conversion'!A:C,3,0),\" \")","v":" "}," "," ",null,null,null,null,null,{"$f":"VLOOKUP(D1593,'Group Name'!A:B,2,0)","v":{"$error":"#N/A"}}," "]
[null,null,null,null,null,null,null,null,null,{"$f":"+IFERROR(VLOOKUP(C1594,'Charge Conversion'!A:C,3,0),\" \")","v":" "}," "," ",null,null,null,null,null,{"$f":"VLOOKUP(D1594,'Group Name'!A:B,2,0)","v":{"$error":"#N/A"}}," "]
[null,null,null,null,null,null,null,null,null,{"$f":"+IFERROR(VLOOKUP(C1595,'Charge Conversion'!A:C,3,0),\" \")","v":" "}," "," ",null,null,null,null,null,{"$f":"VLOOKUP(D1595,'Group Name'!A:B,2,0)","v":{"$error":"#N/A"}}," "]
[null,null,null,null,null,null,null,null,null,{"$f":"+IFERROR(VLOOKUP(C1596,'Charge Conversion'!A:C,3,0),\" \")","v":" "}," "," ",null,null,null,null,null,{"$f":"VLOOKUP(D1596,'Group Name'!A:B,2,0)","v":{"$error":"#N/A"}}," "]
[null,null,null,null,null,null,null,null,null,{"$f":"+IFERROR(VLOOKUP(C1597,'Charge Conversion'!A:C,3,0),\" \")","v":" "}," "," ",null,null,null,null,null,{"$f":"VLOOKUP(D1597,'Group Name'!A:B,2,0)","v":{"$error":"#N/A"}}," "]
[null,null,null,null,null,null,null,null,null,{"$f":"+IFERROR(VLOOKUP(C1598,'Charge Conversion'!A:C,3,0),\" \")","v":" "}," "," ",null,null,null,null,null,{"$f":"VLOOKUP(D1598,'Group Name'!A:B,2,0)","v":{"$error":"#N/A"}}," "]
[null,null,null,null,null,null,null,null,null,{"$f":"+IFERROR(VLOOKUP(C1599,'Charge Conversion'!A:C,3,0),\" \")","v":" "}," "," ",null,null,null,null,null,{"$f":"VLOOKUP(D1599,'Group Name'!A:B,2,0)","v":{"$error":"#N/A"}}," "]
[null,null,null,null,null,null,null,null,null,{"$f":"+IFERROR(VLOOKUP(C1600,'Charge Conversion'!A:C,3,0),\" \")","v":" "}," "," ",null,null,null,null,null,{"$f":"VLOOKUP(D1600,'Group Name'!A:B,2,0)","v":{"$error":"#N/A"}}," "]
[null,null,null,null,null,null,null,null,null,{"$f":"+IFERROR(VLOOKUP(C1601,'Charge Conversion'!A:C,3,0),\" \")","v":" "}," "," ",null,null,null,null,null,{"$f":"VLOOKUP(D1601,'Group Name'!A:B,2,0)","v":{"$error":"#N/A"}}," "]
[null,null,null,null,null,null,null,null,null,{"$f":"+IFERROR(VLOOKUP(C1602,'Charge Conversion'!A:C,3,0),\" \")","v":" "}," "," ",null,null,null,null,null,{"$f":"VLOOKUP(D1602,'Group Name'!A:B,2,0)","v":{"$error":"#N/A"}}," "]
[null,null,null,null,null,null,null,null,null,{"$f":"+IFERROR(VLOOKUP(C1603,'Charge Conversion'!A:C,3,0),\" \")","v":" "}," "," ",null,null,null,null,null,{"$f":"VLOOKUP(D1603,'Group Name'!A:B,2,0)","v":{"$error":"#N/A"}}," "]
[null,null,null,null,null,null,null,null,null,{"$f":"+IFERROR(VLOOKUP(C1604,'Charge Conversion'!A:C,3,0),\" \")","v":" "}," "," ",null,null,null,null,null,{"$f":"VLOOKUP(D1604,'Group Name'!A:B,2,0)","v":{"$error":"#N/A"}}," "]
[null,null,null,null,null,null,null,null,null,{"$f":"+IFERROR(VLOOKUP(C1605,'Charge Conversion'!A:C,3,0),\" \")","v":" "},{"$f":"+IFERROR(I1605*J1605,\" \")","v":" "},{"$f":"S1605","v":" "},null,null,null,null,null,{"$f":"VLOOKUP(D1605,'Group Name'!A:B,2,0)","v":{"$error":"#N/A"}},{"$f":"IFERROR((IF(A1605=\" \",\" \",R1605)),\" \")","v":" "}]
[null,null,null,null,null,null,null,null,null,{"$f":"+IFERROR(VLOOKUP(C1606,'Charge Conversion'!A:C,3,0),\" \")","v":" "}," "," ",null,null,null,null,null,{"$f":"VLOOKUP(D1606,'Group Name'!A:B,2,0)","v":{"$error":"#N/A"}}," "]
[null,null,null,null,null,null,null,null,null,{"$f":"+IFERROR(VLOOKUP(C1607,'Charge Conversion'!A:C,3,0),\" \")","v":" "}," "," ",null,null,null,null,null,{"$f":"VLOOKUP(D1607,'Group Name'!A:B,2,0)","v":{"$error":"#N/A"}}," "]
[null,null,null,null,null,null,null,null,null,{"$f":"+IFERROR(VLOOKUP(C1608,'Charge Conversion'!A:C,3,0),\" \")","v":" "}," "," ",null,null,null,null,null,{"$f":"VLOOKUP(D1608,'Group Name'!A:B,2,0)","v":{"$error":"#N/A"}}," "]
[null,null,null,null,null,null,null,null,null,{"$f":"+IFERROR(VLOOKUP(C1609,'Charge Conversion'!A:C,3,0),\" \")","v":" "}," "," ",null,null,null,null,null,{"$f":"VLOOKUP(D1609,'Group Name'!A:B,2,0)","v":{"$error":"#N/A"}}," "]
[null,null,null,null,null,null,null,null,null,{"$f":"+IFERROR(VLOOKUP(C1610,'Charge Conversion'!A:C,3,0),\" \")","v":" "}," "," ",null,null,null,null,null,{"$f":"VLOOKUP(D1610,'Group Name'!A:B,2,0)","v":{"$error":"#N/A"}}," "]
[null,null,null,null,null,null,null,null,null,{"$f":"+IFERROR(VLOOKUP(C1611,'Charge Conversion'!A:C,3,0),\" \")","v":" "}," "," ",null,null,null,null,null,{"$f":"VLOOKUP(D1611,'Group Name'!A:B,2,0)","v":{"$error":"#N/A"}}," "]
[null,null,null,null,null,null,null,null,null,{"$f":"+IFERROR(VLOOKUP(C1612,'Charge Conversion'!A:C,3,0),\" \")","v":" "}," "," ",null,null,null,null,null,{"$f":"VLOOKUP(D1612,'Group Name'!A:B,2,0)","v":{"$error":"#N/A"}}," "]
[null,null,null,null,null,null,null,null,null,{"$f":"+IFERROR(VLOOKUP(C1613,'Charge Conversion'!A:C,3,0),\" \")","v":" "}," "," ",null,null,null,null,null,{"$f":"VLOOKUP(D1613,'Group Name'!A:B,2,0)","v":{"$error":"#N/A"}}," "]
[null,null,null,null,null,null,null,null,null,{"$f":"+IFERROR(VLOOKUP(C1614,'Charge Conversion'!A:C,3,0),\" \")","v":" "}," "," ",null,null,null,null,null,{"$f":"VLOOKUP(D1614,'Group Name'!A:B,2,0)","v":{"$error":"#N/A"}}," "]
[null,null,null,null,null,null,null,null,null,{"$f":"+IFERROR(VLOOKUP(C1615,'Charge Conversion'!A:C,3,0),\" \")","v":" "}," "," ",null,null,null,null,null,{"$f":"VLOOKUP(D1615,'Group Name'!A:B,2,0)","v":{"$error":"#N/A"}}," "]
[null,null,null,null,null,null,null,null,null,{"$f":"+IFERROR(VLOOKUP(C1616,'Charge Conversion'!A:C,3,0),\" \")","v":" "}," "," ",null,null,null,null,null,{"$f":"VLOOKUP(D1616,'Group Name'!A:B,2,0)","v":{"$error":"#N/A"}}," "]
[null,null,null,null,null,null,null,null,null,{"$f":"+IFERROR(VLOOKUP(C1617,'Charge Conversion'!A:C,3,0),\" \")","v":" "}," "," ",null,null,null,null,null,{"$f":"VLOOKUP(D1617,'Group Name'!A:B,2,0)","v":{"$error":"#N/A"}}," "]
[null,null,null,null,null,null,null,null,null,{"$f":"+IFERROR(VLOOKUP(C1618,'Charge Conversion'!A:C,3,0),\" \")","v":" "}," "," ",null,null,null,null,null,{"$f":"VLOOKUP(D1618,'Group Name'!A:B,2,0)","v":{"$error":"#N/A"}}," "]
[null,null,null,null,null,null,null,null,null,{"$f":"+IFERROR(VLOOKUP(C1619,'Charge Conversion'!A:C,3,0),\" \")","v":" "}," "," ",null,null,null,null,null,{"$f":"VLOOKUP(D1619,'Group Name'!A:B,2,0)","v":{"$error":"#N/A"}}," "]
[null,null,null,null,null,null,null,null,null,{"$f":"+IFERROR(VLOOKUP(C1620,'Charge Conversion'!A:C,3,0),\" \")","v":" "}," "," ",null,null,null,null,null,{"$f":"VLOOKUP(D1620,'Group Name'!A:B,2,0)","v":{"$error":"#N/A"}}," "]
[null,null,null,null,null,null,null,null,null,{"$f":"+IFERROR(VLOOKUP(C1621,'Charge Conversion'!A:C,3,0),\" \")","v":" "}," "," ",null,null,null,null,null,{"$f":"VLOOKUP(D1621,'Group Name'!A:B,2,0)","v":{"$error":"#N/A"}}," "]
[null,null,null,null,null,null,null,null,null,{"$f":"+IFERROR(VLOOKUP(C1622,'Charge Conversion'!A:C,3,0),\" \")","v":" "}," "," ",null,null,null,null,null,{"$f":"VLOOKUP(D1622,'Group Name'!A:B,2,0)","v":{"$error":"#N/A"}}," "]
[null,null,null,null,null,null,null,null,null,{"$f":"+IFERROR(VLOOKUP(C1623,'Charge Conversion'!A:C,3,0),\" \")","v":" "}," "," ",null,null,null,null,null,{"$f":"VLOOKUP(D1623,'Group Name'!A:B,2,0)","v":{"$error":"#N/A"}}," "]
[null,null,null,null,null,null,null,null,null,{"$f":"+IFERROR(VLOOKUP(C1624,'Charge Conversion'!A:C,3,0),\" \")","v":" "}," "," ",null,null,null,null,null,{"$f":"VLOOKUP(D1624,'Group Name'!A:B,2,0)","v":{"$error":"#N/A"}}," "]
[null,null,null,null,null,null,null,null,null,{"$f":"+IFERROR(VLOOKUP(C1625,'Charge Conversion'!A:C,3,0),\" \")","v":" "}," "," ",null,null,null,null,null,{"$f":"VLOOKUP(D1625,'Group Name'!A:B,2,0)","v":{"$error":"#N/A"}}," "]
[null,null,null,null,null,null,null,null,null,{"$f":"+IFERROR(VLOOKUP(C1626,'Charge Conversion'!A:C,3,0),\" \")","v":" "}," "," ",null,null,null,null,null,{"$f":"VLOOKUP(D1626,'Group Name'!A:B,2,0)","v":{"$error":"#N/A"}}," "]
[null,null,null,null,null,null,null,null,null,{"$f":"+IFERROR(VLOOKUP(C1627,'Charge Conversion'!A:C,3,0),\" \")","v":" "}," "," ",null,null,null,null,null,{"$f":"VLOOKUP(D1627,'Group Name'!A:B,2,0)","v":{"$error":"#N/A"}}," "]
[null,null,null,null,null,null,null,null,null,{"$f":"+IFERROR(VLOOKUP(C1628,'Charge Conversion'!A:C,3,0),\" \")","v":" "}," "," ",null,null,null,null,null,{"$f":"VLOOKUP(D1628,'Group Name'!A:B,2,0)","v":{"$error":"#N/A"}}," "]
[null,null,null,null,null,null,null,null,null,{"$f":"+IFERROR(VLOOKUP(C1629,'Charge Conversion'!A:C,3,0),\" \")","v":" "}," "," ",null,null,null,null,null,{"$f":"VLOOKUP(D1629,'Group Name'!A:B,2,0)","v":{"$error":"#N/A"}}," "]
[null,null,null,null,null,null,null,null,null,{"$f":"+IFERROR(VLOOKUP(C1630,'Charge Conversion'!A:C,3,0),\" \")","v":" "}," "," ",null,null,null,null,null,{"$f":"VLOOKUP(D1630,'Group Name'!A:B,2,0)","v":{"$error":"#N/A"}}," "]
[null,null,null,null,null,null,null,null,null,{"$f":"+IFERROR(VLOOKUP(C1631,'Charge Conversion'!A:C,3,0),\" \")","v":" "}," "," ",null,null,null,null,null,{"$f":"VLOOKUP(D1631,'Group Name'!A:B,2,0)","v":{"$error":"#N/A"}}," "]
[null,null,null,null,null,null,null,null,null,{"$f":"+IFERROR(VLOOKUP(C1632,'Charge Conversion'!A:C,3,0),\" \")","v":" "}," "," ",null,null,null,null,null,{"$f":"VLOOKUP(D1632,'Group Name'!A:B,2,0)","v":{"$error":"#N/A"}}," "]
[null,null,null,null,null,null,null,null,null,{"$f":"+IFERROR(VLOOKUP(C1633,'Charge Conversion'!A:C,3,0),\" \")","v":" "}," "," ",null,null,null,null,null,{"$f":"VLOOKUP(D1633,'Group Name'!A:B,2,0)","v":{"$error":"#N/A"}}," "]
[null,null,null,null,null,null,null,null,null,{"$f":"+IFERROR(VLOOKUP(C1634,'Charge Conversion'!A:C,3,0),\" \")","v":" "}," "," ",null,null,null,null,null,{"$f":"VLOOKUP(D1634,'Group Name'!A:B,2,0)","v":{"$error":"#N/A"}}," "]
[null,null,null,null,null,null,null,null,null,{"$f":"+IFERROR(VLOOKUP(C1635,'Charge Conversion'!A:C,3,0),\" \")","v":" "}," "," ",null,null,null,null,null,{"$f":"VLOOKUP(D1635,'Group Name'!A:B,2,0)","v":{"$error":"#N/A"}}," "]
[null,null,null,null,null,null,null,null,null,{"$f":"+IFERROR(VLOOKUP(C1636,'Charge Conversion'!A:C,3,0),\" \")","v":" "}," "," ",null,null,null,null,null,{"$f":"VLOOKUP(D1636,'Group Name'!A:B,2,0)","v":{"$error":"#N/A"}}," "]
[null,null,null,null,null,null,null,null,null,{"$f":"+IFERROR(VLOOKUP(C1637,'Charge Conversion'!A:C,3,0),\" \")","v":" "}," "," ",null,null,null,null,null,{"$f":"VLOOKUP(D1637,'Group Name'!A:B,2,0)","v":{"$error":"#N/A"}}," "]
[null,null,null,null,null,null,null,null,null,{"$f":"+IFERROR(VLOOKUP(C1638,'Charge Conversion'!A:C,3,0),\" \")","v":" "}," "," ",null,null,null,null,null,{"$f":"VLOOKUP(D1638,'Group Name'!A:B,2,0)","v":{"$error":"#N/A"}}," "]
[null,null,null,null,null,null,null,null,null,{"$f":"+IFERROR(VLOOKUP(C1639,'Charge Conversion'!A:C,3,0),\" \")","v":" "}," "," ",null,null,null,null,null,{"$f":"VLOOKUP(D1639,'Group Name'!A:B,2,0)","v":{"$error":"#N/A"}}," "]
[null,null,null,null,null,null,null,null,null,{"$f":"+IFERROR(VLOOKUP(C1640,'Charge Conversion'!A:C,3,0),\" \")","v":" "}," "," ",null,null,null,null,null,{"$f":"VLOOKUP(D1640,'Group Name'!A:B,2,0)","v":{"$error":"#N/A"}}," "]
[null,null,null,null,null,null,null,null,null,{"$f":"+IFERROR(VLOOKUP(C1641,'Charge Conversion'!A:C,3,0),\" \")","v":" "}," "," ",null,null,null,null,null,{"$f":"VLOOKUP(D1641,'Group Name'!A:B,2,0)","v":{"$error":"#N/A"}}," "]
[null,null,null,null,null,null,null,null,null,{"$f":"+IFERROR(VLOOKUP(C1642,'Charge Conversion'!A:C,3,0),\" \")","v":" "}," "," ",null,null,null,null,null,{"$f":"VLOOKUP(D1642,'Group Name'!A:B,2,0)","v":{"$error":"#N/A"}}," "]
[null,null,null,null,null,null,null,null,null,{"$f":"+IFERROR(VLOOKUP(C1643,'Charge Conversion'!A:C,3,0),\" \")","v":" "}," "," ",null,null,null,null,null,{"$f":"VLOOKUP(D1643,'Group Name'!A:B,2,0)","v":{"$error":"#N/A"}}," "]
[null,null,null,null,null,null,null,null,null,{"$f":"+IFERROR(VLOOKUP(C1644,'Charge Conversion'!A:C,3,0),\" \")","v":" "}," "," ",null,null,null,null,null,{"$f":"VLOOKUP(D1644,'Group Name'!A:B,2,0)","v":{"$error":"#N/A"}}," "]
[null,null,null,null,null,null,null,null,null,{"$f":"+IFERROR(VLOOKUP(C1645,'Charge Conversion'!A:C,3,0),\" \")","v":" "}," "," ",null,null,null,null,null,{"$f":"VLOOKUP(D1645,'Group Name'!A:B,2,0)","v":{"$error":"#N/A"}}," "]
[null,null,null,null,null,null,null,null,null,{"$f":"+IFERROR(VLOOKUP(C1646,'Charge Conversion'!A:C,3,0),\" \")","v":" "}," "," ",null,null,null,null,null,{"$f":"VLOOKUP(D1646,'Group Name'!A:B,2,0)","v":{"$error":"#N/A"}}," "]
[null,null,null,null,null,null,null,null,null,{"$f":"+IFERROR(VLOOKUP(C1647,'Charge Conversion'!A:C,3,0),\" \")","v":" "}," "," ",null,null,null,null,null,{"$f":"VLOOKUP(D1647,'Group Name'!A:B,2,0)","v":{"$error":"#N/A"}}," "]
[null,null,null,null,null,null,null,null,null,{"$f":"+IFERROR(VLOOKUP(C1648,'Charge Conversion'!A:C,3,0),\" \")","v":" "}," "," ",null,null,null,null,null,{"$f":"VLOOKUP(D1648,'Group Name'!A:B,2,0)","v":{"$error":"#N/A"}}," "]
[null,null,null,null,null,null,null,null,null,{"$f":"+IFERROR(VLOOKUP(C1649,'Charge Conversion'!A:C,3,0),\" \")","v":" "}," "," ",null,null,null,null,null,{"$f":"VLOOKUP(D1649,'Group Name'!A:B,2,0)","v":{"$error":"#N/A"}}," "]
[null,null,null,null,null,null,null,null,null,{"$f":"+IFERROR(VLOOKUP(C1650,'Charge Conversion'!A:C,3,0),\" \")","v":" "}," "," ",null,null,null,null,null,{"$f":"VLOOKUP(D1650,'Group Name'!A:B,2,0)","v":{"$error":"#N/A"}}," "]
[null,null,null,null,null,null,null,null,null,{"$f":"+IFERROR(VLOOKUP(C1651,'Charge Conversion'!A:C,3,0),\" \")","v":" "}," "," ",null,null,null,null,null,{"$f":"VLOOKUP(D1651,'Group Name'!A:B,2,0)","v":{"$error":"#N/A"}}," "]
[null,null,null,null,null,null,null,null,null,{"$f":"+IFERROR(VLOOKUP(C1652,'Charge Conversion'!A:C,3,0),\" \")","v":" "}," "," ",null,null,null,null,null,{"$f":"VLOOKUP(D1652,'Group Name'!A:B,2,0)","v":{"$error":"#N/A"}}," "]
[null,null,null,null,null,null,null,null,null,{"$f":"+IFERROR(VLOOKUP(C1653,'Charge Conversion'!A:C,3,0),\" \")","v":" "}," "," ",null,null,null,null,null,{"$f":"VLOOKUP(D1653,'Group Name'!A:B,2,0)","v":{"$error":"#N/A"}}," "]
[null,null,null,null,null,null,null,null,null,{"$f":"+IFERROR(VLOOKUP(C1654,'Charge Conversion'!A:C,3,0),\" \")","v":" "}," "," ",null,null,null,null,null,{"$f":"VLOOKUP(D1654,'Group Name'!A:B,2,0)","v":{"$error":"#N/A"}}," "]
[null,null,null,null,null,null,null,null,null,{"$f":"+IFERROR(VLOOKUP(C1655,'Charge Conversion'!A:C,3,0),\" \")","v":" "}," "," ",null,null,null,null,null,{"$f":"VLOOKUP(D1655,'Group Name'!A:B,2,0)","v":{"$error":"#N/A"}}," "]
[null,null,null,null,null,null,null,null,null,{"$f":"+IFERROR(VLOOKUP(C1656,'Charge Conversion'!A:C,3,0),\" \")","v":" "}," "," ",null,null,null,null,null,{"$f":"VLOOKUP(D1656,'Group Name'!A:B,2,0)","v":{"$error":"#N/A"}}," "]
[null,null,null,null,null,null,null,null,null,{"$f":"+IFERROR(VLOOKUP(C1657,'Charge Conversion'!A:C,3,0),\" \")","v":" "}," "," ",null,null,null,null,null,{"$f":"VLOOKUP(D1657,'Group Name'!A:B,2,0)","v":{"$error":"#N/A"}}," "]
[null,null,null,null,null,null,null,null,null,{"$f":"+IFERROR(VLOOKUP(C1658,'Charge Conversion'!A:C,3,0),\" \")","v":" "}," "," ",null,null,null,null,null,{"$f":"VLOOKUP(D1658,'Group Name'!A:B,2,0)","v":{"$error":"#N/A"}}," "]
[null,null,null,null,null,null,null,null,null,{"$f":"+IFERROR(VLOOKUP(C1659,'Charge Conversion'!A:C,3,0),\" \")","v":" "}," "," ",null,null,null,null,null,{"$f":"VLOOKUP(D1659,'Group Name'!A:B,2,0)","v":{"$error":"#N/A"}}," "]
[null,null,null,null,null,null,null,null,null,{"$f":"+IFERROR(VLOOKUP(C1660,'Charge Conversion'!A:C,3,0),\" \")","v":" "}," "," ",null,null,null,null,null,{"$f":"VLOOKUP(D1660,'Group Name'!A:B,2,0)","v":{"$error":"#N/A"}}," "]
[null,null,null,null,null,null,null,null,null,{"$f":"+IFERROR(VLOOKUP(C1661,'Charge Conversion'!A:C,3,0),\" \")","v":" "}," "," ",null,null,null,null,null,{"$f":"VLOOKUP(D1661,'Group Name'!A:B,2,0)","v":{"$error":"#N/A"}}," "]
[null,null,null,null,null,null,null,null,null,{"$f":"+IFERROR(VLOOKUP(C1662,'Charge Conversion'!A:C,3,0),\" \")","v":" "}," "," ",null,null,null,null,null,{"$f":"VLOOKUP(D1662,'Group Name'!A:B,2,0)","v":{"$error":"#N/A"}}," "]
[null,null,null,null,null,null,null,null,null,{"$f":"+IFERROR(VLOOKUP(C1663,'Charge Conversion'!A:C,3,0),\" \")","v":" "}," "," ",null,null,null,null,null,{"$f":"VLOOKUP(D1663,'Group Name'!A:B,2,0)","v":{"$error":"#N/A"}}," "]
[null,null,null,null,null,null,null,null,null,{"$f":"+IFERROR(VLOOKUP(C1664,'Charge Conversion'!A:C,3,0),\" \")","v":" "}," "," ",null,null,null,null,null,{"$f":"VLOOKUP(D1664,'Group Name'!A:B,2,0)","v":{"$error":"#N/A"}}," "]
[null,null,null,null,null,null,null,null,null,{"$f":"+IFERROR(VLOOKUP(C1665,'Charge Conversion'!A:C,3,0),\" \")","v":" "}," "," ",null,null,null,null,null,{"$f":"VLOOKUP(D1665,'Group Name'!A:B,2,0)","v":{"$error":"#N/A"}}," "]
[null,null,null,null,null,null,null,null,null,{"$f":"+IFERROR(VLOOKUP(C1666,'Charge Conversion'!A:C,3,0),\" \")","v":" "}," "," ",null,null,null,null,null,{"$f":"VLOOKUP(D1666,'Group Name'!A:B,2,0)","v":{"$error":"#N/A"}}," "]
[null,null,null,null,null,null,null,null,null,{"$f":"+IFERROR(VLOOKUP(C1667,'Charge Conversion'!A:C,3,0),\" \")","v":" "}," "," ",null,null,null,null,null,{"$f":"VLOOKUP(D1667,'Group Name'!A:B,2,0)","v":{"$error":"#N/A"}}," "]
[null,null,null,null,null,null,null,null,null,{"$f":"+IFERROR(VLOOKUP(C1668,'Charge Conversion'!A:C,3,0),\" \")","v":" "}," "," ",null,null,null,null,null,{"$f":"VLOOKUP(D1668,'Group Name'!A:B,2,0)","v":{"$error":"#N/A"}}," "]
[null,null,null,null,null,null,null,null,null,{"$f":"+IFERROR(VLOOKUP(C1669,'Charge Conversion'!A:C,3,0),\" \")","v":" "},{"$f":"+IFERROR(I1669*J1669,\" \")","v":" "},{"$f":"S1669","v":" "},null,null,null,null,null,{"$f":"VLOOKUP(D1669,'Group Name'!A:B,2,0)","v":{"$error":"#N/A"}},{"$f":"IFERROR((IF(A1669=\" \",\" \",R1669)),\" \")","v":" "}]
[null,null,null,null,null,null,null,null,null,{"$f":"+IFERROR(VLOOKUP(C1670,'Charge Conversion'!A:C,3,0),\" \")","v":" "}," "," ",null,null,null,null,null,{"$f":"VLOOKUP(D1670,'Group Name'!A:B,2,0)","v":{"$error":"#N/A"}}," "]
[null,null,null,null,null,null,null,null,null,{"$f":"+IFERROR(VLOOKUP(C1671,'Charge Conversion'!A:C,3,0),\" \")","v":" "}," "," ",null,null,null,null,null,{"$f":"VLOOKUP(D1671,'Group Name'!A:B,2,0)","v":{"$error":"#N/A"}}," "]
[null,null,null,null,null,null,null,null,null,{"$f":"+IFERROR(VLOOKUP(C1672,'Charge Conversion'!A:C,3,0),\" \")","v":" "}," "," ",null,null,null,null,null,{"$f":"VLOOKUP(D1672,'Group Name'!A:B,2,0)","v":{"$error":"#N/A"}}," "]
[null,null,null,null,null,null,null,null,null,{"$f":"+IFERROR(VLOOKUP(C1673,'Charge Conversion'!A:C,3,0),\" \")","v":" "}," "," ",null,null,null,null,null,{"$f":"VLOOKUP(D1673,'Group Name'!A:B,2,0)","v":{"$error":"#N/A"}}," "]
[null,null,null,null,null,null,null,null,null,{"$f":"+IFERROR(VLOOKUP(C1674,'Charge Conversion'!A:C,3,0),\" \")","v":" "}," "," ",null,null,null,null,null,{"$f":"VLOOKUP(D1674,'Group Name'!A:B,2,0)","v":{"$error":"#N/A"}}," "]
[null,null,null,null,null,null,null,null,null,{"$f":"+IFERROR(VLOOKUP(C1675,'Charge Conversion'!A:C,3,0),\" \")","v":" "}," "," ",null,null,null,null,null,{"$f":"VLOOKUP(D1675,'Group Name'!A:B,2,0)","v":{"$error":"#N/A"}}," "]
[null,null,null,null,null,null,null,null,null,{"$f":"+IFERROR(VLOOKUP(C1676,'Charge Conversion'!A:C,3,0),\" \")","v":" "}," "," ",null,null,null,null,null,{"$f":"VLOOKUP(D1676,'Group Name'!A:B,2,0)","v":{"$error":"#N/A"}}," "]
[null,null,null,null,null,null,null,null,null,{"$f":"+IFERROR(VLOOKUP(C1677,'Charge Conversion'!A:C,3,0),\" \")","v":" "}," "," ",null,null,null,null,null,{"$f":"VLOOKUP(D1677,'Group Name'!A:B,2,0)","v":{"$error":"#N/A"}}," "]
[null,null,null,null,null,null,null,null,null,{"$f":"+IFERROR(VLOOKUP(C1678,'Charge Conversion'!A:C,3,0),\" \")","v":" "}," "," ",null,null,null,null,null,{"$f":"VLOOKUP(D1678,'Group Name'!A:B,2,0)","v":{"$error":"#N/A"}}," "]
[null,null,null,null,null,null,null,null,null,{"$f":"+IFERROR(VLOOKUP(C1679,'Charge Conversion'!A:C,3,0),\" \")","v":" "}," "," ",null,null,null,null,null,{"$f":"VLOOKUP(D1679,'Group Name'!A:B,2,0)","v":{"$error":"#N/A"}}," "]
[null,null,null,null,null,null,null,null,null,{"$f":"+IFERROR(VLOOKUP(C1680,'Charge Conversion'!A:C,3,0),\" \")","v":" "}," "," ",null,null,null,null,null,{"$f":"VLOOKUP(D1680,'Group Name'!A:B,2,0)","v":{"$error":"#N/A"}}," "]
[null,null,null,null,null,null,null,null,null,{"$f":"+IFERROR(VLOOKUP(C1681,'Charge Conversion'!A:C,3,0),\" \")","v":" "}," "," ",null,null,null,null,null,{"$f":"VLOOKUP(D1681,'Group Name'!A:B,2,0)","v":{"$error":"#N/A"}}," "]
[null,null,null,null,null,null,null,null,null,{"$f":"+IFERROR(VLOOKUP(C1682,'Charge Conversion'!A:C,3,0),\" \")","v":" "}," "," ",null,null,null,null,null,{"$f":"VLOOKUP(D1682,'Group Name'!A:B,2,0)","v":{"$error":"#N/A"}}," "]
[null,null,null,null,null,null,null,null,null,{"$f":"+IFERROR(VLOOKUP(C1683,'Charge Conversion'!A:C,3,0),\" \")","v":" "}," "," ",null,null,null,null,null,{"$f":"VLOOKUP(D1683,'Group Name'!A:B,2,0)","v":{"$error":"#N/A"}}," "]
[null,null,null,null,null,null,null,null,null,{"$f":"+IFERROR(VLOOKUP(C1684,'Charge Conversion'!A:C,3,0),\" \")","v":" "}," "," ",null,null,null,null,null,{"$f":"VLOOKUP(D1684,'Group Name'!A:B,2,0)","v":{"$error":"#N/A"}}," "]
[null,null,null,null,null,null,null,null,null,{"$f":"+IFERROR(VLOOKUP(C1685,'Charge Conversion'!A:C,3,0),\" \")","v":" "}," "," ",null,null,null,null,null,{"$f":"VLOOKUP(D1685,'Group Name'!A:B,2,0)","v":{"$error":"#N/A"}}," "]
[null,null,null,null,null,null,null,null,null,{"$f":"+IFERROR(VLOOKUP(C1686,'Charge Conversion'!A:C,3,0),\" \")","v":" "}," "," ",null,null,null,null,null,{"$f":"VLOOKUP(D1686,'Group Name'!A:B,2,0)","v":{"$error":"#N/A"}}," "]
[null,null,null,null,null,null,null,null,null,{"$f":"+IFERROR(VLOOKUP(C1687,'Charge Conversion'!A:C,3,0),\" \")","v":" "}," "," ",null,null,null,null,null,{"$f":"VLOOKUP(D1687,'Group Name'!A:B,2,0)","v":{"$error":"#N/A"}}," "]
[null,null,null,null,null,null,null,null,null,{"$f":"+IFERROR(VLOOKUP(C1688,'Charge Conversion'!A:C,3,0),\" \")","v":" "}," "," ",null,null,null,null,null,{"$f":"VLOOKUP(D1688,'Group Name'!A:B,2,0)","v":{"$error":"#N/A"}}," "]
[null,null,null,null,null,null,null,null,null,{"$f":"+IFERROR(VLOOKUP(C1689,'Charge Conversion'!A:C,3,0),\" \")","v":" "}," "," ",null,null,null,null,null,{"$f":"VLOOKUP(D1689,'Group Name'!A:B,2,0)","v":{"$error":"#N/A"}}," "]
[null,null,null,null,null,null,null,null,null,{"$f":"+IFERROR(VLOOKUP(C1690,'Charge Conversion'!A:C,3,0),\" \")","v":" "}," "," ",null,null,null,null,null,{"$f":"VLOOKUP(D1690,'Group Name'!A:B,2,0)","v":{"$error":"#N/A"}}," "]
[null,null,null,null,null,null,null,null,null,{"$f":"+IFERROR(VLOOKUP(C1691,'Charge Conversion'!A:C,3,0),\" \")","v":" "}," "," ",null,null,null,null,null,{"$f":"VLOOKUP(D1691,'Group Name'!A:B,2,0)","v":{"$error":"#N/A"}}," "]
[null,null,null,null,null,null,null,null,null,{"$f":"+IFERROR(VLOOKUP(C1692,'Charge Conversion'!A:C,3,0),\" \")","v":" "}," "," ",null,null,null,null,null,{"$f":"VLOOKUP(D1692,'Group Name'!A:B,2,0)","v":{"$error":"#N/A"}}," "]
[null,null,null,null,null,null,null,null,null,{"$f":"+IFERROR(VLOOKUP(C1693,'Charge Conversion'!A:C,3,0),\" \")","v":" "}," "," ",null,null,null,null,null,{"$f":"VLOOKUP(D1693,'Group Name'!A:B,2,0)","v":{"$error":"#N/A"}}," "]
[null,null,null,null,null,null,null,null,null,{"$f":"+IFERROR(VLOOKUP(C1694,'Charge Conversion'!A:C,3,0),\" \")","v":" "}," "," ",null,null,null,null,null,{"$f":"VLOOKUP(D1694,'Group Name'!A:B,2,0)","v":{"$error":"#N/A"}}," "]
[null,null,null,null,null,null,null,null,null,{"$f":"+IFERROR(VLOOKUP(C1695,'Charge Conversion'!A:C,3,0),\" \")","v":" "}," "," ",null,null,null,null,null,{"$f":"VLOOKUP(D1695,'Group Name'!A:B,2,0)","v":{"$error":"#N/A"}}," "]
[null,null,null,null,null,null,null,null,null,{"$f":"+IFERROR(VLOOKUP(C1696,'Charge Conversion'!A:C,3,0),\" \")","v":" "}," "," ",null,null,null,null,null,{"$f":"VLOOKUP(D1696,'Group Name'!A:B,2,0)","v":{"$error":"#N/A"}}," "]
[null,null,null,null,null,null,null,null,null,{"$f":"+IFERROR(VLOOKUP(C1697,'Charge Conversion'!A:C,3,0),\" \")","v":" "}," "," ",null,null,null,null,null,{"$f":"VLOOKUP(D1697,'Group Name'!A:B,2,0)","v":{"$error":"#N/A"}}," "]
[null,null,null,null,null,null,null,null,null,{"$f":"+IFERROR(VLOOKUP(C1698,'Charge Conversion'!A:C,3,0),\" \")","v":" "}," "," ",null,null,null,null,null,{"$f":"VLOOKUP(D1698,'Group Name'!A:B,2,0)","v":{"$error":"#N/A"}}," "]
[null,null,null,null,null,null,null,null,null,{"$f":"+IFERROR(VLOOKUP(C1699,'Charge Conversion'!A:C,3,0),\" \")","v":" "}," "," ",null,null,null,null,null,{"$f":"VLOOKUP(D1699,'Group Name'!A:B,2,0)","v":{"$error":"#N/A"}}," "]
[null,null,null,null,null,null,null,null,null,{"$f":"+IFERROR(VLOOKUP(C1700,'Charge Conversion'!A:C,3,0),\" \")","v":" "}," "," ",null,null,null,null,null,{"$f":"VLOOKUP(D1700,'Group Name'!A:B,2,0)","v":{"$error":"#N/A"}}," "]
[null,null,null,null,null,null,null,null,null,{"$f":"+IFERROR(VLOOKUP(C1701,'Charge Conversion'!A:C,3,0),\" \")","v":" "}," "," ",null,null,null,null,null,{"$f":"VLOOKUP(D1701,'Group Name'!A:B,2,0)","v":{"$error":"#N/A"}}," "]
[null,null,null,null,null,null,null,null,null,{"$f":"+IFERROR(VLOOKUP(C1702,'Charge Conversion'!A:C,3,0),\" \")","v":" "}," "," ",null,null,null,null,null,{"$f":"VLOOKUP(D1702,'Group Name'!A:B,2,0)","v":{"$error":"#N/A"}}," "]
[null,null,null,null,null,null,null,null,null,{"$f":"+IFERROR(VLOOKUP(C1703,'Charge Conversion'!A:C,3,0),\" \")","v":" "}," "," ",null,null,null,null,null,{"$f":"VLOOKUP(D1703,'Group Name'!A:B,2,0)","v":{"$error":"#N/A"}}," "]
[null,null,null,null,null,null,null,null,null,{"$f":"+IFERROR(VLOOKUP(C1704,'Charge Conversion'!A:C,3,0),\" \")","v":" "}," "," ",null,null,null,null,null,{"$f":"VLOOKUP(D1704,'Group Name'!A:B,2,0)","v":{"$error":"#N/A"}}," "]
[null,null,null,null,null,null,null,null,null,{"$f":"+IFERROR(VLOOKUP(C1705,'Charge Conversion'!A:C,3,0),\" \")","v":" "}," "," ",null,null,null,null,null,{"$f":"VLOOKUP(D1705,'Group Name'!A:B,2,0)","v":{"$error":"#N/A"}}," "]
[null,null,null,null,null,null,null,null,null,{"$f":"+IFERROR(VLOOKUP(C1706,'Charge Conversion'!A:C,3,0),\" \")","v":" "}," "," ",null,null,null,null,null,{"$f":"VLOOKUP(D1706,'Group Name'!A:B,2,0)","v":{"$error":"#N/A"}}," "]
[null,null,null,null,null,null,null,null,null,{"$f":"+IFERROR(VLOOKUP(C1707,'Charge Conversion'!A:C,3,0),\" \")","v":" "}," "," ",null,null,null,null,null,{"$f":"VLOOKUP(D1707,'Group Name'!A:B,2,0)","v":{"$error":"#N/A"}}," "]
[null,null,null,null,null,null,null,null,null,{"$f":"+IFERROR(VLOOKUP(C1708,'Charge Conversion'!A:C,3,0),\" \")","v":" "}," "," ",null,null,null,null,null,{"$f":"VLOOKUP(D1708,'Group Name'!A:B,2,0)","v":{"$error":"#N/A"}}," "]
[null,null,null,null,null,null,null,null,null,{"$f":"+IFERROR(VLOOKUP(C1709,'Charge Conversion'!A:C,3,0),\" \")","v":" "}," "," ",null,null,null,null,null,{"$f":"VLOOKUP(D1709,'Group Name'!A:B,2,0)","v":{"$error":"#N/A"}}," "]
[null,null,null,null,null,null,null,null,null,{"$f":"+IFERROR(VLOOKUP(C1710,'Charge Conversion'!A:C,3,0),\" \")","v":" "}," "," ",null,null,null,null,null,{"$f":"VLOOKUP(D1710,'Group Name'!A:B,2,0)","v":{"$error":"#N/A"}}," "]
[null,null,null,null,null,null,null,null,null,{"$f":"+IFERROR(VLOOKUP(C1711,'Charge Conversion'!A:C,3,0),\" \")","v":" "}," "," ",null,null,null,null,null,{"$f":"VLOOKUP(D1711,'Group Name'!A:B,2,0)","v":{"$error":"#N/A"}}," "]
[null,null,null,null,null,null,null,null,null,{"$f":"+IFERROR(VLOOKUP(C1712,'Charge Conversion'!A:C,3,0),\" \")","v":" "}," "," ",null,null,null,null,null,{"$f":"VLOOKUP(D1712,'Group Name'!A:B,2,0)","v":{"$error":"#N/A"}}," "]
[null,null,null,null,null,null,null,null,null,{"$f":"+IFERROR(VLOOKUP(C1713,'Charge Conversion'!A:C,3,0),\" \")","v":" "}," "," ",null,null,null,null,null,{"$f":"VLOOKUP(D1713,'Group Name'!A:B,2,0)","v":{"$error":"#N/A"}}," "]
[null,null,null,null,null,null,null,null,null,{"$f":"+IFERROR(VLOOKUP(C1714,'Charge Conversion'!A:C,3,0),\" \")","v":" "}," "," ",null,null,null,null,null,{"$f":"VLOOKUP(D1714,'Group Name'!A:B,2,0)","v":{"$error":"#N/A"}}," "]
[null,null,null,null,null,null,null,null,null,{"$f":"+IFERROR(VLOOKUP(C1715,'Charge Conversion'!A:C,3,0),\" \")","v":" "}," "," ",null,null,null,null,null,{"$f":"VLOOKUP(D1715,'Group Name'!A:B,2,0)","v":{"$error":"#N/A"}}," "]
[null,null,null,null,null,null,null,null,null,{"$f":"+IFERROR(VLOOKUP(C1716,'Charge Conversion'!A:C,3,0),\" \")","v":" "}," "," ",null,null,null,null,null,{"$f":"VLOOKUP(D1716,'Group Name'!A:B,2,0)","v":{"$error":"#N/A"}}," "]
[null,null,null,null,null,null,null,null,null,{"$f":"+IFERROR(VLOOKUP(C1717,'Charge Conversion'!A:C,3,0),\" \")","v":" "}," "," ",null,null,null,null,null,{"$f":"VLOOKUP(D1717,'Group Name'!A:B,2,0)","v":{"$error":"#N/A"}}," "]
[null,null,null,null,null,null,null,null,null,{"$f":"+IFERROR(VLOOKUP(C1718,'Charge Conversion'!A:C,3,0),\" \")","v":" "}," "," ",null,null,null,null,null,{"$f":"VLOOKUP(D1718,'Group Name'!A:B,2,0)","v":{"$error":"#N/A"}}," "]
[null,null,null,null,null,null,null,null,null,{"$f":"+IFERROR(VLOOKUP(C1719,'Charge Conversion'!A:C,3,0),\" \")","v":" "}," "," ",null,null,null,null,null,{"$f":"VLOOKUP(D1719,'Group Name'!A:B,2,0)","v":{"$error":"#N/A"}}," "]
[null,null,null,null,null,null,null,null,null,{"$f":"+IFERROR(VLOOKUP(C1720,'Charge Conversion'!A:C,3,0),\" \")","v":" "}," "," ",null,null,null,null,null,{"$f":"VLOOKUP(D1720,'Group Name'!A:B,2,0)","v":{"$error":"#N/A"}}," "]
[null,null,null,null,null,null,null,null,null,{"$f":"+IFERROR(VLOOKUP(C1721,'Charge Conversion'!A:C,3,0),\" \")","v":" "}," "," ",null,null,null,null,null,{"$f":"VLOOKUP(D1721,'Group Name'!A:B,2,0)","v":{"$error":"#N/A"}}," "]
[null,null,null,null,null,null,null,null,null,{"$f":"+IFERROR(VLOOKUP(C1722,'Charge Conversion'!A:C,3,0),\" \")","v":" "}," "," ",null,null,null,null,null,{"$f":"VLOOKUP(D1722,'Group Name'!A:B,2,0)","v":{"$error":"#N/A"}}," "]
[null,null,null,null,null,null,null,null,null,{"$f":"+IFERROR(VLOOKUP(C1723,'Charge Conversion'!A:C,3,0),\" \")","v":" "}," "," ",null,null,null,null,null,{"$f":"VLOOKUP(D1723,'Group Name'!A:B,2,0)","v":{"$error":"#N/A"}}," "]
[null,null,null,null,null,null,null,null,null,{"$f":"+IFERROR(VLOOKUP(C1724,'Charge Conversion'!A:C,3,0),\" \")","v":" "}," "," ",null,null,null,null,null,{"$f":"VLOOKUP(D1724,'Group Name'!A:B,2,0)","v":{"$error":"#N/A"}}," "]
[null,null,null,null,null,null,null,null,null,{"$f":"+IFERROR(VLOOKUP(C1725,'Charge Conversion'!A:C,3,0),\" \")","v":" "}," "," ",null,null,null,null,null,{"$f":"VLOOKUP(D1725,'Group Name'!A:B,2,0)","v":{"$error":"#N/A"}}," "]
[null,null,null,null,null,null,null,null,null,{"$f":"+IFERROR(VLOOKUP(C1726,'Charge Conversion'!A:C,3,0),\" \")","v":" "}," "," ",null,null,null,null,null,{"$f":"VLOOKUP(D1726,'Group Name'!A:B,2,0)","v":{"$error":"#N/A"}}," "]
[null,null,null,null,null,null,null,null,null,{"$f":"+IFERROR(VLOOKUP(C1727,'Charge Conversion'!A:C,3,0),\" \")","v":" "}," "," ",null,null,null,null,null,{"$f":"VLOOKUP(D1727,'Group Name'!A:B,2,0)","v":{"$error":"#N/A"}}," "]
[null,null,null,null,null,null,null,null,null,{"$f":"+IFERROR(VLOOKUP(C1728,'Charge Conversion'!A:C,3,0),\" \")","v":" "}," "," ",null,null,null,null,null,{"$f":"VLOOKUP(D1728,'Group Name'!A:B,2,0)","v":{"$error":"#N/A"}}," "]
[null,null,null,null,null,null,null,null,null,{"$f":"+IFERROR(VLOOKUP(C1729,'Charge Conversion'!A:C,3,0),\" \")","v":" "}," "," ",null,null,null,null,null,{"$f":"VLOOKUP(D1729,'Group Name'!A:B,2,0)","v":{"$error":"#N/A"}}," "]
[null,null,null,null,null,null,null,null,null,{"$f":"+IFERROR(VLOOKUP(C1730,'Charge Conversion'!A:C,3,0),\" \")","v":" "}," "," ",null,null,null,null,null,{"$f":"VLOOKUP(D1730,'Group Name'!A:B,2,0)","v":{"$error":"#N/A"}}," "]
[null,null,null,null,null,null,null,null,null,{"$f":"+IFERROR(VLOOKUP(C1731,'Charge Conversion'!A:C,3,0),\" \")","v":" "}," "," ",null,null,null,null,null,{"$f":"VLOOKUP(D1731,'Group Name'!A:B,2,0)","v":{"$error":"#N/A"}}," "]
[null,null,null,null,null,null,null,null,null,{"$f":"+IFERROR(VLOOKUP(C1732,'Charge Conversion'!A:C,3,0),\" \")","v":" "}," "," ",null,null,null,null,null,{"$f":"VLOOKUP(D1732,'Group Name'!A:B,2,0)","v":{"$error":"#N/A"}}," "]
[null,null,null,null,null,null,null,null,null,{"$f":"+IFERROR(VLOOKUP(C1733,'Charge Conversion'!A:C,3,0),\" \")","v":" "},{"$f":"+IFERROR(I1733*J1733,\" \")","v":" "},{"$f":"S1733","v":" "},null,null,null,null,null,{"$f":"VLOOKUP(D1733,'Group Name'!A:B,2,0)","v":{"$error":"#N/A"}},{"$f":"IFERROR((IF(A1733=\" \",\" \",R1733)),\" \")","v":" "}]
[null,null,null,null,null,null,null,null,null,{"$f":"+IFERROR(VLOOKUP(C1734,'Charge Conversion'!A:C,3,0),\" \")","v":" "}," "," ",null,null,null,null,null,{"$f":"VLOOKUP(D1734,'Group Name'!A:B,2,0)","v":{"$error":"#N/A"}}," "]
[null,null,null,null,null,null,null,null,null,{"$f":"+IFERROR(VLOOKUP(C1735,'Charge Conversion'!A:C,3,0),\" \")","v":" "}," "," ",null,null,null,null,null,{"$f":"VLOOKUP(D1735,'Group Name'!A:B,2,0)","v":{"$error":"#N/A"}}," "]
[null,null,null,null,null,null,null,null,null,{"$f":"+IFERROR(VLOOKUP(C1736,'Charge Conversion'!A:C,3,0),\" \")","v":" "}," "," ",null,null,null,null,null,{"$f":"VLOOKUP(D1736,'Group Name'!A:B,2,0)","v":{"$error":"#N/A"}}," "]
[null,null,null,null,null,null,null,null,null,{"$f":"+IFERROR(VLOOKUP(C1737,'Charge Conversion'!A:C,3,0),\" \")","v":" "}," "," ",null,null,null,null,null,{"$f":"VLOOKUP(D1737,'Group Name'!A:B,2,0)","v":{"$error":"#N/A"}}," "]
[null,null,null,null,null,null,null,null,null,{"$f":"+IFERROR(VLOOKUP(C1738,'Charge Conversion'!A:C,3,0),\" \")","v":" "}," "," ",null,null,null,null,null,{"$f":"VLOOKUP(D1738,'Group Name'!A:B,2,0)","v":{"$error":"#N/A"}}," "]
[null,null,null,null,null,null,null,null,null,{"$f":"+IFERROR(VLOOKUP(C1739,'Charge Conversion'!A:C,3,0),\" \")","v":" "}," "," ",null,null,null,null,null,{"$f":"VLOOKUP(D1739,'Group Name'!A:B,2,0)","v":{"$error":"#N/A"}}," "]
[null,null,null,null,null,null,null,null,null,{"$f":"+IFERROR(VLOOKUP(C1740,'Charge Conversion'!A:C,3,0),\" \")","v":" "}," "," ",null,null,null,null,null,{"$f":"VLOOKUP(D1740,'Group Name'!A:B,2,0)","v":{"$error":"#N/A"}}," "]
[null,null,null,null,null,null,null,null,null,{"$f":"+IFERROR(VLOOKUP(C1741,'Charge Conversion'!A:C,3,0),\" \")","v":" "}," "," ",null,null,null,null,null,{"$f":"VLOOKUP(D1741,'Group Name'!A:B,2,0)","v":{"$error":"#N/A"}}," "]
[null,null,null,null,null,null,null,null,null,{"$f":"+IFERROR(VLOOKUP(C1742,'Charge Conversion'!A:C,3,0),\" \")","v":" "}," "," ",null,null,null,null,null,{"$f":"VLOOKUP(D1742,'Group Name'!A:B,2,0)","v":{"$error":"#N/A"}}," "]
[null,null,null,null,null,null,null,null,null,{"$f":"+IFERROR(VLOOKUP(C1743,'Charge Conversion'!A:C,3,0),\" \")","v":" "}," "," ",null,null,null,null,null,{"$f":"VLOOKUP(D1743,'Group Name'!A:B,2,0)","v":{"$error":"#N/A"}}," "]
[null,null,null,null,null,null,null,null,null,{"$f":"+IFERROR(VLOOKUP(C1744,'Charge Conversion'!A:C,3,0),\" \")","v":" "}," "," ",null,null,null,null,null,{"$f":"VLOOKUP(D1744,'Group Name'!A:B,2,0)","v":{"$error":"#N/A"}}," "]
[null,null,null,null,null,null,null,null,null,{"$f":"+IFERROR(VLOOKUP(C1745,'Charge Conversion'!A:C,3,0),\" \")","v":" "}," "," ",null,null,null,null,null,{"$f":"VLOOKUP(D1745,'Group Name'!A:B,2,0)","v":{"$error":"#N/A"}}," "]
[null,null,null,null,null,null,null,null,null,{"$f":"+IFERROR(VLOOKUP(C1746,'Charge Conversion'!A:C,3,0),\" \")","v":" "}," "," ",null,null,null,null,null,{"$f":"VLOOKUP(D1746,'Group Name'!A:B,2,0)","v":{"$error":"#N/A"}}," "]
[null,null,null,null,null,null,null,null,null,{"$f":"+IFERROR(VLOOKUP(C1747,'Charge Conversion'!A:C,3,0),\" \")","v":" "}," "," ",null,null,null,null,null,{"$f":"VLOOKUP(D1747,'Group Name'!A:B,2,0)","v":{"$error":"#N/A"}}," "]
[null,null,null,null,null,null,null,null,null,{"$f":"+IFERROR(VLOOKUP(C1748,'Charge Conversion'!A:C,3,0),\" \")","v":" "}," "," ",null,null,null,null,null,{"$f":"VLOOKUP(D1748,'Group Name'!A:B,2,0)","v":{"$error":"#N/A"}}," "]
[null,null,null,null,null,null,null,null,null,{"$f":"+IFERROR(VLOOKUP(C1749,'Charge Conversion'!A:C,3,0),\" \")","v":" "}," "," ",null,null,null,null,null,{"$f":"VLOOKUP(D1749,'Group Name'!A:B,2,0)","v":{"$error":"#N/A"}}," "]
[null,null,null,null,null,null,null,null,null,{"$f":"+IFERROR(VLOOKUP(C1750,'Charge Conversion'!A:C,3,0),\" \")","v":" "}," "," ",null,null,null,null,null,{"$f":"VLOOKUP(D1750,'Group Name'!A:B,2,0)","v":{"$error":"#N/A"}}," "]
[null,null,null,null,null,null,null,null,null,{"$f":"+IFERROR(VLOOKUP(C1751,'Charge Conversion'!A:C,3,0),\" \")","v":" "}," "," ",null,null,null,null,null,{"$f":"VLOOKUP(D1751,'Group Name'!A:B,2,0)","v":{"$error":"#N/A"}}," "]
[null,null,null,null,null,null,null,null,null,{"$f":"+IFERROR(VLOOKUP(C1752,'Charge Conversion'!A:C,3,0),\" \")","v":" "}," "," ",null,null,null,null,null,{"$f":"VLOOKUP(D1752,'Group Name'!A:B,2,0)","v":{"$error":"#N/A"}}," "]
[null,null,null,null,null,null,null,null,null,{"$f":"+IFERROR(VLOOKUP(C1753,'Charge Conversion'!A:C,3,0),\" \")","v":" "}," "," ",null,null,null,null,null,{"$f":"VLOOKUP(D1753,'Group Name'!A:B,2,0)","v":{"$error":"#N/A"}}," "]
[null,null,null,null,null,null,null,null,null,{"$f":"+IFERROR(VLOOKUP(C1754,'Charge Conversion'!A:C,3,0),\" \")","v":" "}," "," ",null,null,null,null,null,{"$f":"VLOOKUP(D1754,'Group Name'!A:B,2,0)","v":{"$error":"#N/A"}}," "]
[null,null,null,null,null,null,null,null,null,{"$f":"+IFERROR(VLOOKUP(C1755,'Charge Conversion'!A:C,3,0),\" \")","v":" "}," "," ",null,null,null,null,null,{"$f":"VLOOKUP(D1755,'Group Name'!A:B,2,0)","v":{"$error":"#N/A"}}," "]
[null,null,null,null,null,null,null,null,null,{"$f":"+IFERROR(VLOOKUP(C1756,'Charge Conversion'!A:C,3,0),\" \")","v":" "}," "," ",null,null,null,null,null,{"$f":"VLOOKUP(D1756,'Group Name'!A:B,2,0)","v":{"$error":"#N/A"}}," "]
[null,null,null,null,null,null,null,null,null,{"$f":"+IFERROR(VLOOKUP(C1757,'Charge Conversion'!A:C,3,0),\" \")","v":" "}," "," ",null,null,null,null,null,{"$f":"VLOOKUP(D1757,'Group Name'!A:B,2,0)","v":{"$error":"#N/A"}}," "]
[null,null,null,null,null,null,null,null,null,{"$f":"+IFERROR(VLOOKUP(C1758,'Charge Conversion'!A:C,3,0),\" \")","v":" "}," "," ",null,null,null,null,null,{"$f":"VLOOKUP(D1758,'Group Name'!A:B,2,0)","v":{"$error":"#N/A"}}," "]
[null,null,null,null,null,null,null,null,null,{"$f":"+IFERROR(VLOOKUP(C1759,'Charge Conversion'!A:C,3,0),\" \")","v":" "}," "," ",null,null,null,null,null,{"$f":"VLOOKUP(D1759,'Group Name'!A:B,2,0)","v":{"$error":"#N/A"}}," "]
[null,null,null,null,null,null,null,null,null,{"$f":"+IFERROR(VLOOKUP(C1760,'Charge Conversion'!A:C,3,0),\" \")","v":" "}," "," ",null,null,null,null,null,{"$f":"VLOOKUP(D1760,'Group Name'!A:B,2,0)","v":{"$error":"#N/A"}}," "]
[null,null,null,null,null,null,null,null,null,{"$f":"+IFERROR(VLOOKUP(C1761,'Charge Conversion'!A:C,3,0),\" \")","v":" "}," "," ",null,null,null,null,null,{"$f":"VLOOKUP(D1761,'Group Name'!A:B,2,0)","v":{"$error":"#N/A"}}," "]
[null,null,null,null,null,null,null,null,null,{"$f":"+IFERROR(VLOOKUP(C1762,'Charge Conversion'!A:C,3,0),\" \")","v":" "}," "," ",null,null,null,null,null,{"$f":"VLOOKUP(D1762,'Group Name'!A:B,2,0)","v":{"$error":"#N/A"}}," "]
[null,null,null,null,null,null,null,null,null,{"$f":"+IFERROR(VLOOKUP(C1763,'Charge Conversion'!A:C,3,0),\" \")","v":" "}," "," ",null,null,null,null,null,{"$f":"VLOOKUP(D1763,'Group Name'!A:B,2,0)","v":{"$error":"#N/A"}}," "]
[null,null,null,null,null,null,null,null,null,{"$f":"+IFERROR(VLOOKUP(C1764,'Charge Conversion'!A:C,3,0),\" \")","v":" "}," "," ",null,null,null,null,null,{"$f":"VLOOKUP(D1764,'Group Name'!A:B,2,0)","v":{"$error":"#N/A"}}," "]
[null,null,null,null,null,null,null,null,null,{"$f":"+IFERROR(VLOOKUP(C1765,'Charge Conversion'!A:C,3,0),\" \")","v":" "}," "," ",null,null,null,null,null,{"$f":"VLOOKUP(D1765,'Group Name'!A:B,2,0)","v":{"$error":"#N/A"}}," "]
[null,null,null,null,null,null,null,null,null,{"$f":"+IFERROR(VLOOKUP(C1766,'Charge Conversion'!A:C,3,0),\" \")","v":" "}," "," ",null,null,null,null,null,{"$f":"VLOOKUP(D1766,'Group Name'!A:B,2,0)","v":{"$error":"#N/A"}}," "]
[null,null,null,null,null,null,null,null,null,{"$f":"+IFERROR(VLOOKUP(C1767,'Charge Conversion'!A:C,3,0),\" \")","v":" "}," "," ",null,null,null,null,null,{"$f":"VLOOKUP(D1767,'Group Name'!A:B,2,0)","v":{"$error":"#N/A"}}," "]
[null,null,null,null,null,null,null,null,null,{"$f":"+IFERROR(VLOOKUP(C1768,'Charge Conversion'!A:C,3,0),\" \")","v":" "}," "," ",null,null,null,null,null,{"$f":"VLOOKUP(D1768,'Group Name'!A:B,2,0)","v":{"$error":"#N/A"}}," "]
[null,null,null,null,null,null,null,null,null,{"$f":"+IFERROR(VLOOKUP(C1769,'Charge Conversion'!A:C,3,0),\" \")","v":" "}," "," ",null,null,null,null,null,{"$f":"VLOOKUP(D1769,'Group Name'!A:B,2,0)","v":{"$error":"#N/A"}}," "]
[null,null,null,null,null,null,null,null,null,{"$f":"+IFERROR(VLOOKUP(C1770,'Charge Conversion'!A:C,3,0),\" \")","v":" "}," "," ",null,null,null,null,null,{"$f":"VLOOKUP(D1770,'Group Name'!A:B,2,0)","v":{"$error":"#N/A"}}," "]
[null,null,null,null,null,null,null,null,null,{"$f":"+IFERROR(VLOOKUP(C1771,'Charge Conversion'!A:C,3,0),\" \")","v":" "}," "," ",null,null,null,null,null,{"$f":"VLOOKUP(D1771,'Group Name'!A:B,2,0)","v":{"$error":"#N/A"}}," "]
[null,null,null,null,null,null,null,null,null,{"$f":"+IFERROR(VLOOKUP(C1772,'Charge Conversion'!A:C,3,0),\" \")","v":" "}," "," ",null,null,null,null,null,{"$f":"VLOOKUP(D1772,'Group Name'!A:B,2,0)","v":{"$error":"#N/A"}}," "]
[null,null,null,null,null,null,null,null,null,{"$f":"+IFERROR(VLOOKUP(C1773,'Charge Conversion'!A:C,3,0),\" \")","v":" "}," "," ",null,null,null,null,null,{"$f":"VLOOKUP(D1773,'Group Name'!A:B,2,0)","v":{"$error":"#N/A"}}," "]
[null,null,null,null,null,null,null,null,null,{"$f":"+IFERROR(VLOOKUP(C1774,'Charge Conversion'!A:C,3,0),\" \")","v":" "}," "," ",null,null,null,null,null,{"$f":"VLOOKUP(D1774,'Group Name'!A:B,2,0)","v":{"$error":"#N/A"}}," "]
[null,null,null,null,null,null,null,null,null,{"$f":"+IFERROR(VLOOKUP(C1775,'Charge Conversion'!A:C,3,0),\" \")","v":" "}," "," ",null,null,null,null,null,{"$f":"VLOOKUP(D1775,'Group Name'!A:B,2,0)","v":{"$error":"#N/A"}}," "]
[null,null,null,null,null,null,null,null,null,{"$f":"+IFERROR(VLOOKUP(C1776,'Charge Conversion'!A:C,3,0),\" \")","v":" "}," "," ",null,null,null,null,null,{"$f":"VLOOKUP(D1776,'Group Name'!A:B,2,0)","v":{"$error":"#N/A"}}," "]
[null,null,null,null,null,null,null,null,null,{"$f":"+IFERROR(VLOOKUP(C1777,'Charge Conversion'!A:C,3,0),\" \")","v":" "}," "," ",null,null,null,null,null,{"$f":"VLOOKUP(D1777,'Group Name'!A:B,2,0)","v":{"$error":"#N/A"}}," "]
[null,null,null,null,null,null,null,null,null,{"$f":"+IFERROR(VLOOKUP(C1778,'Charge Conversion'!A:C,3,0),\" \")","v":" "}," "," ",null,null,null,null,null,{"$f":"VLOOKUP(D1778,'Group Name'!A:B,2,0)","v":{"$error":"#N/A"}}," "]
[null,null,null,null,null,null,null,null,null,{"$f":"+IFERROR(VLOOKUP(C1779,'Charge Conversion'!A:C,3,0),\" \")","v":" "}," "," ",null,null,null,null,null,{"$f":"VLOOKUP(D1779,'Group Name'!A:B,2,0)","v":{"$error":"#N/A"}}," "]
[null,null,null,null,null,null,null,null,null,{"$f":"+IFERROR(VLOOKUP(C1780,'Charge Conversion'!A:C,3,0),\" \")","v":" "}," "," ",null,null,null,null,null,{"$f":"VLOOKUP(D1780,'Group Name'!A:B,2,0)","v":{"$error":"#N/A"}}," "]
[null,null,null,null,null,null,null,null,null,{"$f":"+IFERROR(VLOOKUP(C1781,'Charge Conversion'!A:C,3,0),\" \")","v":" "}," "," ",null,null,null,null,null,{"$f":"VLOOKUP(D1781,'Group Name'!A:B,2,0)","v":{"$error":"#N/A"}}," "]
[null,null,null,null,null,null,null,null,null,{"$f":"+IFERROR(VLOOKUP(C1782,'Charge Conversion'!A:C,3,0),\" \")","v":" "}," "," ",null,null,null,null,null,{"$f":"VLOOKUP(D1782,'Group Name'!A:B,2,0)","v":{"$error":"#N/A"}}," "]
[null,null,null,null,null,null,null,null,null,{"$f":"+IFERROR(VLOOKUP(C1783,'Charge Conversion'!A:C,3,0),\" \")","v":" "}," "," ",null,null,null,null,null,{"$f":"VLOOKUP(D1783,'Group Name'!A:B,2,0)","v":{"$error":"#N/A"}}," "]
[null,null,null,null,null,null,null,null,null,{"$f":"+IFERROR(VLOOKUP(C1784,'Charge Conversion'!A:C,3,0),\" \")","v":" "}," "," ",null,null,null,null,null,{"$f":"VLOOKUP(D1784,'Group Name'!A:B,2,0)","v":{"$error":"#N/A"}}," "]
[null,null,null,null,null,null,null,null,null,{"$f":"+IFERROR(VLOOKUP(C1785,'Charge Conversion'!A:C,3,0),\" \")","v":" "}," "," ",null,null,null,null,null,{"$f":"VLOOKUP(D1785,'Group Name'!A:B,2,0)","v":{"$error":"#N/A"}}," "]
[null,null,null,null,null,null,null,null,null,{"$f":"+IFERROR(VLOOKUP(C1786,'Charge Conversion'!A:C,3,0),\" \")","v":" "}," "," ",null,null,null,null,null,{"$f":"VLOOKUP(D1786,'Group Name'!A:B,2,0)","v":{"$error":"#N/A"}}," "]
[null,null,null,null,null,null,null,null,null,{"$f":"+IFERROR(VLOOKUP(C1787,'Charge Conversion'!A:C,3,0),\" \")","v":" "}," "," ",null,null,null,null,null,{"$f":"VLOOKUP(D1787,'Group Name'!A:B,2,0)","v":{"$error":"#N/A"}}," "]
[null,null,null,null,null,null,null,null,null,{"$f":"+IFERROR(VLOOKUP(C1788,'Charge Conversion'!A:C,3,0),\" \")","v":" "}," "," ",null,null,null,null,null,{"$f":"VLOOKUP(D1788,'Group Name'!A:B,2,0)","v":{"$error":"#N/A"}}," "]
[null,null,null,null,null,null,null,null,null,{"$f":"+IFERROR(VLOOKUP(C1789,'Charge Conversion'!A:C,3,0),\" \")","v":" "}," "," ",null,null,null,null,null,{"$f":"VLOOKUP(D1789,'Group Name'!A:B,2,0)","v":{"$error":"#N/A"}}," "]
[null,null,null,null,null,null,null,null,null,{"$f":"+IFERROR(VLOOKUP(C1790,'Charge Conversion'!A:C,3,0),\" \")","v":" "}," "," ",null,null,null,null,null,{"$f":"VLOOKUP(D1790,'Group Name'!A:B,2,0)","v":{"$error":"#N/A"}}," "]
[null,null,null,null,null,null,null,null,null,{"$f":"+IFERROR(VLOOKUP(C1791,'Charge Conversion'!A:C,3,0),\" \")","v":" "}," "," ",null,null,null,null,null,{"$f":"VLOOKUP(D1791,'Group Name'!A:B,2,0)","v":{"$error":"#N/A"}}," "]
[null,null,null,null,null,null,null,null,null,{"$f":"+IFERROR(VLOOKUP(C1792,'Charge Conversion'!A:C,3,0),\" \")","v":" "}," "," ",null,null,null,null,null,{"$f":"VLOOKUP(D1792,'Group Name'!A:B,2,0)","v":{"$error":"#N/A"}}," "]
[null,null,null,null,null,null,null,null,null,{"$f":"+IFERROR(VLOOKUP(C1793,'Charge Conversion'!A:C,3,0),\" \")","v":" "}," "," ",null,null,null,null,null,{"$f":"VLOOKUP(D1793,'Group Name'!A:B,2,0)","v":{"$error":"#N/A"}}," "]
[null,null,null,null,null,null,null,null,null,{"$f":"+IFERROR(VLOOKUP(C1794,'Charge Conversion'!A:C,3,0),\" \")","v":" "}," "," ",null,null,null,null,null,{"$f":"VLOOKUP(D1794,'Group Name'!A:B,2,0)","v":{"$error":"#N/A"}}," "]
[null,null,null,null,null,null,null,null,null,{"$f":"+IFERROR(VLOOKUP(C1795,'Charge Conversion'!A:C,3,0),\" \")","v":" "}," "," ",null,null,null,null,null,{"$f":"VLOOKUP(D1795,'Group Name'!A:B,2,0)","v":{"$error":"#N/A"}}," "]
[null,null,null,null,null,null,null,null,null,{"$f":"+IFERROR(VLOOKUP(C1796,'Charge Conversion'!A:C,3,0),\" \")","v":" "}," "," ",null,null,null,null,null,{"$f":"VLOOKUP(D1796,'Group Name'!A:B,2,0)","v":{"$error":"#N/A"}}," "]
[null,null,null,null,null,null,null,null,null,{"$f":"+IFERROR(VLOOKUP(C1797,'Charge Conversion'!A:C,3,0),\" \")","v":" "},{"$f":"+IFERROR(I1797*J1797,\" \")","v":" "},{"$f":"S1797","v":" "},null,null,null,null,null,{"$f":"VLOOKUP(D1797,'Group Name'!A:B,2,0)","v":{"$error":"#N/A"}},{"$f":"IFERROR((IF(A1797=\" \",\" \",R1797)),\" \")","v":" "}]
[null,null,null,null,null,null,null,null,null,{"$f":"+IFERROR(VLOOKUP(C1798,'Charge Conversion'!A:C,3,0),\" \")","v":" "}," "," ",null,null,null,null,null,{"$f":"VLOOKUP(D1798,'Group Name'!A:B,2,0)","v":{"$error":"#N/A"}}," "]
[null,null,null,null,null,null,null,null,null,{"$f":"+IFERROR(VLOOKUP(C1799,'Charge Conversion'!A:C,3,0),\" \")","v":" "}," "," ",null,null,null,null,null,{"$f":"VLOOKUP(D1799,'Group Name'!A:B,2,0)","v":{"$error":"#N/A"}}," "]
[null,null,null,null,null,null,null,null,null,{"$f":"+IFERROR(VLOOKUP(C1800,'Charge Conversion'!A:C,3,0),\" \")","v":" "}," "," ",null,null,null,null,null,{"$f":"VLOOKUP(D1800,'Group Name'!A:B,2,0)","v":{"$error":"#N/A"}}," "]
[null,null,null,null,null,null,null,null,null,{"$f":"+IFERROR(VLOOKUP(C1801,'Charge Conversion'!A:C,3,0),\" \")","v":" "}," "," ",null,null,null,null,null,{"$f":"VLOOKUP(D1801,'Group Name'!A:B,2,0)","v":{"$error":"#N/A"}}," "]
[null,null,null,null,null,null,null,null,null,{"$f":"+IFERROR(VLOOKUP(C1802,'Charge Conversion'!A:C,3,0),\" \")","v":" "}," "," ",null,null,null,null,null,{"$f":"VLOOKUP(D1802,'Group Name'!A:B,2,0)","v":{"$error":"#N/A"}}," "]
[null,null,null,null,null,null,null,null,null,{"$f":"+IFERROR(VLOOKUP(C1803,'Charge Conversion'!A:C,3,0),\" \")","v":" "}," "," ",null,null,null,null,null,{"$f":"VLOOKUP(D1803,'Group Name'!A:B,2,0)","v":{"$error":"#N/A"}}," "]
[null,null,null,null,null,null,null,null,null,{"$f":"+IFERROR(VLOOKUP(C1804,'Charge Conversion'!A:C,3,0),\" \")","v":" "}," "," ",null,null,null,null,null,{"$f":"VLOOKUP(D1804,'Group Name'!A:B,2,0)","v":{"$error":"#N/A"}}," "]
[null,null,null,null,null,null,null,null,null,{"$f":"+IFERROR(VLOOKUP(C1805,'Charge Conversion'!A:C,3,0),\" \")","v":" "}," "," ",null,null,null,null,null,{"$f":"VLOOKUP(D1805,'Group Name'!A:B,2,0)","v":{"$error":"#N/A"}}," "]
[null,null,null,null,null,null,null,null,null,{"$f":"+IFERROR(VLOOKUP(C1806,'Charge Conversion'!A:C,3,0),\" \")","v":" "}," "," ",null,null,null,null,null,{"$f":"VLOOKUP(D1806,'Group Name'!A:B,2,0)","v":{"$error":"#N/A"}}," "]
[null,null,null,null,null,null,null,null,null,{"$f":"+IFERROR(VLOOKUP(C1807,'Charge Conversion'!A:C,3,0),\" \")","v":" "}," "," ",null,null,null,null,null,{"$f":"VLOOKUP(D1807,'Group Name'!A:B,2,0)","v":{"$error":"#N/A"}}," "]
[null,null,null,null,null,null,null,null,null,{"$f":"+IFERROR(VLOOKUP(C1808,'Charge Conversion'!A:C,3,0),\" \")","v":" "}," "," ",null,null,null,null,null,{"$f":"VLOOKUP(D1808,'Group Name'!A:B,2,0)","v":{"$error":"#N/A"}}," "]
[null,null,null,null,null,null,null,null,null,{"$f":"+IFERROR(VLOOKUP(C1809,'Charge Conversion'!A:C,3,0),\" \")","v":" "}," "," ",null,null,null,null,null,{"$f":"VLOOKUP(D1809,'Group Name'!A:B,2,0)","v":{"$error":"#N/A"}}," "]
[null,null,null,null,null,null,null,null,null,{"$f":"+IFERROR(VLOOKUP(C1810,'Charge Conversion'!A:C,3,0),\" \")","v":" "}," "," ",null,null,null,null,null,{"$f":"VLOOKUP(D1810,'Group Name'!A:B,2,0)","v":{"$error":"#N/A"}}," "]
[null,null,null,null,null,null,null,null,null,{"$f":"+IFERROR(VLOOKUP(C1811,'Charge Conversion'!A:C,3,0),\" \")","v":" "}," "," ",null,null,null,null,null,{"$f":"VLOOKUP(D1811,'Group Name'!A:B,2,0)","v":{"$error":"#N/A"}}," "]
[null,null,null,null,null,null,null,null,null,{"$f":"+IFERROR(VLOOKUP(C1812,'Charge Conversion'!A:C,3,0),\" \")","v":" "}," "," ",null,null,null,null,null,{"$f":"VLOOKUP(D1812,'Group Name'!A:B,2,0)","v":{"$error":"#N/A"}}," "]
[null,null,null,null,null,null,null,null,null,{"$f":"+IFERROR(VLOOKUP(C1813,'Charge Conversion'!A:C,3,0),\" \")","v":" "}," "," ",null,null,null,null,null,{"$f":"VLOOKUP(D1813,'Group Name'!A:B,2,0)","v":{"$error":"#N/A"}}," "]
[null,null,null,null,null,null,null,null,null,{"$f":"+IFERROR(VLOOKUP(C1814,'Charge Conversion'!A:C,3,0),\" \")","v":" "}," "," ",null,null,null,null,null,{"$f":"VLOOKUP(D1814,'Group Name'!A:B,2,0)","v":{"$error":"#N/A"}}," "]
[null,null,null,null,null,null,null,null,null,{"$f":"+IFERROR(VLOOKUP(C1815,'Charge Conversion'!A:C,3,0),\" \")","v":" "}," "," ",null,null,null,null,null,{"$f":"VLOOKUP(D1815,'Group Name'!A:B,2,0)","v":{"$error":"#N/A"}}," "]
[null,null,null,null,null,null,null,null,null,{"$f":"+IFERROR(VLOOKUP(C1816,'Charge Conversion'!A:C,3,0),\" \")","v":" "}," "," ",null,null,null,null,null,{"$f":"VLOOKUP(D1816,'Group Name'!A:B,2,0)","v":{"$error":"#N/A"}}," "]
[null,null,null,null,null,null,null,null,null,{"$f":"+IFERROR(VLOOKUP(C1817,'Charge Conversion'!A:C,3,0),\" \")","v":" "}," "," ",null,null,null,null,null,{"$f":"VLOOKUP(D1817,'Group Name'!A:B,2,0)","v":{"$error":"#N/A"}}," "]
[null,null,null,null,null,null,null,null,null,{"$f":"+IFERROR(VLOOKUP(C1818,'Charge Conversion'!A:C,3,0),\" \")","v":" "}," "," ",null,null,null,null,null,{"$f":"VLOOKUP(D1818,'Group Name'!A:B,2,0)","v":{"$error":"#N/A"}}," "]
[null,null,null,null,null,null,null,null,null,{"$f":"+IFERROR(VLOOKUP(C1819,'Charge Conversion'!A:C,3,0),\" \")","v":" "}," "," ",null,null,null,null,null,{"$f":"VLOOKUP(D1819,'Group Name'!A:B,2,0)","v":{"$error":"#N/A"}}," "]
[null,null,null,null,null,null,null,null,null,{"$f":"+IFERROR(VLOOKUP(C1820,'Charge Conversion'!A:C,3,0),\" \")","v":" "}," "," ",null,null,null,null,null,{"$f":"VLOOKUP(D1820,'Group Name'!A:B,2,0)","v":{"$error":"#N/A"}}," "]
[null,null,null,null,null,null,null,null,null,{"$f":"+IFERROR(VLOOKUP(C1821,'Charge Conversion'!A:C,3,0),\" \")","v":" "}," "," ",null,null,null,null,null,{"$f":"VLOOKUP(D1821,'Group Name'!A:B,2,0)","v":{"$error":"#N/A"}}," "]
[null,null,null,null,null,null,null,null,null,{"$f":"+IFERROR(VLOOKUP(C1822,'Charge Conversion'!A:C,3,0),\" \")","v":" "}," "," ",null,null,null,null,null,{"$f":"VLOOKUP(D1822,'Group Name'!A:B,2,0)","v":{"$error":"#N/A"}}," "]
[null,null,null,null,null,null,null,null,null,{"$f":"+IFERROR(VLOOKUP(C1823,'Charge Conversion'!A:C,3,0),\" \")","v":" "}," "," ",null,null,null,null,null,{"$f":"VLOOKUP(D1823,'Group Name'!A:B,2,0)","v":{"$error":"#N/A"}}," "]
[null,null,null,null,null,null,null,null,null,{"$f":"+IFERROR(VLOOKUP(C1824,'Charge Conversion'!A:C,3,0),\" \")","v":" "}," "," ",null,null,null,null,null,{"$f":"VLOOKUP(D1824,'Group Name'!A:B,2,0)","v":{"$error":"#N/A"}}," "]
[null,null,null,null,null,null,null,null,null,{"$f":"+IFERROR(VLOOKUP(C1825,'Charge Conversion'!A:C,3,0),\" \")","v":" "}," "," ",null,null,null,null,null,{"$f":"VLOOKUP(D1825,'Group Name'!A:B,2,0)","v":{"$error":"#N/A"}}," "]
[null,null,null,null,null,null,null,null,null,{"$f":"+IFERROR(VLOOKUP(C1826,'Charge Conversion'!A:C,3,0),\" \")","v":" "}," "," ",null,null,null,null,null,{"$f":"VLOOKUP(D1826,'Group Name'!A:B,2,0)","v":{"$error":"#N/A"}}," "]
[null,null,null,null,null,null,null,null,null,{"$f":"+IFERROR(VLOOKUP(C1827,'Charge Conversion'!A:C,3,0),\" \")","v":" "}," "," ",null,null,null,null,null,{"$f":"VLOOKUP(D1827,'Group Name'!A:B,2,0)","v":{"$error":"#N/A"}}," "]
[null,null,null,null,null,null,null,null,null,{"$f":"+IFERROR(VLOOKUP(C1828,'Charge Conversion'!A:C,3,0),\" \")","v":" "}," "," ",null,null,null,null,null,{"$f":"VLOOKUP(D1828,'Group Name'!A:B,2,0)","v":{"$error":"#N/A"}}," "]
[null,null,null,null,null,null,null,null,null,{"$f":"+IFERROR(VLOOKUP(C1829,'Charge Conversion'!A:C,3,0),\" \")","v":" "}," "," ",null,null,null,null,null,{"$f":"VLOOKUP(D1829,'Group Name'!A:B,2,0)","v":{"$error":"#N/A"}}," "]
[null,null,null,null,null,null,null,null,null,{"$f":"+IFERROR(VLOOKUP(C1830,'Charge Conversion'!A:C,3,0),\" \")","v":" "}," "," ",null,null,null,null,null,{"$f":"VLOOKUP(D1830,'Group Name'!A:B,2,0)","v":{"$error":"#N/A"}}," "]
[null,null,null,null,null,null,null,null,null,{"$f":"+IFERROR(VLOOKUP(C1831,'Charge Conversion'!A:C,3,0),\" \")","v":" "}," "," ",null,null,null,null,null,{"$f":"VLOOKUP(D1831,'Group Name'!A:B,2,0)","v":{"$error":"#N/A"}}," "]
[null,null,null,null,null,null,null,null,null,{"$f":"+IFERROR(VLOOKUP(C1832,'Charge Conversion'!A:C,3,0),\" \")","v":" "}," "," ",null,null,null,null,null,{"$f":"VLOOKUP(D1832,'Group Name'!A:B,2,0)","v":{"$error":"#N/A"}}," "]
[null,null,null,null,null,null,null,null,null,{"$f":"+IFERROR(VLOOKUP(C1833,'Charge Conversion'!A:C,3,0),\" \")","v":" "}," "," ",null,null,null,null,null,{"$f":"VLOOKUP(D1833,'Group Name'!A:B,2,0)","v":{"$error":"#N/A"}}," "]
[null,null,null,null,null,null,null,null,null,{"$f":"+IFERROR(VLOOKUP(C1834,'Charge Conversion'!A:C,3,0),\" \")","v":" "}," "," ",null,null,null,null,null,{"$f":"VLOOKUP(D1834,'Group Name'!A:B,2,0)","v":{"$error":"#N/A"}}," "]
[null,null,null,null,null,null,null,null,null,{"$f":"+IFERROR(VLOOKUP(C1835,'Charge Conversion'!A:C,3,0),\" \")","v":" "}," "," ",null,null,null,null,null,{"$f":"VLOOKUP(D1835,'Group Name'!A:B,2,0)","v":{"$error":"#N/A"}}," "]
[null,null,null,null,null,null,null,null,null,{"$f":"+IFERROR(VLOOKUP(C1836,'Charge Conversion'!A:C,3,0),\" \")","v":" "}," "," ",null,null,null,null,null,{"$f":"VLOOKUP(D1836,'Group Name'!A:B,2,0)","v":{"$error":"#N/A"}}," "]
[null,null,null,null,null,null,null,null,null,{"$f":"+IFERROR(VLOOKUP(C1837,'Charge Conversion'!A:C,3,0),\" \")","v":" "}," "," ",null,null,null,null,null,{"$f":"VLOOKUP(D1837,'Group Name'!A:B,2,0)","v":{"$error":"#N/A"}}," "]
[null,null,null,null,null,null,null,null,null,{"$f":"+IFERROR(VLOOKUP(C1838,'Charge Conversion'!A:C,3,0),\" \")","v":" "}," "," ",null,null,null,null,null,{"$f":"VLOOKUP(D1838,'Group Name'!A:B,2,0)","v":{"$error":"#N/A"}}," "]
[null,null,null,null,null,null,null,null,null,{"$f":"+IFERROR(VLOOKUP(C1839,'Charge Conversion'!A:C,3,0),\" \")","v":" "}," "," ",null,null,null,null,null,{"$f":"VLOOKUP(D1839,'Group Name'!A:B,2,0)","v":{"$error":"#N/A"}}," "]
[null,null,null,null,null,null,null,null,null,{"$f":"+IFERROR(VLOOKUP(C1840,'Charge Conversion'!A:C,3,0),\" \")","v":" "}," "," ",null,null,null,null,null,{"$f":"VLOOKUP(D1840,'Group Name'!A:B,2,0)","v":{"$error":"#N/A"}}," "]
[null,null,null,null,null,null,null,null,null,{"$f":"+IFERROR(VLOOKUP(C1841,'Charge Conversion'!A:C,3,0),\" \")","v":" "}," "," ",null,null,null,null,null,{"$f":"VLOOKUP(D1841,'Group Name'!A:B,2,0)","v":{"$error":"#N/A"}}," "]
[null,null,null,null,null,null,null,null,null,{"$f":"+IFERROR(VLOOKUP(C1842,'Charge Conversion'!A:C,3,0),\" \")","v":" "}," "," ",null,null,null,null,null,{"$f":"VLOOKUP(D1842,'Group Name'!A:B,2,0)","v":{"$error":"#N/A"}}," "]
[null,null,null,null,null,null,null,null,null,{"$f":"+IFERROR(VLOOKUP(C1843,'Charge Conversion'!A:C,3,0),\" \")","v":" "}," "," ",null,null,null,null,null,{"$f":"VLOOKUP(D1843,'Group Name'!A:B,2,0)","v":{"$error":"#N/A"}}," "]
[null,null,null,null,null,null,null,null,null,{"$f":"+IFERROR(VLOOKUP(C1844,'Charge Conversion'!A:C,3,0),\" \")","v":" "}," "," ",null,null,null,null,null,{"$f":"VLOOKUP(D1844,'Group Name'!A:B,2,0)","v":{"$error":"#N/A"}}," "]
[null,null,null,null,null,null,null,null,null,{"$f":"+IFERROR(VLOOKUP(C1845,'Charge Conversion'!A:C,3,0),\" \")","v":" "}," "," ",null,null,null,null,null,{"$f":"VLOOKUP(D1845,'Group Name'!A:B,2,0)","v":{"$error":"#N/A"}}," "]
[null,null,null,null,null,null,null,null,null,{"$f":"+IFERROR(VLOOKUP(C1846,'Charge Conversion'!A:C,3,0),\" \")","v":" "}," "," ",null,null,null,null,null,{"$f":"VLOOKUP(D1846,'Group Name'!A:B,2,0)","v":{"$error":"#N/A"}}," "]
[null,null,null,null,null,null,null,null,null,{"$f":"+IFERROR(VLOOKUP(C1847,'Charge Conversion'!A:C,3,0),\" \")","v":" "}," "," ",null,null,null,null,null,{"$f":"VLOOKUP(D1847,'Group Name'!A:B,2,0)","v":{"$error":"#N/A"}}," "]
[null,null,null,null,null,null,null,null,null,{"$f":"+IFERROR(VLOOKUP(C1848,'Charge Conversion'!A:C,3,0),\" \")","v":" "}," "," ",null,null,null,null,null,{"$f":"VLOOKUP(D1848,'Group Name'!A:B,2,0)","v":{"$error":"#N/A"}}," "]
[null,null,null,null,null,null,null,null,null,{"$f":"+IFERROR(VLOOKUP(C1849,'Charge Conversion'!A:C,3,0),\" \")","v":" "}," "," ",null,null,null,null,null,{"$f":"VLOOKUP(D1849,'Group Name'!A:B,2,0)","v":{"$error":"#N/A"}}," "]
[null,null,null,null,null,null,null,null,null,{"$f":"+IFERROR(VLOOKUP(C1850,'Charge Conversion'!A:C,3,0),\" \")","v":" "}," "," ",null,null,null,null,null,{"$f":"VLOOKUP(D1850,'Group Name'!A:B,2,0)","v":{"$error":"#N/A"}}," "]
[null,null,null,null,null,null,null,null,null,{"$f":"+IFERROR(VLOOKUP(C1851,'Charge Conversion'!A:C,3,0),\" \")","v":" "}," "," ",null,null,null,null,null,{"$f":"VLOOKUP(D1851,'Group Name'!A:B,2,0)","v":{"$error":"#N/A"}}," "]
[null,null,null,null,null,null,null,null,null,{"$f":"+IFERROR(VLOOKUP(C1852,'Charge Conversion'!A:C,3,0),\" \")","v":" "}," "," ",null,null,null,null,null,{"$f":"VLOOKUP(D1852,'Group Name'!A:B,2,0)","v":{"$error":"#N/A"}}," "]
[null,null,null,null,null,null,null,null,null,{"$f":"+IFERROR(VLOOKUP(C1853,'Charge Conversion'!A:C,3,0),\" \")","v":" "}," "," ",null,null,null,null,null,{"$f":"VLOOKUP(D1853,'Group Name'!A:B,2,0)","v":{"$error":"#N/A"}}," "]
[null,null,null,null,null,null,null,null,null,{"$f":"+IFERROR(VLOOKUP(C1854,'Charge Conversion'!A:C,3,0),\" \")","v":" "}," "," ",null,null,null,null,null,{"$f":"VLOOKUP(D1854,'Group Name'!A:B,2,0)","v":{"$error":"#N/A"}}," "]
[null,null,null,null,null,null,null,null,null,{"$f":"+IFERROR(VLOOKUP(C1855,'Charge Conversion'!A:C,3,0),\" \")","v":" "}," "," ",null,null,null,null,null,{"$f":"VLOOKUP(D1855,'Group Name'!A:B,2,0)","v":{"$error":"#N/A"}}," "]
[null,null,null,null,null,null,null,null,null,{"$f":"+IFERROR(VLOOKUP(C1856,'Charge Conversion'!A:C,3,0),\" \")","v":" "}," "," ",null,null,null,null,null,{"$f":"VLOOKUP(D1856,'Group Name'!A:B,2,0)","v":{"$error":"#N/A"}}," "]
[null,null,null,null,null,null,null,null,null,{"$f":"+IFERROR(VLOOKUP(C1857,'Charge Conversion'!A:C,3,0),\" \")","v":" "}," "," ",null,null,null,null,null,{"$f":"VLOOKUP(D1857,'Group Name'!A:B,2,0)","v":{"$error":"#N/A"}}," "]
[null,null,null,null,null,null,null,null,null,{"$f":"+IFERROR(VLOOKUP(C1858,'Charge Conversion'!A:C,3,0),\" \")","v":" "}," "," ",null,null,null,null,null,{"$f":"VLOOKUP(D1858,'Group Name'!A:B,2,0)","v":{"$error":"#N/A"}}," "]
[null,null,null,null,null,null,null,null,null,{"$f":"+IFERROR(VLOOKUP(C1859,'Charge Conversion'!A:C,3,0),\" \")","v":" "}," "," ",null,null,null,null,null,{"$f":"VLOOKUP(D1859,'Group Name'!A:B,2,0)","v":{"$error":"#N/A"}}," "]
[null,null,null,null,null,null,null,null,null,{"$f":"+IFERROR(VLOOKUP(C1860,'Charge Conversion'!A:C,3,0),\" \")","v":" "}," "," ",null,null,null,null,null,{"$f":"VLOOKUP(D1860,'Group Name'!A:B,2,0)","v":{"$error":"#N/A"}}," "]
[null,null,null,null,null,null,null,null,null,{"$f":"+IFERROR(VLOOKUP(C1861,'Charge Conversion'!A:C,3,0),\" \")","v":" "},{"$f":"+IFERROR(I1861*J1861,\" \")","v":" "},{"$f":"S1861","v":" "},null,null,null,null,null,{"$f":"VLOOKUP(D1861,'Group Name'!A:B,2,0)","v":{"$error":"#N/A"}},{"$f":"IFERROR((IF(A1861=\" \",\" \",R1861)),\" \")","v":" "}]
[null,null,null,null,null,null,null,null,null,{"$f":"+IFERROR(VLOOKUP(C1862,'Charge Conversion'!A:C,3,0),\" \")","v":" "}," "," ",null,null,null,null,null,{"$f":"VLOOKUP(D1862,'Group Name'!A:B,2,0)","v":{"$error":"#N/A"}}," "]
[null,null,null,null,null,null,null,null,null,{"$f":"+IFERROR(VLOOKUP(C1863,'Charge Conversion'!A:C,3,0),\" \")","v":" "}," "," ",null,null,null,null,null,{"$f":"VLOOKUP(D1863,'Group Name'!A:B,2,0)","v":{"$error":"#N/A"}}," "]
[null,null,null,null,null,null,null,null,null,{"$f":"+IFERROR(VLOOKUP(C1864,'Charge Conversion'!A:C,3,0),\" \")","v":" "}," "," ",null,null,null,null,null,{"$f":"VLOOKUP(D1864,'Group Name'!A:B,2,0)","v":{"$error":"#N/A"}}," "]
[null,null,null,null,null,null,null,null,null,{"$f":"+IFERROR(VLOOKUP(C1865,'Charge Conversion'!A:C,3,0),\" \")","v":" "}," "," ",null,null,null,null,null,{"$f":"VLOOKUP(D1865,'Group Name'!A:B,2,0)","v":{"$error":"#N/A"}}," "]
[null,null,null,null,null,null,null,null,null,{"$f":"+IFERROR(VLOOKUP(C1866,'Charge Conversion'!A:C,3,0),\" \")","v":" "}," "," ",null,null,null,null,null,{"$f":"VLOOKUP(D1866,'Group Name'!A:B,2,0)","v":{"$error":"#N/A"}}," "]
[null,null,null,null,null,null,null,null,null,{"$f":"+IFERROR(VLOOKUP(C1867,'Charge Conversion'!A:C,3,0),\" \")","v":" "}," "," ",null,null,null,null,null,{"$f":"VLOOKUP(D1867,'Group Name'!A:B,2,0)","v":{"$error":"#N/A"}}," "]
[null,null,null,null,null,null,null,null,null,{"$f":"+IFERROR(VLOOKUP(C1868,'Charge Conversion'!A:C,3,0),\" \")","v":" "}," "," ",null,null,null,null,null,{"$f":"VLOOKUP(D1868,'Group Name'!A:B,2,0)","v":{"$error":"#N/A"}}," "]
[null,null,null,null,null,null,null,null,null,{"$f":"+IFERROR(VLOOKUP(C1869,'Charge Conversion'!A:C,3,0),\" \")","v":" "}," "," ",null,null,null,null,null,{"$f":"VLOOKUP(D1869,'Group Name'!A:B,2,0)","v":{"$error":"#N/A"}}," "]
[null,null,null,null,null,null,null,null,null,{"$f":"+IFERROR(VLOOKUP(C1870,'Charge Conversion'!A:C,3,0),\" \")","v":" "}," "," ",null,null,null,null,null,{"$f":"VLOOKUP(D1870,'Group Name'!A:B,2,0)","v":{"$error":"#N/A"}}," "]
[null,null,null,null,null,null,null,null,null,{"$f":"+IFERROR(VLOOKUP(C1871,'Charge Conversion'!A:C,3,0),\" \")","v":" "}," "," ",null,null,null,null,null,{"$f":"VLOOKUP(D1871,'Group Name'!A:B,2,0)","v":{"$error":"#N/A"}}," "]
[null,null,null,null,null,null,null,null,null,{"$f":"+IFERROR(VLOOKUP(C1872,'Charge Conversion'!A:C,3,0),\" \")","v":" "}," "," ",null,null,null,null,null,{"$f":"VLOOKUP(D1872,'Group Name'!A:B,2,0)","v":{"$error":"#N/A"}}," "]
[null,null,null,null,null,null,null,null,null,{"$f":"+IFERROR(VLOOKUP(C1873,'Charge Conversion'!A:C,3,0),\" \")","v":" "}," "," ",null,null,null,null,null,{"$f":"VLOOKUP(D1873,'Group Name'!A:B,2,0)","v":{"$error":"#N/A"}}," "]
[null,null,null,null,null,null,null,null,null,{"$f":"+IFERROR(VLOOKUP(C1874,'Charge Conversion'!A:C,3,0),\" \")","v":" "}," "," ",null,null,null,null,null,{"$f":"VLOOKUP(D1874,'Group Name'!A:B,2,0)","v":{"$error":"#N/A"}}," "]
[null,null,null,null,null,null,null,null,null,{"$f":"+IFERROR(VLOOKUP(C1875,'Charge Conversion'!A:C,3,0),\" \")","v":" "}," "," ",null,null,null,null,null,{"$f":"VLOOKUP(D1875,'Group Name'!A:B,2,0)","v":{"$error":"#N/A"}}," "]
[null,null,null,null,null,null,null,null,null,{"$f":"+IFERROR(VLOOKUP(C1876,'Charge Conversion'!A:C,3,0),\" \")","v":" "}," "," ",null,null,null,null,null,{"$f":"VLOOKUP(D1876,'Group Name'!A:B,2,0)","v":{"$error":"#N/A"}}," "]
[null,null,null,null,null,null,null,null,null,{"$f":"+IFERROR(VLOOKUP(C1877,'Charge Conversion'!A:C,3,0),\" \")","v":" "}," "," ",null,null,null,null,null,{"$f":"VLOOKUP(D1877,'Group Name'!A:B,2,0)","v":{"$error":"#N/A"}}," "]
[null,null,null,null,null,null,null,null,null,{"$f":"+IFERROR(VLOOKUP(C1878,'Charge Conversion'!A:C,3,0),\" \")","v":" "}," "," ",null,null,null,null,null,{"$f":"VLOOKUP(D1878,'Group Name'!A:B,2,0)","v":{"$error":"#N/A"}}," "]
[null,null,null,null,null,null,null,null,null,{"$f":"+IFERROR(VLOOKUP(C1879,'Charge Conversion'!A:C,3,0),\" \")","v":" "}," "," ",null,null,null,null,null,{"$f":"VLOOKUP(D1879,'Group Name'!A:B,2,0)","v":{"$error":"#N/A"}}," "]
[null,null,null,null,null,null,null,null,null,{"$f":"+IFERROR(VLOOKUP(C1880,'Charge Conversion'!A:C,3,0),\" \")","v":" "}," "," ",null,null,null,null,null,{"$f":"VLOOKUP(D1880,'Group Name'!A:B,2,0)","v":{"$error":"#N/A"}}," "]
[null,null,null,null,null,null,null,null,null,{"$f":"+IFERROR(VLOOKUP(C1881,'Charge Conversion'!A:C,3,0),\" \")","v":" "}," "," ",null,null,null,null,null,{"$f":"VLOOKUP(D1881,'Group Name'!A:B,2,0)","v":{"$error":"#N/A"}}," "]
[null,null,null,null,null,null,null,null,null,{"$f":"+IFERROR(VLOOKUP(C1882,'Charge Conversion'!A:C,3,0),\" \")","v":" "}," "," ",null,null,null,null,null,{"$f":"VLOOKUP(D1882,'Group Name'!A:B,2,0)","v":{"$error":"#N/A"}}," "]
[null,null,null,null,null,null,null,null,null,{"$f":"+IFERROR(VLOOKUP(C1883,'Charge Conversion'!A:C,3,0),\" \")","v":" "}," "," ",null,null,null,null,null,{"$f":"VLOOKUP(D1883,'Group Name'!A:B,2,0)","v":{"$error":"#N/A"}}," "]
[null,null,null,null,null,null,null,null,null,{"$f":"+IFERROR(VLOOKUP(C1884,'Charge Conversion'!A:C,3,0),\" \")","v":" "}," "," ",null,null,null,null,null,{"$f":"VLOOKUP(D1884,'Group Name'!A:B,2,0)","v":{"$error":"#N/A"}}," "]
[null,null,null,null,null,null,null,null,null,{"$f":"+IFERROR(VLOOKUP(C1885,'Charge Conversion'!A:C,3,0),\" \")","v":" "}," "," ",null,null,null,null,null,{"$f":"VLOOKUP(D1885,'Group Name'!A:B,2,0)","v":{"$error":"#N/A"}}," "]
[null,null,null,null,null,null,null,null,null,{"$f":"+IFERROR(VLOOKUP(C1886,'Charge Conversion'!A:C,3,0),\" \")","v":" "}," "," ",null,null,null,null,null,{"$f":"VLOOKUP(D1886,'Group Name'!A:B,2,0)","v":{"$error":"#N/A"}}," "]
[null,null,null,null,null,null,null,null,null,{"$f":"+IFERROR(VLOOKUP(C1887,'Charge Conversion'!A:C,3,0),\" \")","v":" "}," "," ",null,null,null,null,null,{"$f":"VLOOKUP(D1887,'Group Name'!A:B,2,0)","v":{"$error":"#N/A"}}," "]
[null,null,null,null,null,null,null,null,null,{"$f":"+IFERROR(VLOOKUP(C1888,'Charge Conversion'!A:C,3,0),\" \")","v":" "}," "," ",null,null,null,null,null,{"$f":"VLOOKUP(D1888,'Group Name'!A:B,2,0)","v":{"$error":"#N/A"}}," "]
[null,null,null,null,null,null,null,null,null,{"$f":"+IFERROR(VLOOKUP(C1889,'Charge Conversion'!A:C,3,0),\" \")","v":" "}," "," ",null,null,null,null,null,{"$f":"VLOOKUP(D1889,'Group Name'!A:B,2,0)","v":{"$error":"#N/A"}}," "]
[null,null,null,null,null,null,null,null,null,{"$f":"+IFERROR(VLOOKUP(C1890,'Charge Conversion'!A:C,3,0),\" \")","v":" "}," "," ",null,null,null,null,null,{"$f":"VLOOKUP(D1890,'Group Name'!A:B,2,0)","v":{"$error":"#N/A"}}," "]
[null,null,null,null,null,null,null,null,null,{"$f":"+IFERROR(VLOOKUP(C1891,'Charge Conversion'!A:C,3,0),\" \")","v":" "}," "," ",null,null,null,null,null,{"$f":"VLOOKUP(D1891,'Group Name'!A:B,2,0)","v":{"$error":"#N/A"}}," "]
[null,null,null,null,null,null,null,null,null,{"$f":"+IFERROR(VLOOKUP(C1892,'Charge Conversion'!A:C,3,0),\" \")","v":" "}," "," ",null,null,null,null,null,{"$f":"VLOOKUP(D1892,'Group Name'!A:B,2,0)","v":{"$error":"#N/A"}}," "]
[null,null,null,null,null,null,null,null,null,{"$f":"+IFERROR(VLOOKUP(C1893,'Charge Conversion'!A:C,3,0),\" \")","v":" "}," "," ",null,null,null,null,null,{"$f":"VLOOKUP(D1893,'Group Name'!A:B,2,0)","v":{"$error":"#N/A"}}," "]
[null,null,null,null,null,null,null,null,null,{"$f":"+IFERROR(VLOOKUP(C1894,'Charge Conversion'!A:C,3,0),\" \")","v":" "}," "," ",null,null,null,null,null,{"$f":"VLOOKUP(D1894,'Group Name'!A:B,2,0)","v":{"$error":"#N/A"}}," "]
[null,null,null,null,null,null,null,null,null,{"$f":"+IFERROR(VLOOKUP(C1895,'Charge Conversion'!A:C,3,0),\" \")","v":" "}," "," ",null,null,null,null,null,{"$f":"VLOOKUP(D1895,'Group Name'!A:B,2,0)","v":{"$error":"#N/A"}}," "]
[null,null,null,null,null,null,null,null,null,{"$f":"+IFERROR(VLOOKUP(C1896,'Charge Conversion'!A:C,3,0),\" \")","v":" "}," "," ",null,null,null,null,null,{"$f":"VLOOKUP(D1896,'Group Name'!A:B,2,0)","v":{"$error":"#N/A"}}," "]
[null,null,null,null,null,null,null,null,null,{"$f":"+IFERROR(VLOOKUP(C1897,'Charge Conversion'!A:C,3,0),\" \")","v":" "}," "," ",null,null,null,null,null,{"$f":"VLOOKUP(D1897,'Group Name'!A:B,2,0)","v":{"$error":"#N/A"}}," "]
[null,null,null,null,null,null,null,null,null,{"$f":"+IFERROR(VLOOKUP(C1898,'Charge Conversion'!A:C,3,0),\" \")","v":" "}," "," ",null,null,null,null,null,{"$f":"VLOOKUP(D1898,'Group Name'!A:B,2,0)","v":{"$error":"#N/A"}}," "]
[null,null,null,null,null,null,null,null,null,{"$f":"+IFERROR(VLOOKUP(C1899,'Charge Conversion'!A:C,3,0),\" \")","v":" "}," "," ",null,null,null,null,null,{"$f":"VLOOKUP(D1899,'Group Name'!A:B,2,0)","v":{"$error":"#N/A"}}," "]
[null,null,null,null,null,null,null,null,null,{"$f":"+IFERROR(VLOOKUP(C1900,'Charge Conversion'!A:C,3,0),\" \")","v":" "}," "," ",null,null,null,null,null,{"$f":"VLOOKUP(D1900,'Group Name'!A:B,2,0)","v":{"$error":"#N/A"}}," "]
[null,null,null,null,null,null,null,null,null,{"$f":"+IFERROR(VLOOKUP(C1901,'Charge Conversion'!A:C,3,0),\" \")","v":" "}," "," ",null,null,null,null,null,{"$f":"VLOOKUP(D1901,'Group Name'!A:B,2,0)","v":{"$error":"#N/A"}}," "]
[null,null,null,null,null,null,null,null,null,{"$f":"+IFERROR(VLOOKUP(C1902,'Charge Conversion'!A:C,3,0),\" \")","v":" "}," "," ",null,null,null,null,null,{"$f":"VLOOKUP(D1902,'Group Name'!A:B,2,0)","v":{"$error":"#N/A"}}," "]
[null,null,null,null,null,null,null,null,null,{"$f":"+IFERROR(VLOOKUP(C1903,'Charge Conversion'!A:C,3,0),\" \")","v":" "}," "," ",null,null,null,null,null,{"$f":"VLOOKUP(D1903,'Group Name'!A:B,2,0)","v":{"$error":"#N/A"}}," "]
[null,null,null,null,null,null,null,null,null,{"$f":"+IFERROR(VLOOKUP(C1904,'Charge Conversion'!A:C,3,0),\" \")","v":" "}," "," ",null,null,null,null,null,{"$f":"VLOOKUP(D1904,'Group Name'!A:B,2,0)","v":{"$error":"#N/A"}}," "]
[null,null,null,null,null,null,null,null,null,{"$f":"+IFERROR(VLOOKUP(C1905,'Charge Conversion'!A:C,3,0),\" \")","v":" "}," "," ",null,null,null,null,null,{"$f":"VLOOKUP(D1905,'Group Name'!A:B,2,0)","v":{"$error":"#N/A"}}," "]
[null,null,null,null,null,null,null,null,null,{"$f":"+IFERROR(VLOOKUP(C1906,'Charge Conversion'!A:C,3,0),\" \")","v":" "}," "," ",null,null,null,null,null,{"$f":"VLOOKUP(D1906,'Group Name'!A:B,2,0)","v":{"$error":"#N/A"}}," "]
[null,null,null,null,null,null,null,null,null,{"$f":"+IFERROR(VLOOKUP(C1907,'Charge Conversion'!A:C,3,0),\" \")","v":" "}," "," ",null,null,null,null,null,{"$f":"VLOOKUP(D1907,'Group Name'!A:B,2,0)","v":{"$error":"#N/A"}}," "]
[null,null,null,null,null,null,null,null,null,{"$f":"+IFERROR(VLOOKUP(C1908,'Charge Conversion'!A:C,3,0),\" \")","v":" "}," "," ",null,null,null,null,null,{"$f":"VLOOKUP(D1908,'Group Name'!A:B,2,0)","v":{"$error":"#N/A"}}," "]
[null,null,null,null,null,null,null,null,null,{"$f":"+IFERROR(VLOOKUP(C1909,'Charge Conversion'!A:C,3,0),\" \")","v":" "}," "," ",null,null,null,null,null,{"$f":"VLOOKUP(D1909,'Group Name'!A:B,2,0)","v":{"$error":"#N/A"}}," "]
[null,null,null,null,null,null,null,null,null,{"$f":"+IFERROR(VLOOKUP(C1910,'Charge Conversion'!A:C,3,0),\" \")","v":" "}," "," ",null,null,null,null,null,{"$f":"VLOOKUP(D1910,'Group Name'!A:B,2,0)","v":{"$error":"#N/A"}}," "]
[null,null,null,null,null,null,null,null,null,{"$f":"+IFERROR(VLOOKUP(C1911,'Charge Conversion'!A:C,3,0),\" \")","v":" "}," "," ",null,null,null,null,null,{"$f":"VLOOKUP(D1911,'Group Name'!A:B,2,0)","v":{"$error":"#N/A"}}," "]
[null,null,null,null,null,null,null,null,null,{"$f":"+IFERROR(VLOOKUP(C1912,'Charge Conversion'!A:C,3,0),\" \")","v":" "}," "," ",null,null,null,null,null,{"$f":"VLOOKUP(D1912,'Group Name'!A:B,2,0)","v":{"$error":"#N/A"}}," "]
[null,null,null,null,null,null,null,null,null,{"$f":"+IFERROR(VLOOKUP(C1913,'Charge Conversion'!A:C,3,0),\" \")","v":" "}," "," ",null,null,null,null,null,{"$f":"VLOOKUP(D1913,'Group Name'!A:B,2,0)","v":{"$error":"#N/A"}}," "]
[null,null,null,null,null,null,null,null,null,{"$f":"+IFERROR(VLOOKUP(C1914,'Charge Conversion'!A:C,3,0),\" \")","v":" "}," "," ",null,null,null,null,null,{"$f":"VLOOKUP(D1914,'Group Name'!A:B,2,0)","v":{"$error":"#N/A"}}," "]
[null,null,null,null,null,null,null,null,null,{"$f":"+IFERROR(VLOOKUP(C1915,'Charge Conversion'!A:C,3,0),\" \")","v":" "}," "," ",null,null,null,null,null,{"$f":"VLOOKUP(D1915,'Group Name'!A:B,2,0)","v":{"$error":"#N/A"}}," "]
[null,null,null,null,null,null,null,null,null,{"$f":"+IFERROR(VLOOKUP(C1916,'Charge Conversion'!A:C,3,0),\" \")","v":" "}," "," ",null,null,null,null,null,{"$f":"VLOOKUP(D1916,'Group Name'!A:B,2,0)","v":{"$error":"#N/A"}}," "]
[null,null,null,null,null,null,null,null,null,{"$f":"+IFERROR(VLOOKUP(C1917,'Charge Conversion'!A:C,3,0),\" \")","v":" "}," "," ",null,null,null,null,null,{"$f":"VLOOKUP(D1917,'Group Name'!A:B,2,0)","v":{"$error":"#N/A"}}," "]
[null,null,null,null,null,null,null,null,null,{"$f":"+IFERROR(VLOOKUP(C1918,'Charge Conversion'!A:C,3,0),\" \")","v":" "}," "," ",null,null,null,null,null,{"$f":"VLOOKUP(D1918,'Group Name'!A:B,2,0)","v":{"$error":"#N/A"}}," "]
[null,null,null,null,null,null,null,null,null,{"$f":"+IFERROR(VLOOKUP(C1919,'Charge Conversion'!A:C,3,0),\" \")","v":" "}," "," ",null,null,null,null,null,{"$f":"VLOOKUP(D1919,'Group Name'!A:B,2,0)","v":{"$error":"#N/A"}}," "]
[null,null,null,null,null,null,null,null,null,{"$f":"+IFERROR(VLOOKUP(C1920,'Charge Conversion'!A:C,3,0),\" \")","v":" "}," "," ",null,null,null,null,null,{"$f":"VLOOKUP(D1920,'Group Name'!A:B,2,0)","v":{"$error":"#N/A"}}," "]
[null,null,null,null,null,null,null,null,null,{"$f":"+IFERROR(VLOOKUP(C1921,'Charge Conversion'!A:C,3,0),\" \")","v":" "}," "," ",null,null,null,null,null,{"$f":"VLOOKUP(D1921,'Group Name'!A:B,2,0)","v":{"$error":"#N/A"}}," "]
[null,null,null,null,null,null,null,null,null,{"$f":"+IFERROR(VLOOKUP(C1922,'Charge Conversion'!A:C,3,0),\" \")","v":" "}," "," ",null,null,null,null,null,{"$f":"VLOOKUP(D1922,'Group Name'!A:B,2,0)","v":{"$error":"#N/A"}}," "]
[null,null,null,null,null,null,null,null,null,{"$f":"+IFERROR(VLOOKUP(C1923,'Charge Conversion'!A:C,3,0),\" \")","v":" "}," "," ",null,null,null,null,null,{"$f":"VLOOKUP(D1923,'Group Name'!A:B,2,0)","v":{"$error":"#N/A"}}," "]
[null,null,null,null,null,null,null,null,null,{"$f":"+IFERROR(VLOOKUP(C1924,'Charge Conversion'!A:C,3,0),\" \")","v":" "}," "," ",null,null,null,null,null,{"$f":"VLOOKUP(D1924,'Group Name'!A:B,2,0)","v":{"$error":"#N/A"}}," "]
[null,null,null,null,null,null,null,null,null,{"$f":"+IFERROR(VLOOKUP(C1925,'Charge Conversion'!A:C,3,0),\" \")","v":" "},{"$f":"+IFERROR(I1925*J1925,\" \")","v":" "},{"$f":"S1925","v":" "},null,null,null,null,null,{"$f":"VLOOKUP(D1925,'Group Name'!A:B,2,0)","v":{"$error":"#N/A"}},{"$f":"IFERROR((IF(A1925=\" \",\" \",R1925)),\" \")","v":" "}]
[null,null,null,null,null,null,null,null,null,{"$f":"+IFERROR(VLOOKUP(C1926,'Charge Conversion'!A:C,3,0),\" \")","v":" "}," "," ",null,null,null,null,null,{"$f":"VLOOKUP(D1926,'Group Name'!A:B,2,0)","v":{"$error":"#N/A"}}," "]
[null,null,null,null,null,null,null,null,null,{"$f":"+IFERROR(VLOOKUP(C1927,'Charge Conversion'!A:C,3,0),\" \")","v":" "}," "," ",null,null,null,null,null,{"$f":"VLOOKUP(D1927,'Group Name'!A:B,2,0)","v":{"$error":"#N/A"}}," "]
[null,null,null,null,null,null,null,null,null,{"$f":"+IFERROR(VLOOKUP(C1928,'Charge Conversion'!A:C,3,0),\" \")","v":" "}," "," ",null,null,null,null,null,{"$f":"VLOOKUP(D1928,'Group Name'!A:B,2,0)","v":{"$error":"#N/A"}}," "]
[null,null,null,null,null,null,null,null,null,{"$f":"+IFERROR(VLOOKUP(C1929,'Charge Conversion'!A:C,3,0),\" \")","v":" "}," "," ",null,null,null,null,null,{"$f":"VLOOKUP(D1929,'Group Name'!A:B,2,0)","v":{"$error":"#N/A"}}," "]
[null,null,null,null,null,null,null,null,null,{"$f":"+IFERROR(VLOOKUP(C1930,'Charge Conversion'!A:C,3,0),\" \")","v":" "}," "," ",null,null,null,null,null,{"$f":"VLOOKUP(D1930,'Group Name'!A:B,2,0)","v":{"$error":"#N/A"}}," "]
[null,null,null,null,null,null,null,null,null,{"$f":"+IFERROR(VLOOKUP(C1931,'Charge Conversion'!A:C,3,0),\" \")","v":" "}," "," ",null,null,null,null,null,{"$f":"VLOOKUP(D1931,'Group Name'!A:B,2,0)","v":{"$error":"#N/A"}}," "]
[null,null,null,null,null,null,null,null,null,{"$f":"+IFERROR(VLOOKUP(C1932,'Charge Conversion'!A:C,3,0),\" \")","v":" "}," "," ",null,null,null,null,null,{"$f":"VLOOKUP(D1932,'Group Name'!A:B,2,0)","v":{"$error":"#N/A"}}," "]
[null,null,null,null,null,null,null,null,null,{"$f":"+IFERROR(VLOOKUP(C1933,'Charge Conversion'!A:C,3,0),\" \")","v":" "}," "," ",null,null,null,null,null,{"$f":"VLOOKUP(D1933,'Group Name'!A:B,2,0)","v":{"$error":"#N/A"}}," "]
[null,null,null,null,null,null,null,null,null,{"$f":"+IFERROR(VLOOKUP(C1934,'Charge Conversion'!A:C,3,0),\" \")","v":" "}," "," ",null,null,null,null,null,{"$f":"VLOOKUP(D1934,'Group Name'!A:B,2,0)","v":{"$error":"#N/A"}}," "]
[null,null,null,null,null,null,null,null,null,{"$f":"+IFERROR(VLOOKUP(C1935,'Charge Conversion'!A:C,3,0),\" \")","v":" "}," "," ",null,null,null,null,null,{"$f":"VLOOKUP(D1935,'Group Name'!A:B,2,0)","v":{"$error":"#N/A"}}," "]
[null,null,null,null,null,null,null,null,null,{"$f":"+IFERROR(VLOOKUP(C1936,'Charge Conversion'!A:C,3,0),\" \")","v":" "}," "," ",null,null,null,null,null,{"$f":"VLOOKUP(D1936,'Group Name'!A:B,2,0)","v":{"$error":"#N/A"}}," "]
[null,null,null,null,null,null,null,null,null,{"$f":"+IFERROR(VLOOKUP(C1937,'Charge Conversion'!A:C,3,0),\" \")","v":" "}," "," ",null,null,null,null,null,{"$f":"VLOOKUP(D1937,'Group Name'!A:B,2,0)","v":{"$error":"#N/A"}}," "]
[null,null,null,null,null,null,null,null,null,{"$f":"+IFERROR(VLOOKUP(C1938,'Charge Conversion'!A:C,3,0),\" \")","v":" "}," "," ",null,null,null,null,null,{"$f":"VLOOKUP(D1938,'Group Name'!A:B,2,0)","v":{"$error":"#N/A"}}," "]
[null,null,null,null,null,null,null,null,null,{"$f":"+IFERROR(VLOOKUP(C1939,'Charge Conversion'!A:C,3,0),\" \")","v":" "}," "," ",null,null,null,null,null,{"$f":"VLOOKUP(D1939,'Group Name'!A:B,2,0)","v":{"$error":"#N/A"}}," "]
[null,null,null,null,null,null,null,null,null,{"$f":"+IFERROR(VLOOKUP(C1940,'Charge Conversion'!A:C,3,0),\" \")","v":" "}," "," ",null,null,null,null,null,{"$f":"VLOOKUP(D1940,'Group Name'!A:B,2,0)","v":{"$error":"#N/A"}}," "]
[null,null,null,null,null,null,null,null,null,{"$f":"+IFERROR(VLOOKUP(C1941,'Charge Conversion'!A:C,3,0),\" \")","v":" "}," "," ",null,null,null,null,null,{"$f":"VLOOKUP(D1941,'Group Name'!A:B,2,0)","v":{"$error":"#N/A"}}," "]
[null,null,null,null,null,null,null,null,null,{"$f":"+IFERROR(VLOOKUP(C1942,'Charge Conversion'!A:C,3,0),\" \")","v":" "}," "," ",null,null,null,null,null,{"$f":"VLOOKUP(D1942,'Group Name'!A:B,2,0)","v":{"$error":"#N/A"}}," "]
[null,null,null,null,null,null,null,null,null,{"$f":"+IFERROR(VLOOKUP(C1943,'Charge Conversion'!A:C,3,0),\" \")","v":" "}," "," ",null,null,null,null,null,{"$f":"VLOOKUP(D1943,'Group Name'!A:B,2,0)","v":{"$error":"#N/A"}}," "]
[null,null,null,null,null,null,null,null,null,{"$f":"+IFERROR(VLOOKUP(C1944,'Charge Conversion'!A:C,3,0),\" \")","v":" "}," "," ",null,null,null,null,null,{"$f":"VLOOKUP(D1944,'Group Name'!A:B,2,0)","v":{"$error":"#N/A"}}," "]
[null,null,null,null,null,null,null,null,null,{"$f":"+IFERROR(VLOOKUP(C1945,'Charge Conversion'!A:C,3,0),\" \")","v":" "}," "," ",null,null,null,null,null,{"$f":"VLOOKUP(D1945,'Group Name'!A:B,2,0)","v":{"$error":"#N/A"}}," "]
[null,null,null,null,null,null,null,null,null,{"$f":"+IFERROR(VLOOKUP(C1946,'Charge Conversion'!A:C,3,0),\" \")","v":" "}," "," ",null,null,null,null,null,{"$f":"VLOOKUP(D1946,'Group Name'!A:B,2,0)","v":{"$error":"#N/A"}}," "]
[null,null,null,null,null,null,null,null,null,{"$f":"+IFERROR(VLOOKUP(C1947,'Charge Conversion'!A:C,3,0),\" \")","v":" "}," "," ",null,null,null,null,null,{"$f":"VLOOKUP(D1947,'Group Name'!A:B,2,0)","v":{"$error":"#N/A"}}," "]
[null,null,null,null,null,null,null,null,null,{"$f":"+IFERROR(VLOOKUP(C1948,'Charge Conversion'!A:C,3,0),\" \")","v":" "}," "," ",null,null,null,null,null,{"$f":"VLOOKUP(D1948,'Group Name'!A:B,2,0)","v":{"$error":"#N/A"}}," "]
[null,null,null,null,null,null,null,null,null,{"$f":"+IFERROR(VLOOKUP(C1949,'Charge Conversion'!A:C,3,0),\" \")","v":" "}," "," ",null,null,null,null,null,{"$f":"VLOOKUP(D1949,'Group Name'!A:B,2,0)","v":{"$error":"#N/A"}}," "]
[null,null,null,null,null,null,null,null,null,{"$f":"+IFERROR(VLOOKUP(C1950,'Charge Conversion'!A:C,3,0),\" \")","v":" "}," "," ",null,null,null,null,null,{"$f":"VLOOKUP(D1950,'Group Name'!A:B,2,0)","v":{"$error":"#N/A"}}," "]
[null,null,null,null,null,null,null,null,null,{"$f":"+IFERROR(VLOOKUP(C1951,'Charge Conversion'!A:C,3,0),\" \")","v":" "}," "," ",null,null,null,null,null,{"$f":"VLOOKUP(D1951,'Group Name'!A:B,2,0)","v":{"$error":"#N/A"}}," "]
[null,null,null,null,null,null,null,null,null,{"$f":"+IFERROR(VLOOKUP(C1952,'Charge Conversion'!A:C,3,0),\" \")","v":" "}," "," ",null,null,null,null,null,{"$f":"VLOOKUP(D1952,'Group Name'!A:B,2,0)","v":{"$error":"#N/A"}}," "]
[null,null,null,null,null,null,null,null,null,{"$f":"+IFERROR(VLOOKUP(C1953,'Charge Conversion'!A:C,3,0),\" \")","v":" "}," "," ",null,null,null,null,null,{"$f":"VLOOKUP(D1953,'Group Name'!A:B,2,0)","v":{"$error":"#N/A"}}," "]
[null,null,null,null,null,null,null,null,null,{"$f":"+IFERROR(VLOOKUP(C1954,'Charge Conversion'!A:C,3,0),\" \")","v":" "}," "," ",null,null,null,null,null,{"$f":"VLOOKUP(D1954,'Group Name'!A:B,2,0)","v":{"$error":"#N/A"}}," "]
[null,null,null,null,null,null,null,null,null,{"$f":"+IFERROR(VLOOKUP(C1955,'Charge Conversion'!A:C,3,0),\" \")","v":" "}," "," ",null,null,null,null,null,{"$f":"VLOOKUP(D1955,'Group Name'!A:B,2,0)","v":{"$error":"#N/A"}}," "]
[null,null,null,null,null,null,null,null,null,{"$f":"+IFERROR(VLOOKUP(C1956,'Charge Conversion'!A:C,3,0),\" \")","v":" "}," "," ",null,null,null,null,null,{"$f":"VLOOKUP(D1956,'Group Name'!A:B,2,0)","v":{"$error":"#N/A"}}," "]
[null,null,null,null,null,null,null,null,null,{"$f":"+IFERROR(VLOOKUP(C1957,'Charge Conversion'!A:C,3,0),\" \")","v":" "}," "," ",null,null,null,null,null,{"$f":"VLOOKUP(D1957,'Group Name'!A:B,2,0)","v":{"$error":"#N/A"}}," "]
[null,null,null,null,null,null,null,null,null,{"$f":"+IFERROR(VLOOKUP(C1958,'Charge Conversion'!A:C,3,0),\" \")","v":" "}," "," ",null,null,null,null,null,{"$f":"VLOOKUP(D1958,'Group Name'!A:B,2,0)","v":{"$error":"#N/A"}}," "]
[null,null,null,null,null,null,null,null,null,{"$f":"+IFERROR(VLOOKUP(C1959,'Charge Conversion'!A:C,3,0),\" \")","v":" "}," "," ",null,null,null,null,null,{"$f":"VLOOKUP(D1959,'Group Name'!A:B,2,0)","v":{"$error":"#N/A"}}," "]
[null,null,null,null,null,null,null,null,null,{"$f":"+IFERROR(VLOOKUP(C1960,'Charge Conversion'!A:C,3,0),\" \")","v":" "}," "," ",null,null,null,null,null,{"$f":"VLOOKUP(D1960,'Group Name'!A:B,2,0)","v":{"$error":"#N/A"}}," "]
[null,null,null,null,null,null,null,null,null,{"$f":"+IFERROR(VLOOKUP(C1961,'Charge Conversion'!A:C,3,0),\" \")","v":" "}," "," ",null,null,null,null,null,{"$f":"VLOOKUP(D1961,'Group Name'!A:B,2,0)","v":{"$error":"#N/A"}}," "]
[null,null,null,null,null,null,null,null,null,{"$f":"+IFERROR(VLOOKUP(C1962,'Charge Conversion'!A:C,3,0),\" \")","v":" "}," "," ",null,null,null,null,null,{"$f":"VLOOKUP(D1962,'Group Name'!A:B,2,0)","v":{"$error":"#N/A"}}," "]
[null,null,null,null,null,null,null,null,null,{"$f":"+IFERROR(VLOOKUP(C1963,'Charge Conversion'!A:C,3,0),\" \")","v":" "}," "," ",null,null,null,null,null,{"$f":"VLOOKUP(D1963,'Group Name'!A:B,2,0)","v":{"$error":"#N/A"}}," "]
[null,null,null,null,null,null,null,null,null,{"$f":"+IFERROR(VLOOKUP(C1964,'Charge Conversion'!A:C,3,0),\" \")","v":" "}," "," ",null,null,null,null,null,{"$f":"VLOOKUP(D1964,'Group Name'!A:B,2,0)","v":{"$error":"#N/A"}}," "]
[null,null,null,null,null,null,null,null,null,{"$f":"+IFERROR(VLOOKUP(C1965,'Charge Conversion'!A:C,3,0),\" \")","v":" "}," "," ",null,null,null,null,null,{"$f":"VLOOKUP(D1965,'Group Name'!A:B,2,0)","v":{"$error":"#N/A"}}," "]
[null,null,null,null,null,null,null,null,null,{"$f":"+IFERROR(VLOOKUP(C1966,'Charge Conversion'!A:C,3,0),\" \")","v":" "}," "," ",null,null,null,null,null,{"$f":"VLOOKUP(D1966,'Group Name'!A:B,2,0)","v":{"$error":"#N/A"}}," "]
[null,null,null,null,null,null,null,null,null,{"$f":"+IFERROR(VLOOKUP(C1967,'Charge Conversion'!A:C,3,0),\" \")","v":" "}," "," ",null,null,null,null,null,{"$f":"VLOOKUP(D1967,'Group Name'!A:B,2,0)","v":{"$error":"#N/A"}}," "]
[null,null,null,null,null,null,null,null,null,{"$f":"+IFERROR(VLOOKUP(C1968,'Charge Conversion'!A:C,3,0),\" \")","v":" "}," "," ",null,null,null,null,null,{"$f":"VLOOKUP(D1968,'Group Name'!A:B,2,0)","v":{"$error":"#N/A"}}," "]
[null,null,null,null,null,null,null,null,null,{"$f":"+IFERROR(VLOOKUP(C1969,'Charge Conversion'!A:C,3,0),\" \")","v":" "}," "," ",null,null,null,null,null,{"$f":"VLOOKUP(D1969,'Group Name'!A:B,2,0)","v":{"$error":"#N/A"}}," "]
[null,null,null,null,null,null,null,null,null,{"$f":"+IFERROR(VLOOKUP(C1970,'Charge Conversion'!A:C,3,0),\" \")","v":" "}," "," ",null,null,null,null,null,{"$f":"VLOOKUP(D1970,'Group Name'!A:B,2,0)","v":{"$error":"#N/A"}}," "]
[null,null,null,null,null,null,null,null,null,{"$f":"+IFERROR(VLOOKUP(C1971,'Charge Conversion'!A:C,3,0),\" \")","v":" "}," "," ",null,null,null,null,null,{"$f":"VLOOKUP(D1971,'Group Name'!A:B,2,0)","v":{"$error":"#N/A"}}," "]
[null,null,null,null,null,null,null,null,null,{"$f":"+IFERROR(VLOOKUP(C1972,'Charge Conversion'!A:C,3,0),\" \")","v":" "}," "," ",null,null,null,null,null,{"$f":"VLOOKUP(D1972,'Group Name'!A:B,2,0)","v":{"$error":"#N/A"}}," "]
[null,null,null,null,null,null,null,null,null,{"$f":"+IFERROR(VLOOKUP(C1973,'Charge Conversion'!A:C,3,0),\" \")","v":" "}," "," ",null,null,null,null,null,{"$f":"VLOOKUP(D1973,'Group Name'!A:B,2,0)","v":{"$error":"#N/A"}}," "]
[null,null,null,null,null,null,null,null,null,{"$f":"+IFERROR(VLOOKUP(C1974,'Charge Conversion'!A:C,3,0),\" \")","v":" "}," "," ",null,null,null,null,null,{"$f":"VLOOKUP(D1974,'Group Name'!A:B,2,0)","v":{"$error":"#N/A"}}," "]
[null,null,null,null,null,null,null,null,null,{"$f":"+IFERROR(VLOOKUP(C1975,'Charge Conversion'!A:C,3,0),\" \")","v":" "}," "," ",null,null,null,null,null,{"$f":"VLOOKUP(D1975,'Group Name'!A:B,2,0)","v":{"$error":"#N/A"}}," "]
[null,null,null,null,null,null,null,null,null,{"$f":"+IFERROR(VLOOKUP(C1976,'Charge Conversion'!A:C,3,0),\" \")","v":" "}," "," ",null,null,null,null,null,{"$f":"VLOOKUP(D1976,'Group Name'!A:B,2,0)","v":{"$error":"#N/A"}}," "]
[null,null,null,null,null,null,null,null,null,{"$f":"+IFERROR(VLOOKUP(C1977,'Charge Conversion'!A:C,3,0),\" \")","v":" "}," "," ",null,null,null,null,null,{"$f":"VLOOKUP(D1977,'Group Name'!A:B,2,0)","v":{"$error":"#N/A"}}," "]
[null,null,null,null,null,null,null,null,null,{"$f":"+IFERROR(VLOOKUP(C1978,'Charge Conversion'!A:C,3,0),\" \")","v":" "}," "," ",null,null,null,null,null,{"$f":"VLOOKUP(D1978,'Group Name'!A:B,2,0)","v":{"$error":"#N/A"}}," "]
[null,null,null,null,null,null,null,null,null,{"$f":"+IFERROR(VLOOKUP(C1979,'Charge Conversion'!A:C,3,0),\" \")","v":" "}," "," ",null,null,null,null,null,{"$f":"VLOOKUP(D1979,'Group Name'!A:B,2,0)","v":{"$error":"#N/A"}}," "]
[null,null,null,null,null,null,null,null,null,{"$f":"+IFERROR(VLOOKUP(C1980,'Charge Conversion'!A:C,3,0),\" \")","v":" "}," "," ",null,null,null,null,null,{"$f":"VLOOKUP(D1980,'Group Name'!A:B,2,0)","v":{"$error":"#N/A"}}," "]
[null,null,null,null,null,null,null,null,null,{"$f":"+IFERROR(VLOOKUP(C1981,'Charge Conversion'!A:C,3,0),\" \")","v":" "}," "," ",null,null,null,null,null,{"$f":"VLOOKUP(D1981,'Group Name'!A:B,2,0)","v":{"$error":"#N/A"}}," "]
[null,null,null,null,null,null,null,null,null,{"$f":"+IFERROR(VLOOKUP(C1982,'Charge Conversion'!A:C,3,0),\" \")","v":" "}," "," ",null,null,null,null,null,{"$f":"VLOOKUP(D1982,'Group Name'!A:B,2,0)","v":{"$error":"#N/A"}}," "]
[null,null,null,null,null,null,null,null,null,{"$f":"+IFERROR(VLOOKUP(C1983,'Charge Conversion'!A:C,3,0),\" \")","v":" "}," "," ",null,null,null,null,null,{"$f":"VLOOKUP(D1983,'Group Name'!A:B,2,0)","v":{"$error":"#N/A"}}," "]
[null,null,null,null,null,null,null,null,null,{"$f":"+IFERROR(VLOOKUP(C1984,'Charge Conversion'!A:C,3,0),\" \")","v":" "}," "," ",null,null,null,null,null,{"$f":"VLOOKUP(D1984,'Group Name'!A:B,2,0)","v":{"$error":"#N/A"}}," "]
[null,null,null,null,null,null,null,null,null,{"$f":"+IFERROR(VLOOKUP(C1985,'Charge Conversion'!A:C,3,0),\" \")","v":" "}," "," ",null,null,null,null,null,{"$f":"VLOOKUP(D1985,'Group Name'!A:B,2,0)","v":{"$error":"#N/A"}}," "]
[null,null,null,null,null,null,null,null,null,{"$f":"+IFERROR(VLOOKUP(C1986,'Charge Conversion'!A:C,3,0),\" \")","v":" "}," "," ",null,null,null,null,null,{"$f":"VLOOKUP(D1986,'Group Name'!A:B,2,0)","v":{"$error":"#N/A"}}," "]
[null,null,null,null,null,null,null,null,null,{"$f":"+IFERROR(VLOOKUP(C1987,'Charge Conversion'!A:C,3,0),\" \")","v":" "}," "," ",null,null,null,null,null,{"$f":"VLOOKUP(D1987,'Group Name'!A:B,2,0)","v":{"$error":"#N/A"}}," "]
[null,null,null,null,null,null,null,null,null,{"$f":"+IFERROR(VLOOKUP(C1988,'Charge Conversion'!A:C,3,0),\" \")","v":" "}," "," ",null,null,null,null,null,{"$f":"VLOOKUP(D1988,'Group Name'!A:B,2,0)","v":{"$error":"#N/A"}}," "]
[null,null,null,null,null,null,null,null,null,{"$f":"+IFERROR(VLOOKUP(C1989,'Charge Conversion'!A:C,3,0),\" \")","v":" "},{"$f":"+IFERROR(I1989*J1989,\" \")","v":" "},{"$f":"S1989","v":" "},null,null,null,null,null,{"$f":"VLOOKUP(D1989,'Group Name'!A:B,2,0)","v":{"$error":"#N/A"}},{"$f":"IFERROR((IF(A1989=\" \",\" \",R1989)),\" \")","v":" "}]
[null,null,null,null,null,null,null,null,null,{"$f":"+IFERROR(VLOOKUP(C1990,'Charge Conversion'!A:C,3,0),\" \")","v":" "}," "," ",null,null,null,null,null,{"$f":"VLOOKUP(D1990,'Group Name'!A:B,2,0)","v":{"$error":"#N/A"}}," "]
[null,null,null,null,null,null,null,null,null,{"$f":"+IFERROR(VLOOKUP(C1991,'Charge Conversion'!A:C,3,0),\" \")","v":" "}," "," ",null,null,null,null,null,{"$f":"VLOOKUP(D1991,'Group Name'!A:B,2,0)","v":{"$error":"#N/A"}}," "]
[null,null,null,null,null,null,null,null,null,{"$f":"+IFERROR(VLOOKUP(C1992,'Charge Conversion'!A:C,3,0),\" \")","v":" "}," "," ",null,null,null,null,null,{"$f":"VLOOKUP(D1992,'Group Name'!A:B,2,0)","v":{"$error":"#N/A"}}," "]
[null,null,null,null,null,null,null,null,null,{"$f":"+IFERROR(VLOOKUP(C1993,'Charge Conversion'!A:C,3,0),\" \")","v":" "}," "," ",null,null,null,null,null,{"$f":"VLOOKUP(D1993,'Group Name'!A:B,2,0)","v":{"$error":"#N/A"}}," "]
[null,null,null,null,null,null,null,null,null,{"$f":"+IFERROR(VLOOKUP(C1994,'Charge Conversion'!A:C,3,0),\" \")","v":" "}," "," ",null,null,null,null,null,{"$f":"VLOOKUP(D1994,'Group Name'!A:B,2,0)","v":{"$error":"#N/A"}}," "]
[null,null,null,null,null,null,null,null,null,{"$f":"+IFERROR(VLOOKUP(C1995,'Charge Conversion'!A:C,3,0),\" \")","v":" "}," "," ",null,null,null,null,null,{"$f":"VLOOKUP(D1995,'Group Name'!A:B,2,0)","v":{"$error":"#N/A"}}," "]
[null,null,null,null,null,null,null,null,null,{"$f":"+IFERROR(VLOOKUP(C1996,'Charge Conversion'!A:C,3,0),\" \")","v":" "}," "," ",null,null,null,null,null,{"$f":"VLOOKUP(D1996,'Group Name'!A:B,2,0)","v":{"$error":"#N/A"}}," "]
[null,null,null,null,null,null,null,null,null,{"$f":"+IFERROR(VLOOKUP(C1997,'Charge Conversion'!A:C,3,0),\" \")","v":" "}," "," ",null,null,null,null,null,{"$f":"VLOOKUP(D1997,'Group Name'!A:B,2,0)","v":{"$error":"#N/A"}}," "]
[null,null,null,null,null,null,null,null,null,{"$f":"+IFERROR(VLOOKUP(C1998,'Charge Conversion'!A:C,3,0),\" \")","v":" "}," "," ",null,null,null,null,null,{"$f":"VLOOKUP(D1998,'Group Name'!A:B,2,0)","v":{"$error":"#N/A"}}," "]
[null,null,null,null,null,null,null,null,null,{"$f":"+IFERROR(VLOOKUP(C1999,'Charge Conversion'!A:C,3,0),\" \")","v":" "}," "," ",null,null,null,null,null,{"$f":"VLOOKUP(D1999,'Group Name'!A:B,2,0)","v":{"$error":"#N/A"}}," "]
[null,null,null,null,null,null,null,null,null,{"$f":"+IFERROR(VLOOKUP(C2000,'Charge Conversion'!A:C,3,0),\" \")","v":" "}," "," ",null,null,null,null,null,{"$f":"VLOOKUP(D2000,'Group Name'!A:B,2,0)","v":{"$error":"#N/A"}}," "]
[null,null,null,null,null,null,null,null,null,{"$f":"+IFERROR(VLOOKUP(C2002,'Charge Conversion'!A:C,3,0),\" \")","v":" "}," "," ",null,null,null,null,null,{"$f":"VLOOKUP(D2002,'Group Name'!A:B,2,0)","v":{"$error":"#N/A"}}," "]
[null,null,null,null,null,null,null,null,null,{"$f":"+IFERROR(VLOOKUP(C2004,'Charge Conversion'!A:C,3,0),\" \")","v":" "}," "," ",null,null,null,null,null,{"$f":"VLOOKUP(D2004,'Group Name'!A:B,2,0)","v":{"$error":"#N/A"}}," "]
[null,null,null,null,null,null,null,null,null,{"$f":"+IFERROR(VLOOKUP(C2007,'Charge Conversion'!A:C,3,0),\" \")","v":" "}," "," ",null,null,null,null,null,{"$f":"VLOOKUP(D2007,'Group Name'!A:B,2,0)","v":{"$error":"#N/A"}}," "]
[null,null,null,null,null,null,null,null,null,{"$f":"+IFERROR(VLOOKUP(C2010,'Charge Conversion'!A:C,3,0),\" \")","v":" "}," "," ",null,null,null,null,null,{"$f":"VLOOKUP(D2010,'Group Name'!A:B,2,0)","v":{"$error":"#N/A"}}," "]
[null,null,null,null,null,null,null,null,null,{"$f":"+IFERROR(VLOOKUP(C2012,'Charge Conversion'!A:C,3,0),\" \")","v":" "}," "," ",null,null,null,null,null,{"$f":"VLOOKUP(D2012,'Group Name'!A:B,2,0)","v":{"$error":"#N/A"}}," "]
[null,null,null,null,null,null,null,null,null,{"$f":"+IFERROR(VLOOKUP(C2015,'Charge Conversion'!A:C,3,0),\" \")","v":" "}," "," ",null,null,null,null,null,{"$f":"VLOOKUP(D2015,'Group Name'!A:B,2,0)","v":{"$error":"#N/A"}}," "]
[null,null,null,null,null,null,null,null,null,{"$f":"+IFERROR(VLOOKUP(C2017,'Charge Conversion'!A:C,3,0),\" \")","v":" "}," "," ",null,null,null,null,null,{"$f":"VLOOKUP(D2017,'Group Name'!A:B,2,0)","v":{"$error":"#N/A"}}," "]
[null,null,null,null,null,null,null,null,null,{"$f":"+IFERROR(VLOOKUP(C2018,'Charge Conversion'!A:C,3,0),\" \")","v":" "}," "," ",null,null,null,null,null,{"$f":"VLOOKUP(D2018,'Group Name'!A:B,2,0)","v":{"$error":"#N/A"}}," "]
[null,null,null,null,null,null,null,null,null,{"$f":"+IFERROR(VLOOKUP(C2022,'Charge Conversion'!A:C,3,0),\" \")","v":" "}," "," ",null,null,null,null,null,{"$f":"VLOOKUP(D2022,'Group Name'!A:B,2,0)","v":{"$error":"#N/A"}}," "]
[null,null,null,null,null,null,null,null,null,{"$f":"+IFERROR(VLOOKUP(C2024,'Charge Conversion'!A:C,3,0),\" \")","v":" "}," "," ",null,null,null,null,null,{"$f":"VLOOKUP(D2024,'Group Name'!A:B,2,0)","v":{"$error":"#N/A"}}," "]
[null,null,null,null,null,null,null,null,null,{"$f":"+IFERROR(VLOOKUP(C2027,'Charge Conversion'!A:C,3,0),\" \")","v":" "}," "," ",null,null,null,null,null,{"$f":"VLOOKUP(D2027,'Group Name'!A:B,2,0)","v":{"$error":"#N/A"}}," "]
[null,null,null,null,null,null,null,null,null,{"$f":"+IFERROR(VLOOKUP(C2030,'Charge Conversion'!A:C,3,0),\" \")","v":" "}," "," ",null,null,null,null,null,{"$f":"VLOOKUP(D2030,'Group Name'!A:B,2,0)","v":{"$error":"#N/A"}}," "]
[null,null,null,null,null,null,null,null,null,{"$f":"+IFERROR(VLOOKUP(C2032,'Charge Conversion'!A:C,3,0),\" \")","v":" "}," "," ",null,null,null,null,null,{"$f":"VLOOKUP(D2032,'Group Name'!A:B,2,0)","v":{"$error":"#N/A"}}," "]
[null,null,null,null,null,null,null,null,null,{"$f":"+IFERROR(VLOOKUP(C2035,'Charge Conversion'!A:C,3,0),\" \")","v":" "}," "," ",null,null,null,null,null,{"$f":"VLOOKUP(D2035,'Group Name'!A:B,2,0)","v":{"$error":"#N/A"}}," "]
[null,null,null,null,null,null,null,null,null,{"$f":"+IFERROR(VLOOKUP(C2037,'Charge Conversion'!A:C,3,0),\" \")","v":" "}," "," ",null,null,null,null,null,{"$f":"VLOOKUP(D2037,'Group Name'!A:B,2,0)","v":{"$error":"#N/A"}}," "]
[null,null,null,null,null,null,null,null,null,{"$f":"+IFERROR(VLOOKUP(C2038,'Charge Conversion'!A:C,3,0),\" \")","v":" "}," "," ",null,null,null,null,null,{"$f":"VLOOKUP(D2038,'Group Name'!A:B,2,0)","v":{"$error":"#N/A"}}," "]
[null,null,null,null,null,null,null,null,null,{"$f":"+IFERROR(VLOOKUP(C2042,'Charge Conversion'!A:C,3,0),\" \")","v":" "}," "," ",null,null,null,null,null,{"$f":"VLOOKUP(D2042,'Group Name'!A:B,2,0)","v":{"$error":"#N/A"}}," "]
[null,null,null,null,null,null,null,null,null,{"$f":"+IFERROR(VLOOKUP(C2044,'Charge Conversion'!A:C,3,0),\" \")","v":" "}," "," ",null,null,null,null,null,{"$f":"VLOOKUP(D2044,'Group Name'!A:B,2,0)","v":{"$error":"#N/A"}}," "]
[null,null,null,null,null,null,null,null,null,{"$f":"+IFERROR(VLOOKUP(C2047,'Charge Conversion'!A:C,3,0),\" \")","v":" "}," "," ",null,null,null,null,null,{"$f":"VLOOKUP(D2047,'Group Name'!A:B,2,0)","v":{"$error":"#N/A"}}," "]
[null,null,null,null,null,null,null,null,null,{"$f":"+IFERROR(VLOOKUP(C2050,'Charge Conversion'!A:C,3,0),\" \")","v":" "}," "," ",null,null,null,null,null,{"$f":"VLOOKUP(D2050,'Group Name'!A:B,2,0)","v":{"$error":"#N/A"}}," "]
[null,null,null,null,null,null,null,null,null,{"$f":"+IFERROR(VLOOKUP(C2052,'Charge Conversion'!A:C,3,0),\" \")","v":" "}," "," ",null,null,null,null,null,{"$f":"VLOOKUP(D2052,'Group Name'!A:B,2,0)","v":{"$error":"#N/A"}}," "]
[null,null,null,null,null,null,null,null,null,{"$f":"+IFERROR(VLOOKUP(C2053,'Charge Conversion'!A:C,3,0),\" \")","v":" "},{"$f":"+IFERROR(I2053*J2053,\" \")","v":" "},{"$f":"S2053","v":" "},null,null,null,null,null,{"$f":"VLOOKUP(D2053,'Group Name'!A:B,2,0)","v":{"$error":"#N/A"}},{"$f":"IFERROR((IF(A2053=\" \",\" \",R2053)),\" \")","v":" "}]
[null,null,null,null,null,null,null,null,null,{"$f":"+IFERROR(VLOOKUP(C2057,'Charge Conversion'!A:C,3,0),\" \")","v":" "}," "," ",null,null,null,null,null,{"$f":"VLOOKUP(D2057,'Group Name'!A:B,2,0)","v":{"$error":"#N/A"}}," "]
[null,null,null,null,null,null,null,null,null,{"$f":"+IFERROR(VLOOKUP(C2058,'Charge Conversion'!A:C,3,0),\" \")","v":" "}," "," ",null,null,null,null,null,{"$f":"VLOOKUP(D2058,'Group Name'!A:B,2,0)","v":{"$error":"#N/A"}}," "]
[null,null,null,null,null,null,null,null,null,{"$f":"+IFERROR(VLOOKUP(C2062,'Charge Conversion'!A:C,3,0),\" \")","v":" "}," "," ",null,null,null,null,null,{"$f":"VLOOKUP(D2062,'Group Name'!A:B,2,0)","v":{"$error":"#N/A"}}," "]
[null,null,null,null,null,null,null,null,null,{"$f":"+IFERROR(VLOOKUP(C2064,'Charge Conversion'!A:C,3,0),\" \")","v":" "}," "," ",null,null,null,null,null,{"$f":"VLOOKUP(D2064,'Group Name'!A:B,2,0)","v":{"$error":"#N/A"}}," "]
[null,null,null,null,null,null,null,null,null,{"$f":"+IFERROR(VLOOKUP(C2067,'Charge Conversion'!A:C,3,0),\" \")","v":" "}," "," ",null,null,null,null,null,{"$f":"VLOOKUP(D2067,'Group Name'!A:B,2,0)","v":{"$error":"#N/A"}}," "]
[null,null,null,null,null,null,null,null,null,{"$f":"+IFERROR(VLOOKUP(C2070,'Charge Conversion'!A:C,3,0),\" \")","v":" "}," "," ",null,null,null,null,null,{"$f":"VLOOKUP(D2070,'Group Name'!A:B,2,0)","v":{"$error":"#N/A"}}," "]
[null,null,null,null,null,null,null,null,null,{"$f":"+IFERROR(VLOOKUP(C2072,'Charge Conversion'!A:C,3,0),\" \")","v":" "}," "," ",null,null,null,null,null,{"$f":"VLOOKUP(D2072,'Group Name'!A:B,2,0)","v":{"$error":"#N/A"}}," "]
[null,null,null,null,null,null,null,null,null,{"$f":"+IFERROR(VLOOKUP(C2073,'Charge Conversion'!A:C,3,0),\" \")","v":" "}," "," ",null,null,null,null,null,{"$f":"VLOOKUP(D2073,'Group Name'!A:B,2,0)","v":{"$error":"#N/A"}}," "]
[null,null,null,null,null,null,null,null,null,{"$f":"+IFERROR(VLOOKUP(C2077,'Charge Conversion'!A:C,3,0),\" \")","v":" "}," "," ",null,null,null,null,null,{"$f":"VLOOKUP(D2077,'Group Name'!A:B,2,0)","v":{"$error":"#N/A"}}," "]
[null,null,null,null,null,null,null,null,null,{"$f":"+IFERROR(VLOOKUP(C2078,'Charge Conversion'!A:C,3,0),\" \")","v":" "}," "," ",null,null,null,null,null,{"$f":"VLOOKUP(D2078,'Group Name'!A:B,2,0)","v":{"$error":"#N/A"}}," "]
[null,null,null,null,null,null,null,null,null,{"$f":"+IFERROR(VLOOKUP(C2082,'Charge Conversion'!A:C,3,0),\" \")","v":" "}," "," ",null,null,null,null,null,{"$f":"VLOOKUP(D2082,'Group Name'!A:B,2,0)","v":{"$error":"#N/A"}}," "]
[null,null,null,null,null,null,null,null,null,{"$f":"+IFERROR(VLOOKUP(C2084,'Charge Conversion'!A:C,3,0),\" \")","v":" "}," "," ",null,null,null,null,null,{"$f":"VLOOKUP(D2084,'Group Name'!A:B,2,0)","v":{"$error":"#N/A"}}," "]
[null,null,null,null,null,null,null,null,null,{"$f":"+IFERROR(VLOOKUP(C2087,'Charge Conversion'!A:C,3,0),\" \")","v":" "}," "," ",null,null,null,null,null,{"$f":"VLOOKUP(D2087,'Group Name'!A:B,2,0)","v":{"$error":"#N/A"}}," "]
[null,null,null,null,null,null,null,null,null,{"$f":"+IFERROR(VLOOKUP(C2090,'Charge Conversion'!A:C,3,0),\" \")","v":" "}," "," ",null,null,null,null,null,{"$f":"VLOOKUP(D2090,'Group Name'!A:B,2,0)","v":{"$error":"#N/A"}}," "]
[null,null,null,null,null,null,null,null,null,{"$f":"+IFERROR(VLOOKUP(C2092,'Charge Conversion'!A:C,3,0),\" \")","v":" "}," "," ",null,null,null,null,null,{"$f":"VLOOKUP(D2092,'Group Name'!A:B,2,0)","v":{"$error":"#N/A"}}," "]
[null,null,null,null,null,null,null,null,null,{"$f":"+IFERROR(VLOOKUP(C2093,'Charge Conversion'!A:C,3,0),\" \")","v":" "}," "," ",null,null,null,null,null,{"$f":"VLOOKUP(D2093,'Group Name'!A:B,2,0)","v":{"$error":"#N/A"}}," "]
[null,null,null,null,null,null,null,null,null,{"$f":"+IFERROR(VLOOKUP(C2097,'Charge Conversion'!A:C,3,0),\" \")","v":" "}," "," ",null,null,null,null,null,{"$f":"VLOOKUP(D2097,'Group Name'!A:B,2,0)","v":{"$error":"#N/A"}}," "]
[null,null,null,null,null,null,null,null,null,{"$f":"+IFERROR(VLOOKUP(C2098,'Charge Conversion'!A:C,3,0),\" \")","v":" "}," "," ",null,null,null,null,null,{"$f":"VLOOKUP(D2098,'Group Name'!A:B,2,0)","v":{"$error":"#N/A"}}," "]
[null,null,null,null,null,null,null,null,null,{"$f":"+IFERROR(VLOOKUP(C2102,'Charge Conversion'!A:C,3,0),\" \")","v":" "}," "," ",null,null,null,null,null,{"$f":"VLOOKUP(D2102,'Group Name'!A:B,2,0)","v":{"$error":"#N/A"}}," "]
[null,null,null,null,null,null,null,null,null,{"$f":"+IFERROR(VLOOKUP(C2104,'Charge Conversion'!A:C,3,0),\" \")","v":" "}," "," ",null,null,null,null,null,{"$f":"VLOOKUP(D2104,'Group Name'!A:B,2,0)","v":{"$error":"#N/A"}}," "]
[null,null,null,null,null,null,null,null,null,{"$f":"+IFERROR(VLOOKUP(C2107,'Charge Conversion'!A:C,3,0),\" \")","v":" "}," "," ",null,null,null,null,null,{"$f":"VLOOKUP(D2107,'Group Name'!A:B,2,0)","v":{"$error":"#N/A"}}," "]
[null,null,null,null,null,null,null,null,null,{"$f":"+IFERROR(VLOOKUP(C2110,'Charge Conversion'!A:C,3,0),\" \")","v":" "}," "," ",null,null,null,null,null,{"$f":"VLOOKUP(D2110,'Group Name'!A:B,2,0)","v":{"$error":"#N/A"}}," "]
[null,null,null,null,null,null,null,null,null,{"$f":"+IFERROR(VLOOKUP(C2112,'Charge Conversion'!A:C,3,0),\" \")","v":" "}," "," ",null,null,null,null,null,{"$f":"VLOOKUP(D2112,'Group Name'!A:B,2,0)","v":{"$error":"#N/A"}}," "]
[null,null,null,null,null,null,null,null,null,{"$f":"+IFERROR(VLOOKUP(C2113,'Charge Conversion'!A:C,3,0),\" \")","v":" "}," "," ",null,null,null,null,null,{"$f":"VLOOKUP(D2113,'Group Name'!A:B,2,0)","v":{"$error":"#N/A"}}," "]
[null,null,null,null,null,null,null,null,null,{"$f":"+IFERROR(VLOOKUP(C2117,'Charge Conversion'!A:C,3,0),\" \")","v":" "},{"$f":"+IFERROR(I2117*J2117,\" \")","v":" "},{"$f":"S2117","v":" "},null,null,null,null,null,{"$f":"VLOOKUP(D2117,'Group Name'!A:B,2,0)","v":{"$error":"#N/A"}},{"$f":"IFERROR((IF(A2117=\" \",\" \",R2117)),\" \")","v":" "}]
[null,null,null,null,null,null,null,null,null,{"$f":"+IFERROR(VLOOKUP(C2118,'Charge Conversion'!A:C,3,0),\" \")","v":" "}," "," ",null,null,null,null,null,{"$f":"VLOOKUP(D2118,'Group Name'!A:B,2,0)","v":{"$error":"#N/A"}}," "]
[null,null,null,null,null,null,null,null,null,{"$f":"+IFERROR(VLOOKUP(C2122,'Charge Conversion'!A:C,3,0),\" \")","v":" "}," "," ",null,null,null,null,null,{"$f":"VLOOKUP(D2122,'Group Name'!A:B,2,0)","v":{"$error":"#N/A"}}," "]
[null,null,null,null,null,null,null,null,null,{"$f":"+IFERROR(VLOOKUP(C2124,'Charge Conversion'!A:C,3,0),\" \")","v":" "}," "," ",null,null,null,null,null,{"$f":"VLOOKUP(D2124,'Group Name'!A:B,2,0)","v":{"$error":"#N/A"}}," "]
[null,null,null,null,null,null,null,null,null,{"$f":"+IFERROR(VLOOKUP(C2127,'Charge Conversion'!A:C,3,0),\" \")","v":" "}," "," ",null,null,null,null,null,{"$f":"VLOOKUP(D2127,'Group Name'!A:B,2,0)","v":{"$error":"#N/A"}}," "]
[null,null,null,null,null,null,null,null,null,{"$f":"+IFERROR(VLOOKUP(C2130,'Charge Conversion'!A:C,3,0),\" \")","v":" "}," "," ",null,null,null,null,null,{"$f":"VLOOKUP(D2130,'Group Name'!A:B,2,0)","v":{"$error":"#N/A"}}," "]
[null,null,null,null,null,null,null,null,null,{"$f":"+IFERROR(VLOOKUP(C2133,'Charge Conversion'!A:C,3,0),\" \")","v":" "}," "," ",null,null,null,null,null,{"$f":"VLOOKUP(D2133,'Group Name'!A:B,2,0)","v":{"$error":"#N/A"}}," "]
[null,null,null,null,null,null,null,null,null,{"$f":"+IFERROR(VLOOKUP(C2134,'Charge Conversion'!A:C,3,0),\" \")","v":" "}," "," ",null,null,null,null,null,{"$f":"VLOOKUP(D2134,'Group Name'!A:B,2,0)","v":{"$error":"#N/A"}}," "]
[null,null,null,null,null,null,null,null,null,{"$f":"+IFERROR(VLOOKUP(C2136,'Charge Conversion'!A:C,3,0),\" \")","v":" "}," "," ",null,null,null,null,null,{"$f":"VLOOKUP(D2136,'Group Name'!A:B,2,0)","v":{"$error":"#N/A"}}," "]
[null,null,null,null,null,null,null,null,null,{"$f":"+IFERROR(VLOOKUP(C2139,'Charge Conversion'!A:C,3,0),\" \")","v":" "}," "," ",null,null,null,null,null,{"$f":"VLOOKUP(D2139,'Group Name'!A:B,2,0)","v":{"$error":"#N/A"}}," "]
[null,null,null,null,null,null,null,null,null,{"$f":"+IFERROR(VLOOKUP(C2142,'Charge Conversion'!A:C,3,0),\" \")","v":" "}," "," ",null,null,null,null,null,{"$f":"VLOOKUP(D2142,'Group Name'!A:B,2,0)","v":{"$error":"#N/A"}}," "]
[null,null,null,null,null,null,null,null,null,{"$f":"+IFERROR(VLOOKUP(C2144,'Charge Conversion'!A:C,3,0),\" \")","v":" "}," "," ",null,null,null,null,null,{"$f":"VLOOKUP(D2144,'Group Name'!A:B,2,0)","v":{"$error":"#N/A"}}," "]
[null,null,null,null,null,null,null,null,null,{"$f":"+IFERROR(VLOOKUP(C2148,'Charge Conversion'!A:C,3,0),\" \")","v":" "}," "," ",null,null,null,null,null,{"$f":"VLOOKUP(D2148,'Group Name'!A:B,2,0)","v":{"$error":"#N/A"}}," "]
[null,null,null,null,null,null,null,null,null,{"$f":"+IFERROR(VLOOKUP(C2149,'Charge Conversion'!A:C,3,0),\" \")","v":" "}," "," ",null,null,null,null,null,{"$f":"VLOOKUP(D2149,'Group Name'!A:B,2,0)","v":{"$error":"#N/A"}}," "]
[null,null,null,null,null,null,null,null,null,{"$f":"+IFERROR(VLOOKUP(C2153,'Charge Conversion'!A:C,3,0),\" \")","v":" "}," "," ",null,null,null,null,null,{"$f":"VLOOKUP(D2153,'Group Name'!A:B,2,0)","v":{"$error":"#N/A"}}," "]
[null,null,null,null,null,null,null,null,null,{"$f":"+IFERROR(VLOOKUP(C2154,'Charge Conversion'!A:C,3,0),\" \")","v":" "}," "," ",null,null,null,null,null,{"$f":"VLOOKUP(D2154,'Group Name'!A:B,2,0)","v":{"$error":"#N/A"}}," "]
[null,null,null,null,null,null,null,null,null,{"$f":"+IFERROR(VLOOKUP(C2156,'Charge Conversion'!A:C,3,0),\" \")","v":" "}," "," ",null,null,null,null,null,{"$f":"VLOOKUP(D2156,'Group Name'!A:B,2,0)","v":{"$error":"#N/A"}}," "]
[null,null,null,null,null,null,null,null,null,{"$f":"+IFERROR(VLOOKUP(C2159,'Charge Conversion'!A:C,3,0),\" \")","v":" "}," "," ",null,null,null,null,null,{"$f":"VLOOKUP(D2159,'Group Name'!A:B,2,0)","v":{"$error":"#N/A"}}," "]
[null,null,null,null,null,null,null,null,null,{"$f":"+IFERROR(VLOOKUP(C2162,'Charge Conversion'!A:C,3,0),\" \")","v":" "}," "," ",null,null,null,null,null,{"$f":"VLOOKUP(D2162,'Group Name'!A:B,2,0)","v":{"$error":"#N/A"}}," "]
[null,null,null,null,null,null,null,null,null,{"$f":"+IFERROR(VLOOKUP(C2164,'Charge Conversion'!A:C,3,0),\" \")","v":" "}," "," ",null,null,null,null,null,{"$f":"VLOOKUP(D2164,'Group Name'!A:B,2,0)","v":{"$error":"#N/A"}}," "]
[null,null,null,null,null,null,null,null,null,{"$f":"+IFERROR(VLOOKUP(C2168,'Charge Conversion'!A:C,3,0),\" \")","v":" "}," "," ",null,null,null,null,null,{"$f":"VLOOKUP(D2168,'Group Name'!A:B,2,0)","v":{"$error":"#N/A"}}," "]
[null,null,null,null,null,null,null,null,null,{"$f":"+IFERROR(VLOOKUP(C2169,'Charge Conversion'!A:C,3,0),\" \")","v":" "}," "," ",null,null,null,null,null,{"$f":"VLOOKUP(D2169,'Group Name'!A:B,2,0)","v":{"$error":"#N/A"}}," "]
[null,null,null,null,null,null,null,null,null,{"$f":"+IFERROR(VLOOKUP(C2173,'Charge Conversion'!A:C,3,0),\" \")","v":" "}," "," ",null,null,null,null,null,{"$f":"VLOOKUP(D2173,'Group Name'!A:B,2,0)","v":{"$error":"#N/A"}}," "]
[null,null,null,null,null,null,null,null,null,{"$f":"+IFERROR(VLOOKUP(C2174,'Charge Conversion'!A:C,3,0),\" \")","v":" "}," "," ",null,null,null,null,null,{"$f":"VLOOKUP(D2174,'Group Name'!A:B,2,0)","v":{"$error":"#N/A"}}," "]
[null,null,null,null,null,null,null,null,null,{"$f":"+IFERROR(VLOOKUP(C2176,'Charge Conversion'!A:C,3,0),\" \")","v":" "}," "," ",null,null,null,null,null,{"$f":"VLOOKUP(D2176,'Group Name'!A:B,2,0)","v":{"$error":"#N/A"}}," "]
[null,null,null,null,null,null,null,null,null,{"$f":"+IFERROR(VLOOKUP(C2179,'Charge Conversion'!A:C,3,0),\" \")","v":" "}," "," ",null,null,null,null,null,{"$f":"VLOOKUP(D2179,'Group Name'!A:B,2,0)","v":{"$error":"#N/A"}}," "]
[null,null,null,null,null,null,null,null,null,{"$f":"+IFERROR(VLOOKUP(C2182,'Charge Conversion'!A:C,3,0),\" \")","v":" "}," "," ",null,null,null,null,null,{"$f":"VLOOKUP(D2182,'Group Name'!A:B,2,0)","v":{"$error":"#N/A"}}," "]
[null,null,null,null,null,null,null,null,null,{"$f":"+IFERROR(VLOOKUP(C2184,'Charge Conversion'!A:C,3,0),\" \")","v":" "}," "," ",null,null,null,null,null,{"$f":"VLOOKUP(D2184,'Group Name'!A:B,2,0)","v":{"$error":"#N/A"}}," "]
[null,null,null,null,null,null,null,null,null,{"$f":"+IFERROR(VLOOKUP(C2188,'Charge Conversion'!A:C,3,0),\" \")","v":" "}," "," ",null,null,null,null,null,{"$f":"VLOOKUP(D2188,'Group Name'!A:B,2,0)","v":{"$error":"#N/A"}}," "]
[null,null,null,null,null,null,null,null,null,{"$f":"+IFERROR(VLOOKUP(C2189,'Charge Conversion'!A:C,3,0),\" \")","v":" "}," "," ",null,null,null,null,null,{"$f":"VLOOKUP(D2189,'Group Name'!A:B,2,0)","v":{"$error":"#N/A"}}," "]
[null,null,null,null,null,null,null,null,null,{"$f":"+IFERROR(VLOOKUP(C2191,'Charge Conversion'!A:C,3,0),\" \")","v":" "}," "," ",null,null,null,null,null,{"$f":"VLOOKUP(D2191,'Group Name'!A:B,2,0)","v":{"$error":"#N/A"}}," "]
[null,null,null,null,null,null,null,null,null,{"$f":"+IFERROR(VLOOKUP(C2194,'Charge Conversion'!A:C,3,0),\" \")","v":" "}," "," ",null,null,null,null,null,{"$f":"VLOOKUP(D2194,'Group Name'!A:B,2,0)","v":{"$error":"#N/A"}}," "]
[null,null,null,null,null,null,null,null,null,{"$f":"+IFERROR(VLOOKUP(C2196,'Charge Conversion'!A:C,3,0),\" \")","v":" "}," "," ",null,null,null,null,null,{"$f":"VLOOKUP(D2196,'Group Name'!A:B,2,0)","v":{"$error":"#N/A"}}," "]
[null,null,null,null,null,null,null,null,null,{"$f":"+IFERROR(VLOOKUP(C2199,'Charge Conversion'!A:C,3,0),\" \")","v":" "}," "," ",null,null,null,null,null,{"$f":"VLOOKUP(D2199,'Group Name'!A:B,2,0)","v":{"$error":"#N/A"}}," "]
[null,null,null,null,null,null,null,null,null,{"$f":"+IFERROR(VLOOKUP(C2202,'Charge Conversion'!A:C,3,0),\" \")","v":" "}," "," ",null,null,null,null,null,{"$f":"VLOOKUP(D2202,'Group Name'!A:B,2,0)","v":{"$error":"#N/A"}}," "]
[null,null,null,null,null,null,null,null,null,{"$f":"+IFERROR(VLOOKUP(C2204,'Charge Conversion'!A:C,3,0),\" \")","v":" "}," "," ",null,null,null,null,null,{"$f":"VLOOKUP(D2204,'Group Name'!A:B,2,0)","v":{"$error":"#N/A"}}," "]
[null,null,null,null,null,null,null,null,null,{"$f":"+IFERROR(VLOOKUP(C2208,'Charge Conversion'!A:C,3,0),\" \")","v":" "}," "," ",null,null,null,null,null,{"$f":"VLOOKUP(D2208,'Group Name'!A:B,2,0)","v":{"$error":"#N/A"}}," "]
[null,null,null,null,null,null,null,null,null,{"$f":"+IFERROR(VLOOKUP(C2209,'Charge Conversion'!A:C,3,0),\" \")","v":" "}," "," ",null,null,null,null,null,{"$f":"VLOOKUP(D2209,'Group Name'!A:B,2,0)","v":{"$error":"#N/A"}}," "]
[null,null,null,null,null,null,null,null,null,{"$f":"+IFERROR(VLOOKUP(C2211,'Charge Conversion'!A:C,3,0),\" \")","v":" "}," "," ",null,null,null,null,null,{"$f":"VLOOKUP(D2211,'Group Name'!A:B,2,0)","v":{"$error":"#N/A"}}," "]
[null,null,null,null,null,null,null,null,null,{"$f":"+IFERROR(VLOOKUP(C2214,'Charge Conversion'!A:C,3,0),\" \")","v":" "}," "," ",null,null,null,null,null,{"$f":"VLOOKUP(D2214,'Group Name'!A:B,2,0)","v":{"$error":"#N/A"}}," "]
[null,null,null,null,null,null,null,null,null,{"$f":"+IFERROR(VLOOKUP(C2216,'Charge Conversion'!A:C,3,0),\" \")","v":" "}," "," ",null,null,null,null,null,{"$f":"VLOOKUP(D2216,'Group Name'!A:B,2,0)","v":{"$error":"#N/A"}}," "]
[null,null,null,null,null,null,null,null,null,{"$f":"+IFERROR(VLOOKUP(C2219,'Charge Conversion'!A:C,3,0),\" \")","v":" "}," "," ",null,null,null,null,null,{"$f":"VLOOKUP(D2219,'Group Name'!A:B,2,0)","v":{"$error":"#N/A"}}," "]
[null,null,null,null,null,null,null,null,null,{"$f":"+IFERROR(VLOOKUP(C2222,'Charge Conversion'!A:C,3,0),\" \")","v":" "}," "," ",null,null,null,null,null,{"$f":"VLOOKUP(D2222,'Group Name'!A:B,2,0)","v":{"$error":"#N/A"}}," "]
[null,null,null,null,null,null,null,null,null,{"$f":"+IFERROR(VLOOKUP(C2224,'Charge Conversion'!A:C,3,0),\" \")","v":" "}," "," ",null,null,null,null,null,{"$f":"VLOOKUP(D2224,'Group Name'!A:B,2,0)","v":{"$error":"#N/A"}}," "]
[null,null,null,null,null,null,null,null,null,{"$f":"+IFERROR(VLOOKUP(C2228,'Charge Conversion'!A:C,3,0),\" \")","v":" "}," "," ",null,null,null,null,null,{"$f":"VLOOKUP(D2228,'Group Name'!A:B,2,0)","v":{"$error":"#N/A"}}," "]
[null,null,null,null,null,null,null,null,null,{"$f":"+IFERROR(VLOOKUP(C2229,'Charge Conversion'!A:C,3,0),\" \")","v":" "}," "," ",null,null,null,null,null,{"$f":"VLOOKUP(D2229,'Group Name'!A:B,2,0)","v":{"$error":"#N/A"}}," "]
[null,null,null,null,null,null,null,null,null,{"$f":"+IFERROR(VLOOKUP(C2231,'Charge Conversion'!A:C,3,0),\" \")","v":" "}," "," ",null,null,null,null,null,{"$f":"VLOOKUP(D2231,'Group Name'!A:B,2,0)","v":{"$error":"#N/A"}}," "]
[null,null,null,null,null,null,null,null,null,{"$f":"+IFERROR(VLOOKUP(C2234,'Charge Conversion'!A:C,3,0),\" \")","v":" "}," "," ",null,null,null,null,null,{"$f":"VLOOKUP(D2234,'Group Name'!A:B,2,0)","v":{"$error":"#N/A"}}," "]
[null,null,null,null,null,null,null,null,null,{"$f":"+IFERROR(VLOOKUP(C2236,'Charge Conversion'!A:C,3,0),\" \")","v":" "}," "," ",null,null,null,null,null,{"$f":"VLOOKUP(D2236,'Group Name'!A:B,2,0)","v":{"$error":"#N/A"}}," "]
[null,null,null,null,null,null,null,null,null,{"$f":"+IFERROR(VLOOKUP(C2239,'Charge Conversion'!A:C,3,0),\" \")","v":" "}," "," ",null,null,null,null,null,{"$f":"VLOOKUP(D2239,'Group Name'!A:B,2,0)","v":{"$error":"#N/A"}}," "]
[null,null,null,null,null,null,null,null,null,{"$f":"+IFERROR(VLOOKUP(C2242,'Charge Conversion'!A:C,3,0),\" \")","v":" "}," "," ",null,null,null,null,null,{"$f":"VLOOKUP(D2242,'Group Name'!A:B,2,0)","v":{"$error":"#N/A"}}," "]
[null,null,null,null,null,null,null,null,null,{"$f":"+IFERROR(VLOOKUP(C2244,'Charge Conversion'!A:C,3,0),\" \")","v":" "}," "," ",null,null,null,null,null,{"$f":"VLOOKUP(D2244,'Group Name'!A:B,2,0)","v":{"$error":"#N/A"}}," "]
[null,null,null,null,null,null,null,null,null,{"$f":"+IFERROR(VLOOKUP(C2248,'Charge Conversion'!A:C,3,0),\" \")","v":" "}," "," ",null,null,null,null,null,{"$f":"VLOOKUP(D2248,'Group Name'!A:B,2,0)","v":{"$error":"#N/A"}}," "]
[null,null,null,null,null,null,null,null,null,{"$f":"+IFERROR(VLOOKUP(C2249,'Charge Conversion'!A:C,3,0),\" \")","v":" "}," "," ",null,null,null,null,null,{"$f":"VLOOKUP(D2249,'Group Name'!A:B,2,0)","v":{"$error":"#N/A"}}," "]
[null,null,null,null,null,null,null,null,null,{"$f":"+IFERROR(VLOOKUP(C2251,'Charge Conversion'!A:C,3,0),\" \")","v":" "}," "," ",null,null,null,null,null,{"$f":"VLOOKUP(D2251,'Group Name'!A:B,2,0)","v":{"$error":"#N/A"}}," "]
[null,null,null,null,null,null,null,null,null,{"$f":"+IFERROR(VLOOKUP(C2254,'Charge Conversion'!A:C,3,0),\" \")","v":" "}," "," ",null,null,null,null,null,{"$f":"VLOOKUP(D2254,'Group Name'!A:B,2,0)","v":{"$error":"#N/A"}}," "]
[null,null,null,null,null,null,null,null,null,{"$f":"+IFERROR(VLOOKUP(C2256,'Charge Conversion'!A:C,3,0),\" \")","v":" "}," "," ",null,null,null,null,null,{"$f":"VLOOKUP(D2256,'Group Name'!A:B,2,0)","v":{"$error":"#N/A"}}," "]
[null,null,null,null,null,null,null,null,null,{"$f":"+IFERROR(VLOOKUP(C2259,'Charge Conversion'!A:C,3,0),\" \")","v":" "}," "," ",null,null,null,null,null,{"$f":"VLOOKUP(D2259,'Group Name'!A:B,2,0)","v":{"$error":"#N/A"}}," "]
[null,null,null,null,null,null,null,null,null,{"$f":"+IFERROR(VLOOKUP(C2262,'Charge Conversion'!A:C,3,0),\" \")","v":" "}," "," ",null,null,null,null,null,{"$f":"VLOOKUP(D2262,'Group Name'!A:B,2,0)","v":{"$error":"#N/A"}}," "]
[null,null,null,null,null,null,null,null,null,{"$f":"+IFERROR(VLOOKUP(C2266,'Charge Conversion'!A:C,3,0),\" \")","v":" "}," "," ",null,null,null,null,null,{"$f":"VLOOKUP(D2266,'Group Name'!A:B,2,0)","v":{"$error":"#N/A"}}," "]
[null,null,null,null,null,null,null,null,null,{"$f":"+IFERROR(VLOOKUP(C2268,'Charge Conversion'!A:C,3,0),\" \")","v":" "}," "," ",null,null,null,null,null,{"$f":"VLOOKUP(D2268,'Group Name'!A:B,2,0)","v":{"$error":"#N/A"}}," "]
[null,null,null,null,null,null,null,null,null,{"$f":"+IFERROR(VLOOKUP(C2271,'Charge Conversion'!A:C,3,0),\" \")","v":" "}," "," ",null,null,null,null,null,{"$f":"VLOOKUP(D2271,'Group Name'!A:B,2,0)","v":{"$error":"#N/A"}}," "]
[null,null,null,null,null,null,null,null,null,{"$f":"+IFERROR(VLOOKUP(C2273,'Charge Conversion'!A:C,3,0),\" \")","v":" "}," "," ",null,null,null,null,null,{"$f":"VLOOKUP(D2273,'Group Name'!A:B,2,0)","v":{"$error":"#N/A"}}," "]
[null,null,null,null,null,null,null,null,null,{"$f":"+IFERROR(VLOOKUP(C2274,'Charge Conversion'!A:C,3,0),\" \")","v":" "}," "," ",null,null,null,null,null,{"$f":"VLOOKUP(D2274,'Group Name'!A:B,2,0)","v":{"$error":"#N/A"}}," "]
[null,null,null,null,null,null,null,null,null,{"$f":"+IFERROR(VLOOKUP(C2278,'Charge Conversion'!A:C,3,0),\" \")","v":" "}," "," ",null,null,null,null,null,{"$f":"VLOOKUP(D2278,'Group Name'!A:B,2,0)","v":{"$error":"#N/A"}}," "]
[null,null,null,null,null,null,null,null,null,{"$f":"+IFERROR(VLOOKUP(C2280,'Charge Conversion'!A:C,3,0),\" \")","v":" "}," "," ",null,null,null,null,null,{"$f":"VLOOKUP(D2280,'Group Name'!A:B,2,0)","v":{"$error":"#N/A"}}," "]
[null,null,null,null,null,null,null,null,null,{"$f":"+IFERROR(VLOOKUP(C2283,'Charge Conversion'!A:C,3,0),\" \")","v":" "}," "," ",null,null,null,null,null,{"$f":"VLOOKUP(D2283,'Group Name'!A:B,2,0)","v":{"$error":"#N/A"}}," "]
[null,null,null,null,null,null,null,null,null,{"$f":"+IFERROR(VLOOKUP(C2286,'Charge Conversion'!A:C,3,0),\" \")","v":" "}," "," ",null,null,null,null,null,{"$f":"VLOOKUP(D2286,'Group Name'!A:B,2,0)","v":{"$error":"#N/A"}}," "]
[null,null,null,null,null,null,null,null,null,{"$f":"+IFERROR(VLOOKUP(C2288,'Charge Conversion'!A:C,3,0),\" \")","v":" "}," "," ",null,null,null,null,null,{"$f":"VLOOKUP(D2288,'Group Name'!A:B,2,0)","v":{"$error":"#N/A"}}," "]
[null,null,null,null,null,null,null,null,null,{"$f":"+IFERROR(VLOOKUP(C2291,'Charge Conversion'!A:C,3,0),\" \")","v":" "}," "," ",null,null,null,null,null,{"$f":"VLOOKUP(D2291,'Group Name'!A:B,2,0)","v":{"$error":"#N/A"}}," "]
[null,null,null,null,null,null,null,null,null,{"$f":"+IFERROR(VLOOKUP(C2293,'Charge Conversion'!A:C,3,0),\" \")","v":" "}," "," ",null,null,null,null,null,{"$f":"VLOOKUP(D2293,'Group Name'!A:B,2,0)","v":{"$error":"#N/A"}}," "]
[null,null,null,null,null,null,null,null,null,{"$f":"+IFERROR(VLOOKUP(C2294,'Charge Conversion'!A:C,3,0),\" \")","v":" "}," "," ",null,null,null,null,null,{"$f":"VLOOKUP(D2294,'Group Name'!A:B,2,0)","v":{"$error":"#N/A"}}," "]
[null,null,null,null,null,null,null,null,null,{"$f":"+IFERROR(VLOOKUP(C2298,'Charge Conversion'!A:C,3,0),\" \")","v":" "}," "," ",null,null,null,null,null,{"$f":"VLOOKUP(D2298,'Group Name'!A:B,2,0)","v":{"$error":"#N/A"}}," "]
[null,null,null,null,null,null,null,null,null,{"$f":"+IFERROR(VLOOKUP(C2300,'Charge Conversion'!A:C,3,0),\" \")","v":" "}," "," ",null,null,null,null,null,{"$f":"VLOOKUP(D2300,'Group Name'!A:B,2,0)","v":{"$error":"#N/A"}}," "]
[null,null,null,null,null,null,null,null,null,{"$f":"+IFERROR(VLOOKUP(C2303,'Charge Conversion'!A:C,3,0),\" \")","v":" "}," "," ",null,null,null,null,null,{"$f":"VLOOKUP(D2303,'Group Name'!A:B,2,0)","v":{"$error":"#N/A"}}," "]
[null,null,null,null,null,null,null,null,null,{"$f":"+IFERROR(VLOOKUP(C2306,'Charge Conversion'!A:C,3,0),\" \")","v":" "}," "," ",null,null,null,null,null,{"$f":"VLOOKUP(D2306,'Group Name'!A:B,2,0)","v":{"$error":"#N/A"}}," "]
[null,null,null,null,null,null,null,null,null,{"$f":"+IFERROR(VLOOKUP(C2308,'Charge Conversion'!A:C,3,0),\" \")","v":" "}," "," ",null,null,null,null,null,{"$f":"VLOOKUP(D2308,'Group Name'!A:B,2,0)","v":{"$error":"#N/A"}}," "]
[null,null,null,null,null,null,null,null,null,{"$f":"+IFERROR(VLOOKUP(C2311,'Charge Conversion'!A:C,3,0),\" \")","v":" "}," "," ",null,null,null,null,null,{"$f":"VLOOKUP(D2311,'Group Name'!A:B,2,0)","v":{"$error":"#N/A"}}," "]
[null,null,null,null,null,null,null,null,null,{"$f":"+IFERROR(VLOOKUP(C2313,'Charge Conversion'!A:C,3,0),\" \")","v":" "}," "," ",null,null,null,null,null,{"$f":"VLOOKUP(D2313,'Group Name'!A:B,2,0)","v":{"$error":"#N/A"}}," "]
[null,null,null,null,null,null,null,null,null,{"$f":"+IFERROR(VLOOKUP(C2314,'Charge Conversion'!A:C,3,0),\" \")","v":" "}," "," ",null,null,null,null,null,{"$f":"VLOOKUP(D2314,'Group Name'!A:B,2,0)","v":{"$error":"#N/A"}}," "]
[null,null,null,null,null,null,null,null,null,{"$f":"+IFERROR(VLOOKUP(C2318,'Charge Conversion'!A:C,3,0),\" \")","v":" "}," "," ",null,null,null,null,null,{"$f":"VLOOKUP(D2318,'Group Name'!A:B,2,0)","v":{"$error":"#N/A"}}," "]
[null,null,null,null,null,null,null,null,null,{"$f":"+IFERROR(VLOOKUP(C2320,'Charge Conversion'!A:C,3,0),\" \")","v":" "}," "," ",null,null,null,null,null,{"$f":"VLOOKUP(D2320,'Group Name'!A:B,2,0)","v":{"$error":"#N/A"}}," "]
[null,null,null,null,null,null,null,null,null,{"$f":"+IFERROR(VLOOKUP(C2323,'Charge Conversion'!A:C,3,0),\" \")","v":" "}," "," ",null,null,null,null,null,{"$f":"VLOOKUP(D2323,'Group Name'!A:B,2,0)","v":{"$error":"#N/A"}}," "]
[null,null,null,null,null,null,null,null,null,{"$f":"+IFERROR(VLOOKUP(C2326,'Charge Conversion'!A:C,3,0),\" \")","v":" "}," "," ",null,null,null,null,null,{"$f":"VLOOKUP(D2326,'Group Name'!A:B,2,0)","v":{"$error":"#N/A"}}," "]
[null,null,null,null,null,null,null,null,null,{"$f":"+IFERROR(VLOOKUP(C2328,'Charge Conversion'!A:C,3,0),\" \")","v":" "}," "," ",null,null,null,null,null,{"$f":"VLOOKUP(D2328,'Group Name'!A:B,2,0)","v":{"$error":"#N/A"}}," "]
[null,null,null,null,null,null,null,null,null,{"$f":"+IFERROR(VLOOKUP(C2329,'Charge Conversion'!A:C,3,0),\" \")","v":" "}," "," ",null,null,null,null,null,{"$f":"VLOOKUP(D2329,'Group Name'!A:B,2,0)","v":{"$error":"#N/A"}}," "]
[null,null,null,null,null,null,null,null,null,{"$f":"+IFERROR(VLOOKUP(C2333,'Charge Conversion'!A:C,3,0),\" \")","v":" "}," "," ",null,null,null,null,null,{"$f":"VLOOKUP(D2333,'Group Name'!A:B,2,0)","v":{"$error":"#N/A"}}," "]
[null,null,null,null,null,null,null,null,null,{"$f":"+IFERROR(VLOOKUP(C2334,'Charge Conversion'!A:C,3,0),\" \")","v":" "}," "," ",null,null,null,null,null,{"$f":"VLOOKUP(D2334,'Group Name'!A:B,2,0)","v":{"$error":"#N/A"}}," "]
[null,null,null,null,null,null,null,null,null,{"$f":"+IFERROR(VLOOKUP(C2338,'Charge Conversion'!A:C,3,0),\" \")","v":" "}," "," ",null,null,null,null,null,{"$f":"VLOOKUP(D2338,'Group Name'!A:B,2,0)","v":{"$error":"#N/A"}}," "]
[null,null,null,null,null,null,null,null,null,{"$f":"+IFERROR(VLOOKUP(C2340,'Charge Conversion'!A:C,3,0),\" \")","v":" "}," "," ",null,null,null,null,null,{"$f":"VLOOKUP(D2340,'Group Name'!A:B,2,0)","v":{"$error":"#N/A"}}," "]
[null,null,null,null,null,null,null,null,null,{"$f":"+IFERROR(VLOOKUP(C2343,'Charge Conversion'!A:C,3,0),\" \")","v":" "}," "," ",null,null,null,null,null,{"$f":"VLOOKUP(D2343,'Group Name'!A:B,2,0)","v":{"$error":"#N/A"}}," "]
[null,null,null,null,null,null,null,null,null,{"$f":"+IFERROR(VLOOKUP(C2346,'Charge Conversion'!A:C,3,0),\" \")","v":" "}," "," ",null,null,null,null,null,{"$f":"VLOOKUP(D2346,'Group Name'!A:B,2,0)","v":{"$error":"#N/A"}}," "]
[null,null,null,null,null,null,null,null,null,{"$f":"+IFERROR(VLOOKUP(C2348,'Charge Conversion'!A:C,3,0),\" \")","v":" "}," "," ",null,null,null,null,null,{"$f":"VLOOKUP(D2348,'Group Name'!A:B,2,0)","v":{"$error":"#N/A"}}," "]
[null,null,null,null,null,null,null,null,null,{"$f":"+IFERROR(VLOOKUP(C2349,'Charge Conversion'!A:C,3,0),\" \")","v":" "}," "," ",null,null,null,null,null,{"$f":"VLOOKUP(D2349,'Group Name'!A:B,2,0)","v":{"$error":"#N/A"}}," "]
[null,null,null,null,null,null,null,null,null,{"$f":"+IFERROR(VLOOKUP(C2353,'Charge Conversion'!A:C,3,0),\" \")","v":" "}," "," ",null,null,null,null,null,{"$f":"VLOOKUP(D2353,'Group Name'!A:B,2,0)","v":{"$error":"#N/A"}}," "]
[null,null,null,null,null,null,null,null,null,{"$f":"+IFERROR(VLOOKUP(C2354,'Charge Conversion'!A:C,3,0),\" \")","v":" "}," "," ",null,null,null,null,null,{"$f":"VLOOKUP(D2354,'Group Name'!A:B,2,0)","v":{"$error":"#N/A"}}," "]
[null,null,null,null,null,null,null,null,null,{"$f":"+IFERROR(VLOOKUP(C2358,'Charge Conversion'!A:C,3,0),\" \")","v":" "}," "," ",null,null,null,null,null,{"$f":"VLOOKUP(D2358,'Group Name'!A:B,2,0)","v":{"$error":"#N/A"}}," "]
[null,null,null,null,null,null,null,null,null,{"$f":"+IFERROR(VLOOKUP(C2360,'Charge Conversion'!A:C,3,0),\" \")","v":" "}," "," ",null,null,null,null,null,{"$f":"VLOOKUP(D2360,'Group Name'!A:B,2,0)","v":{"$error":"#N/A"}}," "]
[null,null,null,null,null,null,null,null,null,{"$f":"+IFERROR(VLOOKUP(C2363,'Charge Conversion'!A:C,3,0),\" \")","v":" "}," "," ",null,null,null,null,null,{"$f":"VLOOKUP(D2363,'Group Name'!A:B,2,0)","v":{"$error":"#N/A"}}," "]
[null,null,null,null,null,null,null,null,null,{"$f":"+IFERROR(VLOOKUP(C2366,'Charge Conversion'!A:C,3,0),\" \")","v":" "}," "," ",null,null,null,null,null,{"$f":"VLOOKUP(D2366,'Group Name'!A:B,2,0)","v":{"$error":"#N/A"}}," "]
[null,null,null,null,null,null,null,null,null,{"$f":"+IFERROR(VLOOKUP(C2368,'Charge Conversion'!A:C,3,0),\" \")","v":" "}," "," ",null,null,null,null,null,{"$f":"VLOOKUP(D2368,'Group Name'!A:B,2,0)","v":{"$error":"#N/A"}}," "]
[null,null,null,null,null,null,null,null,null,{"$f":"+IFERROR(VLOOKUP(C2369,'Charge Conversion'!A:C,3,0),\" \")","v":" "}," "," ",null,null,null,null,null,{"$f":"VLOOKUP(D2369,'Group Name'!A:B,2,0)","v":{"$error":"#N/A"}}," "]
[null,null,null,null,null,null,null,null,null,{"$f":"+IFERROR(VLOOKUP(C2373,'Charge Conversion'!A:C,3,0),\" \")","v":" "},{"$f":"+IFERROR(I2373*J2373,\" \")","v":" "},{"$f":"S2373","v":" "},null,null,null,null,null,{"$f":"VLOOKUP(D2373,'Group Name'!A:B,2,0)","v":{"$error":"#N/A"}},{"$f":"IFERROR((IF(A2373=\" \",\" \",R2373)),\" \")","v":" "}]
[null,null,null,null,null,null,null,null,null,{"$f":"+IFERROR(VLOOKUP(C2374,'Charge Conversion'!A:C,3,0),\" \")","v":" "}," "," ",null,null,null,null,null,{"$f":"VLOOKUP(D2374,'Group Name'!A:B,2,0)","v":{"$error":"#N/A"}}," "]
[null,null,null,null,null,null,null,null,null,{"$f":"+IFERROR(VLOOKUP(C2378,'Charge Conversion'!A:C,3,0),\" \")","v":" "}," "," ",null,null,null,null,null,{"$f":"VLOOKUP(D2378,'Group Name'!A:B,2,0)","v":{"$error":"#N/A"}}," "]
[null,null,null,null,null,null,null,null,null,{"$f":"+IFERROR(VLOOKUP(C2380,'Charge Conversion'!A:C,3,0),\" \")","v":" "}," "," ",null,null,null,null,null,{"$f":"VLOOKUP(D2380,'Group Name'!A:B,2,0)","v":{"$error":"#N/A"}}," "]
[null,null,null,null,null,null,null,null,null,{"$f":"+IFERROR(VLOOKUP(C2383,'Charge Conversion'!A:C,3,0),\" \")","v":" "}," "," ",null,null,null,null,null,{"$f":"VLOOKUP(D2383,'Group Name'!A:B,2,0)","v":{"$error":"#N/A"}}," "]
[null,null,null,null,null,null,null,null,null,{"$f":"+IFERROR(VLOOKUP(C2386,'Charge Conversion'!A:C,3,0),\" \")","v":" "}," "," ",null,null,null,null,null,{"$f":"VLOOKUP(D2386,'Group Name'!A:B,2,0)","v":{"$error":"#N/A"}}," "]
[null,null,null,null,null,null,null,null,null,{"$f":"+IFERROR(VLOOKUP(C2388,'Charge Conversion'!A:C,3,0),\" \")","v":" "}," "," ",null,null,null,null,null,{"$f":"VLOOKUP(D2388,'Group Name'!A:B,2,0)","v":{"$error":"#N/A"}}," "]
[null,null,null,null,null,null,null,null,null,{"$f":"+IFERROR(VLOOKUP(C2389,'Charge Conversion'!A:C,3,0),\" \")","v":" "}," "," ",null,null,null,null,null,{"$f":"VLOOKUP(D2389,'Group Name'!A:B,2,0)","v":{"$error":"#N/A"}}," "]
[null,null,null,null,null,null,null,null,null,{"$f":"+IFERROR(VLOOKUP(C2393,'Charge Conversion'!A:C,3,0),\" \")","v":" "}," "," ",null,null,null,null,null,{"$f":"VLOOKUP(D2393,'Group Name'!A:B,2,0)","v":{"$error":"#N/A"}}," "]
[null,null,null,null,null,null,null,null,null,{"$f":"+IFERROR(VLOOKUP(C2394,'Charge Conversion'!A:C,3,0),\" \")","v":" "}," "," ",null,null,null,null,null,{"$f":"VLOOKUP(D2394,'Group Name'!A:B,2,0)","v":{"$error":"#N/A"}}," "]
[null,null,null,null,null,null,null,null,null,{"$f":"+IFERROR(VLOOKUP(C2398,'Charge Conversion'!A:C,3,0),\" \")","v":" "}," "," ",null,null,null,null,null,{"$f":"VLOOKUP(D2398,'Group Name'!A:B,2,0)","v":{"$error":"#N/A"}}," "]
[null,null,null,null,null,null,null,null,null,{"$f":"+IFERROR(VLOOKUP(C2400,'Charge Conversion'!A:C,3,0),\" \")","v":" "}," "," ",null,null,null,null,null,{"$f":"VLOOKUP(D2400,'Group Name'!A:B,2,0)","v":{"$error":"#N/A"}}," "]
[null,null,null,null,null,null,null,null,null,{"$f":"+IFERROR(VLOOKUP(C2404,'Charge Conversion'!A:C,3,0),\" \")","v":" "}," "," ",null,null,null,null,null,{"$f":"VLOOKUP(D2404,'Group Name'!A:B,2,0)","v":{"$error":"#N/A"}}," "]
[null,null,null,null,null,null,null,null,null,{"$f":"+IFERROR(VLOOKUP(C2405,'Charge Conversion'!A:C,3,0),\" \")","v":" "}," "," ",null,null,null,null,null,{"$f":"VLOOKUP(D2405,'Group Name'!A:B,2,0)","v":{"$error":"#N/A"}}," "]
[null,null,null,null,null,null,null,null,null,{"$f":"+IFERROR(VLOOKUP(C2409,'Charge Conversion'!A:C,3,0),\" \")","v":" "}," "," ",null,null,null,null,null,{"$f":"VLOOKUP(D2409,'Group Name'!A:B,2,0)","v":{"$error":"#N/A"}}," "]
[null,null,null,null,null,null,null,null,null,{"$f":"+IFERROR(VLOOKUP(C2410,'Charge Conversion'!A:C,3,0),\" \")","v":" "}," "," ",null,null,null,null,null,{"$f":"VLOOKUP(D2410,'Group Name'!A:B,2,0)","v":{"$error":"#N/A"}}," "]
[null,null,null,null,null,null,null,null,null,{"$f":"+IFERROR(VLOOKUP(C2412,'Charge Conversion'!A:C,3,0),\" \")","v":" "}," "," ",null,null,null,null,null,{"$f":"VLOOKUP(D2412,'Group Name'!A:B,2,0)","v":{"$error":"#N/A"}}," "]
[null,null,null,null,null,null,null,null,null,{"$f":"+IFERROR(VLOOKUP(C2415,'Charge Conversion'!A:C,3,0),\" \")","v":" "}," "," ",null,null,null,null,null,{"$f":"VLOOKUP(D2415,'Group Name'!A:B,2,0)","v":{"$error":"#N/A"}}," "]
[null,null,null,null,null,null,null,null,null,{"$f":"+IFERROR(VLOOKUP(C2418,'Charge Conversion'!A:C,3,0),\" \")","v":" "}," "," ",null,null,null,null,null,{"$f":"VLOOKUP(D2418,'Group Name'!A:B,2,0)","v":{"$error":"#N/A"}}," "]
[null,null,null,null,null,null,null,null,null,{"$f":"+IFERROR(VLOOKUP(C2420,'Charge Conversion'!A:C,3,0),\" \")","v":" "}," "," ",null,null,null,null,null,{"$f":"VLOOKUP(D2420,'Group Name'!A:B,2,0)","v":{"$error":"#N/A"}}," "]
[null,null,null,null,null,null,null,null,null,{"$f":"+IFERROR(VLOOKUP(C2424,'Charge Conversion'!A:C,3,0),\" \")","v":" "}," "," ",null,null,null,null,null,{"$f":"VLOOKUP(D2424,'Group Name'!A:B,2,0)","v":{"$error":"#N/A"}}," "]
[null,null,null,null,null,null,null,null,null,{"$f":"+IFERROR(VLOOKUP(C2425,'Charge Conversion'!A:C,3,0),\" \")","v":" "}," "," ",null,null,null,null,null,{"$f":"VLOOKUP(D2425,'Group Name'!A:B,2,0)","v":{"$error":"#N/A"}}," "]
[null,null,null,null,null,null,null,null,null,{"$f":"+IFERROR(VLOOKUP(C2429,'Charge Conversion'!A:C,3,0),\" \")","v":" "}," "," ",null,null,null,null,null,{"$f":"VLOOKUP(D2429,'Group Name'!A:B,2,0)","v":{"$error":"#N/A"}}," "]
[null,null,null,null,null,null,null,null,null,{"$f":"+IFERROR(VLOOKUP(C2430,'Charge Conversion'!A:C,3,0),\" \")","v":" "}," "," ",null,null,null,null,null,{"$f":"VLOOKUP(D2430,'Group Name'!A:B,2,0)","v":{"$error":"#N/A"}}," "]
[null,null,null,null,null,null,null,null,null,{"$f":"+IFERROR(VLOOKUP(C2432,'Charge Conversion'!A:C,3,0),\" \")","v":" "}," "," ",null,null,null,null,null,{"$f":"VLOOKUP(D2432,'Group Name'!A:B,2,0)","v":{"$error":"#N/A"}}," "]
[null,null,null,null,null,null,null,null,null,{"$f":"+IFERROR(VLOOKUP(C2435,'Charge Conversion'!A:C,3,0),\" \")","v":" "}," "," ",null,null,null,null,null,{"$f":"VLOOKUP(D2435,'Group Name'!A:B,2,0)","v":{"$error":"#N/A"}}," "]
[null,null,null,null,null,null,null,null,null,{"$f":"+IFERROR(VLOOKUP(C2438,'Charge Conversion'!A:C,3,0),\" \")","v":" "}," "," ",null,null,null,null,null,{"$f":"VLOOKUP(D2438,'Group Name'!A:B,2,0)","v":{"$error":"#N/A"}}," "]
[null,null,null,null,null,null,null,null,null,{"$f":"+IFERROR(VLOOKUP(C2440,'Charge Conversion'!A:C,3,0),\" \")","v":" "}," "," ",null,null,null,null,null,{"$f":"VLOOKUP(D2440,'Group Name'!A:B,2,0)","v":{"$error":"#N/A"}}," "]
[null,null,null,null,null,null,null,null,null,{"$f":"+IFERROR(VLOOKUP(C2444,'Charge Conversion'!A:C,3,0),\" \")","v":" "}," "," ",null,null,null,null,null,{"$f":"VLOOKUP(D2444,'Group Name'!A:B,2,0)","v":{"$error":"#N/A"}}," "]
[null,null,null,null,null,null,null,null,null,{"$f":"+IFERROR(VLOOKUP(C2445,'Charge Conversion'!A:C,3,0),\" \")","v":" "}," "," ",null,null,null,null,null,{"$f":"VLOOKUP(D2445,'Group Name'!A:B,2,0)","v":{"$error":"#N/A"}}," "]
[null,null,null,null,null,null,null,null,null,{"$f":"+IFERROR(VLOOKUP(C2449,'Charge Conversion'!A:C,3,0),\" \")","v":" "}," "," ",null,null,null,null,null,{"$f":"VLOOKUP(D2449,'Group Name'!A:B,2,0)","v":{"$error":"#N/A"}}," "]
[null,null,null,null,null,null,null,null,null,{"$f":"+IFERROR(VLOOKUP(C2450,'Charge Conversion'!A:C,3,0),\" \")","v":" "}," "," ",null,null,null,null,null,{"$f":"VLOOKUP(D2450,'Group Name'!A:B,2,0)","v":{"$error":"#N/A"}}," "]
[null,null,null,null,null,null,null,null,null,{"$f":"+IFERROR(VLOOKUP(C2452,'Charge Conversion'!A:C,3,0),\" \")","v":" "}," "," ",null,null,null,null,null,{"$f":"VLOOKUP(D2452,'Group Name'!A:B,2,0)","v":{"$error":"#N/A"}}," "]
[null,null,null,null,null,null,null,null,null,{"$f":"+IFERROR(VLOOKUP(C2455,'Charge Conversion'!A:C,3,0),\" \")","v":" "}," "," ",null,null,null,null,null,{"$f":"VLOOKUP(D2455,'Group Name'!A:B,2,0)","v":{"$error":"#N/A"}}," "]
[null,null,null,null,null,null,null,null,null,{"$f":"+IFERROR(VLOOKUP(C2458,'Charge Conversion'!A:C,3,0),\" \")","v":" "}," "," ",null,null,null,null,null,{"$f":"VLOOKUP(D2458,'Group Name'!A:B,2,0)","v":{"$error":"#N/A"}}," "]
[null,null,null,null,null,null,null,null,null,{"$f":"+IFERROR(VLOOKUP(C2460,'Charge Conversion'!A:C,3,0),\" \")","v":" "}," "," ",null,null,null,null,null,{"$f":"VLOOKUP(D2460,'Group Name'!A:B,2,0)","v":{"$error":"#N/A"}}," "]
[null,null,null,null,null,null,null,null,null,{"$f":"+IFERROR(VLOOKUP(C2464,'Charge Conversion'!A:C,3,0),\" \")","v":" "}," "," ",null,null,null,null,null,{"$f":"VLOOKUP(D2464,'Group Name'!A:B,2,0)","v":{"$error":"#N/A"}}," "]
[null,null,null,null,null,null,null,null,null,{"$f":"+IFERROR(VLOOKUP(C2465,'Charge Conversion'!A:C,3,0),\" \")","v":" "}," "," ",null,null,null,null,null,{"$f":"VLOOKUP(D2465,'Group Name'!A:B,2,0)","v":{"$error":"#N/A"}}," "]
[null,null,null,null,null,null,null,null,null,{"$f":"+IFERROR(VLOOKUP(C2467,'Charge Conversion'!A:C,3,0),\" \")","v":" "}," "," ",null,null,null,null,null,{"$f":"VLOOKUP(D2467,'Group Name'!A:B,2,0)","v":{"$error":"#N/A"}}," "]
[null,null,null,null,null,null,null,null,null,{"$f":"+IFERROR(VLOOKUP(C2470,'Charge Conversion'!A:C,3,0),\" \")","v":" "}," "," ",null,null,null,null,null,{"$f":"VLOOKUP(D2470,'Group Name'!A:B,2,0)","v":{"$error":"#N/A"}}," "]
[null,null,null,null,null,null,null,null,null,{"$f":"+IFERROR(VLOOKUP(C2472,'Charge Conversion'!A:C,3,0),\" \")","v":" "}," "," ",null,null,null,null,null,{"$f":"VLOOKUP(D2472,'Group Name'!A:B,2,0)","v":{"$error":"#N/A"}}," "]
[null,null,null,null,null,null,null,null,null,{"$f":"+IFERROR(VLOOKUP(C2475,'Charge Conversion'!A:C,3,0),\" \")","v":" "}," "," ",null,null,null,null,null,{"$f":"VLOOKUP(D2475,'Group Name'!A:B,2,0)","v":{"$error":"#N/A"}}," "]
[null,null,null,null,null,null,null,null,null,{"$f":"+IFERROR(VLOOKUP(C2478,'Charge Conversion'!A:C,3,0),\" \")","v":" "}," "," ",null,null,null,null,null,{"$f":"VLOOKUP(D2478,'Group Name'!A:B,2,0)","v":{"$error":"#N/A"}}," "]
[null,null,null,null,null,null,null,null,null,{"$f":"+IFERROR(VLOOKUP(C2480,'Charge Conversion'!A:C,3,0),\" \")","v":" "}," "," ",null,null,null,null,null,{"$f":"VLOOKUP(D2480,'Group Name'!A:B,2,0)","v":{"$error":"#N/A"}}," "]
[null,null,null,null,null,null,null,null,null,{"$f":"+IFERROR(VLOOKUP(C2484,'Charge Conversion'!A:C,3,0),\" \")","v":" "}," "," ",null,null,null,null,null,{"$f":"VLOOKUP(D2484,'Group Name'!A:B,2,0)","v":{"$error":"#N/A"}}," "]
[null,null,null,null,null,null,null,null,null,{"$f":"+IFERROR(VLOOKUP(C2485,'Charge Conversion'!A:C,3,0),\" \")","v":" "}," "," ",null,null,null,null,null,{"$f":"VLOOKUP(D2485,'Group Name'!A:B,2,0)","v":{"$error":"#N/A"}}," "]
[null,null,null,null,null,null,null,null,null,{"$f":"+IFERROR(VLOOKUP(C2487,'Charge Conversion'!A:C,3,0),\" \")","v":" "}," "," ",null,null,null,null,null,{"$f":"VLOOKUP(D2487,'Group Name'!A:B,2,0)","v":{"$error":"#N/A"}}," "]
[null,null,null,null,null,null,null,null,null,{"$f":"+IFERROR(VLOOKUP(C2490,'Charge Conversion'!A:C,3,0),\" \")","v":" "}," "," ",null,null,null,null,null,{"$f":"VLOOKUP(D2490,'Group Name'!A:B,2,0)","v":{"$error":"#N/A"}}," "]
[null,null,null,null,null,null,null,null,null,{"$f":"+IFERROR(VLOOKUP(C2492,'Charge Conversion'!A:C,3,0),\" \")","v":" "}," "," ",null,null,null,null,null,{"$f":"VLOOKUP(D2492,'Group Name'!A:B,2,0)","v":{"$error":"#N/A"}}," "]
[null,null,null,null,null,null,null,null,null,{"$f":"+IFERROR(VLOOKUP(C2495,'Charge Conversion'!A:C,3,0),\" \")","v":" "}," "," ",null,null,null,null,null,{"$f":"VLOOKUP(D2495,'Group Name'!A:B,2,0)","v":{"$error":"#N/A"}}," "]
[null,null,null,null,null,null,null,null,null,{"$f":"+IFERROR(VLOOKUP(C2498,'Charge Conversion'!A:C,3,0),\" \")","v":" "}," "," ",null,null,null,null,null,{"$f":"VLOOKUP(D2498,'Group Name'!A:B,2,0)","v":{"$error":"#N/A"}}," "]
[null,null,null,null,null,null,null,null,null,{"$f":"+IFERROR(VLOOKUP(C2500,'Charge Conversion'!A:C,3,0),\" \")","v":" "}," "," ",null,null,null,null,null,{"$f":"VLOOKUP(D2500,'Group Name'!A:B,2,0)","v":{"$error":"#N/A"}}," "]
[null,null,null,null,null,null,null,null,null,{"$f":"+IFERROR(VLOOKUP(C2504,'Charge Conversion'!A:C,3,0),\" \")","v":" "}," "," ",null,null,null,null,null,{"$f":"VLOOKUP(D2504,'Group Name'!A:B,2,0)","v":{"$error":"#N/A"}}," "]
[null,null,null,null,null,null,null,null,null,{"$f":"+IFERROR(VLOOKUP(C2505,'Charge Conversion'!A:C,3,0),\" \")","v":" "}," "," ",null,null,null,null,null,{"$f":"VLOOKUP(D2505,'Group Name'!A:B,2,0)","v":{"$error":"#N/A"}}," "]
[null,null,null,null,null,null,null,null,null,{"$f":"+IFERROR(VLOOKUP(C2507,'Charge Conversion'!A:C,3,0),\" \")","v":" "}," "," ",null,null,null,null,null,{"$f":"VLOOKUP(D2507,'Group Name'!A:B,2,0)","v":{"$error":"#N/A"}}," "]
[null,null,null,null,null,null,null,null,null,{"$f":"+IFERROR(VLOOKUP(C2510,'Charge Conversion'!A:C,3,0),\" \")","v":" "}," "," ",null,null,null,null,null,{"$f":"VLOOKUP(D2510,'Group Name'!A:B,2,0)","v":{"$error":"#N/A"}}," "]
[null,null,null,null,null,null,null,null,null,{"$f":"+IFERROR(VLOOKUP(C2512,'Charge Conversion'!A:C,3,0),\" \")","v":" "}," "," ",null,null,null,null,null,{"$f":"VLOOKUP(D2512,'Group Name'!A:B,2,0)","v":{"$error":"#N/A"}}," "]
[null,null,null,null,null,null,null,null,null,{"$f":"+IFERROR(VLOOKUP(C2515,'Charge Conversion'!A:C,3,0),\" \")","v":" "}," "," ",null,null,null,null,null,{"$f":"VLOOKUP(D2515,'Group Name'!A:B,2,0)","v":{"$error":"#N/A"}}," "]
[null,null,null,null,null,null,null,null,null,{"$f":"+IFERROR(VLOOKUP(C2518,'Charge Conversion'!A:C,3,0),\" \")","v":" "}," "," ",null,null,null,null,null,{"$f":"VLOOKUP(D2518,'Group Name'!A:B,2,0)","v":{"$error":"#N/A"}}," "]
[null,null,null,null,null,null,null,null,null,{"$f":"+IFERROR(VLOOKUP(C2520,'Charge Conversion'!A:C,3,0),\" \")","v":" "}," "," ",null,null,null,null,null,{"$f":"VLOOKUP(D2520,'Group Name'!A:B,2,0)","v":{"$error":"#N/A"}}," "]
[null,null,null,null,null,null,null,null,null,{"$f":"+IFERROR(VLOOKUP(C2524,'Charge Conversion'!A:C,3,0),\" \")","v":" "}," "," ",null,null,null,null,null,{"$f":"VLOOKUP(D2524,'Group Name'!A:B,2,0)","v":{"$error":"#N/A"}}," "]
[null,null,null,null,null,null,null,null,null,{"$f":"+IFERROR(VLOOKUP(C2525,'Charge Conversion'!A:C,3,0),\" \")","v":" "}," "," ",null,null,null,null,null,{"$f":"VLOOKUP(D2525,'Group Name'!A:B,2,0)","v":{"$error":"#N/A"}}," "]
[null,null,null,null,null,null,null,null,null,{"$f":"+IFERROR(VLOOKUP(C2527,'Charge Conversion'!A:C,3,0),\" \")","v":" "}," "," ",null,null,null,null,null,{"$f":"VLOOKUP(D2527,'Group Name'!A:B,2,0)","v":{"$error":"#N/A"}}," "]
[null,null,null,null,null,null,null,null,null,{"$f":"+IFERROR(VLOOKUP(C2530,'Charge Conversion'!A:C,3,0),\" \")","v":" "}," "," ",null,null,null,null,null,{"$f":"VLOOKUP(D2530,'Group Name'!A:B,2,0)","v":{"$error":"#N/A"}}," "]
[null,null,null,null,null,null,null,null,null,{"$f":"+IFERROR(VLOOKUP(C2534,'Charge Conversion'!A:C,3,0),\" \")","v":" "}," "," ",null,null,null,null,null,{"$f":"VLOOKUP(D2534,'Group Name'!A:B,2,0)","v":{"$error":"#N/A"}}," "]
[null,null,null,null,null,null,null,null,null,{"$f":"+IFERROR(VLOOKUP(C2536,'Charge Conversion'!A:C,3,0),\" \")","v":" "}," "," ",null,null,null,null,null,{"$f":"VLOOKUP(D2536,'Group Name'!A:B,2,0)","v":{"$error":"#N/A"}}," "]
[null,null,null,null,null,null,null,null,null,{"$f":"+IFERROR(VLOOKUP(C2539,'Charge Conversion'!A:C,3,0),\" \")","v":" "}," "," ",null,null,null,null,null,{"$f":"VLOOKUP(D2539,'Group Name'!A:B,2,0)","v":{"$error":"#N/A"}}," "]
[null,null,null,null,null,null,null,null,null,{"$f":"+IFERROR(VLOOKUP(C2542,'Charge Conversion'!A:C,3,0),\" \")","v":" "}," "," ",null,null,null,null,null,{"$f":"VLOOKUP(D2542,'Group Name'!A:B,2,0)","v":{"$error":"#N/A"}}," "]
[null,null,null,null,null,null,null,null,null,{"$f":"+IFERROR(VLOOKUP(C2544,'Charge Conversion'!A:C,3,0),\" \")","v":" "}," "," ",null,null,null,null,null,{"$f":"VLOOKUP(D2544,'Group Name'!A:B,2,0)","v":{"$error":"#N/A"}}," "]
[null,null,null,null,null,null,null,null,null,{"$f":"+IFERROR(VLOOKUP(C2547,'Charge Conversion'!A:C,3,0),\" \")","v":" "}," "," ",null,null,null,null,null,{"$f":"VLOOKUP(D2547,'Group Name'!A:B,2,0)","v":{"$error":"#N/A"}}," "]
[null,null,null,null,null,null,null,null,null,{"$f":"+IFERROR(VLOOKUP(C2549,'Charge Conversion'!A:C,3,0),\" \")","v":" "}," "," ",null,null,null,null,null,{"$f":"VLOOKUP(D2549,'Group Name'!A:B,2,0)","v":{"$error":"#N/A"}}," "]
[null,null,null,null,null,null,null,null,null,{"$f":"+IFERROR(VLOOKUP(C2550,'Charge Conversion'!A:C,3,0),\" \")","v":" "}," "," ",null,null,null,null,null,{"$f":"VLOOKUP(D2550,'Group Name'!A:B,2,0)","v":{"$error":"#N/A"}}," "]
[null,null,null,null,null,null,null,null,null,{"$f":"+IFERROR(VLOOKUP(C2554,'Charge Conversion'!A:C,3,0),\" \")","v":" "}," "," ",null,null,null,null,null,{"$f":"VLOOKUP(D2554,'Group Name'!A:B,2,0)","v":{"$error":"#N/A"}}," "]
[null,null,null,null,null,null,null,null,null,{"$f":"+IFERROR(VLOOKUP(C2556,'Charge Conversion'!A:C,3,0),\" \")","v":" "}," "," ",null,null,null,null,null,{"$f":"VLOOKUP(D2556,'Group Name'!A:B,2,0)","v":{"$error":"#N/A"}}," "]
[null,null,null,null,null,null,null,null,null,{"$f":"+IFERROR(VLOOKUP(C2559,'Charge Conversion'!A:C,3,0),\" \")","v":" "}," "," ",null,null,null,null,null,{"$f":"VLOOKUP(D2559,'Group Name'!A:B,2,0)","v":{"$error":"#N/A"}}," "]
[null,null,null,null,null,null,null,null,null,{"$f":"+IFERROR(VLOOKUP(C2562,'Charge Conversion'!A:C,3,0),\" \")","v":" "}," "," ",null,null,null,null,null,{"$f":"VLOOKUP(D2562,'Group Name'!A:B,2,0)","v":{"$error":"#N/A"}}," "]
[null,null,null,null,null,null,null,null,null,{"$f":"+IFERROR(VLOOKUP(C2564,'Charge Conversion'!A:C,3,0),\" \")","v":" "}," "," ",null,null,null,null,null,{"$f":"VLOOKUP(D2564,'Group Name'!A:B,2,0)","v":{"$error":"#N/A"}}," "]
[null,null,null,null,null,null,null,null,null,{"$f":"+IFERROR(VLOOKUP(C2567,'Charge Conversion'!A:C,3,0),\" \")","v":" "}," "," ",null,null,null,null,null,{"$f":"VLOOKUP(D2567,'Group Name'!A:B,2,0)","v":{"$error":"#N/A"}}," "]
[null,null,null,null,null,null,null,null,null,{"$f":"+IFERROR(VLOOKUP(C2569,'Charge Conversion'!A:C,3,0),\" \")","v":" "}," "," ",null,null,null,null,null,{"$f":"VLOOKUP(D2569,'Group Name'!A:B,2,0)","v":{"$error":"#N/A"}}," "]
[null,null,null,null,null,null,null,null,null,{"$f":"+IFERROR(VLOOKUP(C2570,'Charge Conversion'!A:C,3,0),\" \")","v":" "}," "," ",null,null,null,null,null,{"$f":"VLOOKUP(D2570,'Group Name'!A:B,2,0)","v":{"$error":"#N/A"}}," "]
[null,null,null,null,null,null,null,null,null,{"$f":"+IFERROR(VLOOKUP(C2574,'Charge Conversion'!A:C,3,0),\" \")","v":" "}," "," ",null,null,null,null,null,{"$f":"VLOOKUP(D2574,'Group Name'!A:B,2,0)","v":{"$error":"#N/A"}}," "]
[null,null,null,null,null,null,null,null,null,{"$f":"+IFERROR(VLOOKUP(C2576,'Charge Conversion'!A:C,3,0),\" \")","v":" "}," "," ",null,null,null,null,null,{"$f":"VLOOKUP(D2576,'Group Name'!A:B,2,0)","v":{"$error":"#N/A"}}," "]
[null,null,null,null,null,null,null,null,null,{"$f":"+IFERROR(VLOOKUP(C2579,'Charge Conversion'!A:C,3,0),\" \")","v":" "}," "," ",null,null,null,null,null,{"$f":"VLOOKUP(D2579,'Group Name'!A:B,2,0)","v":{"$error":"#N/A"}}," "]
[null,null,null,null,null,null,null,null,null,{"$f":"+IFERROR(VLOOKUP(C2582,'Charge Conversion'!A:C,3,0),\" \")","v":" "}," "," ",null,null,null,null,null,{"$f":"VLOOKUP(D2582,'Group Name'!A:B,2,0)","v":{"$error":"#N/A"}}," "]
[null,null,null,null,null,null,null,null,null,{"$f":"+IFERROR(VLOOKUP(C2584,'Charge Conversion'!A:C,3,0),\" \")","v":" "}," "," ",null,null,null,null,null,{"$f":"VLOOKUP(D2584,'Group Name'!A:B,2,0)","v":{"$error":"#N/A"}}," "]
[null,null,null,null,null,null,null,null,null,{"$f":"+IFERROR(VLOOKUP(C2587,'Charge Conversion'!A:C,3,0),\" \")","v":" "}," "," ",null,null,null,null,null,{"$f":"VLOOKUP(D2587,'Group Name'!A:B,2,0)","v":{"$error":"#N/A"}}," "]
[null,null,null,null,null,null,null,null,null,{"$f":"+IFERROR(VLOOKUP(C2589,'Charge Conversion'!A:C,3,0),\" \")","v":" "}," "," ",null,null,null,null,null,{"$f":"VLOOKUP(D2589,'Group Name'!A:B,2,0)","v":{"$error":"#N/A"}}," "]
[null,null,null,null,null,null,null,null,null,{"$f":"+IFERROR(VLOOKUP(C2590,'Charge Conversion'!A:C,3,0),\" \")","v":" "}," "," ",null,null,null,null,null,{"$f":"VLOOKUP(D2590,'Group Name'!A:B,2,0)","v":{"$error":"#N/A"}}," "]
[null,null,null,null,null,null,null,null,null,{"$f":"+IFERROR(VLOOKUP(C2594,'Charge Conversion'!A:C,3,0),\" \")","v":" "}," "," ",null,null,null,null,null,{"$f":"VLOOKUP(D2594,'Group Name'!A:B,2,0)","v":{"$error":"#N/A"}}," "]
[null,null,null,null,null,null,null,null,null,{"$f":"+IFERROR(VLOOKUP(C2596,'Charge Conversion'!A:C,3,0),\" \")","v":" "}," "," ",null,null,null,null,null,{"$f":"VLOOKUP(D2596,'Group Name'!A:B,2,0)","v":{"$error":"#N/A"}}," "]
[null,null,null,null,null,null,null,null,null,{"$f":"+IFERROR(VLOOKUP(C2599,'Charge Conversion'!A:C,3,0),\" \")","v":" "}," "," ",null,null,null,null,null,{"$f":"VLOOKUP(D2599,'Group Name'!A:B,2,0)","v":{"$error":"#N/A"}}," "]
[null,null,null,null,null,null,null,null,null,{"$f":"+IFERROR(VLOOKUP(C2602,'Charge Conversion'!A:C,3,0),\" \")","v":" "}," "," ",null,null,null,null,null,{"$f":"VLOOKUP(D2602,'Group Name'!A:B,2,0)","v":{"$error":"#N/A"}}," "]
[null,null,null,null,null,null,null,null,null,{"$f":"+IFERROR(VLOOKUP(C2604,'Charge Conversion'!A:C,3,0),\" \")","v":" "}," "," ",null,null,null,null,null,{"$f":"VLOOKUP(D2604,'Group Name'!A:B,2,0)","v":{"$error":"#N/A"}}," "]
[null,null,null,null,null,null,null,null,null,{"$f":"+IFERROR(VLOOKUP(C2605,'Charge Conversion'!A:C,3,0),\" \")","v":" "}," "," ",null,null,null,null,null,{"$f":"VLOOKUP(D2605,'Group Name'!A:B,2,0)","v":{"$error":"#N/A"}}," "]
[null,null,null,null,null,null,null,null,null,{"$f":"+IFERROR(VLOOKUP(C2609,'Charge Conversion'!A:C,3,0),\" \")","v":" "}," "," ",null,null,null,null,null,{"$f":"VLOOKUP(D2609,'Group Name'!A:B,2,0)","v":{"$error":"#N/A"}}," "]
[null,null,null,null,null,null,null,null,null,{"$f":"+IFERROR(VLOOKUP(C2610,'Charge Conversion'!A:C,3,0),\" \")","v":" "}," "," ",null,null,null,null,null,{"$f":"VLOOKUP(D2610,'Group Name'!A:B,2,0)","v":{"$error":"#N/A"}}," "]
[null,null,null,null,null,null,null,null,null,{"$f":"+IFERROR(VLOOKUP(C2614,'Charge Conversion'!A:C,3,0),\" \")","v":" "}," "," ",null,null,null,null,null,{"$f":"VLOOKUP(D2614,'Group Name'!A:B,2,0)","v":{"$error":"#N/A"}}," "]
[null,null,null,null,null,null,null,null,null,{"$f":"+IFERROR(VLOOKUP(C2616,'Charge Conversion'!A:C,3,0),\" \")","v":" "}," "," ",null,null,null,null,null,{"$f":"VLOOKUP(D2616,'Group Name'!A:B,2,0)","v":{"$error":"#N/A"}}," "]
[null,null,null,null,null,null,null,null,null,{"$f":"+IFERROR(VLOOKUP(C2619,'Charge Conversion'!A:C,3,0),\" \")","v":" "}," "," ",null,null,null,null,null,{"$f":"VLOOKUP(D2619,'Group Name'!A:B,2,0)","v":{"$error":"#N/A"}}," "]
[null,null,null,null,null,null,null,null,null,{"$f":"+IFERROR(VLOOKUP(C2622,'Charge Conversion'!A:C,3,0),\" \")","v":" "}," "," ",null,null,null,null,null,{"$f":"VLOOKUP(D2622,'Group Name'!A:B,2,0)","v":{"$error":"#N/A"}}," "]
[null,null,null,null,null,null,null,null,null,{"$f":"+IFERROR(VLOOKUP(C2624,'Charge Conversion'!A:C,3,0),\" \")","v":" "}," "," ",null,null,null,null,null,{"$f":"VLOOKUP(D2624,'Group Name'!A:B,2,0)","v":{"$error":"#N/A"}}," "]
[null,null,null,null,null,null,null,null,null,{"$f":"+IFERROR(VLOOKUP(C2625,'Charge Conversion'!A:C,3,0),\" \")","v":" "}," "," ",null,null,null,null,null,{"$f":"VLOOKUP(D2625,'Group Name'!A:B,2,0)","v":{"$error":"#N/A"}}," "]
[null,null,null,null,null,null,null,null,null,{"$f":"+IFERROR(VLOOKUP(C2629,'Charge Conversion'!A:C,3,0),\" \")","v":" "},{"$f":"+IFERROR(I2629*J2629,\" \")","v":" "},{"$f":"S2629","v":" "},null,null,null,null,null,{"$f":"VLOOKUP(D2629,'Group Name'!A:B,2,0)","v":{"$error":"#N/A"}},{"$f":"IFERROR((IF(A2629=\" \",\" \",R2629)),\" \")","v":" "}]
[null,null,null,null,null,null,null,null,null,{"$f":"+IFERROR(VLOOKUP(C2630,'Charge Conversion'!A:C,3,0),\" \")","v":" "}," "," ",null,null,null,null,null,{"$f":"VLOOKUP(D2630,'Group Name'!A:B,2,0)","v":{"$error":"#N/A"}}," "]
[null,null,null,null,null,null,null,null,null,{"$f":"+IFERROR(VLOOKUP(C2634,'Charge Conversion'!A:C,3,0),\" \")","v":" "}," "," ",null,null,null,null,null,{"$f":"VLOOKUP(D2634,'Group Name'!A:B,2,0)","v":{"$error":"#N/A"}}," "]
[null,null,null,null,null,null,null,null,null,{"$f":"+IFERROR(VLOOKUP(C2636,'Charge Conversion'!A:C,3,0),\" \")","v":" "}," "," ",null,null,null,null,null,{"$f":"VLOOKUP(D2636,'Group Name'!A:B,2,0)","v":{"$error":"#N/A"}}," "]
[null,null,null,null,null,null,null,null,null,{"$f":"+IFERROR(VLOOKUP(C2639,'Charge Conversion'!A:C,3,0),\" \")","v":" "}," "," ",null,null,null,null,null,{"$f":"VLOOKUP(D2639,'Group Name'!A:B,2,0)","v":{"$error":"#N/A"}}," "]
[null,null,null,null,null,null,null,null,null,{"$f":"+IFERROR(VLOOKUP(C2642,'Charge Conversion'!A:C,3,0),\" \")","v":" "}," "," ",null,null,null,null,null,{"$f":"VLOOKUP(D2642,'Group Name'!A:B,2,0)","v":{"$error":"#N/A"}}," "]
[null,null,null,null,null,null,null,null,null,{"$f":"+IFERROR(VLOOKUP(C2644,'Charge Conversion'!A:C,3,0),\" \")","v":" "}," "," ",null,null,null,null,null,{"$f":"VLOOKUP(D2644,'Group Name'!A:B,2,0)","v":{"$error":"#N/A"}}," "]
[null,null,null,null,null,null,null,null,null,{"$f":"+IFERROR(VLOOKUP(C2645,'Charge Conversion'!A:C,3,0),\" \")","v":" "}," "," ",null,null,null,null,null,{"$f":"VLOOKUP(D2645,'Group Name'!A:B,2,0)","v":{"$error":"#N/A"}}," "]
[null,null,null,null,null,null,null,null,null,{"$f":"+IFERROR(VLOOKUP(C2649,'Charge Conversion'!A:C,3,0),\" \")","v":" "}," "," ",null,null,null,null,null,{"$f":"VLOOKUP(D2649,'Group Name'!A:B,2,0)","v":{"$error":"#N/A"}}," "]
[null,null,null,null,null,null,null,null,null,{"$f":"+IFERROR(VLOOKUP(C2650,'Charge Conversion'!A:C,3,0),\" \")","v":" "}," "," ",null,null,null,null,null,{"$f":"VLOOKUP(D2650,'Group Name'!A:B,2,0)","v":{"$error":"#N/A"}}," "]
[null,null,null,null,null,null,null,null,null,{"$f":"+IFERROR(VLOOKUP(C2654,'Charge Conversion'!A:C,3,0),\" \")","v":" "}," "," ",null,null,null,null,null,{"$f":"VLOOKUP(D2654,'Group Name'!A:B,2,0)","v":{"$error":"#N/A"}}," "]
[null,null,null,null,null,null,null,null,null,{"$f":"+IFERROR(VLOOKUP(C2656,'Charge Conversion'!A:C,3,0),\" \")","v":" "}," "," ",null,null,null,null,null,{"$f":"VLOOKUP(D2656,'Group Name'!A:B,2,0)","v":{"$error":"#N/A"}}," "]
[null,null,null,null,null,null,null,null,null,{"$f":"+IFERROR(VLOOKUP(C2659,'Charge Conversion'!A:C,3,0),\" \")","v":" "}," "," ",null,null,null,null,null,{"$f":"VLOOKUP(D2659,'Group Name'!A:B,2,0)","v":{"$error":"#N/A"}}," "]
[null,null,null,null,null,null,null,null,null,{"$f":"+IFERROR(VLOOKUP(C2662,'Charge Conversion'!A:C,3,0),\" \")","v":" "}," "," ",null,null,null,null,null,{"$f":"VLOOKUP(D2662,'Group Name'!A:B,2,0)","v":{"$error":"#N/A"}}," "]
[null,null,null,null,null,null,null,null,null,{"$f":"+IFERROR(VLOOKUP(C2665,'Charge Conversion'!A:C,3,0),\" \")","v":" "}," "," ",null,null,null,null,null,{"$f":"VLOOKUP(D2665,'Group Name'!A:B,2,0)","v":{"$error":"#N/A"}}," "]
[null,null,null,null,null,null,null,null,null,{"$f":"+IFERROR(VLOOKUP(C2666,'Charge Conversion'!A:C,3,0),\" \")","v":" "}," "," ",null,null,null,null,null,{"$f":"VLOOKUP(D2666,'Group Name'!A:B,2,0)","v":{"$error":"#N/A"}}," "]
[null,null,null,null,null,null,null,null,null,{"$f":"+IFERROR(VLOOKUP(C2668,'Charge Conversion'!A:C,3,0),\" \")","v":" "}," "," ",null,null,null,null,null,{"$f":"VLOOKUP(D2668,'Group Name'!A:B,2,0)","v":{"$error":"#N/A"}}," "]
[null,null,null,null,null,null,null,null,null,{"$f":"+IFERROR(VLOOKUP(C2671,'Charge Conversion'!A:C,3,0),\" \")","v":" "}," "," ",null,null,null,null,null,{"$f":"VLOOKUP(D2671,'Group Name'!A:B,2,0)","v":{"$error":"#N/A"}}," "]
[null,null,null,null,null,null,null,null,null,{"$f":"+IFERROR(VLOOKUP(C2674,'Charge Conversion'!A:C,3,0),\" \")","v":" "}," "," ",null,null,null,null,null,{"$f":"VLOOKUP(D2674,'Group Name'!A:B,2,0)","v":{"$error":"#N/A"}}," "]
[null,null,null,null,null,null,null,null,null,{"$f":"+IFERROR(VLOOKUP(C2676,'Charge Conversion'!A:C,3,0),\" \")","v":" "}," "," ",null,null,null,null,null,{"$f":"VLOOKUP(D2676,'Group Name'!A:B,2,0)","v":{"$error":"#N/A"}}," "]
[null,null,null,null,null,null,null,null,null,{"$f":"+IFERROR(VLOOKUP(C2680,'Charge Conversion'!A:C,3,0),\" \")","v":" "}," "," ",null,null,null,null,null,{"$f":"VLOOKUP(D2680,'Group Name'!A:B,2,0)","v":{"$error":"#N/A"}}," "]
[null,null,null,null,null,null,null,null,null,{"$f":"+IFERROR(VLOOKUP(C2681,'Charge Conversion'!A:C,3,0),\" \")","v":" "}," "," ",null,null,null,null,null,{"$f":"VLOOKUP(D2681,'Group Name'!A:B,2,0)","v":{"$error":"#N/A"}}," "]
[null,null,null,null,null,null,null,null,null,{"$f":"+IFERROR(VLOOKUP(C2685,'Charge Conversion'!A:C,3,0),\" \")","v":" "}," "," ",null,null,null,null,null,{"$f":"VLOOKUP(D2685,'Group Name'!A:B,2,0)","v":{"$error":"#N/A"}}," "]
[null,null,null,null,null,null,null,null,null,{"$f":"+IFERROR(VLOOKUP(C2686,'Charge Conversion'!A:C,3,0),\" \")","v":" "}," "," ",null,null,null,null,null,{"$f":"VLOOKUP(D2686,'Group Name'!A:B,2,0)","v":{"$error":"#N/A"}}," "]
[null,null,null,null,null,null,null,null,null,{"$f":"+IFERROR(VLOOKUP(C2688,'Charge Conversion'!A:C,3,0),\" \")","v":" "}," "," ",null,null,null,null,null,{"$f":"VLOOKUP(D2688,'Group Name'!A:B,2,0)","v":{"$error":"#N/A"}}," "]
[null,null,null,null,null,null,null,null,null,{"$f":"+IFERROR(VLOOKUP(C2691,'Charge Conversion'!A:C,3,0),\" \")","v":" "}," "," ",null,null,null,null,null,{"$f":"VLOOKUP(D2691,'Group Name'!A:B,2,0)","v":{"$error":"#N/A"}}," "]
[null,null,null,null,null,null,null,null,null,{"$f":"+IFERROR(VLOOKUP(C2694,'Charge Conversion'!A:C,3,0),\" \")","v":" "}," "," ",null,null,null,null,null,{"$f":"VLOOKUP(D2694,'Group Name'!A:B,2,0)","v":{"$error":"#N/A"}}," "]
[null,null,null,null,null,null,null,null,null,{"$f":"+IFERROR(VLOOKUP(C2696,'Charge Conversion'!A:C,3,0),\" \")","v":" "}," "," ",null,null,null,null,null,{"$f":"VLOOKUP(D2696,'Group Name'!A:B,2,0)","v":{"$error":"#N/A"}}," "]
[null,null,null,null,null,null,null,null,null,{"$f":"+IFERROR(VLOOKUP(C2700,'Charge Conversion'!A:C,3,0),\" \")","v":" "}," "," ",null,null,null,null,null,{"$f":"VLOOKUP(D2700,'Group Name'!A:B,2,0)","v":{"$error":"#N/A"}}," "]
[null,null,null,null,null,null,null,null,null,{"$f":"+IFERROR(VLOOKUP(C2701,'Charge Conversion'!A:C,3,0),\" \")","v":" "}," "," ",null,null,null,null,null,{"$f":"VLOOKUP(D2701,'Group Name'!A:B,2,0)","v":{"$error":"#N/A"}}," "]
[null,null,null,null,null,null,null,null,null,{"$f":"+IFERROR(VLOOKUP(C2705,'Charge Conversion'!A:C,3,0),\" \")","v":" "}," "," ",null,null,null,null,null,{"$f":"VLOOKUP(D2705,'Group Name'!A:B,2,0)","v":{"$error":"#N/A"}}," "]
[null,null,null,null,null,null,null,null,null,{"$f":"+IFERROR(VLOOKUP(C2706,'Charge Conversion'!A:C,3,0),\" \")","v":" "}," "," ",null,null,null,null,null,{"$f":"VLOOKUP(D2706,'Group Name'!A:B,2,0)","v":{"$error":"#N/A"}}," "]
[null,null,null,null,null,null,null,null,null,{"$f":"+IFERROR(VLOOKUP(C2708,'Charge Conversion'!A:C,3,0),\" \")","v":" "}," "," ",null,null,null,null,null,{"$f":"VLOOKUP(D2708,'Group Name'!A:B,2,0)","v":{"$error":"#N/A"}}," "]
[null,null,null,null,null,null,null,null,null,{"$f":"+IFERROR(VLOOKUP(C2711,'Charge Conversion'!A:C,3,0),\" \")","v":" "}," "," ",null,null,null,null,null,{"$f":"VLOOKUP(D2711,'Group Name'!A:B,2,0)","v":{"$error":"#N/A"}}," "]
[null,null,null,null,null,null,null,null,null,{"$f":"+IFERROR(VLOOKUP(C2714,'Charge Conversion'!A:C,3,0),\" \")","v":" "}," "," ",null,null,null,null,null,{"$f":"VLOOKUP(D2714,'Group Name'!A:B,2,0)","v":{"$error":"#N/A"}}," "]
[null,null,null,null,null,null,null,null,null,{"$f":"+IFERROR(VLOOKUP(C2716,'Charge Conversion'!A:C,3,0),\" \")","v":" "}," "," ",null,null,null,null,null,{"$f":"VLOOKUP(D2716,'Group Name'!A:B,2,0)","v":{"$error":"#N/A"}}," "]
[null,null,null,null,null,null,null,null,null,{"$f":"+IFERROR(VLOOKUP(C2720,'Charge Conversion'!A:C,3,0),\" \")","v":" "}," "," ",null,null,null,null,null,{"$f":"VLOOKUP(D2720,'Group Name'!A:B,2,0)","v":{"$error":"#N/A"}}," "]
[null,null,null,null,null,null,null,null,null,{"$f":"+IFERROR(VLOOKUP(C2721,'Charge Conversion'!A:C,3,0),\" \")","v":" "}," "," ",null,null,null,null,null,{"$f":"VLOOKUP(D2721,'Group Name'!A:B,2,0)","v":{"$error":"#N/A"}}," "]
[null,null,null,null,null,null,null,null,null,{"$f":"+IFERROR(VLOOKUP(C2723,'Charge Conversion'!A:C,3,0),\" \")","v":" "}," "," ",null,null,null,null,null,{"$f":"VLOOKUP(D2723,'Group Name'!A:B,2,0)","v":{"$error":"#N/A"}}," "]
[null,null,null,null,null,null,null,null,null,{"$f":"+IFERROR(VLOOKUP(C2726,'Charge Conversion'!A:C,3,0),\" \")","v":" "}," "," ",null,null,null,null,null,{"$f":"VLOOKUP(D2726,'Group Name'!A:B,2,0)","v":{"$error":"#N/A"}}," "]
[null,null,null,null,null,null,null,null,null,{"$f":"+IFERROR(VLOOKUP(C2728,'Charge Conversion'!A:C,3,0),\" \")","v":" "}," "," ",null,null,null,null,null,{"$f":"VLOOKUP(D2728,'Group Name'!A:B,2,0)","v":{"$error":"#N/A"}}," "]
[null,null,null,null,null,null,null,null,null,{"$f":"+IFERROR(VLOOKUP(C2731,'Charge Conversion'!A:C,3,0),\" \")","v":" "}," "," ",null,null,null,null,null,{"$f":"VLOOKUP(D2731,'Group Name'!A:B,2,0)","v":{"$error":"#N/A"}}," "]
[null,null,null,null,null,null,null,null,null,{"$f":"+IFERROR(VLOOKUP(C2734,'Charge Conversion'!A:C,3,0),\" \")","v":" "}," "," ",null,null,null,null,null,{"$f":"VLOOKUP(D2734,'Group Name'!A:B,2,0)","v":{"$error":"#N/A"}}," "]
[null,null,null,null,null,null,null,null,null,{"$f":"+IFERROR(VLOOKUP(C2736,'Charge Conversion'!A:C,3,0),\" \")","v":" "}," "," ",null,null,null,null,null,{"$f":"VLOOKUP(D2736,'Group Name'!A:B,2,0)","v":{"$error":"#N/A"}}," "]
[null,null,null,null,null,null,null,null,null,{"$f":"+IFERROR(VLOOKUP(C2740,'Charge Conversion'!A:C,3,0),\" \")","v":" "}," "," ",null,null,null,null,null,{"$f":"VLOOKUP(D2740,'Group Name'!A:B,2,0)","v":{"$error":"#N/A"}}," "]
[null,null,null,null,null,null,null,null,null,{"$f":"+IFERROR(VLOOKUP(C2741,'Charge Conversion'!A:C,3,0),\" \")","v":" "}," "," ",null,null,null,null,null,{"$f":"VLOOKUP(D2741,'Group Name'!A:B,2,0)","v":{"$error":"#N/A"}}," "]
[null,null,null,null,null,null,null,null,null,{"$f":"+IFERROR(VLOOKUP(C2743,'Charge Conversion'!A:C,3,0),\" \")","v":" "}," "," ",null,null,null,null,null,{"$f":"VLOOKUP(D2743,'Group Name'!A:B,2,0)","v":{"$error":"#N/A"}}," "]
[null,null,null,null,null,null,null,null,null,{"$f":"+IFERROR(VLOOKUP(C2746,'Charge Conversion'!A:C,3,0),\" \")","v":" "}," "," ",null,null,null,null,null,{"$f":"VLOOKUP(D2746,'Group Name'!A:B,2,0)","v":{"$error":"#N/A"}}," "]
[null,null,null,null,null,null,null,null,null,{"$f":"+IFERROR(VLOOKUP(C2748,'Charge Conversion'!A:C,3,0),\" \")","v":" "}," "," ",null,null,null,null,null,{"$f":"VLOOKUP(D2748,'Group Name'!A:B,2,0)","v":{"$error":"#N/A"}}," "]
[null,null,null,null,null,null,null,null,null,{"$f":"+IFERROR(VLOOKUP(C2751,'Charge Conversion'!A:C,3,0),\" \")","v":" "}," "," ",null,null,null,null,null,{"$f":"VLOOKUP(D2751,'Group Name'!A:B,2,0)","v":{"$error":"#N/A"}}," "]
[null,null,null,null,null,null,null,null,null,{"$f":"+IFERROR(VLOOKUP(C2754,'Charge Conversion'!A:C,3,0),\" \")","v":" "}," "," ",null,null,null,null,null,{"$f":"VLOOKUP(D2754,'Group Name'!A:B,2,0)","v":{"$error":"#N/A"}}," "]
[null,null,null,null,null,null,null,null,null,{"$f":"+IFERROR(VLOOKUP(C2756,'Charge Conversion'!A:C,3,0),\" \")","v":" "}," "," ",null,null,null,null,null,{"$f":"VLOOKUP(D2756,'Group Name'!A:B,2,0)","v":{"$error":"#N/A"}}," "]
[null,null,null,null,null,null,null,null,null,{"$f":"+IFERROR(VLOOKUP(C2760,'Charge Conversion'!A:C,3,0),\" \")","v":" "}," "," ",null,null,null,null,null,{"$f":"VLOOKUP(D2760,'Group Name'!A:B,2,0)","v":{"$error":"#N/A"}}," "]
[null,null,null,null,null,null,null,null,null,{"$f":"+IFERROR(VLOOKUP(C2761,'Charge Conversion'!A:C,3,0),\" \")","v":" "}," "," ",null,null,null,null,null,{"$f":"VLOOKUP(D2761,'Group Name'!A:B,2,0)","v":{"$error":"#N/A"}}," "]
[null,null,null,null,null,null,null,null,null,{"$f":"+IFERROR(VLOOKUP(C2763,'Charge Conversion'!A:C,3,0),\" \")","v":" "}," "," ",null,null,null,null,null,{"$f":"VLOOKUP(D2763,'Group Name'!A:B,2,0)","v":{"$error":"#N/A"}}," "]
[null,null,null,null,null,null,null,null,null,{"$f":"+IFERROR(VLOOKUP(C2766,'Charge Conversion'!A:C,3,0),\" \")","v":" "}," "," ",null,null,null,null,null,{"$f":"VLOOKUP(D2766,'Group Name'!A:B,2,0)","v":{"$error":"#N/A"}}," "]
[null,null,null,null,null,null,null,null,null,{"$f":"+IFERROR(VLOOKUP(C2768,'Charge Conversion'!A:C,3,0),\" \")","v":" "}," "," ",null,null,null,null,null,{"$f":"VLOOKUP(D2768,'Group Name'!A:B,2,0)","v":{"$error":"#N/A"}}," "]
[null,null,null,null,null,null,null,null,null,{"$f":"+IFERROR(VLOOKUP(C2771,'Charge Conversion'!A:C,3,0),\" \")","v":" "}," "," ",null,null,null,null,null,{"$f":"VLOOKUP(D2771,'Group Name'!A:B,2,0)","v":{"$error":"#N/A"}}," "]
[null,null,null,null,null,null,null,null,null,{"$f":"+IFERROR(VLOOKUP(C2774,'Charge Conversion'!A:C,3,0),\" \")","v":" "}," "," ",null,null,null,null,null,{"$f":"VLOOKUP(D2774,'Group Name'!A:B,2,0)","v":{"$error":"#N/A"}}," "]
[null,null,null,null,null,null,null,null,null,{"$f":"+IFERROR(VLOOKUP(C2776,'Charge Conversion'!A:C,3,0),\" \")","v":" "}," "," ",null,null,null,null,null,{"$f":"VLOOKUP(D2776,'Group Name'!A:B,2,0)","v":{"$error":"#N/A"}}," "]
[null,null,null,null,null,null,null,null,null,{"$f":"+IFERROR(VLOOKUP(C2780,'Charge Conversion'!A:C,3,0),\" \")","v":" "}," "," ",null,null,null,null,null,{"$f":"VLOOKUP(D2780,'Group Name'!A:B,2,0)","v":{"$error":"#N/A"}}," "]
[null,null,null,null,null,null,null,null,null,{"$f":"+IFERROR(VLOOKUP(C2781,'Charge Conversion'!A:C,3,0),\" \")","v":" "}," "," ",null,null,null,null,null,{"$f":"VLOOKUP(D2781,'Group Name'!A:B,2,0)","v":{"$error":"#N/A"}}," "]
[null,null,null,null,null,null,null,null,null,{"$f":"+IFERROR(VLOOKUP(C2783,'Charge Conversion'!A:C,3,0),\" \")","v":" "}," "," ",null,null,null,null,null,{"$f":"VLOOKUP(D2783,'Group Name'!A:B,2,0)","v":{"$error":"#N/A"}}," "]
[null,null,null,null,null,null,null,null,null,{"$f":"+IFERROR(VLOOKUP(C2786,'Charge Conversion'!A:C,3,0),\" \")","v":" "}," "," ",null,null,null,null,null,{"$f":"VLOOKUP(D2786,'Group Name'!A:B,2,0)","v":{"$error":"#N/A"}}," "]
[null,null,null,null,null,null,null,null,null,{"$f":"+IFERROR(VLOOKUP(C2788,'Charge Conversion'!A:C,3,0),\" \")","v":" "}," "," ",null,null,null,null,null,{"$f":"VLOOKUP(D2788,'Group Name'!A:B,2,0)","v":{"$error":"#N/A"}}," "]
[null,null,null,null,null,null,null,null,null,{"$f":"+IFERROR(VLOOKUP(C2792,'Charge Conversion'!A:C,3,0),\" \")","v":" "}," "," ",null,null,null,null,null,{"$f":"VLOOKUP(D2792,'Group Name'!A:B,2,0)","v":{"$error":"#N/A"}}," "]
[null,null,null,null,null,null,null,null,null,{"$f":"+IFERROR(VLOOKUP(C2795,'Charge Conversion'!A:C,3,0),\" \")","v":" "}," "," ",null,null,null,null,null,{"$f":"VLOOKUP(D2795,'Group Name'!A:B,2,0)","v":{"$error":"#N/A"}}," "]
[null,null,null,null,null,null,null,null,null,{"$f":"+IFERROR(VLOOKUP(C2798,'Charge Conversion'!A:C,3,0),\" \")","v":" "}," "," ",null,null,null,null,null,{"$f":"VLOOKUP(D2798,'Group Name'!A:B,2,0)","v":{"$error":"#N/A"}}," "]
[null,null,null,null,null,null,null,null,null,{"$f":"+IFERROR(VLOOKUP(C2800,'Charge Conversion'!A:C,3,0),\" \")","v":" "}," "," ",null,null,null,null,null,{"$f":"VLOOKUP(D2800,'Group Name'!A:B,2,0)","v":{"$error":"#N/A"}}," "]
[null,null,null,null,null,null,null,null,null,{"$f":"+IFERROR(VLOOKUP(C2803,'Charge Conversion'!A:C,3,0),\" \")","v":" "}," "," ",null,null,null,null,null,{"$f":"VLOOKUP(D2803,'Group Name'!A:B,2,0)","v":{"$error":"#N/A"}}," "]
[null,null,null,null,null,null,null,null,null,{"$f":"+IFERROR(VLOOKUP(C2805,'Charge Conversion'!A:C,3,0),\" \")","v":" "}," "," ",null,null,null,null,null,{"$f":"VLOOKUP(D2805,'Group Name'!A:B,2,0)","v":{"$error":"#N/A"}}," "]
[null,null,null,null,null,null,null,null,null,{"$f":"+IFERROR(VLOOKUP(C2806,'Charge Conversion'!A:C,3,0),\" \")","v":" "}," "," ",null,null,null,null,null,{"$f":"VLOOKUP(D2806,'Group Name'!A:B,2,0)","v":{"$error":"#N/A"}}," "]
[null,null,null,null,null,null,null,null,null,{"$f":"+IFERROR(VLOOKUP(C2810,'Charge Conversion'!A:C,3,0),\" \")","v":" "}," "," ",null,null,null,null,null,{"$f":"VLOOKUP(D2810,'Group Name'!A:B,2,0)","v":{"$error":"#N/A"}}," "]
[null,null,null,null,null,null,null,null,null,{"$f":"+IFERROR(VLOOKUP(C2812,'Charge Conversion'!A:C,3,0),\" \")","v":" "}," "," ",null,null,null,null,null,{"$f":"VLOOKUP(D2812,'Group Name'!A:B,2,0)","v":{"$error":"#N/A"}}," "]
[null,null,null,null,null,null,null,null,null,{"$f":"+IFERROR(VLOOKUP(C2815,'Charge Conversion'!A:C,3,0),\" \")","v":" "}," "," ",null,null,null,null,null,{"$f":"VLOOKUP(D2815,'Group Name'!A:B,2,0)","v":{"$error":"#N/A"}}," "]
[null,null,null,null,null,null,null,null,null,{"$f":"+IFERROR(VLOOKUP(C2818,'Charge Conversion'!A:C,3,0),\" \")","v":" "}," "," ",null,null,null,null,null,{"$f":"VLOOKUP(D2818,'Group Name'!A:B,2,0)","v":{"$error":"#N/A"}}," "]
[null,null,null,null,null,null,null,null,null,{"$f":"+IFERROR(VLOOKUP(C2820,'Charge Conversion'!A:C,3,0),\" \")","v":" "}," "," ",null,null,null,null,null,{"$f":"VLOOKUP(D2820,'Group Name'!A:B,2,0)","v":{"$error":"#N/A"}}," "]
[null,null,null,null,null,null,null,null,null,{"$f":"+IFERROR(VLOOKUP(C2823,'Charge Conversion'!A:C,3,0),\" \")","v":" "}," "," ",null,null,null,null,null,{"$f":"VLOOKUP(D2823,'Group Name'!A:B,2,0)","v":{"$error":"#N/A"}}," "]
[null,null,null,null,null,null,null,null,null,{"$f":"+IFERROR(VLOOKUP(C2825,'Charge Conversion'!A:C,3,0),\" \")","v":" "}," "," ",null,null,null,null,null,{"$f":"VLOOKUP(D2825,'Group Name'!A:B,2,0)","v":{"$error":"#N/A"}}," "]
[null,null,null,null,null,null,null,null,null,{"$f":"+IFERROR(VLOOKUP(C2826,'Charge Conversion'!A:C,3,0),\" \")","v":" "}," "," ",null,null,null,null,null,{"$f":"VLOOKUP(D2826,'Group Name'!A:B,2,0)","v":{"$error":"#N/A"}}," "]
[null,null,null,null,null,null,null,null,null,{"$f":"+IFERROR(VLOOKUP(C2830,'Charge Conversion'!A:C,3,0),\" \")","v":" "}," "," ",null,null,null,null,null,{"$f":"VLOOKUP(D2830,'Group Name'!A:B,2,0)","v":{"$error":"#N/A"}}," "]
[null,null,null,null,null,null,null,null,null,{"$f":"+IFERROR(VLOOKUP(C2832,'Charge Conversion'!A:C,3,0),\" \")","v":" "}," "," ",null,null,null,null,null,{"$f":"VLOOKUP(D2832,'Group Name'!A:B,2,0)","v":{"$error":"#N/A"}}," "]
[null,null,null,null,null,null,null,null,null,{"$f":"+IFERROR(VLOOKUP(C2835,'Charge Conversion'!A:C,3,0),\" \")","v":" "}," "," ",null,null,null,null,null,{"$f":"VLOOKUP(D2835,'Group Name'!A:B,2,0)","v":{"$error":"#N/A"}}," "]
[null,null,null,null,null,null,null,null,null,{"$f":"+IFERROR(VLOOKUP(C2838,'Charge Conversion'!A:C,3,0),\" \")","v":" "}," "," ",null,null,null,null,null,{"$f":"VLOOKUP(D2838,'Group Name'!A:B,2,0)","v":{"$error":"#N/A"}}," "]
[null,null,null,null,null,null,null,null,null,{"$f":"+IFERROR(VLOOKUP(C2840,'Charge Conversion'!A:C,3,0),\" \")","v":" "}," "," ",null,null,null,null,null,{"$f":"VLOOKUP(D2840,'Group Name'!A:B,2,0)","v":{"$error":"#N/A"}}," "]
[null,null,null,null,null,null,null,null,null,{"$f":"+IFERROR(VLOOKUP(C2843,'Charge Conversion'!A:C,3,0),\" \")","v":" "}," "," ",null,null,null,null,null,{"$f":"VLOOKUP(D2843,'Group Name'!A:B,2,0)","v":{"$error":"#N/A"}}," "]
[null,null,null,null,null,null,null,null,null,{"$f":"+IFERROR(VLOOKUP(C2845,'Charge Conversion'!A:C,3,0),\" \")","v":" "}," "," ",null,null,null,null,null,{"$f":"VLOOKUP(D2845,'Group Name'!A:B,2,0)","v":{"$error":"#N/A"}}," "]
[null,null,null,null,null,null,null,null,null,{"$f":"+IFERROR(VLOOKUP(C2846,'Charge Conversion'!A:C,3,0),\" \")","v":" "}," "," ",null,null,null,null,null,{"$f":"VLOOKUP(D2846,'Group Name'!A:B,2,0)","v":{"$error":"#N/A"}}," "]
[null,null,null,null,null,null,null,null,null,{"$f":"+IFERROR(VLOOKUP(C2850,'Charge Conversion'!A:C,3,0),\" \")","v":" "}," "," ",null,null,null,null,null,{"$f":"VLOOKUP(D2850,'Group Name'!A:B,2,0)","v":{"$error":"#N/A"}}," "]
[null,null,null,null,null,null,null,null,null,{"$f":"+IFERROR(VLOOKUP(C2852,'Charge Conversion'!A:C,3,0),\" \")","v":" "}," "," ",null,null,null,null,null,{"$f":"VLOOKUP(D2852,'Group Name'!A:B,2,0)","v":{"$error":"#N/A"}}," "]
[null,null,null,null,null,null,null,null,null,{"$f":"+IFERROR(VLOOKUP(C2855,'Charge Conversion'!A:C,3,0),\" \")","v":" "}," "," ",null,null,null,null,null,{"$f":"VLOOKUP(D2855,'Group Name'!A:B,2,0)","v":{"$error":"#N/A"}}," "]
[null,null,null,null,null,null,null,null,null,{"$f":"+IFERROR(VLOOKUP(C2858,'Charge Conversion'!A:C,3,0),\" \")","v":" "}," "," ",null,null,null,null,null,{"$f":"VLOOKUP(D2858,'Group Name'!A:B,2,0)","v":{"$error":"#N/A"}}," "]
[null,null,null,null,null,null,null,null,null,{"$f":"+IFERROR(VLOOKUP(C2860,'Charge Conversion'!A:C,3,0),\" \")","v":" "}," "," ",null,null,null,null,null,{"$f":"VLOOKUP(D2860,'Group Name'!A:B,2,0)","v":{"$error":"#N/A"}}," "]
[null,null,null,null,null,null,null,null,null,{"$f":"+IFERROR(VLOOKUP(C2861,'Charge Conversion'!A:C,3,0),\" \")","v":" "}," "," ",null,null,null,null,null,{"$f":"VLOOKUP(D2861,'Group Name'!A:B,2,0)","v":{"$error":"#N/A"}}," "]
[null,null,null,null,null,null,null,null,null,{"$f":"+IFERROR(VLOOKUP(C2865,'Charge Conversion'!A:C,3,0),\" \")","v":" "}," "," ",null,null,null,null,null,{"$f":"VLOOKUP(D2865,'Group Name'!A:B,2,0)","v":{"$error":"#N/A"}}," "]
[null,null,null,null,null,null,null,null,null,{"$f":"+IFERROR(VLOOKUP(C2866,'Charge Conversion'!A:C,3,0),\" \")","v":" "}," "," ",null,null,null,null,null,{"$f":"VLOOKUP(D2866,'Group Name'!A:B,2,0)","v":{"$error":"#N/A"}}," "]
[null,null,null,null,null,null,null,null,null,{"$f":"+IFERROR(VLOOKUP(C2870,'Charge Conversion'!A:C,3,0),\" \")","v":" "}," "," ",null,null,null,null,null,{"$f":"VLOOKUP(D2870,'Group Name'!A:B,2,0)","v":{"$error":"#N/A"}}," "]
[null,null,null,null,null,null,null,null,null,{"$f":"+IFERROR(VLOOKUP(C2872,'Charge Conversion'!A:C,3,0),\" \")","v":" "}," "," ",null,null,null,null,null,{"$f":"VLOOKUP(D2872,'Group Name'!A:B,2,0)","v":{"$error":"#N/A"}}," "]
[null,null,null,null,null,null,null,null,null,{"$f":"+IFERROR(VLOOKUP(C2875,'Charge Conversion'!A:C,3,0),\" \")","v":" "}," "," ",null,null,null,null,null,{"$f":"VLOOKUP(D2875,'Group Name'!A:B,2,0)","v":{"$error":"#N/A"}}," "]
[null,null,null,null,null,null,null,null,null,{"$f":"+IFERROR(VLOOKUP(C2878,'Charge Conversion'!A:C,3,0),\" \")","v":" "}," "," ",null,null,null,null,null,{"$f":"VLOOKUP(D2878,'Group Name'!A:B,2,0)","v":{"$error":"#N/A"}}," "]
[null,null,null,null,null,null,null,null,null,{"$f":"+IFERROR(VLOOKUP(C2880,'Charge Conversion'!A:C,3,0),\" \")","v":" "}," "," ",null,null,null,null,null,{"$f":"VLOOKUP(D2880,'Group Name'!A:B,2,0)","v":{"$error":"#N/A"}}," "]
[null,null,null,null,null,null,null,null,null,{"$f":"+IFERROR(VLOOKUP(C2881,'Charge Conversion'!A:C,3,0),\" \")","v":" "}," "," ",null,null,null,null,null,{"$f":"VLOOKUP(D2881,'Group Name'!A:B,2,0)","v":{"$error":"#N/A"}}," "]
[null,null,null,null,null,null,null,null,null,{"$f":"+IFERROR(VLOOKUP(C2885,'Charge Conversion'!A:C,3,0),\" \")","v":" "},{"$f":"+IFERROR(I2885*J2885,\" \")","v":" "},{"$f":"S2885","v":" "},null,null,null,null,null,{"$f":"VLOOKUP(D2885,'Group Name'!A:B,2,0)","v":{"$error":"#N/A"}},{"$f":"IFERROR((IF(A2885=\" \",\" \",R2885)),\" \")","v":" "}]
[null,null,null,null,null,null,null,null,null,{"$f":"+IFERROR(VLOOKUP(C2886,'Charge Conversion'!A:C,3,0),\" \")","v":" "}," "," ",null,null,null,null,null,{"$f":"VLOOKUP(D2886,'Group Name'!A:B,2,0)","v":{"$error":"#N/A"}}," "]
[null,null,null,null,null,null,null,null,null,{"$f":"+IFERROR(VLOOKUP(C2890,'Charge Conversion'!A:C,3,0),\" \")","v":" "}," "," ",null,null,null,null,null,{"$f":"VLOOKUP(D2890,'Group Name'!A:B,2,0)","v":{"$error":"#N/A"}}," "]
[null,null,null,null,null,null,null,null,null,{"$f":"+IFERROR(VLOOKUP(C2892,'Charge Conversion'!A:C,3,0),\" \")","v":" "}," "," ",null,null,null,null,null,{"$f":"VLOOKUP(D2892,'Group Name'!A:B,2,0)","v":{"$error":"#N/A"}}," "]
[null,null,null,null,null,null,null,null,null,{"$f":"+IFERROR(VLOOKUP(C2895,'Charge Conversion'!A:C,3,0),\" \")","v":" "}," "," ",null,null,null,null,null,{"$f":"VLOOKUP(D2895,'Group Name'!A:B,2,0)","v":{"$error":"#N/A"}}," "]
[null,null,null,null,null,null,null,null,null,{"$f":"+IFERROR(VLOOKUP(C2898,'Charge Conversion'!A:C,3,0),\" \")","v":" "}," "," ",null,null,null,null,null,{"$f":"VLOOKUP(D2898,'Group Name'!A:B,2,0)","v":{"$error":"#N/A"}}," "]
[null,null,null,null,null,null,null,null,null,{"$f":"+IFERROR(VLOOKUP(C2900,'Charge Conversion'!A:C,3,0),\" \")","v":" "}," "," ",null,null,null,null,null,{"$f":"VLOOKUP(D2900,'Group Name'!A:B,2,0)","v":{"$error":"#N/A"}}," "]
[null,null,null,null,null,null,null,null,null,{"$f":"+IFERROR(VLOOKUP(C2901,'Charge Conversion'!A:C,3,0),\" \")","v":" "}," "," ",null,null,null,null,null,{"$f":"VLOOKUP(D2901,'Group Name'!A:B,2,0)","v":{"$error":"#N/A"}}," "]
[null,null,null,null,null,null,null,null,null,{"$f":"+IFERROR(VLOOKUP(C2905,'Charge Conversion'!A:C,3,0),\" \")","v":" "}," "," ",null,null,null,null,null,{"$f":"VLOOKUP(D2905,'Group Name'!A:B,2,0)","v":{"$error":"#N/A"}}," "]
[null,null,null,null,null,null,null,null,null,{"$f":"+IFERROR(VLOOKUP(C2906,'Charge Conversion'!A:C,3,0),\" \")","v":" "}," "," ",null,null,null,null,null,{"$f":"VLOOKUP(D2906,'Group Name'!A:B,2,0)","v":{"$error":"#N/A"}}," "]
[null,null,null,null,null,null,null,null,null,{"$f":"+IFERROR(VLOOKUP(C2910,'Charge Conversion'!A:C,3,0),\" \")","v":" "}," "," ",null,null,null,null,null,{"$f":"VLOOKUP(D2910,'Group Name'!A:B,2,0)","v":{"$error":"#N/A"}}," "]
[null,null,null,null,null,null,null,null,null,{"$f":"+IFERROR(VLOOKUP(C2912,'Charge Conversion'!A:C,3,0),\" \")","v":" "}," "," ",null,null,null,null,null,{"$f":"VLOOKUP(D2912,'Group Name'!A:B,2,0)","v":{"$error":"#N/A"}}," "]
[null,null,null,null,null,null,null,null,null,{"$f":"+IFERROR(VLOOKUP(C2915,'Charge Conversion'!A:C,3,0),\" \")","v":" "}," "," ",null,null,null,null,null,{"$f":"VLOOKUP(D2915,'Group Name'!A:B,2,0)","v":{"$error":"#N/A"}}," "]
[null,null,null,null,null,null,null,null,null,{"$f":"+IFERROR(VLOOKUP(C2918,'Charge Conversion'!A:C,3,0),\" \")","v":" "}," "," ",null,null,null,null,null,{"$f":"VLOOKUP(D2918,'Group Name'!A:B,2,0)","v":{"$error":"#N/A"}}," "]
[null,null,null,null,null,null,null,null,null,{"$f":"+IFERROR(VLOOKUP(C2920,'Charge Conversion'!A:C,3,0),\" \")","v":" "}," "," ",null,null,null,null,null,{"$f":"VLOOKUP(D2920,'Group Name'!A:B,2,0)","v":{"$error":"#N/A"}}," "]
[null,null,null,null,null,null,null,null,null,{"$f":"+IFERROR(VLOOKUP(C2921,'Charge Conversion'!A:C,3,0),\" \")","v":" "}," "," ",null,null,null,null,null,{"$f":"VLOOKUP(D2921,'Group Name'!A:B,2,0)","v":{"$error":"#N/A"}}," "]
[null,null,null,null,null,null,null,null,null,{"$f":"+IFERROR(VLOOKUP(C2924,'Charge Conversion'!A:C,3,0),\" \")","v":" "}," "," ",null,null,null,null,null,{"$f":"VLOOKUP(D2924,'Group Name'!A:B,2,0)","v":{"$error":"#N/A"}}," "]
[null,null,null,null,null,null,null,null,null,{"$f":"+IFERROR(VLOOKUP(C2927,'Charge Conversion'!A:C,3,0),\" \")","v":" "}," "," ",null,null,null,null,null,{"$f":"VLOOKUP(D2927,'Group Name'!A:B,2,0)","v":{"$error":"#N/A"}}," "]
[null,null,null,null,null,null,null,null,null,{"$f":"+IFERROR(VLOOKUP(C2930,'Charge Conversion'!A:C,3,0),\" \")","v":" "}," "," ",null,null,null,null,null,{"$f":"VLOOKUP(D2930,'Group Name'!A:B,2,0)","v":{"$error":"#N/A"}}," "]
[null,null,null,null,null,null,null,null,null,{"$f":"+IFERROR(VLOOKUP(C2932,'Charge Conversion'!A:C,3,0),\" \")","v":" "}," "," ",null,null,null,null,null,{"$f":"VLOOKUP(D2932,'Group Name'!A:B,2,0)","v":{"$error":"#N/A"}}," "]
[null,null,null,null,null,null,null,null,null,{"$f":"+IFERROR(VLOOKUP(C2936,'Charge Conversion'!A:C,3,0),\" \")","v":" "}," "," ",null,null,null,null,null,{"$f":"VLOOKUP(D2936,'Group Name'!A:B,2,0)","v":{"$error":"#N/A"}}," "]
[null,null,null,null,null,null,null,null,null,{"$f":"+IFERROR(VLOOKUP(C2937,'Charge Conversion'!A:C,3,0),\" \")","v":" "}," "," ",null,null,null,null,null,{"$f":"VLOOKUP(D2937,'Group Name'!A:B,2,0)","v":{"$error":"#N/A"}}," "]
[null,null,null,null,null,null,null,null,null,{"$f":"+IFERROR(VLOOKUP(C2941,'Charge Conversion'!A:C,3,0),\" \")","v":" "}," "," ",null,null,null,null,null,{"$f":"VLOOKUP(D2941,'Group Name'!A:B,2,0)","v":{"$error":"#N/A"}}," "]
[null,null,null,null,null,null,null,null,null,{"$f":"+IFERROR(VLOOKUP(C2942,'Charge Conversion'!A:C,3,0),\" \")","v":" "}," "," ",null,null,null,null,null,{"$f":"VLOOKUP(D2942,'Group Name'!A:B,2,0)","v":{"$error":"#N/A"}}," "]
[null,null,null,null,null,null,null,null,null,{"$f":"+IFERROR(VLOOKUP(C2944,'Charge Conversion'!A:C,3,0),\" \")","v":" "}," "," ",null,null,null,null,null,{"$f":"VLOOKUP(D2944,'Group Name'!A:B,2,0)","v":{"$error":"#N/A"}}," "]
[null,null,null,null,null,null,null,null,null,{"$f":"+IFERROR(VLOOKUP(C2947,'Charge Conversion'!A:C,3,0),\" \")","v":" "}," "," ",null,null,null,null,null,{"$f":"VLOOKUP(D2947,'Group Name'!A:B,2,0)","v":{"$error":"#N/A"}}," "]
[null,null,null,null,null,null,null,null,null,{"$f":"+IFERROR(VLOOKUP(C2950,'Charge Conversion'!A:C,3,0),\" \")","v":" "}," "," ",null,null,null,null,null,{"$f":"VLOOKUP(D2950,'Group Name'!A:B,2,0)","v":{"$error":"#N/A"}}," "]
[null,null,null,null,null,null,null,null,null,{"$f":"+IFERROR(VLOOKUP(C2952,'Charge Conversion'!A:C,3,0),\" \")","v":" "}," "," ",null,null,null,null,null,{"$f":"VLOOKUP(D2952,'Group Name'!A:B,2,0)","v":{"$error":"#N/A"}}," "]
[null,null,null,null,null,null,null,null,null,{"$f":"+IFERROR(VLOOKUP(C2956,'Charge Conversion'!A:C,3,0),\" \")","v":" "}," "," ",null,null,null,null,null,{"$f":"VLOOKUP(D2956,'Group Name'!A:B,2,0)","v":{"$error":"#N/A"}}," "]
[null,null,null,null,null,null,null,null,null,{"$f":"+IFERROR(VLOOKUP(C2957,'Charge Conversion'!A:C,3,0),\" \")","v":" "}," "," ",null,null,null,null,null,{"$f":"VLOOKUP(D2957,'Group Name'!A:B,2,0)","v":{"$error":"#N/A"}}," "]
[null,null,null,null,null,null,null,null,null,{"$f":"+IFERROR(VLOOKUP(C2961,'Charge Conversion'!A:C,3,0),\" \")","v":" "}," "," ",null,null,null,null,null,{"$f":"VLOOKUP(D2961,'Group Name'!A:B,2,0)","v":{"$error":"#N/A"}}," "]
[null,null,null,null,null,null,null,null,null,{"$f":"+IFERROR(VLOOKUP(C2962,'Charge Conversion'!A:C,3,0),\" \")","v":" "}," "," ",null,null,null,null,null,{"$f":"VLOOKUP(D2962,'Group Name'!A:B,2,0)","v":{"$error":"#N/A"}}," "]
[null,null,null,null,null,null,null,null,null,{"$f":"+IFERROR(VLOOKUP(C2964,'Charge Conversion'!A:C,3,0),\" \")","v":" "}," "," ",null,null,null,null,null,{"$f":"VLOOKUP(D2964,'Group Name'!A:B,2,0)","v":{"$error":"#N/A"}}," "]
[null,null,null,null,null,null,null,null,null,{"$f":"+IFERROR(VLOOKUP(C2967,'Charge Conversion'!A:C,3,0),\" \")","v":" "}," "," ",null,null,null,null,null,{"$f":"VLOOKUP(D2967,'Group Name'!A:B,2,0)","v":{"$error":"#N/A"}}," "]
[null,null,null,null,null,null,null,null,null,{"$f":"+IFERROR(VLOOKUP(C2970,'Charge Conversion'!A:C,3,0),\" \")","v":" "}," "," ",null,null,null,null,null,{"$f":"VLOOKUP(D2970,'Group Name'!A:B,2,0)","v":{"$error":"#N/A"}}," "]
[null,null,null,null,null,null,null,null,null,{"$f":"+IFERROR(VLOOKUP(C2972,'Charge Conversion'!A:C,3,0),\" \")","v":" "}," "," ",null,null,null,null,null,{"$f":"VLOOKUP(D2972,'Group Name'!A:B,2,0)","v":{"$error":"#N/A"}}," "]
[null,null,null,null,null,null,null,null,null,{"$f":"+IFERROR(VLOOKUP(C2976,'Charge Conversion'!A:C,3,0),\" \")","v":" "}," "," ",null,null,null,null,null,{"$f":"VLOOKUP(D2976,'Group Name'!A:B,2,0)","v":{"$error":"#N/A"}}," "]
[null,null,null,null,null,null,null,null,null,{"$f":"+IFERROR(VLOOKUP(C2977,'Charge Conversion'!A:C,3,0),\" \")","v":" "}," "," ",null,null,null,null,null,{"$f":"VLOOKUP(D2977,'Group Name'!A:B,2,0)","v":{"$error":"#N/A"}}," "]
[null,null,null,null,null,null,null,null,null,{"$f":"+IFERROR(VLOOKUP(C2981,'Charge Conversion'!A:C,3,0),\" \")","v":" "}," "," ",null,null,null,null,null,{"$f":"VLOOKUP(D2981,'Group Name'!A:B,2,0)","v":{"$error":"#N/A"}}," "]
[null,null,null,null,null,null,null,null,null,{"$f":"+IFERROR(VLOOKUP(C2982,'Charge Conversion'!A:C,3,0),\" \")","v":" "}," "," ",null,null,null,null,null,{"$f":"VLOOKUP(D2982,'Group Name'!A:B,2,0)","v":{"$error":"#N/A"}}," "]
[null,null,null,null,null,null,null,null,null,{"$f":"+IFERROR(VLOOKUP(C2984,'Charge Conversion'!A:C,3,0),\" \")","v":" "}," "," ",null,null,null,null,null,{"$f":"VLOOKUP(D2984,'Group Name'!A:B,2,0)","v":{"$error":"#N/A"}}," "]
[null,null,null,null,null,null,null,null,null,{"$f":"+IFERROR(VLOOKUP(C2987,'Charge Conversion'!A:C,3,0),\" \")","v":" "}," "," ",null,null,null,null,null,{"$f":"VLOOKUP(D2987,'Group Name'!A:B,2,0)","v":{"$error":"#N/A"}}," "]
[null,null,null,null,null,null,null,null,null,{"$f":"+IFERROR(VLOOKUP(C2990,'Charge Conversion'!A:C,3,0),\" \")","v":" "}," "," ",null,null,null,null,null,{"$f":"VLOOKUP(D2990,'Group Name'!A:B,2,0)","v":{"$error":"#N/A"}}," "]
[null,null,null,null,null,null,null,null,null,{"$f":"+IFERROR(VLOOKUP(C2992,'Charge Conversion'!A:C,3,0),\" \")","v":" "}," "," ",null,null,null,null,null,{"$f":"VLOOKUP(D2992,'Group Name'!A:B,2,0)","v":{"$error":"#N/A"}}," "]
[null,null,null,null,null,null,null,null,null,{"$f":"+IFERROR(VLOOKUP(C2996,'Charge Conversion'!A:C,3,0),\" \")","v":" "}," "," ",null,null,null,null,null,{"$f":"VLOOKUP(D2996,'Group Name'!A:B,2,0)","v":{"$error":"#N/A"}}," "]
[null,null,null,null,null,null,null,null,null,{"$f":"+IFERROR(VLOOKUP(C2997,'Charge Conversion'!A:C,3,0),\" \")","v":" "}," "," ",null,null,null,null,null,{"$f":"VLOOKUP(D2997,'Group Name'!A:B,2,0)","v":{"$error":"#N/A"}}," "]
[null,null,null,null,null,null,null,null,null,{"$f":"+IFERROR(VLOOKUP(C2999,'Charge Conversion'!A:C,3,0),\" \")","v":" "}," "," ",null,null,null,null,null,{"$f":"VLOOKUP(D2999,'Group Name'!A:B,2,0)","v":{"$error":"#N/A"}}," "]
[null,null,null,null,null,null,null,null,null,{"$f":"+IFERROR(VLOOKUP(C3002,'Charge Conversion'!A:C,3,0),\" \")","v":" "}," "," ",null,null,null,null,null,{"$f":"VLOOKUP(D3002,'Group Name'!A:B,2,0)","v":{"$error":"#N/A"}}," "]
[null,null,null,null,null,null,null,null,null,{"$f":"+IFERROR(VLOOKUP(C3004,'Charge Conversion'!A:C,3,0),\" \")","v":" "}," "," ",null,null,null,null,null,{"$f":"VLOOKUP(D3004,'Group Name'!A:B,2,0)","v":{"$error":"#N/A"}}," "]
[null,null,null,null,null,null,null,null,null,{"$f":"+IFERROR(VLOOKUP(C3007,'Charge Conversion'!A:C,3,0),\" \")","v":" "}," "," ",null,null,null,null,null,{"$f":"VLOOKUP(D3007,'Group Name'!A:B,2,0)","v":{"$error":"#N/A"}}," "]
[null,null,null,null,null,null,null,null,null,{"$f":"+IFERROR(VLOOKUP(C3010,'Charge Conversion'!A:C,3,0),\" \")","v":" "}," "," ",null,null,null,null,null,{"$f":"VLOOKUP(D3010,'Group Name'!A:B,2,0)","v":{"$error":"#N/A"}}," "]
[null,null,null,null,null,null,null,null,null,{"$f":"+IFERROR(VLOOKUP(C3012,'Charge Conversion'!A:C,3,0),\" \")","v":" "}," "," ",null,null,null,null,null,{"$f":"VLOOKUP(D3012,'Group Name'!A:B,2,0)","v":{"$error":"#N/A"}}," "]
[null,null,null,null,null,null,null,null,null,{"$f":"+IFERROR(VLOOKUP(C3016,'Charge Conversion'!A:C,3,0),\" \")","v":" "}," "," ",null,null,null,null,null,{"$f":"VLOOKUP(D3016,'Group Name'!A:B,2,0)","v":{"$error":"#N/A"}}," "]
[null,null,null,null,null,null,null,null,null,{"$f":"+IFERROR(VLOOKUP(C3017,'Charge Conversion'!A:C,3,0),\" \")","v":" "}," "," ",null,null,null,null,null,{"$f":"VLOOKUP(D3017,'Group Name'!A:B,2,0)","v":{"$error":"#N/A"}}," "]
[null,null,null,null,null,null,null,null,null,{"$f":"+IFERROR(VLOOKUP(C3019,'Charge Conversion'!A:C,3,0),\" \")","v":" "}," "," ",null,null,null,null,null,{"$f":"VLOOKUP(D3019,'Group Name'!A:B,2,0)","v":{"$error":"#N/A"}}," "]
[null,null,null,null,null,null,null,null,null,{"$f":"+IFERROR(VLOOKUP(C3022,'Charge Conversion'!A:C,3,0),\" \")","v":" "}," "," ",null,null,null,null,null,{"$f":"VLOOKUP(D3022,'Group Name'!A:B,2,0)","v":{"$error":"#N/A"}}," "]
[null,null,null,null,null,null,null,null,null,{"$f":"+IFERROR(VLOOKUP(C3024,'Charge Conversion'!A:C,3,0),\" \")","v":" "}," "," ",null,null,null,null,null,{"$f":"VLOOKUP(D3024,'Group Name'!A:B,2,0)","v":{"$error":"#N/A"}}," "]
[null,null,null,null,null,null,null,null,null,{"$f":"+IFERROR(VLOOKUP(C3027,'Charge Conversion'!A:C,3,0),\" \")","v":" "}," "," ",null,null,null,null,null,{"$f":"VLOOKUP(D3027,'Group Name'!A:B,2,0)","v":{"$error":"#N/A"}}," "]
[null,null,null,null,null,null,null,null,null,{"$f":"+IFERROR(VLOOKUP(C3030,'Charge Conversion'!A:C,3,0),\" \")","v":" "}," "," ",null,null,null,null,null,{"$f":"VLOOKUP(D3030,'Group Name'!A:B,2,0)","v":{"$error":"#N/A"}}," "]
[null,null,null,null,null,null,null,null,null,{"$f":"+IFERROR(VLOOKUP(C3032,'Charge Conversion'!A:C,3,0),\" \")","v":" "}," "," ",null,null,null,null,null,{"$f":"VLOOKUP(D3032,'Group Name'!A:B,2,0)","v":{"$error":"#N/A"}}," "]
[null,null,null,null,null,null,null,null,null,{"$f":"+IFERROR(VLOOKUP(C3036,'Charge Conversion'!A:C,3,0),\" \")","v":" "}," "," ",null,null,null,null,null,{"$f":"VLOOKUP(D3036,'Group Name'!A:B,2,0)","v":{"$error":"#N/A"}}," "]
[null,null,null,null,null,null,null,null,null,{"$f":"+IFERROR(VLOOKUP(C3037,'Charge Conversion'!A:C,3,0),\" \")","v":" "}," "," ",null,null,null,null,null,{"$f":"VLOOKUP(D3037,'Group Name'!A:B,2,0)","v":{"$error":"#N/A"}}," "]
[null,null,null,null,null,null,null,null,null,{"$f":"+IFERROR(VLOOKUP(C3039,'Charge Conversion'!A:C,3,0),\" \")","v":" "}," "," ",null,null,null,null,null,{"$f":"VLOOKUP(D3039,'Group Name'!A:B,2,0)","v":{"$error":"#N/A"}}," "]
[null,null,null,null,null,null,null,null,null,{"$f":"+IFERROR(VLOOKUP(C3042,'Charge Conversion'!A:C,3,0),\" \")","v":" "}," "," ",null,null,null,null,null,{"$f":"VLOOKUP(D3042,'Group Name'!A:B,2,0)","v":{"$error":"#N/A"}}," "]
[null,null,null,null,null,null,null,null,null,{"$f":"+IFERROR(VLOOKUP(C3044,'Charge Conversion'!A:C,3,0),\" \")","v":" "}," "," ",null,null,null,null,null,{"$f":"VLOOKUP(D3044,'Group Name'!A:B,2,0)","v":{"$error":"#N/A"}}," "]
[null,null,null,null,null,null,null,null,null,{"$f":"+IFERROR(VLOOKUP(C3047,'Charge Conversion'!A:C,3,0),\" \")","v":" "}," "," ",null,null,null,null,null,{"$f":"VLOOKUP(D3047,'Group Name'!A:B,2,0)","v":{"$error":"#N/A"}}," "]
[null,null,null,null,null,null,null,null,null,{"$f":"+IFERROR(VLOOKUP(C3050,'Charge Conversion'!A:C,3,0),\" \")","v":" "}," "," ",null,null,null,null,null,{"$f":"VLOOKUP(D3050,'Group Name'!A:B,2,0)","v":{"$error":"#N/A"}}," "]
[null,null,null,null,null,null,null,null,null,{"$f":"+IFERROR(VLOOKUP(C3052,'Charge Conversion'!A:C,3,0),\" \")","v":" "}," "," ",null,null,null,null,null,{"$f":"VLOOKUP(D3052,'Group Name'!A:B,2,0)","v":{"$error":"#N/A"}}," "]
[null,null,null,null,null,null,null,null,null,{"$f":"+IFERROR(VLOOKUP(C3056,'Charge Conversion'!A:C,3,0),\" \")","v":" "}," "," ",null,null,null,null,null,{"$f":"VLOOKUP(D3056,'Group Name'!A:B,2,0)","v":{"$error":"#N/A"}}," "]
[null,null,null,null,null,null,null,null,null,{"$f":"+IFERROR(VLOOKUP(C3059,'Charge Conversion'!A:C,3,0),\" \")","v":" "}," "," ",null,null,null,null,null,{"$f":"VLOOKUP(D3059,'Group Name'!A:B,2,0)","v":{"$error":"#N/A"}}," "]
[null,null,null,null,null,null,null,null,null,{"$f":"+IFERROR(VLOOKUP(C3061,'Charge Conversion'!A:C,3,0),\" \")","v":" "}," "," ",null,null,null,null,null,{"$f":"VLOOKUP(D3061,'Group Name'!A:B,2,0)","v":{"$error":"#N/A"}}," "]
[null,null,null,null,null,null,null,null,null,{"$f":"+IFERROR(VLOOKUP(C3062,'Charge Conversion'!A:C,3,0),\" \")","v":" "}," "," ",null,null,null,null,null,{"$f":"VLOOKUP(D3062,'Group Name'!A:B,2,0)","v":{"$error":"#N/A"}}," "]
[null,null,null,null,null,null,null,null,null,{"$f":"+IFERROR(VLOOKUP(C3066,'Charge Conversion'!A:C,3,0),\" \")","v":" "}," "," ",null,null,null,null,null,{"$f":"VLOOKUP(D3066,'Group Name'!A:B,2,0)","v":{"$error":"#N/A"}}," "]
[null,null,null,null,null,null,null,null,null,{"$f":"+IFERROR(VLOOKUP(C3068,'Charge Conversion'!A:C,3,0),\" \")","v":" "}," "," ",null,null,null,null,null,{"$f":"VLOOKUP(D3068,'Group Name'!A:B,2,0)","v":{"$error":"#N/A"}}," "]
[null,null,null,null,null,null,null,null,null,{"$f":"+IFERROR(VLOOKUP(C3071,'Charge Conversion'!A:C,3,0),\" \")","v":" "}," "," ",null,null,null,null,null,{"$f":"VLOOKUP(D3071,'Group Name'!A:B,2,0)","v":{"$error":"#N/A"}}," "]
[null,null,null,null,null,null,null,null,null,{"$f":"+IFERROR(VLOOKUP(C3074,'Charge Conversion'!A:C,3,0),\" \")","v":" "}," "," ",null,null,null,null,null,{"$f":"VLOOKUP(D3074,'Group Name'!A:B,2,0)","v":{"$error":"#N/A"}}," "]
[null,null,null,null,null,null,null,null,null,{"$f":"+IFERROR(VLOOKUP(C3076,'Charge Conversion'!A:C,3,0),\" \")","v":" "}," "," ",null,null,null,null,null,{"$f":"VLOOKUP(D3076,'Group Name'!A:B,2,0)","v":{"$error":"#N/A"}}," "]
[null,null,null,null,null,null,null,null,null,{"$f":"+IFERROR(VLOOKUP(C3079,'Charge Conversion'!A:C,3,0),\" \")","v":" "}," "," ",null,null,null,null,null,{"$f":"VLOOKUP(D3079,'Group Name'!A:B,2,0)","v":{"$error":"#N/A"}}," "]
[null,null,null,null,null,null,null,null,null,{"$f":"+IFERROR(VLOOKUP(C3081,'Charge Conversion'!A:C,3,0),\" \")","v":" "}," "," ",null,null,null,null,null,{"$f":"VLOOKUP(D3081,'Group Name'!A:B,2,0)","v":{"$error":"#N/A"}}," "]
[null,null,null,null,null,null,null,null,null,{"$f":"+IFERROR(VLOOKUP(C3082,'Charge Conversion'!A:C,3,0),\" \")","v":" "}," "," ",null,null,null,null,null,{"$f":"VLOOKUP(D3082,'Group Name'!A:B,2,0)","v":{"$error":"#N/A"}}," "]
[null,null,null,null,null,null,null,null,null,{"$f":"+IFERROR(VLOOKUP(C3086,'Charge Conversion'!A:C,3,0),\" \")","v":" "}," "," ",null,null,null,null,null,{"$f":"VLOOKUP(D3086,'Group Name'!A:B,2,0)","v":{"$error":"#N/A"}}," "]
[null,null,null,null,null,null,null,null,null,{"$f":"+IFERROR(VLOOKUP(C3088,'Charge Conversion'!A:C,3,0),\" \")","v":" "}," "," ",null,null,null,null,null,{"$f":"VLOOKUP(D3088,'Group Name'!A:B,2,0)","v":{"$error":"#N/A"}}," "]
[null,null,null,null,null,null,null,null,null,{"$f":"+IFERROR(VLOOKUP(C3091,'Charge Conversion'!A:C,3,0),\" \")","v":" "}," "," ",null,null,null,null,null,{"$f":"VLOOKUP(D3091,'Group Name'!A:B,2,0)","v":{"$error":"#N/A"}}," "]
[null,null,null,null,null,null,null,null,null,{"$f":"+IFERROR(VLOOKUP(C3094,'Charge Conversion'!A:C,3,0),\" \")","v":" "}," "," ",null,null,null,null,null,{"$f":"VLOOKUP(D3094,'Group Name'!A:B,2,0)","v":{"$error":"#N/A"}}," "]
[null,null,null,null,null,null,null,null,null,{"$f":"+IFERROR(VLOOKUP(C3096,'Charge Conversion'!A:C,3,0),\" \")","v":" "}," "," ",null,null,null,null,null,{"$f":"VLOOKUP(D3096,'Group Name'!A:B,2,0)","v":{"$error":"#N/A"}}," "]
[null,null,null,null,null,null,null,null,null,{"$f":"+IFERROR(VLOOKUP(C3099,'Charge Conversion'!A:C,3,0),\" \")","v":" "}," "," ",null,null,null,null,null,{"$f":"VLOOKUP(D3099,'Group Name'!A:B,2,0)","v":{"$error":"#N/A"}}," "]
[null,null,null,null,null,null,null,null,null,{"$f":"+IFERROR(VLOOKUP(C3101,'Charge Conversion'!A:C,3,0),\" \")","v":" "}," "," ",null,null,null,null,null,{"$f":"VLOOKUP(D3101,'Group Name'!A:B,2,0)","v":{"$error":"#N/A"}}," "]
[null,null,null,null,null,null,null,null,null,{"$f":"+IFERROR(VLOOKUP(C3102,'Charge Conversion'!A:C,3,0),\" \")","v":" "}," "," ",null,null,null,null,null,{"$f":"VLOOKUP(D3102,'Group Name'!A:B,2,0)","v":{"$error":"#N/A"}}," "]
[null,null,null,null,null,null,null,null,null,{"$f":"+IFERROR(VLOOKUP(C3106,'Charge Conversion'!A:C,3,0),\" \")","v":" "}," "," ",null,null,null,null,null,{"$f":"VLOOKUP(D3106,'Group Name'!A:B,2,0)","v":{"$error":"#N/A"}}," "]
[null,null,null,null,null,null,null,null,null,{"$f":"+IFERROR(VLOOKUP(C3108,'Charge Conversion'!A:C,3,0),\" \")","v":" "}," "," ",null,null,null,null,null,{"$f":"VLOOKUP(D3108,'Group Name'!A:B,2,0)","v":{"$error":"#N/A"}}," "]
[null,null,null,null,null,null,null,null,null,{"$f":"+IFERROR(VLOOKUP(C3111,'Charge Conversion'!A:C,3,0),\" \")","v":" "}," "," ",null,null,null,null,null,{"$f":"VLOOKUP(D3111,'Group Name'!A:B,2,0)","v":{"$error":"#N/A"}}," "]
[null,null,null,null,null,null,null,null,null,{"$f":"+IFERROR(VLOOKUP(C3114,'Charge Conversion'!A:C,3,0),\" \")","v":" "}," "," ",null,null,null,null,null,{"$f":"VLOOKUP(D3114,'Group Name'!A:B,2,0)","v":{"$error":"#N/A"}}," "]
[null,null,null,null,null,null,null,null,null,{"$f":"+IFERROR(VLOOKUP(C3116,'Charge Conversion'!A:C,3,0),\" \")","v":" "}," "," ",null,null,null,null,null,{"$f":"VLOOKUP(D3116,'Group Name'!A:B,2,0)","v":{"$error":"#N/A"}}," "]
[null,null,null,null,null,null,null,null,null,{"$f":"+IFERROR(VLOOKUP(C3119,'Charge Conversion'!A:C,3,0),\" \")","v":" "}," "," ",null,null,null,null,null,{"$f":"VLOOKUP(D3119,'Group Name'!A:B,2,0)","v":{"$error":"#N/A"}}," "]
[null,null,null,null,null,null,null,null,null,{"$f":"+IFERROR(VLOOKUP(C3121,'Charge Conversion'!A:C,3,0),\" \")","v":" "}," "," ",null,null,null,null,null,{"$f":"VLOOKUP(D3121,'Group Name'!A:B,2,0)","v":{"$error":"#N/A"}}," "]
[null,null,null,null,null,null,null,null,null,{"$f":"+IFERROR(VLOOKUP(C3122,'Charge Conversion'!A:C,3,0),\" \")","v":" "}," "," ",null,null,null,null,null,{"$f":"VLOOKUP(D3122,'Group Name'!A:B,2,0)","v":{"$error":"#N/A"}}," "]
[null,null,null,null,null,null,null,null,null,{"$f":"+IFERROR(VLOOKUP(C3126,'Charge Conversion'!A:C,3,0),\" \")","v":" "}," "," ",null,null,null,null,null,{"$f":"VLOOKUP(D3126,'Group Name'!A:B,2,0)","v":{"$error":"#N/A"}}," "]
[null,null,null,null,null,null,null,null,null,{"$f":"+IFERROR(VLOOKUP(C3128,'Charge Conversion'!A:C,3,0),\" \")","v":" "}," "," ",null,null,null,null,null,{"$f":"VLOOKUP(D3128,'Group Name'!A:B,2,0)","v":{"$error":"#N/A"}}," "]
[null,null,null,null,null,null,null,null,null,{"$f":"+IFERROR(VLOOKUP(C3131,'Charge Conversion'!A:C,3,0),\" \")","v":" "}," "," ",null,null,null,null,null,{"$f":"VLOOKUP(D3131,'Group Name'!A:B,2,0)","v":{"$error":"#N/A"}}," "]
[null,null,null,null,null,null,null,null,null,{"$f":"+IFERROR(VLOOKUP(C3134,'Charge Conversion'!A:C,3,0),\" \")","v":" "}," "," ",null,null,null,null,null,{"$f":"VLOOKUP(D3134,'Group Name'!A:B,2,0)","v":{"$error":"#N/A"}}," "]
[null,null,null,null,null,null,null,null,null,{"$f":"+IFERROR(VLOOKUP(C3136,'Charge Conversion'!A:C,3,0),\" \")","v":" "}," "," ",null,null,null,null,null,{"$f":"VLOOKUP(D3136,'Group Name'!A:B,2,0)","v":{"$error":"#N/A"}}," "]
[null,null,null,null,null,null,null,null,null,{"$f":"+IFERROR(VLOOKUP(C3137,'Charge Conversion'!A:C,3,0),\" \")","v":" "}," "," ",null,null,null,null,null,{"$f":"VLOOKUP(D3137,'Group Name'!A:B,2,0)","v":{"$error":"#N/A"}}," "]
[null,null,null,null,null,null,null,null,null,{"$f":"+IFERROR(VLOOKUP(C3141,'Charge Conversion'!A:C,3,0),\" \")","v":" "},{"$f":"+IFERROR(I3141*J3141,\" \")","v":" "},{"$f":"S3141","v":" "},null,null,null,null,null,{"$f":"VLOOKUP(D3141,'Group Name'!A:B,2,0)","v":{"$error":"#N/A"}},{"$f":"IFERROR((IF(A3141=\" \",\" \",R3141)),\" \")","v":" "}]
[null,null,null,null,null,null,null,null,null,{"$f":"+IFERROR(VLOOKUP(C3142,'Charge Conversion'!A:C,3,0),\" \")","v":" "}," "," ",null,null,null,null,null,{"$f":"VLOOKUP(D3142,'Group Name'!A:B,2,0)","v":{"$error":"#N/A"}}," "]
[null,null,null,null,null,null,null,null,null,{"$f":"+IFERROR(VLOOKUP(C3146,'Charge Conversion'!A:C,3,0),\" \")","v":" "}," "," ",null,null,null,null,null,{"$f":"VLOOKUP(D3146,'Group Name'!A:B,2,0)","v":{"$error":"#N/A"}}," "]
[null,null,null,null,null,null,null,null,null,{"$f":"+IFERROR(VLOOKUP(C3148,'Charge Conversion'!A:C,3,0),\" \")","v":" "}," "," ",null,null,null,null,null,{"$f":"VLOOKUP(D3148,'Group Name'!A:B,2,0)","v":{"$error":"#N/A"}}," "]
[null,null,null,null,null,null,null,null,null,{"$f":"+IFERROR(VLOOKUP(C3151,'Charge Conversion'!A:C,3,0),\" \")","v":" "}," "," ",null,null,null,null,null,{"$f":"VLOOKUP(D3151,'Group Name'!A:B,2,0)","v":{"$error":"#N/A"}}," "]
[null,null,null,null,null,null,null,null,null,{"$f":"+IFERROR(VLOOKUP(C3154,'Charge Conversion'!A:C,3,0),\" \")","v":" "}," "," ",null,null,null,null,null,{"$f":"VLOOKUP(D3154,'Group Name'!A:B,2,0)","v":{"$error":"#N/A"}}," "]
[null,null,null,null,null,null,null,null,null,{"$f":"+IFERROR(VLOOKUP(C3156,'Charge Conversion'!A:C,3,0),\" \")","v":" "}," "," ",null,null,null,null,null,{"$f":"VLOOKUP(D3156,'Group Name'!A:B,2,0)","v":{"$error":"#N/A"}}," "]
[null,null,null,null,null,null,null,null,null,{"$f":"+IFERROR(VLOOKUP(C3157,'Charge Conversion'!A:C,3,0),\" \")","v":" "}," "," ",null,null,null,null,null,{"$f":"VLOOKUP(D3157,'Group Name'!A:B,2,0)","v":{"$error":"#N/A"}}," "]
[null,null,null,null,null,null,null,null,null,{"$f":"+IFERROR(VLOOKUP(C3161,'Charge Conversion'!A:C,3,0),\" \")","v":" "}," "," ",null,null,null,null,null,{"$f":"VLOOKUP(D3161,'Group Name'!A:B,2,0)","v":{"$error":"#N/A"}}," "]
[null,null,null,null,null,null,null,null,null,{"$f":"+IFERROR(VLOOKUP(C3162,'Charge Conversion'!A:C,3,0),\" \")","v":" "}," "," ",null,null,null,null,null,{"$f":"VLOOKUP(D3162,'Group Name'!A:B,2,0)","v":{"$error":"#N/A"}}," "]
[null,null,null,null,null,null,null,null,null,{"$f":"+IFERROR(VLOOKUP(C3166,'Charge Conversion'!A:C,3,0),\" \")","v":" "}," "," ",null,null,null,null,null,{"$f":"VLOOKUP(D3166,'Group Name'!A:B,2,0)","v":{"$error":"#N/A"}}," "]
[null,null,null,null,null,null,null,null,null,{"$f":"+IFERROR(VLOOKUP(C3168,'Charge Conversion'!A:C,3,0),\" \")","v":" "}," "," ",null,null,null,null,null,{"$f":"VLOOKUP(D3168,'Group Name'!A:B,2,0)","v":{"$error":"#N/A"}}," "]
[null,null,null,null,null,null,null,null,null,{"$f":"+IFERROR(VLOOKUP(C3171,'Charge Conversion'!A:C,3,0),\" \")","v":" "}," "," ",null,null,null,null,null,{"$f":"VLOOKUP(D3171,'Group Name'!A:B,2,0)","v":{"$error":"#N/A"}}," "]
[null,null,null,null,null,null,null,null,null,{"$f":"+IFERROR(VLOOKUP(C3174,'Charge Conversion'!A:C,3,0),\" \")","v":" "}," "," ",null,null,null,null,null,{"$f":"VLOOKUP(D3174,'Group Name'!A:B,2,0)","v":{"$error":"#N/A"}}," "]
[null,null,null,null,null,null,null,null,null,{"$f":"+IFERROR(VLOOKUP(C3176,'Charge Conversion'!A:C,3,0),\" \")","v":" "}," "," ",null,null,null,null,null,{"$f":"VLOOKUP(D3176,'Group Name'!A:B,2,0)","v":{"$error":"#N/A"}}," "]
[null,null,null,null,null,null,null,null,null,{"$f":"+IFERROR(VLOOKUP(C3177,'Charge Conversion'!A:C,3,0),\" \")","v":" "}," "," ",null,null,null,null,null,{"$f":"VLOOKUP(D3177,'Group Name'!A:B,2,0)","v":{"$error":"#N/A"}}," "]
[null,null,null,null,null,null,null,null,null,{"$f":"+IFERROR(VLOOKUP(C3181,'Charge Conversion'!A:C,3,0),\" \")","v":" "}," "," ",null,null,null,null,null,{"$f":"VLOOKUP(D3181,'Group Name'!A:B,2,0)","v":{"$error":"#N/A"}}," "]
[null,null,null,null,null,null,null,null,null,{"$f":"+IFERROR(VLOOKUP(C3182,'Charge Conversion'!A:C,3,0),\" \")","v":" "}," "," ",null,null,null,null,null,{"$f":"VLOOKUP(D3182,'Group Name'!A:B,2,0)","v":{"$error":"#N/A"}}," "]
[null,null,null,null,null,null,null,null,null,{"$f":"+IFERROR(VLOOKUP(C3186,'Charge Conversion'!A:C,3,0),\" \")","v":" "}," "," ",null,null,null,null,null,{"$f":"VLOOKUP(D3186,'Group Name'!A:B,2,0)","v":{"$error":"#N/A"}}," "]
[null,null,null,null,null,null,null,null,null,{"$f":"+IFERROR(VLOOKUP(C3188,'Charge Conversion'!A:C,3,0),\" \")","v":" "}," "," ",null,null,null,null,null,{"$f":"VLOOKUP(D3188,'Group Name'!A:B,2,0)","v":{"$error":"#N/A"}}," "]
[null,null,null,null,null,null,null,null,null,{"$f":"+IFERROR(VLOOKUP(C3192,'Charge Conversion'!A:C,3,0),\" \")","v":" "}," "," ",null,null,null,null,null,{"$f":"VLOOKUP(D3192,'Group Name'!A:B,2,0)","v":{"$error":"#N/A"}}," "]
[null,null,null,null,null,null,null,null,null,{"$f":"+IFERROR(VLOOKUP(C3193,'Charge Conversion'!A:C,3,0),\" \")","v":" "}," "," ",null,null,null,null,null,{"$f":"VLOOKUP(D3193,'Group Name'!A:B,2,0)","v":{"$error":"#N/A"}}," "]
[null,null,null,null,null,null,null,null,null,{"$f":"+IFERROR(VLOOKUP(C3197,'Charge Conversion'!A:C,3,0),\" \")","v":" "}," "," ",null,null,null,null,null,{"$f":"VLOOKUP(D3197,'Group Name'!A:B,2,0)","v":{"$error":"#N/A"}}," "]
[null,null,null,null,null,null,null,null,null,{"$f":"+IFERROR(VLOOKUP(C3198,'Charge Conversion'!A:C,3,0),\" \")","v":" "}," "," ",null,null,null,null,null,{"$f":"VLOOKUP(D3198,'Group Name'!A:B,2,0)","v":{"$error":"#N/A"}}," "]
[null,null,null,null,null,null,null,null,null,{"$f":"+IFERROR(VLOOKUP(C3200,'Charge Conversion'!A:C,3,0),\" \")","v":" "}," "," ",null,null,null,null,null,{"$f":"VLOOKUP(D3200,'Group Name'!A:B,2,0)","v":{"$error":"#N/A"}}," "]
[null,null,null,null,null,null,null,null,null,{"$f":"+IFERROR(VLOOKUP(C3203,'Charge Conversion'!A:C,3,0),\" \")","v":" "}," "," ",null,null,null,null,null,{"$f":"VLOOKUP(D3203,'Group Name'!A:B,2,0)","v":{"$error":"#N/A"}}," "]
[null,null,null,null,null,null,null,null,null,{"$f":"+IFERROR(VLOOKUP(C3206,'Charge Conversion'!A:C,3,0),\" \")","v":" "}," "," ",null,null,null,null,null,{"$f":"VLOOKUP(D3206,'Group Name'!A:B,2,0)","v":{"$error":"#N/A"}}," "]
[null,null,null,null,null,null,null,null,null,{"$f":"+IFERROR(VLOOKUP(C3208,'Charge Conversion'!A:C,3,0),\" \")","v":" "}," "," ",null,null,null,null,null,{"$f":"VLOOKUP(D3208,'Group Name'!A:B,2,0)","v":{"$error":"#N/A"}}," "]
[null,null,null,null,null,null,null,null,null,{"$f":"+IFERROR(VLOOKUP(C3212,'Charge Conversion'!A:C,3,0),\" \")","v":" "}," "," ",null,null,null,null,null,{"$f":"VLOOKUP(D3212,'Group Name'!A:B,2,0)","v":{"$error":"#N/A"}}," "]
[null,null,null,null,null,null,null,null,null,{"$f":"+IFERROR(VLOOKUP(C3213,'Charge Conversion'!A:C,3,0),\" \")","v":" "}," "," ",null,null,null,null,null,{"$f":"VLOOKUP(D3213,'Group Name'!A:B,2,0)","v":{"$error":"#N/A"}}," "]
[null,null,null,null,null,null,null,null,null,{"$f":"+IFERROR(VLOOKUP(C3217,'Charge Conversion'!A:C,3,0),\" \")","v":" "}," "," ",null,null,null,null,null,{"$f":"VLOOKUP(D3217,'Group Name'!A:B,2,0)","v":{"$error":"#N/A"}}," "]
[null,null,null,null,null,null,null,null,null,{"$f":"+IFERROR(VLOOKUP(C3218,'Charge Conversion'!A:C,3,0),\" \")","v":" "}," "," ",null,null,null,null,null,{"$f":"VLOOKUP(D3218,'Group Name'!A:B,2,0)","v":{"$error":"#N/A"}}," "]
[null,null,null,null,null,null,null,null,null,{"$f":"+IFERROR(VLOOKUP(C3220,'Charge Conversion'!A:C,3,0),\" \")","v":" "}," "," ",null,null,null,null,null,{"$f":"VLOOKUP(D3220,'Group Name'!A:B,2,0)","v":{"$error":"#N/A"}}," "]
[null,null,null,null,null,null,null,null,null,{"$f":"+IFERROR(VLOOKUP(C3223,'Charge Conversion'!A:C,3,0),\" \")","v":" "}," "," ",null,null,null,null,null,{"$f":"VLOOKUP(D3223,'Group Name'!A:B,2,0)","v":{"$error":"#N/A"}}," "]
[null,null,null,null,null,null,null,null,null,{"$f":"+IFERROR(VLOOKUP(C3226,'Charge Conversion'!A:C,3,0),\" \")","v":" "}," "," ",null,null,null,null,null,{"$f":"VLOOKUP(D3226,'Group Name'!A:B,2,0)","v":{"$error":"#N/A"}}," "]
[null,null,null,null,null,null,null,null,null,{"$f":"+IFERROR(VLOOKUP(C3228,'Charge Conversion'!A:C,3,0),\" \")","v":" "}," "," ",null,null,null,null,null,{"$f":"VLOOKUP(D3228,'Group Name'!A:B,2,0)","v":{"$error":"#N/A"}}," "]
[null,null,null,null,null,null,null,null,null,{"$f":"+IFERROR(VLOOKUP(C3232,'Charge Conversion'!A:C,3,0),\" \")","v":" "}," "," ",null,null,null,null,null,{"$f":"VLOOKUP(D3232,'Group Name'!A:B,2,0)","v":{"$error":"#N/A"}}," "]
[null,null,null,null,null,null,null,null,null,{"$f":"+IFERROR(VLOOKUP(C3233,'Charge Conversion'!A:C,3,0),\" \")","v":" "}," "," ",null,null,null,null,null,{"$f":"VLOOKUP(D3233,'Group Name'!A:B,2,0)","v":{"$error":"#N/A"}}," "]
[null,null,null,null,null,null,null,null,null,{"$f":"+IFERROR(VLOOKUP(C3237,'Charge Conversion'!A:C,3,0),\" \")","v":" "}," "," ",null,null,null,null,null,{"$f":"VLOOKUP(D3237,'Group Name'!A:B,2,0)","v":{"$error":"#N/A"}}," "]
[null,null,null,null,null,null,null,null,null,{"$f":"+IFERROR(VLOOKUP(C3238,'Charge Conversion'!A:C,3,0),\" \")","v":" "}," "," ",null,null,null,null,null,{"$f":"VLOOKUP(D3238,'Group Name'!A:B,2,0)","v":{"$error":"#N/A"}}," "]
[null,null,null,null,null,null,null,null,null,{"$f":"+IFERROR(VLOOKUP(C3240,'Charge Conversion'!A:C,3,0),\" \")","v":" "}," "," ",null,null,null,null,null,{"$f":"VLOOKUP(D3240,'Group Name'!A:B,2,0)","v":{"$error":"#N/A"}}," "]
[null,null,null,null,null,null,null,null,null,{"$f":"+IFERROR(VLOOKUP(C3243,'Charge Conversion'!A:C,3,0),\" \")","v":" "}," "," ",null,null,null,null,null,{"$f":"VLOOKUP(D3243,'Group Name'!A:B,2,0)","v":{"$error":"#N/A"}}," "]
[null,null,null,null,null,null,null,null,null,{"$f":"+IFERROR(VLOOKUP(C3246,'Charge Conversion'!A:C,3,0),\" \")","v":" "}," "," ",null,null,null,null,null,{"$f":"VLOOKUP(D3246,'Group Name'!A:B,2,0)","v":{"$error":"#N/A"}}," "]
[null,null,null,null,null,null,null,null,null,{"$f":"+IFERROR(VLOOKUP(C3248,'Charge Conversion'!A:C,3,0),\" \")","v":" "}," "," ",null,null,null,null,null,{"$f":"VLOOKUP(D3248,'Group Name'!A:B,2,0)","v":{"$error":"#N/A"}}," "]
[null,null,null,null,null,null,null,null,null,{"$f":"+IFERROR(VLOOKUP(C3252,'Charge Conversion'!A:C,3,0),\" \")","v":" "}," "," ",null,null,null,null,null,{"$f":"VLOOKUP(D3252,'Group Name'!A:B,2,0)","v":{"$error":"#N/A"}}," "]
[null,null,null,null,null,null,null,null,null,{"$f":"+IFERROR(VLOOKUP(C3253,'Charge Conversion'!A:C,3,0),\" \")","v":" "}," "," ",null,null,null,null,null,{"$f":"VLOOKUP(D3253,'Group Name'!A:B,2,0)","v":{"$error":"#N/A"}}," "]
[null,null,null,null,null,null,null,null,null,{"$f":"+IFERROR(VLOOKUP(C3257,'Charge Conversion'!A:C,3,0),\" \")","v":" "}," "," ",null,null,null,null,null,{"$f":"VLOOKUP(D3257,'Group Name'!A:B,2,0)","v":{"$error":"#N/A"}}," "]
[null,null,null,null,null,null,null,null,null,{"$f":"+IFERROR(VLOOKUP(C3258,'Charge Conversion'!A:C,3,0),\" \")","v":" "}," "," ",null,null,null,null,null,{"$f":"VLOOKUP(D3258,'Group Name'!A:B,2,0)","v":{"$error":"#N/A"}}," "]
[null,null,null,null,null,null,null,null,null,{"$f":"+IFERROR(VLOOKUP(C3260,'Charge Conversion'!A:C,3,0),\" \")","v":" "}," "," ",null,null,null,null,null,{"$f":"VLOOKUP(D3260,'Group Name'!A:B,2,0)","v":{"$error":"#N/A"}}," "]
[null,null,null,null,null,null,null,null,null,{"$f":"+IFERROR(VLOOKUP(C3263,'Charge Conversion'!A:C,3,0),\" \")","v":" "}," "," ",null,null,null,null,null,{"$f":"VLOOKUP(D3263,'Group Name'!A:B,2,0)","v":{"$error":"#N/A"}}," "]
[null,null,null,null,null,null,null,null,null,{"$f":"+IFERROR(VLOOKUP(C3266,'Charge Conversion'!A:C,3,0),\" \")","v":" "}," "," ",null,null,null,null,null,{"$f":"VLOOKUP(D3266,'Group Name'!A:B,2,0)","v":{"$error":"#N/A"}}," "]
[null,null,null,null,null,null,null,null,null,{"$f":"+IFERROR(VLOOKUP(C3268,'Charge Conversion'!A:C,3,0),\" \")","v":" "}," "," ",null,null,null,null,null,{"$f":"VLOOKUP(D3268,'Group Name'!A:B,2,0)","v":{"$error":"#N/A"}}," "]
[null,null,null,null,null,null,null,null,null,{"$f":"+IFERROR(VLOOKUP(C3272,'Charge Conversion'!A:C,3,0),\" \")","v":" "}," "," ",null,null,null,null,null,{"$f":"VLOOKUP(D3272,'Group Name'!A:B,2,0)","v":{"$error":"#N/A"}}," "]
[null,null,null,null,null,null,null,null,null,{"$f":"+IFERROR(VLOOKUP(C3273,'Charge Conversion'!A:C,3,0),\" \")","v":" "}," "," ",null,null,null,null,null,{"$f":"VLOOKUP(D3273,'Group Name'!A:B,2,0)","v":{"$error":"#N/A"}}," "]
[null,null,null,null,null,null,null,null,null,{"$f":"+IFERROR(VLOOKUP(C3275,'Charge Conversion'!A:C,3,0),\" \")","v":" "}," "," ",null,null,null,null,null,{"$f":"VLOOKUP(D3275,'Group Name'!A:B,2,0)","v":{"$error":"#N/A"}}," "]
[null,null,null,null,null,null,null,null,null,{"$f":"+IFERROR(VLOOKUP(C3278,'Charge Conversion'!A:C,3,0),\" \")","v":" "}," "," ",null,null,null,null,null,{"$f":"VLOOKUP(D3278,'Group Name'!A:B,2,0)","v":{"$error":"#N/A"}}," "]
[null,null,null,null,null,null,null,null,null,{"$f":"+IFERROR(VLOOKUP(C3280,'Charge Conversion'!A:C,3,0),\" \")","v":" "}," "," ",null,null,null,null,null,{"$f":"VLOOKUP(D3280,'Group Name'!A:B,2,0)","v":{"$error":"#N/A"}}," "]
[null,null,null,null,null,null,null,null,null,{"$f":"+IFERROR(VLOOKUP(C3283,'Charge Conversion'!A:C,3,0),\" \")","v":" "}," "," ",null,null,null,null,null,{"$f":"VLOOKUP(D3283,'Group Name'!A:B,2,0)","v":{"$error":"#N/A"}}," "]
[null,null,null,null,null,null,null,null,null,{"$f":"+IFERROR(VLOOKUP(C3286,'Charge Conversion'!A:C,3,0),\" \")","v":" "}," "," ",null,null,null,null,null,{"$f":"VLOOKUP(D3286,'Group Name'!A:B,2,0)","v":{"$error":"#N/A"}}," "]
[null,null,null,null,null,null,null,null,null,{"$f":"+IFERROR(VLOOKUP(C3288,'Charge Conversion'!A:C,3,0),\" \")","v":" "}," "," ",null,null,null,null,null,{"$f":"VLOOKUP(D3288,'Group Name'!A:B,2,0)","v":{"$error":"#N/A"}}," "]
[null,null,null,null,null,null,null,null,null,{"$f":"+IFERROR(VLOOKUP(C3292,'Charge Conversion'!A:C,3,0),\" \")","v":" "}," "," ",null,null,null,null,null,{"$f":"VLOOKUP(D3292,'Group Name'!A:B,2,0)","v":{"$error":"#N/A"}}," "]
[null,null,null,null,null,null,null,null,null,{"$f":"+IFERROR(VLOOKUP(C3293,'Charge Conversion'!A:C,3,0),\" \")","v":" "}," "," ",null,null,null,null,null,{"$f":"VLOOKUP(D3293,'Group Name'!A:B,2,0)","v":{"$error":"#N/A"}}," "]
[null,null,null,null,null,null,null,null,null,{"$f":"+IFERROR(VLOOKUP(C3295,'Charge Conversion'!A:C,3,0),\" \")","v":" "}," "," ",null,null,null,null,null,{"$f":"VLOOKUP(D3295,'Group Name'!A:B,2,0)","v":{"$error":"#N/A"}}," "]
[null,null,null,null,null,null,null,null,null,{"$f":"+IFERROR(VLOOKUP(C3298,'Charge Conversion'!A:C,3,0),\" \")","v":" "}," "," ",null,null,null,null,null,{"$f":"VLOOKUP(D3298,'Group Name'!A:B,2,0)","v":{"$error":"#N/A"}}," "]
[null,null,null,null,null,null,null,null,null,{"$f":"+IFERROR(VLOOKUP(C3300,'Charge Conversion'!A:C,3,0),\" \")","v":" "}," "," ",null,null,null,null,null,{"$f":"VLOOKUP(D3300,'Group Name'!A:B,2,0)","v":{"$error":"#N/A"}}," "]
[null,null,null,null,null,null,null,null,null,{"$f":"+IFERROR(VLOOKUP(C3303,'Charge Conversion'!A:C,3,0),\" \")","v":" "}," "," ",null,null,null,null,null,{"$f":"VLOOKUP(D3303,'Group Name'!A:B,2,0)","v":{"$error":"#N/A"}}," "]
[null,null,null,null,null,null,null,null,null,{"$f":"+IFERROR(VLOOKUP(C3306,'Charge Conversion'!A:C,3,0),\" \")","v":" "}," "," ",null,null,null,null,null,{"$f":"VLOOKUP(D3306,'Group Name'!A:B,2,0)","v":{"$error":"#N/A"}}," "]
[null,null,null,null,null,null,null,null,null,{"$f":"+IFERROR(VLOOKUP(C3308,'Charge Conversion'!A:C,3,0),\" \")","v":" "}," "," ",null,null,null,null,null,{"$f":"VLOOKUP(D3308,'Group Name'!A:B,2,0)","v":{"$error":"#N/A"}}," "]
[null,null,null,null,null,null,null,null,null,{"$f":"+IFERROR(VLOOKUP(C3312,'Charge Conversion'!A:C,3,0),\" \")","v":" "}," "," ",null,null,null,null,null,{"$f":"VLOOKUP(D3312,'Group Name'!A:B,2,0)","v":{"$error":"#N/A"}}," "]
[null,null,null,null,null,null,null,null,null,{"$f":"+IFERROR(VLOOKUP(C3313,'Charge Conversion'!A:C,3,0),\" \")","v":" "}," "," ",null,null,null,null,null,{"$f":"VLOOKUP(D3313,'Group Name'!A:B,2,0)","v":{"$error":"#N/A"}}," "]
[null,null,null,null,null,null,null,null,null,{"$f":"+IFERROR(VLOOKUP(C3315,'Charge Conversion'!A:C,3,0),\" \")","v":" "}," "," ",null,null,null,null,null,{"$f":"VLOOKUP(D3315,'Group Name'!A:B,2,0)","v":{"$error":"#N/A"}}," "]
[null,null,null,null,null,null,null,null,null,{"$f":"+IFERROR(VLOOKUP(C3318,'Charge Conversion'!A:C,3,0),\" \")","v":" "}," "," ",null,null,null,null,null,{"$f":"VLOOKUP(D3318,'Group Name'!A:B,2,0)","v":{"$error":"#N/A"}}," "]
[null,null,null,null,null,null,null,null,null,{"$f":"+IFERROR(VLOOKUP(C3320,'Charge Conversion'!A:C,3,0),\" \")","v":" "}," "," ",null,null,null,null,null,{"$f":"VLOOKUP(D3320,'Group Name'!A:B,2,0)","v":{"$error":"#N/A"}}," "]
[null,null,null,null,null,null,null,null,null,{"$f":"+IFERROR(VLOOKUP(C3324,'Charge Conversion'!A:C,3,0),\" \")","v":" "}," "," ",null,null,null,null,null,{"$f":"VLOOKUP(D3324,'Group Name'!A:B,2,0)","v":{"$error":"#N/A"}}," "]
[null,null,null,null,null,null,null,null,null,{"$f":"+IFERROR(VLOOKUP(C3327,'Charge Conversion'!A:C,3,0),\" \")","v":" "}," "," ",null,null,null,null,null,{"$f":"VLOOKUP(D3327,'Group Name'!A:B,2,0)","v":{"$error":"#N/A"}}," "]
[null,null,null,null,null,null,null,null,null,{"$f":"+IFERROR(VLOOKUP(C3330,'Charge Conversion'!A:C,3,0),\" \")","v":" "}," "," ",null,null,null,null,null,{"$f":"VLOOKUP(D3330,'Group Name'!A:B,2,0)","v":{"$error":"#N/A"}}," "]
[null,null,null,null,null,null,null,null,null,{"$f":"+IFERROR(VLOOKUP(C3332,'Charge Conversion'!A:C,3,0),\" \")","v":" "}," "," ",null,null,null,null,null,{"$f":"VLOOKUP(D3332,'Group Name'!A:B,2,0)","v":{"$error":"#N/A"}}," "]
[null,null,null,null,null,null,null,null,null,{"$f":"+IFERROR(VLOOKUP(C3335,'Charge Conversion'!A:C,3,0),\" \")","v":" "}," "," ",null,null,null,null,null,{"$f":"VLOOKUP(D3335,'Group Name'!A:B,2,0)","v":{"$error":"#N/A"}}," "]
[null,null,null,null,null,null,null,null,null,{"$f":"+IFERROR(VLOOKUP(C3337,'Charge Conversion'!A:C,3,0),\" \")","v":" "}," "," ",null,null,null,null,null,{"$f":"VLOOKUP(D3337,'Group Name'!A:B,2,0)","v":{"$error":"#N/A"}}," "]
[null,null,null,null,null,null,null,null,null,{"$f":"+IFERROR(VLOOKUP(C3338,'Charge Conversion'!A:C,3,0),\" \")","v":" "}," "," ",null,null,null,null,null,{"$f":"VLOOKUP(D3338,'Group Name'!A:B,2,0)","v":{"$error":"#N/A"}}," "]
[null,null,null,null,null,null,null,null,null,{"$f":"+IFERROR(VLOOKUP(C3342,'Charge Conversion'!A:C,3,0),\" \")","v":" "}," "," ",null,null,null,null,null,{"$f":"VLOOKUP(D3342,'Group Name'!A:B,2,0)","v":{"$error":"#N/A"}}," "]
[null,null,null,null,null,null,null,null,null,{"$f":"+IFERROR(VLOOKUP(C3344,'Charge Conversion'!A:C,3,0),\" \")","v":" "}," "," ",null,null,null,null,null,{"$f":"VLOOKUP(D3344,'Group Name'!A:B,2,0)","v":{"$error":"#N/A"}}," "]
[null,null,null,null,null,null,null,null,null,{"$f":"+IFERROR(VLOOKUP(C3347,'Charge Conversion'!A:C,3,0),\" \")","v":" "}," "," ",null,null,null,null,null,{"$f":"VLOOKUP(D3347,'Group Name'!A:B,2,0)","v":{"$error":"#N/A"}}," "]
[null,null,null,null,null,null,null,null,null,{"$f":"+IFERROR(VLOOKUP(C3350,'Charge Conversion'!A:C,3,0),\" \")","v":" "}," "," ",null,null,null,null,null,{"$f":"VLOOKUP(D3350,'Group Name'!A:B,2,0)","v":{"$error":"#N/A"}}," "]
[null,null,null,null,null,null,null,null,null,{"$f":"+IFERROR(VLOOKUP(C3352,'Charge Conversion'!A:C,3,0),\" \")","v":" "}," "," ",null,null,null,null,null,{"$f":"VLOOKUP(D3352,'Group Name'!A:B,2,0)","v":{"$error":"#N/A"}}," "]
[null,null,null,null,null,null,null,null,null,{"$f":"+IFERROR(VLOOKUP(C3355,'Charge Conversion'!A:C,3,0),\" \")","v":" "}," "," ",null,null,null,null,null,{"$f":"VLOOKUP(D3355,'Group Name'!A:B,2,0)","v":{"$error":"#N/A"}}," "]
[null,null,null,null,null,null,null,null,null,{"$f":"+IFERROR(VLOOKUP(C3357,'Charge Conversion'!A:C,3,0),\" \")","v":" "}," "," ",null,null,null,null,null,{"$f":"VLOOKUP(D3357,'Group Name'!A:B,2,0)","v":{"$error":"#N/A"}}," "]
[null,null,null,null,null,null,null,null,null,{"$f":"+IFERROR(VLOOKUP(C3358,'Charge Conversion'!A:C,3,0),\" \")","v":" "}," "," ",null,null,null,null,null,{"$f":"VLOOKUP(D3358,'Group Name'!A:B,2,0)","v":{"$error":"#N/A"}}," "]
[null,null,null,null,null,null,null,null,null,{"$f":"+IFERROR(VLOOKUP(C3362,'Charge Conversion'!A:C,3,0),\" \")","v":" "}," "," ",null,null,null,null,null,{"$f":"VLOOKUP(D3362,'Group Name'!A:B,2,0)","v":{"$error":"#N/A"}}," "]
[null,null,null,null,null,null,null,null,null,{"$f":"+IFERROR(VLOOKUP(C3364,'Charge Conversion'!A:C,3,0),\" \")","v":" "}," "," ",null,null,null,null,null,{"$f":"VLOOKUP(D3364,'Group Name'!A:B,2,0)","v":{"$error":"#N/A"}}," "]
[null,null,null,null,null,null,null,null,null,{"$f":"+IFERROR(VLOOKUP(C3367,'Charge Conversion'!A:C,3,0),\" \")","v":" "}," "," ",null,null,null,null,null,{"$f":"VLOOKUP(D3367,'Group Name'!A:B,2,0)","v":{"$error":"#N/A"}}," "]
[null,null,null,null,null,null,null,null,null,{"$f":"+IFERROR(VLOOKUP(C3370,'Charge Conversion'!A:C,3,0),\" \")","v":" "}," "," ",null,null,null,null,null,{"$f":"VLOOKUP(D3370,'Group Name'!A:B,2,0)","v":{"$error":"#N/A"}}," "]
[null,null,null,null,null,null,null,null,null,{"$f":"+IFERROR(VLOOKUP(C3372,'Charge Conversion'!A:C,3,0),\" \")","v":" "}," "," ",null,null,null,null,null,{"$f":"VLOOKUP(D3372,'Group Name'!A:B,2,0)","v":{"$error":"#N/A"}}," "]
[null,null,null,null,null,null,null,null,null,{"$f":"+IFERROR(VLOOKUP(C3375,'Charge Conversion'!A:C,3,0),\" \")","v":" "}," "," ",null,null,null,null,null,{"$f":"VLOOKUP(D3375,'Group Name'!A:B,2,0)","v":{"$error":"#N/A"}}," "]
[null,null,null,null,null,null,null,null,null,{"$f":"+IFERROR(VLOOKUP(C3377,'Charge Conversion'!A:C,3,0),\" \")","v":" "}," "," ",null,null,null,null,null,{"$f":"VLOOKUP(D3377,'Group Name'!A:B,2,0)","v":{"$error":"#N/A"}}," "]
[null,null,null,null,null,null,null,null,null,{"$f":"+IFERROR(VLOOKUP(C3378,'Charge Conversion'!A:C,3,0),\" \")","v":" "}," "," ",null,null,null,null,null,{"$f":"VLOOKUP(D3378,'Group Name'!A:B,2,0)","v":{"$error":"#N/A"}}," "]
[null,null,null,null,null,null,null,null,null,{"$f":"+IFERROR(VLOOKUP(C3382,'Charge Conversion'!A:C,3,0),\" \")","v":" "}," "," ",null,null,null,null,null,{"$f":"VLOOKUP(D3382,'Group Name'!A:B,2,0)","v":{"$error":"#N/A"}}," "]
[null,null,null,null,null,null,null,null,null,{"$f":"+IFERROR(VLOOKUP(C3384,'Charge Conversion'!A:C,3,0),\" \")","v":" "}," "," ",null,null,null,null,null,{"$f":"VLOOKUP(D3384,'Group Name'!A:B,2,0)","v":{"$error":"#N/A"}}," "]
[null,null,null,null,null,null,null,null,null,{"$f":"+IFERROR(VLOOKUP(C3387,'Charge Conversion'!A:C,3,0),\" \")","v":" "}," "," ",null,null,null,null,null,{"$f":"VLOOKUP(D3387,'Group Name'!A:B,2,0)","v":{"$error":"#N/A"}}," "]
[null,null,null,null,null,null,null,null,null,{"$f":"+IFERROR(VLOOKUP(C3390,'Charge Conversion'!A:C,3,0),\" \")","v":" "}," "," ",null,null,null,null,null,{"$f":"VLOOKUP(D3390,'Group Name'!A:B,2,0)","v":{"$error":"#N/A"}}," "]
[null,null,null,null,null,null,null,null,null,{"$f":"+IFERROR(VLOOKUP(C3392,'Charge Conversion'!A:C,3,0),\" \")","v":" "}," "," ",null,null,null,null,null,{"$f":"VLOOKUP(D3392,'Group Name'!A:B,2,0)","v":{"$error":"#N/A"}}," "]
[null,null,null,null,null,null,null,null,null,{"$f":"+IFERROR(VLOOKUP(C3395,'Charge Conversion'!A:C,3,0),\" \")","v":" "}," "," ",null,null,null,null,null,{"$f":"VLOOKUP(D3395,'Group Name'!A:B,2,0)","v":{"$error":"#N/A"}}," "]
[null,null,null,null,null,null,null,null,null,{"$f":"+IFERROR(VLOOKUP(C3397,'Charge Conversion'!A:C,3,0),\" \")","v":" "},{"$f":"+IFERROR(I3397*J3397,\" \")","v":" "},{"$f":"S3397","v":" "},null,null,null,null,null,{"$f":"VLOOKUP(D3397,'Group Name'!A:B,2,0)","v":{"$error":"#N/A"}},{"$f":"IFERROR((IF(A3397=\" \",\" \",R3397)),\" \")","v":" "}]
[null,null,null,null,null,null,null,null,null,{"$f":"+IFERROR(VLOOKUP(C3398,'Charge Conversion'!A:C,3,0),\" \")","v":" "}," "," ",null,null,null,null,null,{"$f":"VLOOKUP(D3398,'Group Name'!A:B,2,0)","v":{"$error":"#N/A"}}," "]
[null,null,null,null,null,null,null,null,null,{"$f":"+IFERROR(VLOOKUP(C3402,'Charge Conversion'!A:C,3,0),\" \")","v":" "}," "," ",null,null,null,null,null,{"$f":"VLOOKUP(D3402,'Group Name'!A:B,2,0)","v":{"$error":"#N/A"}}," "]
[null,null,null,null,null,null,null,null,null,{"$f":"+IFERROR(VLOOKUP(C3404,'Charge Conversion'!A:C,3,0),\" \")","v":" "}," "," ",null,null,null,null,null,{"$f":"VLOOKUP(D3404,'Group Name'!A:B,2,0)","v":{"$error":"#N/A"}}," "]
[null,null,null,null,null,null,null,null,null,{"$f":"+IFERROR(VLOOKUP(C3407,'Charge Conversion'!A:C,3,0),\" \")","v":" "}," "," ",null,null,null,null,null,{"$f":"VLOOKUP(D3407,'Group Name'!A:B,2,0)","v":{"$error":"#N/A"}}," "]
[null,null,null,null,null,null,null,null,null,{"$f":"+IFERROR(VLOOKUP(C3410,'Charge Conversion'!A:C,3,0),\" \")","v":" "}," "," ",null,null,null,null,null,{"$f":"VLOOKUP(D3410,'Group Name'!A:B,2,0)","v":{"$error":"#N/A"}}," "]
[null,null,null,null,null,null,null,null,null,{"$f":"+IFERROR(VLOOKUP(C3412,'Charge Conversion'!A:C,3,0),\" \")","v":" "}," "," ",null,null,null,null,null,{"$f":"VLOOKUP(D3412,'Group Name'!A:B,2,0)","v":{"$error":"#N/A"}}," "]
[null,null,null,null,null,null,null,null,null,{"$f":"+IFERROR(VLOOKUP(C3413,'Charge Conversion'!A:C,3,0),\" \")","v":" "}," "," ",null,null,null,null,null,{"$f":"VLOOKUP(D3413,'Group Name'!A:B,2,0)","v":{"$error":"#N/A"}}," "]
[null,null,null,null,null,null,null,null,null,{"$f":"+IFERROR(VLOOKUP(C3417,'Charge Conversion'!A:C,3,0),\" \")","v":" "}," "," ",null,null,null,null,null,{"$f":"VLOOKUP(D3417,'Group Name'!A:B,2,0)","v":{"$error":"#N/A"}}," "]
[null,null,null,null,null,null,null,null,null,{"$f":"+IFERROR(VLOOKUP(C3418,'Charge Conversion'!A:C,3,0),\" \")","v":" "}," "," ",null,null,null,null,null,{"$f":"VLOOKUP(D3418,'Group Name'!A:B,2,0)","v":{"$error":"#N/A"}}," "]
[null,null,null,null,null,null,null,null,null,{"$f":"+IFERROR(VLOOKUP(C3422,'Charge Conversion'!A:C,3,0),\" \")","v":" "}," "," ",null,null,null,null,null,{"$f":"VLOOKUP(D3422,'Group Name'!A:B,2,0)","v":{"$error":"#N/A"}}," "]
[null,null,null,null,null,null,null,null,null,{"$f":"+IFERROR(VLOOKUP(C3424,'Charge Conversion'!A:C,3,0),\" \")","v":" "}," "," ",null,null,null,null,null,{"$f":"VLOOKUP(D3424,'Group Name'!A:B,2,0)","v":{"$error":"#N/A"}}," "]
[null,null,null,null,null,null,null,null,null,{"$f":"+IFERROR(VLOOKUP(C3427,'Charge Conversion'!A:C,3,0),\" \")","v":" "}," "," ",null,null,null,null,null,{"$f":"VLOOKUP(D3427,'Group Name'!A:B,2,0)","v":{"$error":"#N/A"}}," "]
[null,null,null,null,null,null,null,null,null,{"$f":"+IFERROR(VLOOKUP(C3430,'Charge Conversion'!A:C,3,0),\" \")","v":" "}," "," ",null,null,null,null,null,{"$f":"VLOOKUP(D3430,'Group Name'!A:B,2,0)","v":{"$error":"#N/A"}}," "]
[null,null,null,null,null,null,null,null,null,{"$f":"+IFERROR(VLOOKUP(C3432,'Charge Conversion'!A:C,3,0),\" \")","v":" "}," "," ",null,null,null,null,null,{"$f":"VLOOKUP(D3432,'Group Name'!A:B,2,0)","v":{"$error":"#N/A"}}," "]
[null,null,null,null,null,null,null,null,null,{"$f":"+IFERROR(VLOOKUP(C3433,'Charge Conversion'!A:C,3,0),\" \")","v":" "}," "," ",null,null,null,null,null,{"$f":"VLOOKUP(D3433,'Group Name'!A:B,2,0)","v":{"$error":"#N/A"}}," "]
[null,null,null,null,null,null,null,null,null,{"$f":"+IFERROR(VLOOKUP(C3437,'Charge Conversion'!A:C,3,0),\" \")","v":" "}," "," ",null,null,null,null,null,{"$f":"VLOOKUP(D3437,'Group Name'!A:B,2,0)","v":{"$error":"#N/A"}}," "]
[null,null,null,null,null,null,null,null,null,{"$f":"+IFERROR(VLOOKUP(C3438,'Charge Conversion'!A:C,3,0),\" \")","v":" "}," "," ",null,null,null,null,null,{"$f":"VLOOKUP(D3438,'Group Name'!A:B,2,0)","v":{"$error":"#N/A"}}," "]
[null,null,null,null,null,null,null,null,null,{"$f":"+IFERROR(VLOOKUP(C3442,'Charge Conversion'!A:C,3,0),\" \")","v":" "}," "," ",null,null,null,null,null,{"$f":"VLOOKUP(D3442,'Group Name'!A:B,2,0)","v":{"$error":"#N/A"}}," "]
[null,null,null,null,null,null,null,null,null,{"$f":"+IFERROR(VLOOKUP(C3444,'Charge Conversion'!A:C,3,0),\" \")","v":" "}," "," ",null,null,null,null,null,{"$f":"VLOOKUP(D3444,'Group Name'!A:B,2,0)","v":{"$error":"#N/A"}}," "]
[null,null,null,null,null,null,null,null,null,{"$f":"+IFERROR(VLOOKUP(C3447,'Charge Conversion'!A:C,3,0),\" \")","v":" "}," "," ",null,null,null,null,null,{"$f":"VLOOKUP(D3447,'Group Name'!A:B,2,0)","v":{"$error":"#N/A"}}," "]
[null,null,null,null,null,null,null,null,null,{"$f":"+IFERROR(VLOOKUP(C3450,'Charge Conversion'!A:C,3,0),\" \")","v":" "}," "," ",null,null,null,null,null,{"$f":"VLOOKUP(D3450,'Group Name'!A:B,2,0)","v":{"$error":"#N/A"}}," "]
[null,null,null,null,null,null,null,null,null,{"$f":"+IFERROR(VLOOKUP(C3453,'Charge Conversion'!A:C,3,0),\" \")","v":" "}," "," ",null,null,null,null,null,{"$f":"VLOOKUP(D3453,'Group Name'!A:B,2,0)","v":{"$error":"#N/A"}}," "]
[null,null,null,null,null,null,null,null,null,{"$f":"+IFERROR(VLOOKUP(C3454,'Charge Conversion'!A:C,3,0),\" \")","v":" "}," "," ",null,null,null,null,null,{"$f":"VLOOKUP(D3454,'Group Name'!A:B,2,0)","v":{"$error":"#N/A"}}," "]
[null,null,null,null,null,null,null,null,null,{"$f":"+IFERROR(VLOOKUP(C3456,'Charge Conversion'!A:C,3,0),\" \")","v":" "}," "," ",null,null,null,null,null,{"$f":"VLOOKUP(D3456,'Group Name'!A:B,2,0)","v":{"$error":"#N/A"}}," "]
[null,null,null,null,null,null,null,null,null,{"$f":"+IFERROR(VLOOKUP(C3459,'Charge Conversion'!A:C,3,0),\" \")","v":" "}," "," ",null,null,null,null,null,{"$f":"VLOOKUP(D3459,'Group Name'!A:B,2,0)","v":{"$error":"#N/A"}}," "]
[null,null,null,null,null,null,null,null,null,{"$f":"+IFERROR(VLOOKUP(C3462,'Charge Conversion'!A:C,3,0),\" \")","v":" "}," "," ",null,null,null,null,null,{"$f":"VLOOKUP(D3462,'Group Name'!A:B,2,0)","v":{"$error":"#N/A"}}," "]
[null,null,null,null,null,null,null,null,null,{"$f":"+IFERROR(VLOOKUP(C3464,'Charge Conversion'!A:C,3,0),\" \")","v":" "}," "," ",null,null,null,null,null,{"$f":"VLOOKUP(D3464,'Group Name'!A:B,2,0)","v":{"$error":"#N/A"}}," "]
[null,null,null,null,null,null,null,null,null,{"$f":"+IFERROR(VLOOKUP(C3468,'Charge Conversion'!A:C,3,0),\" \")","v":" "}," "," ",null,null,null,null,null,{"$f":"VLOOKUP(D3468,'Group Name'!A:B,2,0)","v":{"$error":"#N/A"}}," "]
[null,null,null,null,null,null,null,null,null,{"$f":"+IFERROR(VLOOKUP(C3469,'Charge Conversion'!A:C,3,0),\" \")","v":" "}," "," ",null,null,null,null,null,{"$f":"VLOOKUP(D3469,'Group Name'!A:B,2,0)","v":{"$error":"#N/A"}}," "]
[null,null,null,null,null,null,null,null,null,{"$f":"+IFERROR(VLOOKUP(C3473,'Charge Conversion'!A:C,3,0),\" \")","v":" "}," "," ",null,null,null,null,null,{"$f":"VLOOKUP(D3473,'Group Name'!A:B,2,0)","v":{"$error":"#N/A"}}," "]
[null,null,null,null,null,null,null,null,null,{"$f":"+IFERROR(VLOOKUP(C3474,'Charge Conversion'!A:C,3,0),\" \")","v":" "}," "," ",null,null,null,null,null,{"$f":"VLOOKUP(D3474,'Group Name'!A:B,2,0)","v":{"$error":"#N/A"}}," "]
[null,null,null,null,null,null,null,null,null,{"$f":"+IFERROR(VLOOKUP(C3476,'Charge Conversion'!A:C,3,0),\" \")","v":" "}," "," ",null,null,null,null,null,{"$f":"VLOOKUP(D3476,'Group Name'!A:B,2,0)","v":{"$error":"#N/A"}}," "]
[null,null,null,null,null,null,null,null,null,{"$f":"+IFERROR(VLOOKUP(C3479,'Charge Conversion'!A:C,3,0),\" \")","v":" "}," "," ",null,null,null,null,null,{"$f":"VLOOKUP(D3479,'Group Name'!A:B,2,0)","v":{"$error":"#N/A"}}," "]
[null,null,null,null,null,null,null,null,null,{"$f":"+IFERROR(VLOOKUP(C3482,'Charge Conversion'!A:C,3,0),\" \")","v":" "}," "," ",null,null,null,null,null,{"$f":"VLOOKUP(D3482,'Group Name'!A:B,2,0)","v":{"$error":"#N/A"}}," "]
[null,null,null,null,null,null,null,null,null,{"$f":"+IFERROR(VLOOKUP(C3484,'Charge Conversion'!A:C,3,0),\" \")","v":" "}," "," ",null,null,null,null,null,{"$f":"VLOOKUP(D3484,'Group Name'!A:B,2,0)","v":{"$error":"#N/A"}}," "]
[null,null,null,null,null,null,null,null,null,{"$f":"+IFERROR(VLOOKUP(C3488,'Charge Conversion'!A:C,3,0),\" \")","v":" "}," "," ",null,null,null,null,null,{"$f":"VLOOKUP(D3488,'Group Name'!A:B,2,0)","v":{"$error":"#N/A"}}," "]
[null,null,null,null,null,null,null,null,null,{"$f":"+IFERROR(VLOOKUP(C3489,'Charge Conversion'!A:C,3,0),\" \")","v":" "}," "," ",null,null,null,null,null,{"$f":"VLOOKUP(D3489,'Group Name'!A:B,2,0)","v":{"$error":"#N/A"}}," "]
[null,null,null,null,null,null,null,null,null,{"$f":"+IFERROR(VLOOKUP(C3493,'Charge Conversion'!A:C,3,0),\" \")","v":" "}," "," ",null,null,null,null,null,{"$f":"VLOOKUP(D3493,'Group Name'!A:B,2,0)","v":{"$error":"#N/A"}}," "]
[null,null,null,null,null,null,null,null,null,{"$f":"+IFERROR(VLOOKUP(C3494,'Charge Conversion'!A:C,3,0),\" \")","v":" "}," "," ",null,null,null,null,null,{"$f":"VLOOKUP(D3494,'Group Name'!A:B,2,0)","v":{"$error":"#N/A"}}," "]
[null,null,null,null,null,null,null,null,null,{"$f":"+IFERROR(VLOOKUP(C3496,'Charge Conversion'!A:C,3,0),\" \")","v":" "}," "," ",null,null,null,null,null,{"$f":"VLOOKUP(D3496,'Group Name'!A:B,2,0)","v":{"$error":"#N/A"}}," "]
[null,null,null,null,null,null,null,null,null,{"$f":"+IFERROR(VLOOKUP(C3499,'Charge Conversion'!A:C,3,0),\" \")","v":" "}," "," ",null,null,null,null,null,{"$f":"VLOOKUP(D3499,'Group Name'!A:B,2,0)","v":{"$error":"#N/A"}}," "]
[null,null,null,null,null,null,null,null,null,{"$f":"+IFERROR(VLOOKUP(C3502,'Charge Conversion'!A:C,3,0),\" \")","v":" "}," "," ",null,null,null,null,null,{"$f":"VLOOKUP(D3502,'Group Name'!A:B,2,0)","v":{"$error":"#N/A"}}," "]
[null,null,null,null,null,null,null,null,null,{"$f":"+IFERROR(VLOOKUP(C3504,'Charge Conversion'!A:C,3,0),\" \")","v":" "}," "," ",null,null,null,null,null,{"$f":"VLOOKUP(D3504,'Group Name'!A:B,2,0)","v":{"$error":"#N/A"}}," "]
[null,null,null,null,null,null,null,null,null,{"$f":"+IFERROR(VLOOKUP(C3508,'Charge Conversion'!A:C,3,0),\" \")","v":" "}," "," ",null,null,null,null,null,{"$f":"VLOOKUP(D3508,'Group Name'!A:B,2,0)","v":{"$error":"#N/A"}}," "]
[null,null,null,null,null,null,null,null,null,{"$f":"+IFERROR(VLOOKUP(C3509,'Charge Conversion'!A:C,3,0),\" \")","v":" "}," "," ",null,null,null,null,null,{"$f":"VLOOKUP(D3509,'Group Name'!A:B,2,0)","v":{"$error":"#N/A"}}," "]
[null,null,null,null,null,null,null,null,null,{"$f":"+IFERROR(VLOOKUP(C3513,'Charge Conversion'!A:C,3,0),\" \")","v":" "}," "," ",null,null,null,null,null,{"$f":"VLOOKUP(D3513,'Group Name'!A:B,2,0)","v":{"$error":"#N/A"}}," "]
[null,null,null,null,null,null,null,null,null,{"$f":"+IFERROR(VLOOKUP(C3514,'Charge Conversion'!A:C,3,0),\" \")","v":" "}," "," ",null,null,null,null,null,{"$f":"VLOOKUP(D3514,'Group Name'!A:B,2,0)","v":{"$error":"#N/A"}}," "]
[null,null,null,null,null,null,null,null,null,{"$f":"+IFERROR(VLOOKUP(C3516,'Charge Conversion'!A:C,3,0),\" \")","v":" "}," "," ",null,null,null,null,null,{"$f":"VLOOKUP(D3516,'Group Name'!A:B,2,0)","v":{"$error":"#N/A"}}," "]
[null,null,null,null,null,null,null,null,null,{"$f":"+IFERROR(VLOOKUP(C3519,'Charge Conversion'!A:C,3,0),\" \")","v":" "}," "," ",null,null,null,null,null,{"$f":"VLOOKUP(D3519,'Group Name'!A:B,2,0)","v":{"$error":"#N/A"}}," "]
[null,null,null,null,null,null,null,null,null,{"$f":"+IFERROR(VLOOKUP(C3522,'Charge Conversion'!A:C,3,0),\" \")","v":" "}," "," ",null,null,null,null,null,{"$f":"VLOOKUP(D3522,'Group Name'!A:B,2,0)","v":{"$error":"#N/A"}}," "]
[null,null,null,null,null,null,null,null,null,{"$f":"+IFERROR(VLOOKUP(C3524,'Charge Conversion'!A:C,3,0),\" \")","v":" "}," "," ",null,null,null,null,null,{"$f":"VLOOKUP(D3524,'Group Name'!A:B,2,0)","v":{"$error":"#N/A"}}," "]
[null,null,null,null,null,null,null,null,null,{"$f":"+IFERROR(VLOOKUP(C3528,'Charge Conversion'!A:C,3,0),\" \")","v":" "}," "," ",null,null,null,null,null,{"$f":"VLOOKUP(D3528,'Group Name'!A:B,2,0)","v":{"$error":"#N/A"}}," "]
[null,null,null,null,null,null,null,null,null,{"$f":"+IFERROR(VLOOKUP(C3529,'Charge Conversion'!A:C,3,0),\" \")","v":" "}," "," ",null,null,null,null,null,{"$f":"VLOOKUP(D3529,'Group Name'!A:B,2,0)","v":{"$error":"#N/A"}}," "]
[null,null,null,null,null,null,null,null,null,{"$f":"+IFERROR(VLOOKUP(C3533,'Charge Conversion'!A:C,3,0),\" \")","v":" "}," "," ",null,null,null,null,null,{"$f":"VLOOKUP(D3533,'Group Name'!A:B,2,0)","v":{"$error":"#N/A"}}," "]
[null,null,null,null,null,null,null,null,null,{"$f":"+IFERROR(VLOOKUP(C3534,'Charge Conversion'!A:C,3,0),\" \")","v":" "}," "," ",null,null,null,null,null,{"$f":"VLOOKUP(D3534,'Group Name'!A:B,2,0)","v":{"$error":"#N/A"}}," "]
[null,null,null,null,null,null,null,null,null,{"$f":"+IFERROR(VLOOKUP(C3536,'Charge Conversion'!A:C,3,0),\" \")","v":" "}," "," ",null,null,null,null,null,{"$f":"VLOOKUP(D3536,'Group Name'!A:B,2,0)","v":{"$error":"#N/A"}}," "]
[null,null,null,null,null,null,null,null,null,{"$f":"+IFERROR(VLOOKUP(C3539,'Charge Conversion'!A:C,3,0),\" \")","v":" "}," "," ",null,null,null,null,null,{"$f":"VLOOKUP(D3539,'Group Name'!A:B,2,0)","v":{"$error":"#N/A"}}," "]
[null,null,null,null,null,null,null,null,null,{"$f":"+IFERROR(VLOOKUP(C3542,'Charge Conversion'!A:C,3,0),\" \")","v":" "}," "," ",null,null,null,null,null,{"$f":"VLOOKUP(D3542,'Group Name'!A:B,2,0)","v":{"$error":"#N/A"}}," "]
[null,null,null,null,null,null,null,null,null,{"$f":"+IFERROR(VLOOKUP(C3544,'Charge Conversion'!A:C,3,0),\" \")","v":" "}," "," ",null,null,null,null,null,{"$f":"VLOOKUP(D3544,'Group Name'!A:B,2,0)","v":{"$error":"#N/A"}}," "]
[null,null,null,null,null,null,null,null,null,{"$f":"+IFERROR(VLOOKUP(C3548,'Charge Conversion'!A:C,3,0),\" \")","v":" "}," "," ",null,null,null,null,null,{"$f":"VLOOKUP(D3548,'Group Name'!A:B,2,0)","v":{"$error":"#N/A"}}," "]
[null,null,null,null,null,null,null,null,null,{"$f":"+IFERROR(VLOOKUP(C3549,'Charge Conversion'!A:C,3,0),\" \")","v":" "}," "," ",null,null,null,null,null,{"$f":"VLOOKUP(D3549,'Group Name'!A:B,2,0)","v":{"$error":"#N/A"}}," "]
[null,null,null,null,null,null,null,null,null,{"$f":"+IFERROR(VLOOKUP(C3551,'Charge Conversion'!A:C,3,0),\" \")","v":" "}," "," ",null,null,null,null,null,{"$f":"VLOOKUP(D3551,'Group Name'!A:B,2,0)","v":{"$error":"#N/A"}}," "]
[null,null,null,null,null,null,null,null,null,{"$f":"+IFERROR(VLOOKUP(C3554,'Charge Conversion'!A:C,3,0),\" \")","v":" "}," "," ",null,null,null,null,null,{"$f":"VLOOKUP(D3554,'Group Name'!A:B,2,0)","v":{"$error":"#N/A"}}," "]
[null,null,null,null,null,null,null,null,null,{"$f":"+IFERROR(VLOOKUP(C3556,'Charge Conversion'!A:C,3,0),\" \")","v":" "}," "," ",null,null,null,null,null,{"$f":"VLOOKUP(D3556,'Group Name'!A:B,2,0)","v":{"$error":"#N/A"}}," "]
[null,null,null,null,null,null,null,null,null,{"$f":"+IFERROR(VLOOKUP(C3559,'Charge Conversion'!A:C,3,0),\" \")","v":" "}," "," ",null,null,null,null,null,{"$f":"VLOOKUP(D3559,'Group Name'!A:B,2,0)","v":{"$error":"#N/A"}}," "]
[null,null,null,null,null,null,null,null,null,{"$f":"+IFERROR(VLOOKUP(C3562,'Charge Conversion'!A:C,3,0),\" \")","v":" "}," "," ",null,null,null,null,null,{"$f":"VLOOKUP(D3562,'Group Name'!A:B,2,0)","v":{"$error":"#N/A"}}," "]
[null,null,null,null,null,null,null,null,null,{"$f":"+IFERROR(VLOOKUP(C3564,'Charge Conversion'!A:C,3,0),\" \")","v":" "}," "," ",null,null,null,null,null,{"$f":"VLOOKUP(D3564,'Group Name'!A:B,2,0)","v":{"$error":"#N/A"}}," "]
[null,null,null,null,null,null,null,null,null,{"$f":"+IFERROR(VLOOKUP(C3568,'Charge Conversion'!A:C,3,0),\" \")","v":" "}," "," ",null,null,null,null,null,{"$f":"VLOOKUP(D3568,'Group Name'!A:B,2,0)","v":{"$error":"#N/A"}}," "]
[null,null,null,null,null,null,null,null,null,{"$f":"+IFERROR(VLOOKUP(C3569,'Charge Conversion'!A:C,3,0),\" \")","v":" "}," "," ",null,null,null,null,null,{"$f":"VLOOKUP(D3569,'Group Name'!A:B,2,0)","v":{"$error":"#N/A"}}," "]
[null,null,null,null,null,null,null,null,null,{"$f":"+IFERROR(VLOOKUP(C3571,'Charge Conversion'!A:C,3,0),\" \")","v":" "}," "," ",null,null,null,null,null,{"$f":"VLOOKUP(D3571,'Group Name'!A:B,2,0)","v":{"$error":"#N/A"}}," "]
[null,null,null,null,null,null,null,null,null,{"$f":"+IFERROR(VLOOKUP(C3574,'Charge Conversion'!A:C,3,0),\" \")","v":" "}," "," ",null,null,null,null,null,{"$f":"VLOOKUP(D3574,'Group Name'!A:B,2,0)","v":{"$error":"#N/A"}}," "]
[null,null,null,null,null,null,null,null,null,{"$f":"+IFERROR(VLOOKUP(C3576,'Charge Conversion'!A:C,3,0),\" \")","v":" "}," "," ",null,null,null,null,null,{"$f":"VLOOKUP(D3576,'Group Name'!A:B,2,0)","v":{"$error":"#N/A"}}," "]
[null,null,null,null,null,null,null,null,null,{"$f":"+IFERROR(VLOOKUP(C3579,'Charge Conversion'!A:C,3,0),\" \")","v":" "}," "," ",null,null,null,null,null,{"$f":"VLOOKUP(D3579,'Group Name'!A:B,2,0)","v":{"$error":"#N/A"}}," "]
[null,null,null,null,null,null,null,null,null,{"$f":"+IFERROR(VLOOKUP(C3582,'Charge Conversion'!A:C,3,0),\" \")","v":" "}," "," ",null,null,null,null,null,{"$f":"VLOOKUP(D3582,'Group Name'!A:B,2,0)","v":{"$error":"#N/A"}}," "]
[null,null,null,null,null,null,null,null,null,{"$f":"+IFERROR(VLOOKUP(C3586,'Charge Conversion'!A:C,3,0),\" \")","v":" "}," "," ",null,null,null,null,null,{"$f":"VLOOKUP(D3586,'Group Name'!A:B,2,0)","v":{"$error":"#N/A"}}," "]
[null,null,null,null,null,null,null,null,null,{"$f":"+IFERROR(VLOOKUP(C3588,'Charge Conversion'!A:C,3,0),\" \")","v":" "}," "," ",null,null,null,null,null,{"$f":"VLOOKUP(D3588,'Group Name'!A:B,2,0)","v":{"$error":"#N/A"}}," "]
[null,null,null,null,null,null,null,null,null,{"$f":"+IFERROR(VLOOKUP(C3591,'Charge Conversion'!A:C,3,0),\" \")","v":" "}," "," ",null,null,null,null,null,{"$f":"VLOOKUP(D3591,'Group Name'!A:B,2,0)","v":{"$error":"#N/A"}}," "]
[null,null,null,null,null,null,null,null,null,{"$f":"+IFERROR(VLOOKUP(C3593,'Charge Conversion'!A:C,3,0),\" \")","v":" "}," "," ",null,null,null,null,null,{"$f":"VLOOKUP(D3593,'Group Name'!A:B,2,0)","v":{"$error":"#N/A"}}," "]
[null,null,null,null,null,null,null,null,null,{"$f":"+IFERROR(VLOOKUP(C3594,'Charge Conversion'!A:C,3,0),\" \")","v":" "}," "," ",null,null,null,null,null,{"$f":"VLOOKUP(D3594,'Group Name'!A:B,2,0)","v":{"$error":"#N/A"}}," "]
[null,null,null,null,null,null,null,null,null,{"$f":"+IFERROR(VLOOKUP(C3598,'Charge Conversion'!A:C,3,0),\" \")","v":" "}," "," ",null,null,null,null,null,{"$f":"VLOOKUP(D3598,'Group Name'!A:B,2,0)","v":{"$error":"#N/A"}}," "]
[null,null,null,null,null,null,null,null,null,{"$f":"+IFERROR(VLOOKUP(C3600,'Charge Conversion'!A:C,3,0),\" \")","v":" "}," "," ",null,null,null,null,null,{"$f":"VLOOKUP(D3600,'Group Name'!A:B,2,0)","v":{"$error":"#N/A"}}," "]
[null,null,null,null,null,null,null,null,null,{"$f":"+IFERROR(VLOOKUP(C3603,'Charge Conversion'!A:C,3,0),\" \")","v":" "}," "," ",null,null,null,null,null,{"$f":"VLOOKUP(D3603,'Group Name'!A:B,2,0)","v":{"$error":"#N/A"}}," "]
[null,null,null,null,null,null,null,null,null,{"$f":"+IFERROR(VLOOKUP(C3606,'Charge Conversion'!A:C,3,0),\" \")","v":" "}," "," ",null,null,null,null,null,{"$f":"VLOOKUP(D3606,'Group Name'!A:B,2,0)","v":{"$error":"#N/A"}}," "]
[null,null,null,null,null,null,null,null,null,{"$f":"+IFERROR(VLOOKUP(C3608,'Charge Conversion'!A:C,3,0),\" \")","v":" "}," "," ",null,null,null,null,null,{"$f":"VLOOKUP(D3608,'Group Name'!A:B,2,0)","v":{"$error":"#N/A"}}," "]
[null,null,null,null,null,null,null,null,null,{"$f":"+IFERROR(VLOOKUP(C3611,'Charge Conversion'!A:C,3,0),\" \")","v":" "}," "," ",null,null,null,null,null,{"$f":"VLOOKUP(D3611,'Group Name'!A:B,2,0)","v":{"$error":"#N/A"}}," "]
[null,null,null,null,null,null,null,null,null,{"$f":"+IFERROR(VLOOKUP(C3613,'Charge Conversion'!A:C,3,0),\" \")","v":" "}," "," ",null,null,null,null,null,{"$f":"VLOOKUP(D3613,'Group Name'!A:B,2,0)","v":{"$error":"#N/A"}}," "]
[null,null,null,null,null,null,null,null,null,{"$f":"+IFERROR(VLOOKUP(C3614,'Charge Conversion'!A:C,3,0),\" \")","v":" "}," "," ",null,null,null,null,null,{"$f":"VLOOKUP(D3614,'Group Name'!A:B,2,0)","v":{"$error":"#N/A"}}," "]
[null,null,null,null,null,null,null,null,null,{"$f":"+IFERROR(VLOOKUP(C3618,'Charge Conversion'!A:C,3,0),\" \")","v":" "}," "," ",null,null,null,null,null,{"$f":"VLOOKUP(D3618,'Group Name'!A:B,2,0)","v":{"$error":"#N/A"}}," "]
[null,null,null,null,null,null,null,null,null,{"$f":"+IFERROR(VLOOKUP(C3620,'Charge Conversion'!A:C,3,0),\" \")","v":" "}," "," ",null,null,null,null,null,{"$f":"VLOOKUP(D3620,'Group Name'!A:B,2,0)","v":{"$error":"#N/A"}}," "]
[null,null,null,null,null,null,null,null,null,{"$f":"+IFERROR(VLOOKUP(C3623,'Charge Conversion'!A:C,3,0),\" \")","v":" "}," "," ",null,null,null,null,null,{"$f":"VLOOKUP(D3623,'Group Name'!A:B,2,0)","v":{"$error":"#N/A"}}," "]
[null,null,null,null,null,null,null,null,null,{"$f":"+IFERROR(VLOOKUP(C3626,'Charge Conversion'!A:C,3,0),\" \")","v":" "}," "," ",null,null,null,null,null,{"$f":"VLOOKUP(D3626,'Group Name'!A:B,2,0)","v":{"$error":"#N/A"}}," "]
[null,null,null,null,null,null,null,null,null,{"$f":"+IFERROR(VLOOKUP(C3628,'Charge Conversion'!A:C,3,0),\" \")","v":" "}," "," ",null,null,null,null,null,{"$f":"VLOOKUP(D3628,'Group Name'!A:B,2,0)","v":{"$error":"#N/A"}}," "]
[null,null,null,null,null,null,null,null,null,{"$f":"+IFERROR(VLOOKUP(C3631,'Charge Conversion'!A:C,3,0),\" \")","v":" "}," "," ",null,null,null,null,null,{"$f":"VLOOKUP(D3631,'Group Name'!A:B,2,0)","v":{"$error":"#N/A"}}," "]
[null,null,null,null,null,null,null,null,null,{"$f":"+IFERROR(VLOOKUP(C3633,'Charge Conversion'!A:C,3,0),\" \")","v":" "}," "," ",null,null,null,null,null,{"$f":"VLOOKUP(D3633,'Group Name'!A:B,2,0)","v":{"$error":"#N/A"}}," "]
[null,null,null,null,null,null,null,null,null,{"$f":"+IFERROR(VLOOKUP(C3634,'Charge Conversion'!A:C,3,0),\" \")","v":" "}," "," ",null,null,null,null,null,{"$f":"VLOOKUP(D3634,'Group Name'!A:B,2,0)","v":{"$error":"#N/A"}}," "]
[null,null,null,null,null,null,null,null,null,{"$f":"+IFERROR(VLOOKUP(C3638,'Charge Conversion'!A:C,3,0),\" \")","v":" "}," "," ",null,null,null,null,null,{"$f":"VLOOKUP(D3638,'Group Name'!A:B,2,0)","v":{"$error":"#N/A"}}," "]
[null,null,null,null,null,null,null,null,null,{"$f":"+IFERROR(VLOOKUP(C3640,'Charge Conversion'!A:C,3,0),\" \")","v":" "}," "," ",null,null,null,null,null,{"$f":"VLOOKUP(D3640,'Group Name'!A:B,2,0)","v":{"$error":"#N/A"}}," "]
[null,null,null,null,null,null,null,null,null,{"$f":"+IFERROR(VLOOKUP(C3643,'Charge Conversion'!A:C,3,0),\" \")","v":" "}," "," ",null,null,null,null,null,{"$f":"VLOOKUP(D3643,'Group Name'!A:B,2,0)","v":{"$error":"#N/A"}}," "]
[null,null,null,null,null,null,null,null,null,{"$f":"+IFERROR(VLOOKUP(C3646,'Charge Conversion'!A:C,3,0),\" \")","v":" "}," "," ",null,null,null,null,null,{"$f":"VLOOKUP(D3646,'Group Name'!A:B,2,0)","v":{"$error":"#N/A"}}," "]
[null,null,null,null,null,null,null,null,null,{"$f":"+IFERROR(VLOOKUP(C3648,'Charge Conversion'!A:C,3,0),\" \")","v":" "}," "," ",null,null,null,null,null,{"$f":"VLOOKUP(D3648,'Group Name'!A:B,2,0)","v":{"$error":"#N/A"}}," "]
[null,null,null,null,null,null,null,null,null,{"$f":"+IFERROR(VLOOKUP(C3651,'Charge Conversion'!A:C,3,0),\" \")","v":" "}," "," ",null,null,null,null,null,{"$f":"VLOOKUP(D3651,'Group Name'!A:B,2,0)","v":{"$error":"#N/A"}}," "]
[null,null,null,null,null,null,null,null,null,{"$f":"+IFERROR(VLOOKUP(C3653,'Charge Conversion'!A:C,3,0),\" \")","v":" "},{"$f":"+IFERROR(I3653*J3653,\" \")","v":" "},{"$f":"S3653","v":" "},null,null,null,null,null,{"$f":"VLOOKUP(D3653,'Group Name'!A:B,2,0)","v":{"$error":"#N/A"}},{"$f":"IFERROR((IF(A3653=\" \",\" \",R3653)),\" \")","v":" "}]
[null,null,null,null,null,null,null,null,null,{"$f":"+IFERROR(VLOOKUP(C3654,'Charge Conversion'!A:C,3,0),\" \")","v":" "}," "," ",null,null,null,null,null,{"$f":"VLOOKUP(D3654,'Group Name'!A:B,2,0)","v":{"$error":"#N/A"}}," "]
[null,null,null,null,null,null,null,null,null,{"$f":"+IFERROR(VLOOKUP(C3658,'Charge Conversion'!A:C,3,0),\" \")","v":" "}," "," ",null,null,null,null,null,{"$f":"VLOOKUP(D3658,'Group Name'!A:B,2,0)","v":{"$error":"#N/A"}}," "]
[null,null,null,null,null,null,null,null,null,{"$f":"+IFERROR(VLOOKUP(C3660,'Charge Conversion'!A:C,3,0),\" \")","v":" "}," "," ",null,null,null,null,null,{"$f":"VLOOKUP(D3660,'Group Name'!A:B,2,0)","v":{"$error":"#N/A"}}," "]
[null,null,null,null,null,null,null,null,null,{"$f":"+IFERROR(VLOOKUP(C3663,'Charge Conversion'!A:C,3,0),\" \")","v":" "}," "," ",null,null,null,null,null,{"$f":"VLOOKUP(D3663,'Group Name'!A:B,2,0)","v":{"$error":"#N/A"}}," "]
[null,null,null,null,null,null,null,null,null,{"$f":"+IFERROR(VLOOKUP(C3666,'Charge Conversion'!A:C,3,0),\" \")","v":" "}," "," ",null,null,null,null,null,{"$f":"VLOOKUP(D3666,'Group Name'!A:B,2,0)","v":{"$error":"#N/A"}}," "]
[null,null,null,null,null,null,null,null,null,{"$f":"+IFERROR(VLOOKUP(C3668,'Charge Conversion'!A:C,3,0),\" \")","v":" "}," "," ",null,null,null,null,null,{"$f":"VLOOKUP(D3668,'Group Name'!A:B,2,0)","v":{"$error":"#N/A"}}," "]
[null,null,null,null,null,null,null,null,null,{"$f":"+IFERROR(VLOOKUP(C3669,'Charge Conversion'!A:C,3,0),\" \")","v":" "}," "," ",null,null,null,null,null,{"$f":"VLOOKUP(D3669,'Group Name'!A:B,2,0)","v":{"$error":"#N/A"}}," "]
[null,null,null,null,null,null,null,null,null,{"$f":"+IFERROR(VLOOKUP(C3673,'Charge Conversion'!A:C,3,0),\" \")","v":" "}," "," ",null,null,null,null,null,{"$f":"VLOOKUP(D3673,'Group Name'!A:B,2,0)","v":{"$error":"#N/A"}}," "]
[null,null,null,null,null,null,null,null,null,{"$f":"+IFERROR(VLOOKUP(C3674,'Charge Conversion'!A:C,3,0),\" \")","v":" "}," "," ",null,null,null,null,null,{"$f":"VLOOKUP(D3674,'Group Name'!A:B,2,0)","v":{"$error":"#N/A"}}," "]
[null,null,null,null,null,null,null,null,null,{"$f":"+IFERROR(VLOOKUP(C3678,'Charge Conversion'!A:C,3,0),\" \")","v":" "}," "," ",null,null,null,null,null,{"$f":"VLOOKUP(D3678,'Group Name'!A:B,2,0)","v":{"$error":"#N/A"}}," "]
[null,null,null,null,null,null,null,null,null,{"$f":"+IFERROR(VLOOKUP(C3680,'Charge Conversion'!A:C,3,0),\" \")","v":" "}," "," ",null,null,null,null,null,{"$f":"VLOOKUP(D3680,'Group Name'!A:B,2,0)","v":{"$error":"#N/A"}}," "]
[null,null,null,null,null,null,null,null,null,{"$f":"+IFERROR(VLOOKUP(C3683,'Charge Conversion'!A:C,3,0),\" \")","v":" "}," "," ",null,null,null,null,null,{"$f":"VLOOKUP(D3683,'Group Name'!A:B,2,0)","v":{"$error":"#N/A"}}," "]
[null,null,null,null,null,null,null,null,null,{"$f":"+IFERROR(VLOOKUP(C3686,'Charge Conversion'!A:C,3,0),\" \")","v":" "}," "," ",null,null,null,null,null,{"$f":"VLOOKUP(D3686,'Group Name'!A:B,2,0)","v":{"$error":"#N/A"}}," "]
[null,null,null,null,null,null,null,null,null,{"$f":"+IFERROR(VLOOKUP(C3688,'Charge Conversion'!A:C,3,0),\" \")","v":" "}," "," ",null,null,null,null,null,{"$f":"VLOOKUP(D3688,'Group Name'!A:B,2,0)","v":{"$error":"#N/A"}}," "]
[null,null,null,null,null,null,null,null,null,{"$f":"+IFERROR(VLOOKUP(C3689,'Charge Conversion'!A:C,3,0),\" \")","v":" "}," "," ",null,null,null,null,null,{"$f":"VLOOKUP(D3689,'Group Name'!A:B,2,0)","v":{"$error":"#N/A"}}," "]
[null,null,null,null,null,null,null,null,null,{"$f":"+IFERROR(VLOOKUP(C3693,'Charge Conversion'!A:C,3,0),\" \")","v":" "}," "," ",null,null,null,null,null,{"$f":"VLOOKUP(D3693,'Group Name'!A:B,2,0)","v":{"$error":"#N/A"}}," "]
[null,null,null,null,null,null,null,null,null,{"$f":"+IFERROR(VLOOKUP(C3694,'Charge Conversion'!A:C,3,0),\" \")","v":" "}," "," ",null,null,null,null,null,{"$f":"VLOOKUP(D3694,'Group Name'!A:B,2,0)","v":{"$error":"#N/A"}}," "]
[null,null,null,null,null,null,null,null,null,{"$f":"+IFERROR(VLOOKUP(C3698,'Charge Conversion'!A:C,3,0),\" \")","v":" "}," "," ",null,null,null,null,null,{"$f":"VLOOKUP(D3698,'Group Name'!A:B,2,0)","v":{"$error":"#N/A"}}," "]
[null,null,null,null,null,null,null,null,null,{"$f":"+IFERROR(VLOOKUP(C3700,'Charge Conversion'!A:C,3,0),\" \")","v":" "}," "," ",null,null,null,null,null,{"$f":"VLOOKUP(D3700,'Group Name'!A:B,2,0)","v":{"$error":"#N/A"}}," "]
[null,null,null,null,null,null,null,null,null,{"$f":"+IFERROR(VLOOKUP(C3703,'Charge Conversion'!A:C,3,0),\" \")","v":" "}," "," ",null,null,null,null,null,{"$f":"VLOOKUP(D3703,'Group Name'!A:B,2,0)","v":{"$error":"#N/A"}}," "]
[null,null,null,null,null,null,null,null,null,{"$f":"+IFERROR(VLOOKUP(C3706,'Charge Conversion'!A:C,3,0),\" \")","v":" "}," "," ",null,null,null,null,null,{"$f":"VLOOKUP(D3706,'Group Name'!A:B,2,0)","v":{"$error":"#N/A"}}," "]
[null,null,null,null,null,null,null,null,null,{"$f":"+IFERROR(VLOOKUP(C3708,'Charge Conversion'!A:C,3,0),\" \")","v":" "}," "," ",null,null,null,null,null,{"$f":"VLOOKUP(D3708,'Group Name'!A:B,2,0)","v":{"$error":"#N/A"}}," "]
[null,null,null,null,null,null,null,null,null,{"$f":"+IFERROR(VLOOKUP(C3709,'Charge Conversion'!A:C,3,0),\" \")","v":" "}," "," ",null,null,null,null,null,{"$f":"VLOOKUP(D3709,'Group Name'!A:B,2,0)","v":{"$error":"#N/A"}}," "]
[null,null,null,null,null,null,null,null,null,{"$f":"+IFERROR(VLOOKUP(C3713,'Charge Conversion'!A:C,3,0),\" \")","v":" "}," "," ",null,null,null,null,null,{"$f":"VLOOKUP(D3713,'Group Name'!A:B,2,0)","v":{"$error":"#N/A"}}," "]
[null,null,null,null,null,null,null,null,null,{"$f":"+IFERROR(VLOOKUP(C3714,'Charge Conversion'!A:C,3,0),\" \")","v":" "}," "," ",null,null,null,null,null,{"$f":"VLOOKUP(D3714,'Group Name'!A:B,2,0)","v":{"$error":"#N/A"}}," "]
[null,null,null,null,null,null,null,null,null,{"$f":"+IFERROR(VLOOKUP(C3718,'Charge Conversion'!A:C,3,0),\" \")","v":" "}," "," ",null,null,null,null,null,{"$f":"VLOOKUP(D3718,'Group Name'!A:B,2,0)","v":{"$error":"#N/A"}}," "]
[null,null,null,null,null,null,null,null,null,{"$f":"+IFERROR(VLOOKUP(C3720,'Charge Conversion'!A:C,3,0),\" \")","v":" "}," "," ",null,null,null,null,null,{"$f":"VLOOKUP(D3720,'Group Name'!A:B,2,0)","v":{"$error":"#N/A"}}," "]
[null,null,null,null,null,null,null,null,null,{"$f":"+IFERROR(VLOOKUP(C3724,'Charge Conversion'!A:C,3,0),\" \")","v":" "}," "," ",null,null,null,null,null,{"$f":"VLOOKUP(D3724,'Group Name'!A:B,2,0)","v":{"$error":"#N/A"}}," "]
[null,null,null,null,null,null,null,null,null,{"$f":"+IFERROR(VLOOKUP(C3725,'Charge Conversion'!A:C,3,0),\" \")","v":" "}," "," ",null,null,null,null,null,{"$f":"VLOOKUP(D3725,'Group Name'!A:B,2,0)","v":{"$error":"#N/A"}}," "]
[null,null,null,null,null,null,null,null,null,{"$f":"+IFERROR(VLOOKUP(C3729,'Charge Conversion'!A:C,3,0),\" \")","v":" "}," "," ",null,null,null,null,null,{"$f":"VLOOKUP(D3729,'Group Name'!A:B,2,0)","v":{"$error":"#N/A"}}," "]
[null,null,null,null,null,null,null,null,null,{"$f":"+IFERROR(VLOOKUP(C3730,'Charge Conversion'!A:C,3,0),\" \")","v":" "}," "," ",null,null,null,null,null,{"$f":"VLOOKUP(D3730,'Group Name'!A:B,2,0)","v":{"$error":"#N/A"}}," "]
[null,null,null,null,null,null,null,null,null,{"$f":"+IFERROR(VLOOKUP(C3732,'Charge Conversion'!A:C,3,0),\" \")","v":" "}," "," ",null,null,null,null,null,{"$f":"VLOOKUP(D3732,'Group Name'!A:B,2,0)","v":{"$error":"#N/A"}}," "]
[null,null,null,null,null,null,null,null,null,{"$f":"+IFERROR(VLOOKUP(C3735,'Charge Conversion'!A:C,3,0),\" \")","v":" "}," "," ",null,null,null,null,null,{"$f":"VLOOKUP(D3735,'Group Name'!A:B,2,0)","v":{"$error":"#N/A"}}," "]
[null,null,null,null,null,null,null,null,null,{"$f":"+IFERROR(VLOOKUP(C3738,'Charge Conversion'!A:C,3,0),\" \")","v":" "}," "," ",null,null,null,null,null,{"$f":"VLOOKUP(D3738,'Group Name'!A:B,2,0)","v":{"$error":"#N/A"}}," "]
[null,null,null,null,null,null,null,null,null,{"$f":"+IFERROR(VLOOKUP(C3740,'Charge Conversion'!A:C,3,0),\" \")","v":" "}," "," ",null,null,null,null,null,{"$f":"VLOOKUP(D3740,'Group Name'!A:B,2,0)","v":{"$error":"#N/A"}}," "]
[null,null,null,null,null,null,null,null,null,{"$f":"+IFERROR(VLOOKUP(C3744,'Charge Conversion'!A:C,3,0),\" \")","v":" "}," "," ",null,null,null,null,null,{"$f":"VLOOKUP(D3744,'Group Name'!A:B,2,0)","v":{"$error":"#N/A"}}," "]
[null,null,null,null,null,null,null,null,null,{"$f":"+IFERROR(VLOOKUP(C3745,'Charge Conversion'!A:C,3,0),\" \")","v":" "}," "," ",null,null,null,null,null,{"$f":"VLOOKUP(D3745,'Group Name'!A:B,2,0)","v":{"$error":"#N/A"}}," "]
[null,null,null,null,null,null,null,null,null,{"$f":"+IFERROR(VLOOKUP(C3749,'Charge Conversion'!A:C,3,0),\" \")","v":" "}," "," ",null,null,null,null,null,{"$f":"VLOOKUP(D3749,'Group Name'!A:B,2,0)","v":{"$error":"#N/A"}}," "]
[null,null,null,null,null,null,null,null,null,{"$f":"+IFERROR(VLOOKUP(C3750,'Charge Conversion'!A:C,3,0),\" \")","v":" "}," "," ",null,null,null,null,null,{"$f":"VLOOKUP(D3750,'Group Name'!A:B,2,0)","v":{"$error":"#N/A"}}," "]
[null,null,null,null,null,null,null,null,null,{"$f":"+IFERROR(VLOOKUP(C3752,'Charge Conversion'!A:C,3,0),\" \")","v":" "}," "," ",null,null,null,null,null,{"$f":"VLOOKUP(D3752,'Group Name'!A:B,2,0)","v":{"$error":"#N/A"}}," "]
[null,null,null,null,null,null,null,null,null,{"$f":"+IFERROR(VLOOKUP(C3755,'Charge Conversion'!A:C,3,0),\" \")","v":" "}," "," ",null,null,null,null,null,{"$f":"VLOOKUP(D3755,'Group Name'!A:B,2,0)","v":{"$error":"#N/A"}}," "]
[null,null,null,null,null,null,null,null,null,{"$f":"+IFERROR(VLOOKUP(C3758,'Charge Conversion'!A:C,3,0),\" \")","v":" "}," "," ",null,null,null,null,null,{"$f":"VLOOKUP(D3758,'Group Name'!A:B,2,0)","v":{"$error":"#N/A"}}," "]
[null,null,null,null,null,null,null,null,null,{"$f":"+IFERROR(VLOOKUP(C3760,'Charge Conversion'!A:C,3,0),\" \")","v":" "}," "," ",null,null,null,null,null,{"$f":"VLOOKUP(D3760,'Group Name'!A:B,2,0)","v":{"$error":"#N/A"}}," "]
[null,null,null,null,null,null,null,null,null,{"$f":"+IFERROR(VLOOKUP(C3764,'Charge Conversion'!A:C,3,0),\" \")","v":" "}," "," ",null,null,null,null,null,{"$f":"VLOOKUP(D3764,'Group Name'!A:B,2,0)","v":{"$error":"#N/A"}}," "]
[null,null,null,null,null,null,null,null,null,{"$f":"+IFERROR(VLOOKUP(C3765,'Charge Conversion'!A:C,3,0),\" \")","v":" "}," "," ",null,null,null,null,null,{"$f":"VLOOKUP(D3765,'Group Name'!A:B,2,0)","v":{"$error":"#N/A"}}," "]
[null,null,null,null,null,null,null,null,null,{"$f":"+IFERROR(VLOOKUP(C3769,'Charge Conversion'!A:C,3,0),\" \")","v":" "}," "," ",null,null,null,null,null,{"$f":"VLOOKUP(D3769,'Group Name'!A:B,2,0)","v":{"$error":"#N/A"}}," "]
[null,null,null,null,null,null,null,null,null,{"$f":"+IFERROR(VLOOKUP(C3770,'Charge Conversion'!A:C,3,0),\" \")","v":" "}," "," ",null,null,null,null,null,{"$f":"VLOOKUP(D3770,'Group Name'!A:B,2,0)","v":{"$error":"#N/A"}}," "]
[null,null,null,null,null,null,null,null,null,{"$f":"+IFERROR(VLOOKUP(C3772,'Charge Conversion'!A:C,3,0),\" \")","v":" "}," "," ",null,null,null,null,null,{"$f":"VLOOKUP(D3772,'Group Name'!A:B,2,0)","v":{"$error":"#N/A"}}," "]
[null,null,null,null,null,null,null,null,null,{"$f":"+IFERROR(VLOOKUP(C3775,'Charge Conversion'!A:C,3,0),\" \")","v":" "}," "," ",null,null,null,null,null,{"$f":"VLOOKUP(D3775,'Group Name'!A:B,2,0)","v":{"$error":"#N/A"}}," "]
[null,null,null,null,null,null,null,null,null,{"$f":"+IFERROR(VLOOKUP(C3778,'Charge Conversion'!A:C,3,0),\" \")","v":" "}," "," ",null,null,null,null,null,{"$f":"VLOOKUP(D3778,'Group Name'!A:B,2,0)","v":{"$error":"#N/A"}}," "]
[null,null,null,null,null,null,null,null,null,{"$f":"+IFERROR(VLOOKUP(C3780,'Charge Conversion'!A:C,3,0),\" \")","v":" "}," "," ",null,null,null,null,null,{"$f":"VLOOKUP(D3780,'Group Name'!A:B,2,0)","v":{"$error":"#N/A"}}," "]
[null,null,null,null,null,null,null,null,null,{"$f":"+IFERROR(VLOOKUP(C3784,'Charge Conversion'!A:C,3,0),\" \")","v":" "}," "," ",null,null,null,null,null,{"$f":"VLOOKUP(D3784,'Group Name'!A:B,2,0)","v":{"$error":"#N/A"}}," "]
[null,null,null,null,null,null,null,null,null,{"$f":"+IFERROR(VLOOKUP(C3785,'Charge Conversion'!A:C,3,0),\" \")","v":" "}," "," ",null,null,null,null,null,{"$f":"VLOOKUP(D3785,'Group Name'!A:B,2,0)","v":{"$error":"#N/A"}}," "]
[null,null,null,null,null,null,null,null,null,{"$f":"+IFERROR(VLOOKUP(C3789,'Charge Conversion'!A:C,3,0),\" \")","v":" "}," "," ",null,null,null,null,null,{"$f":"VLOOKUP(D3789,'Group Name'!A:B,2,0)","v":{"$error":"#N/A"}}," "]
[null,null,null,null,null,null,null,null,null,{"$f":"+IFERROR(VLOOKUP(C3790,'Charge Conversion'!A:C,3,0),\" \")","v":" "}," "," ",null,null,null,null,null,{"$f":"VLOOKUP(D3790,'Group Name'!A:B,2,0)","v":{"$error":"#N/A"}}," "]
[null,null,null,null,null,null,null,null,null,{"$f":"+IFERROR(VLOOKUP(C3792,'Charge Conversion'!A:C,3,0),\" \")","v":" "}," "," ",null,null,null,null,null,{"$f":"VLOOKUP(D3792,'Group Name'!A:B,2,0)","v":{"$error":"#N/A"}}," "]
[null,null,null,null,null,null,null,null,null,{"$f":"+IFERROR(VLOOKUP(C3795,'Charge Conversion'!A:C,3,0),\" \")","v":" "}," "," ",null,null,null,null,null,{"$f":"VLOOKUP(D3795,'Group Name'!A:B,2,0)","v":{"$error":"#N/A"}}," "]
[null,null,null,null,null,null,null,null,null,{"$f":"+IFERROR(VLOOKUP(C3798,'Charge Conversion'!A:C,3,0),\" \")","v":" "}," "," ",null,null,null,null,null,{"$f":"VLOOKUP(D3798,'Group Name'!A:B,2,0)","v":{"$error":"#N/A"}}," "]
[null,null,null,null,null,null,null,null,null,{"$f":"+IFERROR(VLOOKUP(C3800,'Charge Conversion'!A:C,3,0),\" \")","v":" "}," "," ",null,null,null,null,null,{"$f":"VLOOKUP(D3800,'Group Name'!A:B,2,0)","v":{"$error":"#N/A"}}," "]
[null,null,null,null,null,null,null,null,null,{"$f":"+IFERROR(VLOOKUP(C3804,'Charge Conversion'!A:C,3,0),\" \")","v":" "}," "," ",null,null,null,null,null,{"$f":"VLOOKUP(D3804,'Group Name'!A:B,2,0)","v":{"$error":"#N/A"}}," "]
[null,null,null,null,null,null,null,null,null,{"$f":"+IFERROR(VLOOKUP(C3805,'Charge Conversion'!A:C,3,0),\" \")","v":" "}," "," ",null,null,null,null,null,{"$f":"VLOOKUP(D3805,'Group Name'!A:B,2,0)","v":{"$error":"#N/A"}}," "]
[null,null,null,null,null,null,null,null,null,{"$f":"+IFERROR(VLOOKUP(C3807,'Charge Conversion'!A:C,3,0),\" \")","v":" "}," "," ",null,null,null,null,null,{"$f":"VLOOKUP(D3807,'Group Name'!A:B,2,0)","v":{"$error":"#N/A"}}," "]
[null,null,null,null,null,null,null,null,null,{"$f":"+IFERROR(VLOOKUP(C3810,'Charge Conversion'!A:C,3,0),\" \")","v":" "}," "," ",null,null,null,null,null,{"$f":"VLOOKUP(D3810,'Group Name'!A:B,2,0)","v":{"$error":"#N/A"}}," "]
[null,null,null,null,null,null,null,null,null,{"$f":"+IFERROR(VLOOKUP(C3812,'Charge Conversion'!A:C,3,0),\" \")","v":" "}," "," ",null,null,null,null,null,{"$f":"VLOOKUP(D3812,'Group Name'!A:B,2,0)","v":{"$error":"#N/A"}}," "]
[null,null,null,null,null,null,null,null,null,{"$f":"+IFERROR(VLOOKUP(C3815,'Charge Conversion'!A:C,3,0),\" \")","v":" "}," "," ",null,null,null,null,null,{"$f":"VLOOKUP(D3815,'Group Name'!A:B,2,0)","v":{"$error":"#N/A"}}," "]
[null,null,null,null,null,null,null,null,null,{"$f":"+IFERROR(VLOOKUP(C3818,'Charge Conversion'!A:C,3,0),\" \")","v":" "}," "," ",null,null,null,null,null,{"$f":"VLOOKUP(D3818,'Group Name'!A:B,2,0)","v":{"$error":"#N/A"}}," "]
[null,null,null,null,null,null,null,null,null,{"$f":"+IFERROR(VLOOKUP(C3820,'Charge Conversion'!A:C,3,0),\" \")","v":" "}," "," ",null,null,null,null,null,{"$f":"VLOOKUP(D3820,'Group Name'!A:B,2,0)","v":{"$error":"#N/A"}}," "]
[null,null,null,null,null,null,null,null,null,{"$f":"+IFERROR(VLOOKUP(C3824,'Charge Conversion'!A:C,3,0),\" \")","v":" "}," "," ",null,null,null,null,null,{"$f":"VLOOKUP(D3824,'Group Name'!A:B,2,0)","v":{"$error":"#N/A"}}," "]
[null,null,null,null,null,null,null,null,null,{"$f":"+IFERROR(VLOOKUP(C3825,'Charge Conversion'!A:C,3,0),\" \")","v":" "}," "," ",null,null,null,null,null,{"$f":"VLOOKUP(D3825,'Group Name'!A:B,2,0)","v":{"$error":"#N/A"}}," "]
[null,null,null,null,null,null,null,null,null,{"$f":"+IFERROR(VLOOKUP(C3827,'Charge Conversion'!A:C,3,0),\" \")","v":" "}," "," ",null,null,null,null,null,{"$f":"VLOOKUP(D3827,'Group Name'!A:B,2,0)","v":{"$error":"#N/A"}}," "]
[null,null,null,null,null,null,null,null,null,{"$f":"+IFERROR(VLOOKUP(C3830,'Charge Conversion'!A:C,3,0),\" \")","v":" "}," "," ",null,null,null,null,null,{"$f":"VLOOKUP(D3830,'Group Name'!A:B,2,0)","v":{"$error":"#N/A"}}," "]
[null,null,null,null,null,null,null,null,null,{"$f":"+IFERROR(VLOOKUP(C3832,'Charge Conversion'!A:C,3,0),\" \")","v":" "}," "," ",null,null,null,null,null,{"$f":"VLOOKUP(D3832,'Group Name'!A:B,2,0)","v":{"$error":"#N/A"}}," "]
[null,null,null,null,null,null,null,null,null,{"$f":"+IFERROR(VLOOKUP(C3835,'Charge Conversion'!A:C,3,0),\" \")","v":" "}," "," ",null,null,null,null,null,{"$f":"VLOOKUP(D3835,'Group Name'!A:B,2,0)","v":{"$error":"#N/A"}}," "]
[null,null,null,null,null,null,null,null,null,{"$f":"+IFERROR(VLOOKUP(C3838,'Charge Conversion'!A:C,3,0),\" \")","v":" "}," "," ",null,null,null,null,null,{"$f":"VLOOKUP(D3838,'Group Name'!A:B,2,0)","v":{"$error":"#N/A"}}," "]
[null,null,null,null,null,null,null,null,null,{"$f":"+IFERROR(VLOOKUP(C3840,'Charge Conversion'!A:C,3,0),\" \")","v":" "}," "," ",null,null,null,null,null,{"$f":"VLOOKUP(D3840,'Group Name'!A:B,2,0)","v":{"$error":"#N/A"}}," "]
[null,null,null,null,null,null,null,null,null,{"$f":"+IFERROR(VLOOKUP(C3844,'Charge Conversion'!A:C,3,0),\" \")","v":" "}," "," ",null,null,null,null,null,{"$f":"VLOOKUP(D3844,'Group Name'!A:B,2,0)","v":{"$error":"#N/A"}}," "]
[null,null,null,null,null,null,null,null,null,{"$f":"+IFERROR(VLOOKUP(C3845,'Charge Conversion'!A:C,3,0),\" \")","v":" "},{"$f":"+IFERROR(I3845*J3845,\" \")","v":" "},{"$f":"S3845","v":" "},null,null,null,null,null,{"$f":"VLOOKUP(D3845,'Group Name'!A:B,2,0)","v":{"$error":"#N/A"}},{"$f":"IFERROR((IF(A3845=\" \",\" \",R3845)),\" \")","v":" "}]
[null,null,null,null,null,null,null,null,null,{"$f":"+IFERROR(VLOOKUP(C3847,'Charge Conversion'!A:C,3,0),\" \")","v":" "}," "," ",null,null,null,null,null,{"$f":"VLOOKUP(D3847,'Group Name'!A:B,2,0)","v":{"$error":"#N/A"}}," "]
[null,null,null,null,null,null,null,null,null,{"$f":"+IFERROR(VLOOKUP(C3850,'Charge Conversion'!A:C,3,0),\" \")","v":" "}," "," ",null,null,null,null,null,{"$f":"VLOOKUP(D3850,'Group Name'!A:B,2,0)","v":{"$error":"#N/A"}}," "]
[null,null,null,null,null,null,null,null,null,{"$f":"+IFERROR(VLOOKUP(C3854,'Charge Conversion'!A:C,3,0),\" \")","v":" "}," "," ",null,null,null,null,null,{"$f":"VLOOKUP(D3854,'Group Name'!A:B,2,0)","v":{"$error":"#N/A"}}," "]
[null,null,null,null,null,null,null,null,null,{"$f":"+IFERROR(VLOOKUP(C3856,'Charge Conversion'!A:C,3,0),\" \")","v":" "}," "," ",null,null,null,null,null,{"$f":"VLOOKUP(D3856,'Group Name'!A:B,2,0)","v":{"$error":"#N/A"}}," "]
[null,null,null,null,null,null,null,null,null,{"$f":"+IFERROR(VLOOKUP(C3859,'Charge Conversion'!A:C,3,0),\" \")","v":" "}," "," ",null,null,null,null,null,{"$f":"VLOOKUP(D3859,'Group Name'!A:B,2,0)","v":{"$error":"#N/A"}}," "]
[null,null,null,null,null,null,null,null,null,{"$f":"+IFERROR(VLOOKUP(C3862,'Charge Conversion'!A:C,3,0),\" \")","v":" "}," "," ",null,null,null,null,null,{"$f":"VLOOKUP(D3862,'Group Name'!A:B,2,0)","v":{"$error":"#N/A"}}," "]
[null,null,null,null,null,null,null,null,null,{"$f":"+IFERROR(VLOOKUP(C3864,'Charge Conversion'!A:C,3,0),\" \")","v":" "}," "," ",null,null,null,null,null,{"$f":"VLOOKUP(D3864,'Group Name'!A:B,2,0)","v":{"$error":"#N/A"}}," "]
[null,null,null,null,null,null,null,null,null,{"$f":"+IFERROR(VLOOKUP(C3867,'Charge Conversion'!A:C,3,0),\" \")","v":" "}," "," ",null,null,null,null,null,{"$f":"VLOOKUP(D3867,'Group Name'!A:B,2,0)","v":{"$error":"#N/A"}}," "]
[null,null,null,null,null,null,null,null,null,{"$f":"+IFERROR(VLOOKUP(C3869,'Charge Conversion'!A:C,3,0),\" \")","v":" "}," "," ",null,null,null,null,null,{"$f":"VLOOKUP(D3869,'Group Name'!A:B,2,0)","v":{"$error":"#N/A"}}," "]
[null,null,null,null,null,null,null,null,null,{"$f":"+IFERROR(VLOOKUP(C3870,'Charge Conversion'!A:C,3,0),\" \")","v":" "}," "," ",null,null,null,null,null,{"$f":"VLOOKUP(D3870,'Group Name'!A:B,2,0)","v":{"$error":"#N/A"}}," "]
[null,null,null,null,null,null,null,null,null,{"$f":"+IFERROR(VLOOKUP(C3874,'Charge Conversion'!A:C,3,0),\" \")","v":" "}," "," ",null,null,null,null,null,{"$f":"VLOOKUP(D3874,'Group Name'!A:B,2,0)","v":{"$error":"#N/A"}}," "]
[null,null,null,null,null,null,null,null,null,{"$f":"+IFERROR(VLOOKUP(C3876,'Charge Conversion'!A:C,3,0),\" \")","v":" "}," "," ",null,null,null,null,null,{"$f":"VLOOKUP(D3876,'Group Name'!A:B,2,0)","v":{"$error":"#N/A"}}," "]
[null,null,null,null,null,null,null,null,null,{"$f":"+IFERROR(VLOOKUP(C3879,'Charge Conversion'!A:C,3,0),\" \")","v":" "}," "," ",null,null,null,null,null,{"$f":"VLOOKUP(D3879,'Group Name'!A:B,2,0)","v":{"$error":"#N/A"}}," "]
[null,null,null,null,null,null,null,null,null,{"$f":"+IFERROR(VLOOKUP(C3882,'Charge Conversion'!A:C,3,0),\" \")","v":" "}," "," ",null,null,null,null,null,{"$f":"VLOOKUP(D3882,'Group Name'!A:B,2,0)","v":{"$error":"#N/A"}}," "]
[null,null,null,null,null,null,null,null,null,{"$f":"+IFERROR(VLOOKUP(C3884,'Charge Conversion'!A:C,3,0),\" \")","v":" "}," "," ",null,null,null,null,null,{"$f":"VLOOKUP(D3884,'Group Name'!A:B,2,0)","v":{"$error":"#N/A"}}," "]
[null,null,null,null,null,null,null,null,null,{"$f":"+IFERROR(VLOOKUP(C3887,'Charge Conversion'!A:C,3,0),\" \")","v":" "}," "," ",null,null,null,null,null,{"$f":"VLOOKUP(D3887,'Group Name'!A:B,2,0)","v":{"$error":"#N/A"}}," "]
[null,null,null,null,null,null,null,null,null,{"$f":"+IFERROR(VLOOKUP(C3889,'Charge Conversion'!A:C,3,0),\" \")","v":" "}," "," ",null,null,null,null,null,{"$f":"VLOOKUP(D3889,'Group Name'!A:B,2,0)","v":{"$error":"#N/A"}}," "]
[null,null,null,null,null,null,null,null,null,{"$f":"+IFERROR(VLOOKUP(C3890,'Charge Conversion'!A:C,3,0),\" \")","v":" "}," "," ",null,null,null,null,null,{"$f":"VLOOKUP(D3890,'Group Name'!A:B,2,0)","v":{"$error":"#N/A"}}," "]
[null,null,null,null,null,null,null,null,null,{"$f":"+IFERROR(VLOOKUP(C3894,'Charge Conversion'!A:C,3,0),\" \")","v":" "}," "," ",null,null,null,null,null,{"$f":"VLOOKUP(D3894,'Group Name'!A:B,2,0)","v":{"$error":"#N/A"}}," "]
[null,null,null,null,null,null,null,null,null,{"$f":"+IFERROR(VLOOKUP(C3896,'Charge Conversion'!A:C,3,0),\" \")","v":" "}," "," ",null,null,null,null,null,{"$f":"VLOOKUP(D3896,'Group Name'!A:B,2,0)","v":{"$error":"#N/A"}}," "]
[null,null,null,null,null,null,null,null,null,{"$f":"+IFERROR(VLOOKUP(C3899,'Charge Conversion'!A:C,3,0),\" \")","v":" "}," "," ",null,null,null,null,null,{"$f":"VLOOKUP(D3899,'Group Name'!A:B,2,0)","v":{"$error":"#N/A"}}," "]
[null,null,null,null,null,null,null,null,null,{"$f":"+IFERROR(VLOOKUP(C3902,'Charge Conversion'!A:C,3,0),\" \")","v":" "}," "," ",null,null,null,null,null,{"$f":"VLOOKUP(D3902,'Group Name'!A:B,2,0)","v":{"$error":"#N/A"}}," "]
[null,null,null,null,null,null,null,null,null,{"$f":"+IFERROR(VLOOKUP(C3904,'Charge Conversion'!A:C,3,0),\" \")","v":" "}," "," ",null,null,null,null,null,{"$f":"VLOOKUP(D3904,'Group Name'!A:B,2,0)","v":{"$error":"#N/A"}}," "]
[null,null,null,null,null,null,null,null,null,{"$f":"+IFERROR(VLOOKUP(C3907,'Charge Conversion'!A:C,3,0),\" \")","v":" "}," "," ",null,null,null,null,null,{"$f":"VLOOKUP(D3907,'Group Name'!A:B,2,0)","v":{"$error":"#N/A"}}," "]
[null,null,null,null,null,null,null,null,null,{"$f":"+IFERROR(VLOOKUP(C3909,'Charge Conversion'!A:C,3,0),\" \")","v":" "},{"$f":"+IFERROR(I3909*J3909,\" \")","v":" "},{"$f":"S3909","v":" "},null,null,null,null,null,{"$f":"VLOOKUP(D3909,'Group Name'!A:B,2,0)","v":{"$error":"#N/A"}},{"$f":"IFERROR((IF(A3909=\" \",\" \",R3909)),\" \")","v":" "}]
[null,null,null,null,null,null,null,null,null,{"$f":"+IFERROR(VLOOKUP(C3910,'Charge Conversion'!A:C,3,0),\" \")","v":" "}," "," ",null,null,null,null,null,{"$f":"VLOOKUP(D3910,'Group Name'!A:B,2,0)","v":{"$error":"#N/A"}}," "]
[null,null,null,null,null,null,null,null,null,{"$f":"+IFERROR(VLOOKUP(C3914,'Charge Conversion'!A:C,3,0),\" \")","v":" "}," "," ",null,null,null,null,null,{"$f":"VLOOKUP(D3914,'Group Name'!A:B,2,0)","v":{"$error":"#N/A"}}," "]
[null,null,null,null,null,null,null,null,null,{"$f":"+IFERROR(VLOOKUP(C3916,'Charge Conversion'!A:C,3,0),\" \")","v":" "}," "," ",null,null,null,null,null,{"$f":"VLOOKUP(D3916,'Group Name'!A:B,2,0)","v":{"$error":"#N/A"}}," "]
[null,null,null,null,null,null,null,null,null,{"$f":"+IFERROR(VLOOKUP(C3919,'Charge Conversion'!A:C,3,0),\" \")","v":" "}," "," ",null,null,null,null,null,{"$f":"VLOOKUP(D3919,'Group Name'!A:B,2,0)","v":{"$error":"#N/A"}}," "]
[null,null,null,null,null,null,null,null,null,{"$f":"+IFERROR(VLOOKUP(C3922,'Charge Conversion'!A:C,3,0),\" \")","v":" "}," "," ",null,null,null,null,null,{"$f":"VLOOKUP(D3922,'Group Name'!A:B,2,0)","v":{"$error":"#N/A"}}," "]
[null,null,null,null,null,null,null,null,null,{"$f":"+IFERROR(VLOOKUP(C3924,'Charge Conversion'!A:C,3,0),\" \")","v":" "}," "," ",null,null,null,null,null,{"$f":"VLOOKUP(D3924,'Group Name'!A:B,2,0)","v":{"$error":"#N/A"}}," "]
[null,null,null,null,null,null,null,null,null,{"$f":"+IFERROR(VLOOKUP(C3927,'Charge Conversion'!A:C,3,0),\" \")","v":" "}," "," ",null,null,null,null,null,{"$f":"VLOOKUP(D3927,'Group Name'!A:B,2,0)","v":{"$error":"#N/A"}}," "]
[null,null,null,null,null,null,null,null,null,{"$f":"+IFERROR(VLOOKUP(C3929,'Charge Conversion'!A:C,3,0),\" \")","v":" "}," "," ",null,null,null,null,null,{"$f":"VLOOKUP(D3929,'Group Name'!A:B,2,0)","v":{"$error":"#N/A"}}," "]
[null,null,null,null,null,null,null,null,null,{"$f":"+IFERROR(VLOOKUP(C3930,'Charge Conversion'!A:C,3,0),\" \")","v":" "}," "," ",null,null,null,null,null,{"$f":"VLOOKUP(D3930,'Group Name'!A:B,2,0)","v":{"$error":"#N/A"}}," "]
[null,null,null,null,null,null,null,null,null,{"$f":"+IFERROR(VLOOKUP(C3934,'Charge Conversion'!A:C,3,0),\" \")","v":" "}," "," ",null,null,null,null,null,{"$f":"VLOOKUP(D3934,'Group Name'!A:B,2,0)","v":{"$error":"#N/A"}}," "]
[null,null,null,null,null,null,null,null,null,{"$f":"+IFERROR(VLOOKUP(C3936,'Charge Conversion'!A:C,3,0),\" \")","v":" "}," "," ",null,null,null,null,null,{"$f":"VLOOKUP(D3936,'Group Name'!A:B,2,0)","v":{"$error":"#N/A"}}," "]
[null,null,null,null,null,null,null,null,null,{"$f":"+IFERROR(VLOOKUP(C3939,'Charge Conversion'!A:C,3,0),\" \")","v":" "}," "," ",null,null,null,null,null,{"$f":"VLOOKUP(D3939,'Group Name'!A:B,2,0)","v":{"$error":"#N/A"}}," "]
[null,null,null,null,null,null,null,null,null,{"$f":"+IFERROR(VLOOKUP(C3942,'Charge Conversion'!A:C,3,0),\" \")","v":" "}," "," ",null,null,null,null,null,{"$f":"VLOOKUP(D3942,'Group Name'!A:B,2,0)","v":{"$error":"#N/A"}}," "]
[null,null,null,null,null,null,null,null,null,{"$f":"+IFERROR(VLOOKUP(C3944,'Charge Conversion'!A:C,3,0),\" \")","v":" "}," "," ",null,null,null,null,null,{"$f":"VLOOKUP(D3944,'Group Name'!A:B,2,0)","v":{"$error":"#N/A"}}," "]
[null,null,null,null,null,null,null,null,null,{"$f":"+IFERROR(VLOOKUP(C3945,'Charge Conversion'!A:C,3,0),\" \")","v":" "}," "," ",null,null,null,null,null,{"$f":"VLOOKUP(D3945,'Group Name'!A:B,2,0)","v":{"$error":"#N/A"}}," "]
[null,null,null,null,null,null,null,null,null,{"$f":"+IFERROR(VLOOKUP(C3949,'Charge Conversion'!A:C,3,0),\" \")","v":" "}," "," ",null,null,null,null,null,{"$f":"VLOOKUP(D3949,'Group Name'!A:B,2,0)","v":{"$error":"#N/A"}}," "]
[null,null,null,null,null,null,null,null,null,{"$f":"+IFERROR(VLOOKUP(C3950,'Charge Conversion'!A:C,3,0),\" \")","v":" "}," "," ",null,null,null,null,null,{"$f":"VLOOKUP(D3950,'Group Name'!A:B,2,0)","v":{"$error":"#N/A"}}," "]
[null,null,null,null,null,null,null,null,null,{"$f":"+IFERROR(VLOOKUP(C3954,'Charge Conversion'!A:C,3,0),\" \")","v":" "}," "," ",null,null,null,null,null,{"$f":"VLOOKUP(D3954,'Group Name'!A:B,2,0)","v":{"$error":"#N/A"}}," "]
[null,null,null,null,null,null,null,null,null,{"$f":"+IFERROR(VLOOKUP(C3956,'Charge Conversion'!A:C,3,0),\" \")","v":" "}," "," ",null,null,null,null,null,{"$f":"VLOOKUP(D3956,'Group Name'!A:B,2,0)","v":{"$error":"#N/A"}}," "]
[null,null,null,null,null,null,null,null,null,{"$f":"+IFERROR(VLOOKUP(C3959,'Charge Conversion'!A:C,3,0),\" \")","v":" "}," "," ",null,null,null,null,null,{"$f":"VLOOKUP(D3959,'Group Name'!A:B,2,0)","v":{"$error":"#N/A"}}," "]
[null,null,null,null,null,null,null,null,null,{"$f":"+IFERROR(VLOOKUP(C3962,'Charge Conversion'!A:C,3,0),\" \")","v":" "}," "," ",null,null,null,null,null,{"$f":"VLOOKUP(D3962,'Group Name'!A:B,2,0)","v":{"$error":"#N/A"}}," "]
[null,null,null,null,null,null,null,null,null,{"$f":"+IFERROR(VLOOKUP(C3964,'Charge Conversion'!A:C,3,0),\" \")","v":" "}," "," ",null,null,null,null,null,{"$f":"VLOOKUP(D3964,'Group Name'!A:B,2,0)","v":{"$error":"#N/A"}}," "]
[null,null,null,null,null,null,null,null,null,{"$f":"+IFERROR(VLOOKUP(C3965,'Charge Conversion'!A:C,3,0),\" \")","v":" "}," "," ",null,null,null,null,null,{"$f":"VLOOKUP(D3965,'Group Name'!A:B,2,0)","v":{"$error":"#N/A"}}," "]
[null,null,null,null,null,null,null,null,null,{"$f":"+IFERROR(VLOOKUP(C3969,'Charge Conversion'!A:C,3,0),\" \")","v":" "}," "," ",null,null,null,null,null,{"$f":"VLOOKUP(D3969,'Group Name'!A:B,2,0)","v":{"$error":"#N/A"}}," "]
[null,null,null,null,null,null,null,null,null,{"$f":"+IFERROR(VLOOKUP(C3970,'Charge Conversion'!A:C,3,0),\" \")","v":" "}," "," ",null,null,null,null,null,{"$f":"VLOOKUP(D3970,'Group Name'!A:B,2,0)","v":{"$error":"#N/A"}}," "]
[null,null,null,null,null,null,null,null,null,{"$f":"+IFERROR(VLOOKUP(C3974,'Charge Conversion'!A:C,3,0),\" \")","v":" "}," "," ",null,null,null,null,null,{"$f":"VLOOKUP(D3974,'Group Name'!A:B,2,0)","v":{"$error":"#N/A"}}," "]
[null,null,null,null,null,null,null,null,null,{"$f":"+IFERROR(VLOOKUP(C3976,'Charge Conversion'!A:C,3,0),\" \")","v":" "}," "," ",null,null,null,null,null,{"$f":"VLOOKUP(D3976,'Group Name'!A:B,2,0)","v":{"$error":"#N/A"}}," "]
[null,null,null,null,null,null,null,null,null,{"$f":"+IFERROR(VLOOKUP(C3979,'Charge Conversion'!A:C,3,0),\" \")","v":" "}," "," ",null,null,null,null,null,{"$f":"VLOOKUP(D3979,'Group Name'!A:B,2,0)","v":{"$error":"#N/A"}}," "]
[null,null,null,null,null,null,null,null,null,{"$f":"+IFERROR(VLOOKUP(C3982,'Charge Conversion'!A:C,3,0),\" \")","v":" "}," "," ",null,null,null,null,null,{"$f":"VLOOKUP(D3982,'Group Name'!A:B,2,0)","v":{"$error":"#N/A"}}," "]
[null,null,null,null,null,null,null,null,null,{"$f":"+IFERROR(VLOOKUP(C3985,'Charge Conversion'!A:C,3,0),\" \")","v":" "}," "," ",null,null,null,null,null,{"$f":"VLOOKUP(D3985,'Group Name'!A:B,2,0)","v":{"$error":"#N/A"}}," "]
[null,null,null,null,null,null,null,null,null,{"$f":"+IFERROR(VLOOKUP(C3986,'Charge Conversion'!A:C,3,0),\" \")","v":" "}," "," ",null,null,null,null,null,{"$f":"VLOOKUP(D3986,'Group Name'!A:B,2,0)","v":{"$error":"#N/A"}}," "]
[null,null,null,null,null,null,null,null,null,{"$f":"+IFERROR(VLOOKUP(C3988,'Charge Conversion'!A:C,3,0),\" \")","v":" "}," "," ",null,null,null,null,null,{"$f":"VLOOKUP(D3988,'Group Name'!A:B,2,0)","v":{"$error":"#N/A"}}," "]
[null,null,null,null,null,null,null,null,null,{"$f":"+IFERROR(VLOOKUP(C3991,'Charge Conversion'!A:C,3,0),\" \")","v":" "}," "," ",null,null,null,null,null,{"$f":"VLOOKUP(D3991,'Group Name'!A:B,2,0)","v":{"$error":"#N/A"}}," "]
[null,null,null,null,null,null,null,null,null,{"$f":"+IFERROR(VLOOKUP(C3994,'Charge Conversion'!A:C,3,0),\" \")","v":" "}," "," ",null,null,null,null,null,{"$f":"VLOOKUP(D3994,'Group Name'!A:B,2,0)","v":{"$error":"#N/A"}}," "]
[null,null,null,null,null,null,null,null,null,{"$f":"+IFERROR(VLOOKUP(C3996,'Charge Conversion'!A:C,3,0),\" \")","v":" "}," "," ",null,null,null,null,null,{"$f":"VLOOKUP(D3996,'Group Name'!A:B,2,0)","v":{"$error":"#N/A"}}," "]
[null,null,null,null,null,null,null,null,null,{"$f":"+IFERROR(VLOOKUP(C4000,'Charge Conversion'!A:C,3,0),\" \")","v":" "}," "," ",null,null,null,null,null,{"$f":"VLOOKUP(D4000,'Group Name'!A:B,2,0)","v":{"$error":"#N/A"}}," "]
[null,null,null,null,null,null,null,null,null,{"$f":"+IFERROR(VLOOKUP(C4001,'Charge Conversion'!A:C,3,0),\" \")","v":" "}," "," ",null,null,null,null,null,{"$f":"VLOOKUP(D4001,'Group Name'!A:B,2,0)","v":{"$error":"#N/A"}}," "]
[null,null,null,null,null,null,null,null,null,{"$f":"+IFERROR(VLOOKUP(C4005,'Charge Conversion'!A:C,3,0),\" \")","v":" "}," "," ",null,null,null,null,null,{"$f":"VLOOKUP(D4005,'Group Name'!A:B,2,0)","v":{"$error":"#N/A"}}," "]
[null,null,null,null,null,null,null,null,null,{"$f":"+IFERROR(VLOOKUP(C4006,'Charge Conversion'!A:C,3,0),\" \")","v":" "}," "," ",null,null,null,null,null,{"$f":"VLOOKUP(D4006,'Group Name'!A:B,2,0)","v":{"$error":"#N/A"}}," "]
[null,null,null,null,null,null,null,null,null,{"$f":"+IFERROR(VLOOKUP(C4008,'Charge Conversion'!A:C,3,0),\" \")","v":" "}," "," ",null,null,null,null,null,{"$f":"VLOOKUP(D4008,'Group Name'!A:B,2,0)","v":{"$error":"#N/A"}}," "]
[null,null,null,null,null,null,null,null,null,{"$f":"+IFERROR(VLOOKUP(C4011,'Charge Conversion'!A:C,3,0),\" \")","v":" "}," "," ",null,null,null,null,null,{"$f":"VLOOKUP(D4011,'Group Name'!A:B,2,0)","v":{"$error":"#N/A"}}," "]
[null,null,null,null,null,null,null,null,null,{"$f":"+IFERROR(VLOOKUP(C4014,'Charge Conversion'!A:C,3,0),\" \")","v":" "}," "," ",null,null,null,null,null,{"$f":"VLOOKUP(D4014,'Group Name'!A:B,2,0)","v":{"$error":"#N/A"}}," "]
[null,null,null,null,null,null,null,null,null,{"$f":"+IFERROR(VLOOKUP(C4016,'Charge Conversion'!A:C,3,0),\" \")","v":" "}," "," ",null,null,null,null,null,{"$f":"VLOOKUP(D4016,'Group Name'!A:B,2,0)","v":{"$error":"#N/A"}}," "]
[null,null,null,null,null,null,null,null,null,{"$f":"+IFERROR(VLOOKUP(C4020,'Charge Conversion'!A:C,3,0),\" \")","v":" "}," "," ",null,null,null,null,null,{"$f":"VLOOKUP(D4020,'Group Name'!A:B,2,0)","v":{"$error":"#N/A"}}," "]
[null,null,null,null,null,null,null,null,null,{"$f":"+IFERROR(VLOOKUP(C4021,'Charge Conversion'!A:C,3,0),\" \")","v":" "}," "," ",null,null,null,null,null,{"$f":"VLOOKUP(D4021,'Group Name'!A:B,2,0)","v":{"$error":"#N/A"}}," "]
[null,null,null,null,null,null,null,null,null,{"$f":"+IFERROR(VLOOKUP(C4025,'Charge Conversion'!A:C,3,0),\" \")","v":" "}," "," ",null,null,null,null,null,{"$f":"VLOOKUP(D4025,'Group Name'!A:B,2,0)","v":{"$error":"#N/A"}}," "]
[null,null,null,null,null,null,null,null,null,{"$f":"+IFERROR(VLOOKUP(C4026,'Charge Conversion'!A:C,3,0),\" \")","v":" "}," "," ",null,null,null,null,null,{"$f":"VLOOKUP(D4026,'Group Name'!A:B,2,0)","v":{"$error":"#N/A"}}," "]
[null,null,null,null,null,null,null,null,null,{"$f":"+IFERROR(VLOOKUP(C4028,'Charge Conversion'!A:C,3,0),\" \")","v":" "}," "," ",null,null,null,null,null,{"$f":"VLOOKUP(D4028,'Group Name'!A:B,2,0)","v":{"$error":"#N/A"}}," "]
[null,null,null,null,null,null,null,null,null,{"$f":"+IFERROR(VLOOKUP(C4031,'Charge Conversion'!A:C,3,0),\" \")","v":" "}," "," ",null,null,null,null,null,{"$f":"VLOOKUP(D4031,'Group Name'!A:B,2,0)","v":{"$error":"#N/A"}}," "]
[null,null,null,null,null,null,null,null,null,{"$f":"+IFERROR(VLOOKUP(C4034,'Charge Conversion'!A:C,3,0),\" \")","v":" "}," "," ",null,null,null,null,null,{"$f":"VLOOKUP(D4034,'Group Name'!A:B,2,0)","v":{"$error":"#N/A"}}," "]
[null,null,null,null,null,null,null,null,null,{"$f":"+IFERROR(VLOOKUP(C4036,'Charge Conversion'!A:C,3,0),\" \")","v":" "}," "," ",null,null,null,null,null,{"$f":"VLOOKUP(D4036,'Group Name'!A:B,2,0)","v":{"$error":"#N/A"}}," "]
[null,null,null,null,null,null,null,null,null,{"$f":"+IFERROR(VLOOKUP(C4040,'Charge Conversion'!A:C,3,0),\" \")","v":" "}," "," ",null,null,null,null,null,{"$f":"VLOOKUP(D4040,'Group Name'!A:B,2,0)","v":{"$error":"#N/A"}}," "]
[null,null,null,null,null,null,null,null,null,{"$f":"+IFERROR(VLOOKUP(C4041,'Charge Conversion'!A:C,3,0),\" \")","v":" "}," "," ",null,null,null,null,null,{"$f":"VLOOKUP(D4041,'Group Name'!A:B,2,0)","v":{"$error":"#N/A"}}," "]
[null,null,null,null,null,null,null,null,null,{"$f":"+IFERROR(VLOOKUP(C4045,'Charge Conversion'!A:C,3,0),\" \")","v":" "}," "," ",null,null,null,null,null,{"$f":"VLOOKUP(D4045,'Group Name'!A:B,2,0)","v":{"$error":"#N/A"}}," "]
[null,null,null,null,null,null,null,null,null,{"$f":"+IFERROR(VLOOKUP(C4046,'Charge Conversion'!A:C,3,0),\" \")","v":" "}," "," ",null,null,null,null,null,{"$f":"VLOOKUP(D4046,'Group Name'!A:B,2,0)","v":{"$error":"#N/A"}}," "]
[null,null,null,null,null,null,null,null,null,{"$f":"+IFERROR(VLOOKUP(C4048,'Charge Conversion'!A:C,3,0),\" \")","v":" "}," "," ",null,null,null,null,null,{"$f":"VLOOKUP(D4048,'Group Name'!A:B,2,0)","v":{"$error":"#N/A"}}," "]
[null,null,null,null,null,null,null,null,null,{"$f":"+IFERROR(VLOOKUP(C4051,'Charge Conversion'!A:C,3,0),\" \")","v":" "}," "," ",null,null,null,null,null,{"$f":"VLOOKUP(D4051,'Group Name'!A:B,2,0)","v":{"$error":"#N/A"}}," "]
[null,null,null,null,null,null,null,null,null,{"$f":"+IFERROR(VLOOKUP(C4054,'Charge Conversion'!A:C,3,0),\" \")","v":" "}," "," ",null,null,null,null,null,{"$f":"VLOOKUP(D4054,'Group Name'!A:B,2,0)","v":{"$error":"#N/A"}}," "]
[null,null,null,null,null,null,null,null,null,{"$f":"+IFERROR(VLOOKUP(C4056,'Charge Conversion'!A:C,3,0),\" \")","v":" "}," "," ",null,null,null,null,null,{"$f":"VLOOKUP(D4056,'Group Name'!A:B,2,0)","v":{"$error":"#N/A"}}," "]
[null,null,null,null,null,null,null,null,null,{"$f":"+IFERROR(VLOOKUP(C4060,'Charge Conversion'!A:C,3,0),\" \")","v":" "}," "," ",null,null,null,null,null,{"$f":"VLOOKUP(D4060,'Group Name'!A:B,2,0)","v":{"$error":"#N/A"}}," "]
[null,null,null,null,null,null,null,null,null,{"$f":"+IFERROR(VLOOKUP(C4061,'Charge Conversion'!A:C,3,0),\" \")","v":" "}," "," ",null,null,null,null,null,{"$f":"VLOOKUP(D4061,'Group Name'!A:B,2,0)","v":{"$error":"#N/A"}}," "]
[null,null,null,null,null,null,null,null,null,{"$f":"+IFERROR(VLOOKUP(C4065,'Charge Conversion'!A:C,3,0),\" \")","v":" "}," "," ",null,null,null,null,null,{"$f":"VLOOKUP(D4065,'Group Name'!A:B,2,0)","v":{"$error":"#N/A"}}," "]
[null,null,null,null,null,null,null,null,null,{"$f":"+IFERROR(VLOOKUP(C4066,'Charge Conversion'!A:C,3,0),\" \")","v":" "}," "," ",null,null,null,null,null,{"$f":"VLOOKUP(D4066,'Group Name'!A:B,2,0)","v":{"$error":"#N/A"}}," "]
[null,null,null,null,null,null,null,null,null,{"$f":"+IFERROR(VLOOKUP(C4068,'Charge Conversion'!A:C,3,0),\" \")","v":" "}," "," ",null,null,null,null,null,{"$f":"VLOOKUP(D4068,'Group Name'!A:B,2,0)","v":{"$error":"#N/A"}}," "]
[null,null,null,null,null,null,null,null,null,{"$f":"+IFERROR(VLOOKUP(C4071,'Charge Conversion'!A:C,3,0),\" \")","v":" "}," "," ",null,null,null,null,null,{"$f":"VLOOKUP(D4071,'Group Name'!A:B,2,0)","v":{"$error":"#N/A"}}," "]
[null,null,null,null,null,null,null,null,null,{"$f":"+IFERROR(VLOOKUP(C4074,'Charge Conversion'!A:C,3,0),\" \")","v":" "}," "," ",null,null,null,null,null,{"$f":"VLOOKUP(D4074,'Group Name'!A:B,2,0)","v":{"$error":"#N/A"}}," "]
[null,null,null,null,null,null,null,null,null,{"$f":"+IFERROR(VLOOKUP(C4076,'Charge Conversion'!A:C,3,0),\" \")","v":" "}," "," ",null,null,null,null,null,{"$f":"VLOOKUP(D4076,'Group Name'!A:B,2,0)","v":{"$error":"#N/A"}}," "]
[null,null,null,null,null,null,null,null,null,{"$f":"+IFERROR(VLOOKUP(C4080,'Charge Conversion'!A:C,3,0),\" \")","v":" "}," "," ",null,null,null,null,null,{"$f":"VLOOKUP(D4080,'Group Name'!A:B,2,0)","v":{"$error":"#N/A"}}," "]
[null,null,null,null,null,null,null,null,null,{"$f":"+IFERROR(VLOOKUP(C4081,'Charge Conversion'!A:C,3,0),\" \")","v":" "}," "," ",null,null,null,null,null,{"$f":"VLOOKUP(D4081,'Group Name'!A:B,2,0)","v":{"$error":"#N/A"}}," "]
[null,null,null,null,null,null,null,null,null,{"$f":"+IFERROR(VLOOKUP(C4083,'Charge Conversion'!A:C,3,0),\" \")","v":" "}," "," ",null,null,null,null,null,{"$f":"VLOOKUP(D4083,'Group Name'!A:B,2,0)","v":{"$error":"#N/A"}}," "]
[null,null,null,null,null,null,null,null,null,{"$f":"+IFERROR(VLOOKUP(C4086,'Charge Conversion'!A:C,3,0),\" \")","v":" "}," "," ",null,null,null,null,null,{"$f":"VLOOKUP(D4086,'Group Name'!A:B,2,0)","v":{"$error":"#N/A"}}," "]
[null,null,null,null,null,null,null,null,null,{"$f":"+IFERROR(VLOOKUP(C4088,'Charge Conversion'!A:C,3,0),\" \")","v":" "}," "," ",null,null,null,null,null,{"$f":"VLOOKUP(D4088,'Group Name'!A:B,2,0)","v":{"$error":"#N/A"}}," "]
[null,null,null,null,null,null,null,null,null,{"$f":"+IFERROR(VLOOKUP(C4091,'Charge Conversion'!A:C,3,0),\" \")","v":" "}," "," ",null,null,null,null,null,{"$f":"VLOOKUP(D4091,'Group Name'!A:B,2,0)","v":{"$error":"#N/A"}}," "]
[null,null,null,null,null,null,null,null,null,{"$f":"+IFERROR(VLOOKUP(C4094,'Charge Conversion'!A:C,3,0),\" \")","v":" "}," "," ",null,null,null,null,null,{"$f":"VLOOKUP(D4094,'Group Name'!A:B,2,0)","v":{"$error":"#N/A"}}," "]
[null,null,null,null,null,null,null,null,null,{"$f":"+IFERROR(VLOOKUP(C4096,'Charge Conversion'!A:C,3,0),\" \")","v":" "}," "," ",null,null,null,null,null,{"$f":"VLOOKUP(D4096,'Group Name'!A:B,2,0)","v":{"$error":"#N/A"}}," "]
[null,null,null,null,null,null,null,null,null,{"$f":"+IFERROR(VLOOKUP(C4100,'Charge Conversion'!A:C,3,0),\" \")","v":" "}," "," ",null,null,null,null,null,{"$f":"VLOOKUP(D4100,'Group Name'!A:B,2,0)","v":{"$error":"#N/A"}}," "]
[null,null,null,null,null,null,null,null,null,{"$f":"+IFERROR(VLOOKUP(C4101,'Charge Conversion'!A:C,3,0),\" \")","v":" "},{"$f":"+IFERROR(I4101*J4101,\" \")","v":" "},{"$f":"S4101","v":" "},null,null,null,null,null,{"$f":"VLOOKUP(D4101,'Group Name'!A:B,2,0)","v":{"$error":"#N/A"}},{"$f":"IFERROR((IF(A4101=\" \",\" \",R4101)),\" \")","v":" "}]
[null,null,null,null,null,null,null,null,null,{"$f":"+IFERROR(VLOOKUP(C4103,'Charge Conversion'!A:C,3,0),\" \")","v":" "}," "," ",null,null,null,null,null,{"$f":"VLOOKUP(D4103,'Group Name'!A:B,2,0)","v":{"$error":"#N/A"}}," "]
[null,null,null,null,null,null,null,null,null,{"$f":"+IFERROR(VLOOKUP(C4106,'Charge Conversion'!A:C,3,0),\" \")","v":" "}," "," ",null,null,null,null,null,{"$f":"VLOOKUP(D4106,'Group Name'!A:B,2,0)","v":{"$error":"#N/A"}}," "]
[null,null,null,null,null,null,null,null,null,{"$f":"+IFERROR(VLOOKUP(C4108,'Charge Conversion'!A:C,3,0),\" \")","v":" "}," "," ",null,null,null,null,null,{"$f":"VLOOKUP(D4108,'Group Name'!A:B,2,0)","v":{"$error":"#N/A"}}," "]
[null,null,null,null,null,null,null,null,null,{"$f":"+IFERROR(VLOOKUP(C4111,'Charge Conversion'!A:C,3,0),\" \")","v":" "}," "," ",null,null,null,null,null,{"$f":"VLOOKUP(D4111,'Group Name'!A:B,2,0)","v":{"$error":"#N/A"}}," "]
[null,null,null,null,null,null,null,null,null,{"$f":"+IFERROR(VLOOKUP(C4114,'Charge Conversion'!A:C,3,0),\" \")","v":" "}," "," ",null,null,null,null,null,{"$f":"VLOOKUP(D4114,'Group Name'!A:B,2,0)","v":{"$error":"#N/A"}}," "]
[null,null,null,null,null,null,null,null,null,{"$f":"+IFERROR(VLOOKUP(C4117,'Charge Conversion'!A:C,3,0),\" \")","v":" "}," "," ",null,null,null,null,null,{"$f":"VLOOKUP(D4117,'Group Name'!A:B,2,0)","v":{"$error":"#N/A"}}," "]
[null,null,null,null,null,null,null,null,null,{"$f":"+IFERROR(VLOOKUP(C4120,'Charge Conversion'!A:C,3,0),\" \")","v":" "}," "," ",null,null,null,null,null,{"$f":"VLOOKUP(D4120,'Group Name'!A:B,2,0)","v":{"$error":"#N/A"}}," "]
[null,null,null,null,null,null,null,null,null,{"$f":"+IFERROR(VLOOKUP(C4123,'Charge Conversion'!A:C,3,0),\" \")","v":" "}," "," ",null,null,null,null,null,{"$f":"VLOOKUP(D4123,'Group Name'!A:B,2,0)","v":{"$error":"#N/A"}}," "]
[null,null,null,null,null,null,null,null,null,{"$f":"+IFERROR(VLOOKUP(C4125,'Charge Conversion'!A:C,3,0),\" \")","v":" "}," "," ",null,null,null,null,null,{"$f":"VLOOKUP(D4125,'Group Name'!A:B,2,0)","v":{"$error":"#N/A"}}," "]
[null,null,null,null,null,null,null,null,null,{"$f":"+IFERROR(VLOOKUP(C4126,'Charge Conversion'!A:C,3,0),\" \")","v":" "}," "," ",null,null,null,null,null,{"$f":"VLOOKUP(D4126,'Group Name'!A:B,2,0)","v":{"$error":"#N/A"}}," "]
[null,null,null,null,null,null,null,null,null,{"$f":"+IFERROR(VLOOKUP(C4130,'Charge Conversion'!A:C,3,0),\" \")","v":" "}," "," ",null,null,null,null,null,{"$f":"VLOOKUP(D4130,'Group Name'!A:B,2,0)","v":{"$error":"#N/A"}}," "]
[null,null,null,null,null,null,null,null,null,{"$f":"+IFERROR(VLOOKUP(C4132,'Charge Conversion'!A:C,3,0),\" \")","v":" "}," "," ",null,null,null,null,null,{"$f":"VLOOKUP(D4132,'Group Name'!A:B,2,0)","v":{"$error":"#N/A"}}," "]
[null,null,null,null,null,null,null,null,null,{"$f":"+IFERROR(VLOOKUP(C4135,'Charge Conversion'!A:C,3,0),\" \")","v":" "}," "," ",null,null,null,null,null,{"$f":"VLOOKUP(D4135,'Group Name'!A:B,2,0)","v":{"$error":"#N/A"}}," "]
[null,null,null,null,null,null,null,null,null,{"$f":"+IFERROR(VLOOKUP(C4138,'Charge Conversion'!A:C,3,0),\" \")","v":" "}," "," ",null,null,null,null,null,{"$f":"VLOOKUP(D4138,'Group Name'!A:B,2,0)","v":{"$error":"#N/A"}}," "]
[null,null,null,null,null,null,null,null,null,{"$f":"+IFERROR(VLOOKUP(C4140,'Charge Conversion'!A:C,3,0),\" \")","v":" "}," "," ",null,null,null,null,null,{"$f":"VLOOKUP(D4140,'Group Name'!A:B,2,0)","v":{"$error":"#N/A"}}," "]
[null,null,null,null,null,null,null,null,null,{"$f":"+IFERROR(VLOOKUP(C4143,'Charge Conversion'!A:C,3,0),\" \")","v":" "}," "," ",null,null,null,null,null,{"$f":"VLOOKUP(D4143,'Group Name'!A:B,2,0)","v":{"$error":"#N/A"}}," "]
[null,null,null,null,null,null,null,null,null,{"$f":"+IFERROR(VLOOKUP(C4145,'Charge Conversion'!A:C,3,0),\" \")","v":" "}," "," ",null,null,null,null,null,{"$f":"VLOOKUP(D4145,'Group Name'!A:B,2,0)","v":{"$error":"#N/A"}}," "]
[null,null,null,null,null,null,null,null,null,{"$f":"+IFERROR(VLOOKUP(C4146,'Charge Conversion'!A:C,3,0),\" \")","v":" "}," "," ",null,null,null,null,null,{"$f":"VLOOKUP(D4146,'Group Name'!A:B,2,0)","v":{"$error":"#N/A"}}," "]
[null,null,null,null,null,null,null,null,null,{"$f":"+IFERROR(VLOOKUP(C4150,'Charge Conversion'!A:C,3,0),\" \")","v":" "}," "," ",null,null,null,null,null,{"$f":"VLOOKUP(D4150,'Group Name'!A:B,2,0)","v":{"$error":"#N/A"}}," "]
[null,null,null,null,null,null,null,null,null,{"$f":"+IFERROR(VLOOKUP(C4152,'Charge Conversion'!A:C,3,0),\" \")","v":" "}," "," ",null,null,null,null,null,{"$f":"VLOOKUP(D4152,'Group Name'!A:B,2,0)","v":{"$error":"#N/A"}}," "]
[null,null,null,null,null,null,null,null,null,{"$f":"+IFERROR(VLOOKUP(C4155,'Charge Conversion'!A:C,3,0),\" \")","v":" "}," "," ",null,null,null,null,null,{"$f":"VLOOKUP(D4155,'Group Name'!A:B,2,0)","v":{"$error":"#N/A"}}," "]
[null,null,null,null,null,null,null,null,null,{"$f":"+IFERROR(VLOOKUP(C4158,'Charge Conversion'!A:C,3,0),\" \")","v":" "}," "," ",null,null,null,null,null,{"$f":"VLOOKUP(D4158,'Group Name'!A:B,2,0)","v":{"$error":"#N/A"}}," "]
[null,null,null,null,null,null,null,null,null,{"$f":"+IFERROR(VLOOKUP(C4160,'Charge Conversion'!A:C,3,0),\" \")","v":" "}," "," ",null,null,null,null,null,{"$f":"VLOOKUP(D4160,'Group Name'!A:B,2,0)","v":{"$error":"#N/A"}}," "]
[null,null,null,null,null,null,null,null,null,{"$f":"+IFERROR(VLOOKUP(C4163,'Charge Conversion'!A:C,3,0),\" \")","v":" "}," "," ",null,null,null,null,null,{"$f":"VLOOKUP(D4163,'Group Name'!A:B,2,0)","v":{"$error":"#N/A"}}," "]
[null,null,null,null,null,null,null,null,null,{"$f":"+IFERROR(VLOOKUP(C4165,'Charge Conversion'!A:C,3,0),\" \")","v":" "},{"$f":"+IFERROR(I4165*J4165,\" \")","v":" "},{"$f":"S4165","v":" "},null,null,null,null,null,{"$f":"VLOOKUP(D4165,'Group Name'!A:B,2,0)","v":{"$error":"#N/A"}},{"$f":"IFERROR((IF(A4165=\" \",\" \",R4165)),\" \")","v":" "}]
[null,null,null,null,null,null,null,null,null,{"$f":"+IFERROR(VLOOKUP(C4166,'Charge Conversion'!A:C,3,0),\" \")","v":" "}," "," ",null,null,null,null,null,{"$f":"VLOOKUP(D4166,'Group Name'!A:B,2,0)","v":{"$error":"#N/A"}}," "]
[null,null,null,null,null,null,null,null,null,{"$f":"+IFERROR(VLOOKUP(C4170,'Charge Conversion'!A:C,3,0),\" \")","v":" "}," "," ",null,null,null,null,null,{"$f":"VLOOKUP(D4170,'Group Name'!A:B,2,0)","v":{"$error":"#N/A"}}," "]
[null,null,null,null,null,null,null,null,null,{"$f":"+IFERROR(VLOOKUP(C4172,'Charge Conversion'!A:C,3,0),\" \")","v":" "}," "," ",null,null,null,null,null,{"$f":"VLOOKUP(D4172,'Group Name'!A:B,2,0)","v":{"$error":"#N/A"}}," "]
[null,null,null,null,null,null,null,null,null,{"$f":"+IFERROR(VLOOKUP(C4175,'Charge Conversion'!A:C,3,0),\" \")","v":" "}," "," ",null,null,null,null,null,{"$f":"VLOOKUP(D4175,'Group Name'!A:B,2,0)","v":{"$error":"#N/A"}}," "]
[null,null,null,null,null,null,null,null,null,{"$f":"+IFERROR(VLOOKUP(C4178,'Charge Conversion'!A:C,3,0),\" \")","v":" "}," "," ",null,null,null,null,null,{"$f":"VLOOKUP(D4178,'Group Name'!A:B,2,0)","v":{"$error":"#N/A"}}," "]
[null,null,null,null,null,null,null,null,null,{"$f":"+IFERROR(VLOOKUP(C4180,'Charge Conversion'!A:C,3,0),\" \")","v":" "}," "," ",null,null,null,null,null,{"$f":"VLOOKUP(D4180,'Group Name'!A:B,2,0)","v":{"$error":"#N/A"}}," "]
[null,null,null,null,null,null,null,null,null,{"$f":"+IFERROR(VLOOKUP(C4183,'Charge Conversion'!A:C,3,0),\" \")","v":" "}," "," ",null,null,null,null,null,{"$f":"VLOOKUP(D4183,'Group Name'!A:B,2,0)","v":{"$error":"#N/A"}}," "]
[null,null,null,null,null,null,null,null,null,{"$f":"+IFERROR(VLOOKUP(C4185,'Charge Conversion'!A:C,3,0),\" \")","v":" "}," "," ",null,null,null,null,null,{"$f":"VLOOKUP(D4185,'Group Name'!A:B,2,0)","v":{"$error":"#N/A"}}," "]
[null,null,null,null,null,null,null,null,null,{"$f":"+IFERROR(VLOOKUP(C4186,'Charge Conversion'!A:C,3,0),\" \")","v":" "}," "," ",null,null,null,null,null,{"$f":"VLOOKUP(D4186,'Group Name'!A:B,2,0)","v":{"$error":"#N/A"}}," "]
[null,null,null,null,null,null,null,null,null,{"$f":"+IFERROR(VLOOKUP(C4190,'Charge Conversion'!A:C,3,0),\" \")","v":" "}," "," ",null,null,null,null,null,{"$f":"VLOOKUP(D4190,'Group Name'!A:B,2,0)","v":{"$error":"#N/A"}}," "]
[null,null,null,null,null,null,null,null,null,{"$f":"+IFERROR(VLOOKUP(C4192,'Charge Conversion'!A:C,3,0),\" \")","v":" "}," "," ",null,null,null,null,null,{"$f":"VLOOKUP(D4192,'Group Name'!A:B,2,0)","v":{"$error":"#N/A"}}," "]
[null,null,null,null,null,null,null,null,null,{"$f":"+IFERROR(VLOOKUP(C4195,'Charge Conversion'!A:C,3,0),\" \")","v":" "}," "," ",null,null,null,null,null,{"$f":"VLOOKUP(D4195,'Group Name'!A:B,2,0)","v":{"$error":"#N/A"}}," "]
[null,null,null,null,null,null,null,null,null,{"$f":"+IFERROR(VLOOKUP(C4198,'Charge Conversion'!A:C,3,0),\" \")","v":" "}," "," ",null,null,null,null,null,{"$f":"VLOOKUP(D4198,'Group Name'!A:B,2,0)","v":{"$error":"#N/A"}}," "]
[null,null,null,null,null,null,null,null,null,{"$f":"+IFERROR(VLOOKUP(C4200,'Charge Conversion'!A:C,3,0),\" \")","v":" "}," "," ",null,null,null,null,null,{"$f":"VLOOKUP(D4200,'Group Name'!A:B,2,0)","v":{"$error":"#N/A"}}," "]
[null,null,null,null,null,null,null,null,null,{"$f":"+IFERROR(VLOOKUP(C4203,'Charge Conversion'!A:C,3,0),\" \")","v":" "}," "," ",null,null,null,null,null,{"$f":"VLOOKUP(D4203,'Group Name'!A:B,2,0)","v":{"$error":"#N/A"}}," "]
[null,null,null,null,null,null,null,null,null,{"$f":"+IFERROR(VLOOKUP(C4205,'Charge Conversion'!A:C,3,0),\" \")","v":" "}," "," ",null,null,null,null,null,{"$f":"VLOOKUP(D4205,'Group Name'!A:B,2,0)","v":{"$error":"#N/A"}}," "]
[null,null,null,null,null,null,null,null,null,{"$f":"+IFERROR(VLOOKUP(C4206,'Charge Conversion'!A:C,3,0),\" \")","v":" "}," "," ",null,null,null,null,null,{"$f":"VLOOKUP(D4206,'Group Name'!A:B,2,0)","v":{"$error":"#N/A"}}," "]
[null,null,null,null,null,null,null,null,null,{"$f":"+IFERROR(VLOOKUP(C4210,'Charge Conversion'!A:C,3,0),\" \")","v":" "}," "," ",null,null,null,null,null,{"$f":"VLOOKUP(D4210,'Group Name'!A:B,2,0)","v":{"$error":"#N/A"}}," "]
[null,null,null,null,null,null,null,null,null,{"$f":"+IFERROR(VLOOKUP(C4212,'Charge Conversion'!A:C,3,0),\" \")","v":" "}," "," ",null,null,null,null,null,{"$f":"VLOOKUP(D4212,'Group Name'!A:B,2,0)","v":{"$error":"#N/A"}}," "]
[null,null,null,null,null,null,null,null,null,{"$f":"+IFERROR(VLOOKUP(C4215,'Charge Conversion'!A:C,3,0),\" \")","v":" "}," "," ",null,null,null,null,null,{"$f":"VLOOKUP(D4215,'Group Name'!A:B,2,0)","v":{"$error":"#N/A"}}," "]
[null,null,null,null,null,null,null,null,null,{"$f":"+IFERROR(VLOOKUP(C4218,'Charge Conversion'!A:C,3,0),\" \")","v":" "}," "," ",null,null,null,null,null,{"$f":"VLOOKUP(D4218,'Group Name'!A:B,2,0)","v":{"$error":"#N/A"}}," "]
[null,null,null,null,null,null,null,null,null,{"$f":"+IFERROR(VLOOKUP(C4220,'Charge Conversion'!A:C,3,0),\" \")","v":" "}," "," ",null,null,null,null,null,{"$f":"VLOOKUP(D4220,'Group Name'!A:B,2,0)","v":{"$error":"#N/A"}}," "]
[null,null,null,null,null,null,null,null,null,{"$f":"+IFERROR(VLOOKUP(C4221,'Charge Conversion'!A:C,3,0),\" \")","v":" "}," "," ",null,null,null,null,null,{"$f":"VLOOKUP(D4221,'Group Name'!A:B,2,0)","v":{"$error":"#N/A"}}," "]
[null,null,null,null,null,null,null,null,null,{"$f":"+IFERROR(VLOOKUP(C4225,'Charge Conversion'!A:C,3,0),\" \")","v":" "}," "," ",null,null,null,null,null,{"$f":"VLOOKUP(D4225,'Group Name'!A:B,2,0)","v":{"$error":"#N/A"}}," "]
[null,null,null,null,null,null,null,null,null,{"$f":"+IFERROR(VLOOKUP(C4226,'Charge Conversion'!A:C,3,0),\" \")","v":" "}," "," ",null,null,null,null,null,{"$f":"VLOOKUP(D4226,'Group Name'!A:B,2,0)","v":{"$error":"#N/A"}}," "]
[null,null,null,null,null,null,null,null,null,{"$f":"+IFERROR(VLOOKUP(C4230,'Charge Conversion'!A:C,3,0),\" \")","v":" "}," "," ",null,null,null,null,null,{"$f":"VLOOKUP(D4230,'Group Name'!A:B,2,0)","v":{"$error":"#N/A"}}," "]
[null,null,null,null,null,null,null,null,null,{"$f":"+IFERROR(VLOOKUP(C4232,'Charge Conversion'!A:C,3,0),\" \")","v":" "}," "," ",null,null,null,null,null,{"$f":"VLOOKUP(D4232,'Group Name'!A:B,2,0)","v":{"$error":"#N/A"}}," "]
[null,null,null,null,null,null,null,null,null,{"$f":"+IFERROR(VLOOKUP(C4235,'Charge Conversion'!A:C,3,0),\" \")","v":" "}," "," ",null,null,null,null,null,{"$f":"VLOOKUP(D4235,'Group Name'!A:B,2,0)","v":{"$error":"#N/A"}}," "]
[null,null,null,null,null,null,null,null,null,{"$f":"+IFERROR(VLOOKUP(C4238,'Charge Conversion'!A:C,3,0),\" \")","v":" "}," "," ",null,null,null,null,null,{"$f":"VLOOKUP(D4238,'Group Name'!A:B,2,0)","v":{"$error":"#N/A"}}," "]
[null,null,null,null,null,null,null,null,null,{"$f":"+IFERROR(VLOOKUP(C4240,'Charge Conversion'!A:C,3,0),\" \")","v":" "}," "," ",null,null,null,null,null,{"$f":"VLOOKUP(D4240,'Group Name'!A:B,2,0)","v":{"$error":"#N/A"}}," "]
[null,null,null,null,null,null,null,null,null,{"$f":"+IFERROR(VLOOKUP(C4241,'Charge Conversion'!A:C,3,0),\" \")","v":" "}," "," ",null,null,null,null,null,{"$f":"VLOOKUP(D4241,'Group Name'!A:B,2,0)","v":{"$error":"#N/A"}}," "]
[null,null,null,null,null,null,null,null,null,{"$f":"+IFERROR(VLOOKUP(C4244,'Charge Conversion'!A:C,3,0),\" \")","v":" "}," "," ",null,null,null,null,null,{"$f":"VLOOKUP(D4244,'Group Name'!A:B,2,0)","v":{"$error":"#N/A"}}," "]
[null,null,null,null,null,null,null,null,null,{"$f":"+IFERROR(VLOOKUP(C4247,'Charge Conversion'!A:C,3,0),\" \")","v":" "}," "," ",null,null,null,null,null,{"$f":"VLOOKUP(D4247,'Group Name'!A:B,2,0)","v":{"$error":"#N/A"}}," "]
[null,null,null,null,null,null,null,null,null,{"$f":"+IFERROR(VLOOKUP(C4250,'Charge Conversion'!A:C,3,0),\" \")","v":" "}," "," ",null,null,null,null,null,{"$f":"VLOOKUP(D4250,'Group Name'!A:B,2,0)","v":{"$error":"#N/A"}}," "]
[null,null,null,null,null,null,null,null,null,{"$f":"+IFERROR(VLOOKUP(C4252,'Charge Conversion'!A:C,3,0),\" \")","v":" "}," "," ",null,null,null,null,null,{"$f":"VLOOKUP(D4252,'Group Name'!A:B,2,0)","v":{"$error":"#N/A"}}," "]
[null,null,null,null,null,null,null,null,null,{"$f":"+IFERROR(VLOOKUP(C4256,'Charge Conversion'!A:C,3,0),\" \")","v":" "}," "," ",null,null,null,null,null,{"$f":"VLOOKUP(D4256,'Group Name'!A:B,2,0)","v":{"$error":"#N/A"}}," "]
[null,null,null,null,null,null,null,null,null,{"$f":"+IFERROR(VLOOKUP(C4257,'Charge Conversion'!A:C,3,0),\" \")","v":" "}," "," ",null,null,null,null,null,{"$f":"VLOOKUP(D4257,'Group Name'!A:B,2,0)","v":{"$error":"#N/A"}}," "]
[null,null,null,null,null,null,null,null,null,{"$f":"+IFERROR(VLOOKUP(C4261,'Charge Conversion'!A:C,3,0),\" \")","v":" "}," "," ",null,null,null,null,null,{"$f":"VLOOKUP(D4261,'Group Name'!A:B,2,0)","v":{"$error":"#N/A"}}," "]
[null,null,null,null,null,null,null,null,null,{"$f":"+IFERROR(VLOOKUP(C4262,'Charge Conversion'!A:C,3,0),\" \")","v":" "}," "," ",null,null,null,null,null,{"$f":"VLOOKUP(D4262,'Group Name'!A:B,2,0)","v":{"$error":"#N/A"}}," "]
[null,null,null,null,null,null,null,null,null,{"$f":"+IFERROR(VLOOKUP(C4264,'Charge Conversion'!A:C,3,0),\" \")","v":" "}," "," ",null,null,null,null,null,{"$f":"VLOOKUP(D4264,'Group Name'!A:B,2,0)","v":{"$error":"#N/A"}}," "]
[null,null,null,null,null,null,null,null,null,{"$f":"+IFERROR(VLOOKUP(C4267,'Charge Conversion'!A:C,3,0),\" \")","v":" "}," "," ",null,null,null,null,null,{"$f":"VLOOKUP(D4267,'Group Name'!A:B,2,0)","v":{"$error":"#N/A"}}," "]
[null,null,null,null,null,null,null,null,null,{"$f":"+IFERROR(VLOOKUP(C4270,'Charge Conversion'!A:C,3,0),\" \")","v":" "}," "," ",null,null,null,null,null,{"$f":"VLOOKUP(D4270,'Group Name'!A:B,2,0)","v":{"$error":"#N/A"}}," "]
[null,null,null,null,null,null,null,null,null,{"$f":"+IFERROR(VLOOKUP(C4272,'Charge Conversion'!A:C,3,0),\" \")","v":" "}," "," ",null,null,null,null,null,{"$f":"VLOOKUP(D4272,'Group Name'!A:B,2,0)","v":{"$error":"#N/A"}}," "]
[null,null,null,null,null,null,null,null,null,{"$f":"+IFERROR(VLOOKUP(C4276,'Charge Conversion'!A:C,3,0),\" \")","v":" "}," "," ",null,null,null,null,null,{"$f":"VLOOKUP(D4276,'Group Name'!A:B,2,0)","v":{"$error":"#N/A"}}," "]
[null,null,null,null,null,null,null,null,null,{"$f":"+IFERROR(VLOOKUP(C4277,'Charge Conversion'!A:C,3,0),\" \")","v":" "}," "," ",null,null,null,null,null,{"$f":"VLOOKUP(D4277,'Group Name'!A:B,2,0)","v":{"$error":"#N/A"}}," "]
[null,null,null,null,null,null,null,null,null,{"$f":"+IFERROR(VLOOKUP(C4281,'Charge Conversion'!A:C,3,0),\" \")","v":" "}," "," ",null,null,null,null,null,{"$f":"VLOOKUP(D4281,'Group Name'!A:B,2,0)","v":{"$error":"#N/A"}}," "]
[null,null,null,null,null,null,null,null,null,{"$f":"+IFERROR(VLOOKUP(C4282,'Charge Conversion'!A:C,3,0),\" \")","v":" "}," "," ",null,null,null,null,null,{"$f":"VLOOKUP(D4282,'Group Name'!A:B,2,0)","v":{"$error":"#N/A"}}," "]
[null,null,null,null,null,null,null,null,null,{"$f":"+IFERROR(VLOOKUP(C4284,'Charge Conversion'!A:C,3,0),\" \")","v":" "}," "," ",null,null,null,null,null,{"$f":"VLOOKUP(D4284,'Group Name'!A:B,2,0)","v":{"$error":"#N/A"}}," "]
[null,null,null,null,null,null,null,null,null,{"$f":"+IFERROR(VLOOKUP(C4287,'Charge Conversion'!A:C,3,0),\" \")","v":" "}," "," ",null,null,null,null,null,{"$f":"VLOOKUP(D4287,'Group Name'!A:B,2,0)","v":{"$error":"#N/A"}}," "]
[null,null,null,null,null,null,null,null,null,{"$f":"+IFERROR(VLOOKUP(C4290,'Charge Conversion'!A:C,3,0),\" \")","v":" "}," "," ",null,null,null,null,null,{"$f":"VLOOKUP(D4290,'Group Name'!A:B,2,0)","v":{"$error":"#N/A"}}," "]
[null,null,null,null,null,null,null,null,null,{"$f":"+IFERROR(VLOOKUP(C4292,'Charge Conversion'!A:C,3,0),\" \")","v":" "}," "," ",null,null,null,null,null,{"$f":"VLOOKUP(D4292,'Group Name'!A:B,2,0)","v":{"$error":"#N/A"}}," "]
[null,null,null,null,null,null,null,null,null,{"$f":"+IFERROR(VLOOKUP(C4296,'Charge Conversion'!A:C,3,0),\" \")","v":" "}," "," ",null,null,null,null,null,{"$f":"VLOOKUP(D4296,'Group Name'!A:B,2,0)","v":{"$error":"#N/A"}}," "]
[null,null,null,null,null,null,null,null,null,{"$f":"+IFERROR(VLOOKUP(C4297,'Charge Conversion'!A:C,3,0),\" \")","v":" "}," "," ",null,null,null,null,null,{"$f":"VLOOKUP(D4297,'Group Name'!A:B,2,0)","v":{"$error":"#N/A"}}," "]
[null,null,null,null,null,null,null,null,null,{"$f":"+IFERROR(VLOOKUP(C4301,'Charge Conversion'!A:C,3,0),\" \")","v":" "}," "," ",null,null,null,null,null,{"$f":"VLOOKUP(D4301,'Group Name'!A:B,2,0)","v":{"$error":"#N/A"}}," "]
[null,null,null,null,null,null,null,null,null,{"$f":"+IFERROR(VLOOKUP(C4302,'Charge Conversion'!A:C,3,0),\" \")","v":" "}," "," ",null,null,null,null,null,{"$f":"VLOOKUP(D4302,'Group Name'!A:B,2,0)","v":{"$error":"#N/A"}}," "]
[null,null,null,null,null,null,null,null,null,{"$f":"+IFERROR(VLOOKUP(C4304,'Charge Conversion'!A:C,3,0),\" \")","v":" "}," "," ",null,null,null,null,null,{"$f":"VLOOKUP(D4304,'Group Name'!A:B,2,0)","v":{"$error":"#N/A"}}," "]
[null,null,null,null,null,null,null,null,null,{"$f":"+IFERROR(VLOOKUP(C4307,'Charge Conversion'!A:C,3,0),\" \")","v":" "}," "," ",null,null,null,null,null,{"$f":"VLOOKUP(D4307,'Group Name'!A:B,2,0)","v":{"$error":"#N/A"}}," "]
[null,null,null,null,null,null,null,null,null,{"$f":"+IFERROR(VLOOKUP(C4310,'Charge Conversion'!A:C,3,0),\" \")","v":" "}," "," ",null,null,null,null,null,{"$f":"VLOOKUP(D4310,'Group Name'!A:B,2,0)","v":{"$error":"#N/A"}}," "]
[null,null,null,null,null,null,null,null,null,{"$f":"+IFERROR(VLOOKUP(C4312,'Charge Conversion'!A:C,3,0),\" \")","v":" "}," "," ",null,null,null,null,null,{"$f":"VLOOKUP(D4312,'Group Name'!A:B,2,0)","v":{"$error":"#N/A"}}," "]
[null,null,null,null,null,null,null,null,null,{"$f":"+IFERROR(VLOOKUP(C4316,'Charge Conversion'!A:C,3,0),\" \")","v":" "}," "," ",null,null,null,null,null,{"$f":"VLOOKUP(D4316,'Group Name'!A:B,2,0)","v":{"$error":"#N/A"}}," "]
[null,null,null,null,null,null,null,null,null,{"$f":"+IFERROR(VLOOKUP(C4317,'Charge Conversion'!A:C,3,0),\" \")","v":" "}," "," ",null,null,null,null,null,{"$f":"VLOOKUP(D4317,'Group Name'!A:B,2,0)","v":{"$error":"#N/A"}}," "]
[null,null,null,null,null,null,null,null,null,{"$f":"+IFERROR(VLOOKUP(C4321,'Charge Conversion'!A:C,3,0),\" \")","v":" "}," "," ",null,null,null,null,null,{"$f":"VLOOKUP(D4321,'Group Name'!A:B,2,0)","v":{"$error":"#N/A"}}," "]
[null,null,null,null,null,null,null,null,null,{"$f":"+IFERROR(VLOOKUP(C4322,'Charge Conversion'!A:C,3,0),\" \")","v":" "}," "," ",null,null,null,null,null,{"$f":"VLOOKUP(D4322,'Group Name'!A:B,2,0)","v":{"$error":"#N/A"}}," "]
[null,null,null,null,null,null,null,null,null,{"$f":"+IFERROR(VLOOKUP(C4324,'Charge Conversion'!A:C,3,0),\" \")","v":" "}," "," ",null,null,null,null,null,{"$f":"VLOOKUP(D4324,'Group Name'!A:B,2,0)","v":{"$error":"#N/A"}}," "]
[null,null,null,null,null,null,null,null,null,{"$f":"+IFERROR(VLOOKUP(C4327,'Charge Conversion'!A:C,3,0),\" \")","v":" "}," "," ",null,null,null,null,null,{"$f":"VLOOKUP(D4327,'Group Name'!A:B,2,0)","v":{"$error":"#N/A"}}," "]
[null,null,null,null,null,null,null,null,null,{"$f":"+IFERROR(VLOOKUP(C4330,'Charge Conversion'!A:C,3,0),\" \")","v":" "}," "," ",null,null,null,null,null,{"$f":"VLOOKUP(D4330,'Group Name'!A:B,2,0)","v":{"$error":"#N/A"}}," "]
[null,null,null,null,null,null,null,null,null,{"$f":"+IFERROR(VLOOKUP(C4332,'Charge Conversion'!A:C,3,0),\" \")","v":" "}," "," ",null,null,null,null,null,{"$f":"VLOOKUP(D4332,'Group Name'!A:B,2,0)","v":{"$error":"#N/A"}}," "]
[null,null,null,null,null,null,null,null,null,{"$f":"+IFERROR(VLOOKUP(C4336,'Charge Conversion'!A:C,3,0),\" \")","v":" "}," "," ",null,null,null,null,null,{"$f":"VLOOKUP(D4336,'Group Name'!A:B,2,0)","v":{"$error":"#N/A"}}," "]
[null,null,null,null,null,null,null,null,null,{"$f":"+IFERROR(VLOOKUP(C4337,'Charge Conversion'!A:C,3,0),\" \")","v":" "}," "," ",null,null,null,null,null,{"$f":"VLOOKUP(D4337,'Group Name'!A:B,2,0)","v":{"$error":"#N/A"}}," "]
[null,null,null,null,null,null,null,null,null,{"$f":"+IFERROR(VLOOKUP(C4341,'Charge Conversion'!A:C,3,0),\" \")","v":" "}," "," ",null,null,null,null,null,{"$f":"VLOOKUP(D4341,'Group Name'!A:B,2,0)","v":{"$error":"#N/A"}}," "]
[null,null,null,null,null,null,null,null,null,{"$f":"+IFERROR(VLOOKUP(C4342,'Charge Conversion'!A:C,3,0),\" \")","v":" "}," "," ",null,null,null,null,null,{"$f":"VLOOKUP(D4342,'Group Name'!A:B,2,0)","v":{"$error":"#N/A"}}," "]
[null,null,null,null,null,null,null,null,null,{"$f":"+IFERROR(VLOOKUP(C4344,'Charge Conversion'!A:C,3,0),\" \")","v":" "}," "," ",null,null,null,null,null,{"$f":"VLOOKUP(D4344,'Group Name'!A:B,2,0)","v":{"$error":"#N/A"}}," "]
[null,null,null,null,null,null,null,null,null,{"$f":"+IFERROR(VLOOKUP(C4347,'Charge Conversion'!A:C,3,0),\" \")","v":" "}," "," ",null,null,null,null,null,{"$f":"VLOOKUP(D4347,'Group Name'!A:B,2,0)","v":{"$error":"#N/A"}}," "]
[null,null,null,null,null,null,null,null,null,{"$f":"+IFERROR(VLOOKUP(C4350,'Charge Conversion'!A:C,3,0),\" \")","v":" "}," "," ",null,null,null,null,null,{"$f":"VLOOKUP(D4350,'Group Name'!A:B,2,0)","v":{"$error":"#N/A"}}," "]
[null,null,null,null,null,null,null,null,null,{"$f":"+IFERROR(VLOOKUP(C4352,'Charge Conversion'!A:C,3,0),\" \")","v":" "}," "," ",null,null,null,null,null,{"$f":"VLOOKUP(D4352,'Group Name'!A:B,2,0)","v":{"$error":"#N/A"}}," "]
[null,null,null,null,null,null,null,null,null,{"$f":"+IFERROR(VLOOKUP(C4356,'Charge Conversion'!A:C,3,0),\" \")","v":" "}," "," ",null,null,null,null,null,{"$f":"VLOOKUP(D4356,'Group Name'!A:B,2,0)","v":{"$error":"#N/A"}}," "]
[null,null,null,null,null,null,null,null,null,{"$f":"+IFERROR(VLOOKUP(C4357,'Charge Conversion'!A:C,3,0),\" \")","v":" "},{"$f":"+IFERROR(I4357*J4357,\" \")","v":" "},{"$f":"S4357","v":" "},null,null,null,null,null,{"$f":"VLOOKUP(D4357,'Group Name'!A:B,2,0)","v":{"$error":"#N/A"}},{"$f":"IFERROR((IF(A4357=\" \",\" \",R4357)),\" \")","v":" "}]
[null,null,null,null,null,null,null,null,null,{"$f":"+IFERROR(VLOOKUP(C4359,'Charge Conversion'!A:C,3,0),\" \")","v":" "}," "," ",null,null,null,null,null,{"$f":"VLOOKUP(D4359,'Group Name'!A:B,2,0)","v":{"$error":"#N/A"}}," "]
[null,null,null,null,null,null,null,null,null,{"$f":"+IFERROR(VLOOKUP(C4362,'Charge Conversion'!A:C,3,0),\" \")","v":" "}," "," ",null,null,null,null,null,{"$f":"VLOOKUP(D4362,'Group Name'!A:B,2,0)","v":{"$error":"#N/A"}}," "]
[null,null,null,null,null,null,null,null,null,{"$f":"+IFERROR(VLOOKUP(C4364,'Charge Conversion'!A:C,3,0),\" \")","v":" "}," "," ",null,null,null,null,null,{"$f":"VLOOKUP(D4364,'Group Name'!A:B,2,0)","v":{"$error":"#N/A"}}," "]
[null,null,null,null,null,null,null,null,null,{"$f":"+IFERROR(VLOOKUP(C4367,'Charge Conversion'!A:C,3,0),\" \")","v":" "}," "," ",null,null,null,null,null,{"$f":"VLOOKUP(D4367,'Group Name'!A:B,2,0)","v":{"$error":"#N/A"}}," "]
[null,null,null,null,null,null,null,null,null,{"$f":"+IFERROR(VLOOKUP(C4370,'Charge Conversion'!A:C,3,0),\" \")","v":" "}," "," ",null,null,null,null,null,{"$f":"VLOOKUP(D4370,'Group Name'!A:B,2,0)","v":{"$error":"#N/A"}}," "]
[null,null,null,null,null,null,null,null,null,{"$f":"+IFERROR(VLOOKUP(C4372,'Charge Conversion'!A:C,3,0),\" \")","v":" "}," "," ",null,null,null,null,null,{"$f":"VLOOKUP(D4372,'Group Name'!A:B,2,0)","v":{"$error":"#N/A"}}," "]
[null,null,null,null,null,null,null,null,null,{"$f":"+IFERROR(VLOOKUP(C4376,'Charge Conversion'!A:C,3,0),\" \")","v":" "}," "," ",null,null,null,null,null,{"$f":"VLOOKUP(D4376,'Group Name'!A:B,2,0)","v":{"$error":"#N/A"}}," "]
[null,null,null,null,null,null,null,null,null,{"$f":"+IFERROR(VLOOKUP(C4379,'Charge Conversion'!A:C,3,0),\" \")","v":" "}," "," ",null,null,null,null,null,{"$f":"VLOOKUP(D4379,'Group Name'!A:B,2,0)","v":{"$error":"#N/A"}}," "]
[null,null,null,null,null,null,null,null,null,{"$f":"+IFERROR(VLOOKUP(C4381,'Charge Conversion'!A:C,3,0),\" \")","v":" "}," "," ",null,null,null,null,null,{"$f":"VLOOKUP(D4381,'Group Name'!A:B,2,0)","v":{"$error":"#N/A"}}," "]
[null,null,null,null,null,null,null,null,null,{"$f":"+IFERROR(VLOOKUP(C4382,'Charge Conversion'!A:C,3,0),\" \")","v":" "}," "," ",null,null,null,null,null,{"$f":"VLOOKUP(D4382,'Group Name'!A:B,2,0)","v":{"$error":"#N/A"}}," "]
[null,null,null,null,null,null,null,null,null,{"$f":"+IFERROR(VLOOKUP(C4386,'Charge Conversion'!A:C,3,0),\" \")","v":" "}," "," ",null,null,null,null,null,{"$f":"VLOOKUP(D4386,'Group Name'!A:B,2,0)","v":{"$error":"#N/A"}}," "]
[null,null,null,null,null,null,null,null,null,{"$f":"+IFERROR(VLOOKUP(C4388,'Charge Conversion'!A:C,3,0),\" \")","v":" "}," "," ",null,null,null,null,null,{"$f":"VLOOKUP(D4388,'Group Name'!A:B,2,0)","v":{"$error":"#N/A"}}," "]
[null,null,null,null,null,null,null,null,null,{"$f":"+IFERROR(VLOOKUP(C4391,'Charge Conversion'!A:C,3,0),\" \")","v":" "}," "," ",null,null,null,null,null,{"$f":"VLOOKUP(D4391,'Group Name'!A:B,2,0)","v":{"$error":"#N/A"}}," "]
[null,null,null,null,null,null,null,null,null,{"$f":"+IFERROR(VLOOKUP(C4394,'Charge Conversion'!A:C,3,0),\" \")","v":" "}," "," ",null,null,null,null,null,{"$f":"VLOOKUP(D4394,'Group Name'!A:B,2,0)","v":{"$error":"#N/A"}}," "]
[null,null,null,null,null,null,null,null,null,{"$f":"+IFERROR(VLOOKUP(C4396,'Charge Conversion'!A:C,3,0),\" \")","v":" "}," "," ",null,null,null,null,null,{"$f":"VLOOKUP(D4396,'Group Name'!A:B,2,0)","v":{"$error":"#N/A"}}," "]
[null,null,null,null,null,null,null,null,null,{"$f":"+IFERROR(VLOOKUP(C4399,'Charge Conversion'!A:C,3,0),\" \")","v":" "}," "," ",null,null,null,null,null,{"$f":"VLOOKUP(D4399,'Group Name'!A:B,2,0)","v":{"$error":"#N/A"}}," "]
[null,null,null,null,null,null,null,null,null,{"$f":"+IFERROR(VLOOKUP(C4401,'Charge Conversion'!A:C,3,0),\" \")","v":" "}," "," ",null,null,null,null,null,{"$f":"VLOOKUP(D4401,'Group Name'!A:B,2,0)","v":{"$error":"#N/A"}}," "]
[null,null,null,null,null,null,null,null,null,{"$f":"+IFERROR(VLOOKUP(C4402,'Charge Conversion'!A:C,3,0),\" \")","v":" "}," "," ",null,null,null,null,null,{"$f":"VLOOKUP(D4402,'Group Name'!A:B,2,0)","v":{"$error":"#N/A"}}," "]
[null,null,null,null,null,null,null,null,null,{"$f":"+IFERROR(VLOOKUP(C4406,'Charge Conversion'!A:C,3,0),\" \")","v":" "}," "," ",null,null,null,null,null,{"$f":"VLOOKUP(D4406,'Group Name'!A:B,2,0)","v":{"$error":"#N/A"}}," "]
[null,null,null,null,null,null,null,null,null,{"$f":"+IFERROR(VLOOKUP(C4408,'Charge Conversion'!A:C,3,0),\" \")","v":" "}," "," ",null,null,null,null,null,{"$f":"VLOOKUP(D4408,'Group Name'!A:B,2,0)","v":{"$error":"#N/A"}}," "]
[null,null,null,null,null,null,null,null,null,{"$f":"+IFERROR(VLOOKUP(C4411,'Charge Conversion'!A:C,3,0),\" \")","v":" "}," "," ",null,null,null,null,null,{"$f":"VLOOKUP(D4411,'Group Name'!A:B,2,0)","v":{"$error":"#N/A"}}," "]
[null,null,null,null,null,null,null,null,null,{"$f":"+IFERROR(VLOOKUP(C4414,'Charge Conversion'!A:C,3,0),\" \")","v":" "}," "," ",null,null,null,null,null,{"$f":"VLOOKUP(D4414,'Group Name'!A:B,2,0)","v":{"$error":"#N/A"}}," "]
[null,null,null,null,null,null,null,null,null,{"$f":"+IFERROR(VLOOKUP(C4416,'Charge Conversion'!A:C,3,0),\" \")","v":" "}," "," ",null,null,null,null,null,{"$f":"VLOOKUP(D4416,'Group Name'!A:B,2,0)","v":{"$error":"#N/A"}}," "]
[null,null,null,null,null,null,null,null,null,{"$f":"+IFERROR(VLOOKUP(C4419,'Charge Conversion'!A:C,3,0),\" \")","v":" "}," "," ",null,null,null,null,null,{"$f":"VLOOKUP(D4419,'Group Name'!A:B,2,0)","v":{"$error":"#N/A"}}," "]
[null,null,null,null,null,null,null,null,null,{"$f":"+IFERROR(VLOOKUP(C4421,'Charge Conversion'!A:C,3,0),\" \")","v":" "},{"$f":"+IFERROR(I4421*J4421,\" \")","v":" "},{"$f":"S4421","v":" "},null,null,null,null,null,{"$f":"VLOOKUP(D4421,'Group Name'!A:B,2,0)","v":{"$error":"#N/A"}},{"$f":"IFERROR((IF(A4421=\" \",\" \",R4421)),\" \")","v":" "}]
[null,null,null,null,null,null,null,null,null,{"$f":"+IFERROR(VLOOKUP(C4422,'Charge Conversion'!A:C,3,0),\" \")","v":" "}," "," ",null,null,null,null,null,{"$f":"VLOOKUP(D4422,'Group Name'!A:B,2,0)","v":{"$error":"#N/A"}}," "]
[null,null,null,null,null,null,null,null,null,{"$f":"+IFERROR(VLOOKUP(C4426,'Charge Conversion'!A:C,3,0),\" \")","v":" "}," "," ",null,null,null,null,null,{"$f":"VLOOKUP(D4426,'Group Name'!A:B,2,0)","v":{"$error":"#N/A"}}," "]
[null,null,null,null,null,null,null,null,null,{"$f":"+IFERROR(VLOOKUP(C4428,'Charge Conversion'!A:C,3,0),\" \")","v":" "}," "," ",null,null,null,null,null,{"$f":"VLOOKUP(D4428,'Group Name'!A:B,2,0)","v":{"$error":"#N/A"}}," "]
[null,null,null,null,null,null,null,null,null,{"$f":"+IFERROR(VLOOKUP(C4431,'Charge Conversion'!A:C,3,0),\" \")","v":" "}," "," ",null,null,null,null,null,{"$f":"VLOOKUP(D4431,'Group Name'!A:B,2,0)","v":{"$error":"#N/A"}}," "]
[null,null,null,null,null,null,null,null,null,{"$f":"+IFERROR(VLOOKUP(C4434,'Charge Conversion'!A:C,3,0),\" \")","v":" "}," "," ",null,null,null,null,null,{"$f":"VLOOKUP(D4434,'Group Name'!A:B,2,0)","v":{"$error":"#N/A"}}," "]
[null,null,null,null,null,null,null,null,null,{"$f":"+IFERROR(VLOOKUP(C4436,'Charge Conversion'!A:C,3,0),\" \")","v":" "}," "," ",null,null,null,null,null,{"$f":"VLOOKUP(D4436,'Group Name'!A:B,2,0)","v":{"$error":"#N/A"}}," "]
[null,null,null,null,null,null,null,null,null,{"$f":"+IFERROR(VLOOKUP(C4439,'Charge Conversion'!A:C,3,0),\" \")","v":" "}," "," ",null,null,null,null,null,{"$f":"VLOOKUP(D4439,'Group Name'!A:B,2,0)","v":{"$error":"#N/A"}}," "]
[null,null,null,null,null,null,null,null,null,{"$f":"+IFERROR(VLOOKUP(C4441,'Charge Conversion'!A:C,3,0),\" \")","v":" "}," "," ",null,null,null,null,null,{"$f":"VLOOKUP(D4441,'Group Name'!A:B,2,0)","v":{"$error":"#N/A"}}," "]
[null,null,null,null,null,null,null,null,null,{"$f":"+IFERROR(VLOOKUP(C4442,'Charge Conversion'!A:C,3,0),\" \")","v":" "}," "," ",null,null,null,null,null,{"$f":"VLOOKUP(D4442,'Group Name'!A:B,2,0)","v":{"$error":"#N/A"}}," "]
[null,null,null,null,null,null,null,null,null,{"$f":"+IFERROR(VLOOKUP(C4446,'Charge Conversion'!A:C,3,0),\" \")","v":" "}," "," ",null,null,null,null,null,{"$f":"VLOOKUP(D4446,'Group Name'!A:B,2,0)","v":{"$error":"#N/A"}}," "]
[null,null,null,null,null,null,null,null,null,{"$f":"+IFERROR(VLOOKUP(C4448,'Charge Conversion'!A:C,3,0),\" \")","v":" "}," "," ",null,null,null,null,null,{"$f":"VLOOKUP(D4448,'Group Name'!A:B,2,0)","v":{"$error":"#N/A"}}," "]
[null,null,null,null,null,null,null,null,null,{"$f":"+IFERROR(VLOOKUP(C4451,'Charge Conversion'!A:C,3,0),\" \")","v":" "}," "," ",null,null,null,null,null,{"$f":"VLOOKUP(D4451,'Group Name'!A:B,2,0)","v":{"$error":"#N/A"}}," "]
[null,null,null,null,null,null,null,null,null,{"$f":"+IFERROR(VLOOKUP(C4454,'Charge Conversion'!A:C,3,0),\" \")","v":" "}," "," ",null,null,null,null,null,{"$f":"VLOOKUP(D4454,'Group Name'!A:B,2,0)","v":{"$error":"#N/A"}}," "]
[null,null,null,null,null,null,null,null,null,{"$f":"+IFERROR(VLOOKUP(C4456,'Charge Conversion'!A:C,3,0),\" \")","v":" "}," "," ",null,null,null,null,null,{"$f":"VLOOKUP(D4456,'Group Name'!A:B,2,0)","v":{"$error":"#N/A"}}," "]
[null,null,null,null,null,null,null,null,null,{"$f":"+IFERROR(VLOOKUP(C4459,'Charge Conversion'!A:C,3,0),\" \")","v":" "}," "," ",null,null,null,null,null,{"$f":"VLOOKUP(D4459,'Group Name'!A:B,2,0)","v":{"$error":"#N/A"}}," "]
[null,null,null,null,null,null,null,null,null,{"$f":"+IFERROR(VLOOKUP(C4461,'Charge Conversion'!A:C,3,0),\" \")","v":" "}," "," ",null,null,null,null,null,{"$f":"VLOOKUP(D4461,'Group Name'!A:B,2,0)","v":{"$error":"#N/A"}}," "]
[null,null,null,null,null,null,null,null,null,{"$f":"+IFERROR(VLOOKUP(C4462,'Charge Conversion'!A:C,3,0),\" \")","v":" "}," "," ",null,null,null,null,null,{"$f":"VLOOKUP(D4462,'Group Name'!A:B,2,0)","v":{"$error":"#N/A"}}," "]
[null,null,null,null,null,null,null,null,null,{"$f":"+IFERROR(VLOOKUP(C4466,'Charge Conversion'!A:C,3,0),\" \")","v":" "}," "," ",null,null,null,null,null,{"$f":"VLOOKUP(D4466,'Group Name'!A:B,2,0)","v":{"$error":"#N/A"}}," "]
[null,null,null,null,null,null,null,null,null,{"$f":"+IFERROR(VLOOKUP(C4468,'Charge Conversion'!A:C,3,0),\" \")","v":" "}," "," ",null,null,null,null,null,{"$f":"VLOOKUP(D4468,'Group Name'!A:B,2,0)","v":{"$error":"#N/A"}}," "]
[null,null,null,null,null,null,null,null,null,{"$f":"+IFERROR(VLOOKUP(C4471,'Charge Conversion'!A:C,3,0),\" \")","v":" "}," "," ",null,null,null,null,null,{"$f":"VLOOKUP(D4471,'Group Name'!A:B,2,0)","v":{"$error":"#N/A"}}," "]
[null,null,null,null,null,null,null,null,null,{"$f":"+IFERROR(VLOOKUP(C4474,'Charge Conversion'!A:C,3,0),\" \")","v":" "}," "," ",null,null,null,null,null,{"$f":"VLOOKUP(D4474,'Group Name'!A:B,2,0)","v":{"$error":"#N/A"}}," "]
[null,null,null,null,null,null,null,null,null,{"$f":"+IFERROR(VLOOKUP(C4476,'Charge Conversion'!A:C,3,0),\" \")","v":" "}," "," ",null,null,null,null,null,{"$f":"VLOOKUP(D4476,'Group Name'!A:B,2,0)","v":{"$error":"#N/A"}}," "]
[null,null,null,null,null,null,null,null,null,{"$f":"+IFERROR(VLOOKUP(C4477,'Charge Conversion'!A:C,3,0),\" \")","v":" "}," "," ",null,null,null,null,null,{"$f":"VLOOKUP(D4477,'Group Name'!A:B,2,0)","v":{"$error":"#N/A"}}," "]
[null,null,null,null,null,null,null,null,null,{"$f":"+IFERROR(VLOOKUP(C4481,'Charge Conversion'!A:C,3,0),\" \")","v":" "}," "," ",null,null,null,null,null,{"$f":"VLOOKUP(D4481,'Group Name'!A:B,2,0)","v":{"$error":"#N/A"}}," "]
[null,null,null,null,null,null,null,null,null,{"$f":"+IFERROR(VLOOKUP(C4482,'Charge Conversion'!A:C,3,0),\" \")","v":" "}," "," ",null,null,null,null,null,{"$f":"VLOOKUP(D4482,'Group Name'!A:B,2,0)","v":{"$error":"#N/A"}}," "]
[null,null,null,null,null,null,null,null,null,{"$f":"+IFERROR(VLOOKUP(C4486,'Charge Conversion'!A:C,3,0),\" \")","v":" "}," "," ",null,null,null,null,null,{"$f":"VLOOKUP(D4486,'Group Name'!A:B,2,0)","v":{"$error":"#N/A"}}," "]
[null,null,null,null,null,null,null,null,null,{"$f":"+IFERROR(VLOOKUP(C4488,'Charge Conversion'!A:C,3,0),\" \")","v":" "}," "," ",null,null,null,null,null,{"$f":"VLOOKUP(D4488,'Group Name'!A:B,2,0)","v":{"$error":"#N/A"}}," "]
[null,null,null,null,null,null,null,null,null,{"$f":"+IFERROR(VLOOKUP(C4491,'Charge Conversion'!A:C,3,0),\" \")","v":" "}," "," ",null,null,null,null,null,{"$f":"VLOOKUP(D4491,'Group Name'!A:B,2,0)","v":{"$error":"#N/A"}}," "]
[null,null,null,null,null,null,null,null,null,{"$f":"+IFERROR(VLOOKUP(C4494,'Charge Conversion'!A:C,3,0),\" \")","v":" "}," "," ",null,null,null,null,null,{"$f":"VLOOKUP(D4494,'Group Name'!A:B,2,0)","v":{"$error":"#N/A"}}," "]
[null,null,null,null,null,null,null,null,null,{"$f":"+IFERROR(VLOOKUP(C4496,'Charge Conversion'!A:C,3,0),\" \")","v":" "}," "," ",null,null,null,null,null,{"$f":"VLOOKUP(D4496,'Group Name'!A:B,2,0)","v":{"$error":"#N/A"}}," "]
[null,null,null,null,null,null,null,null,null,{"$f":"+IFERROR(VLOOKUP(C4497,'Charge Conversion'!A:C,3,0),\" \")","v":" "}," "," ",null,null,null,null,null,{"$f":"VLOOKUP(D4497,'Group Name'!A:B,2,0)","v":{"$error":"#N/A"}}," "]
[null,null,null,null,null,null,null,null,null,{"$f":"+IFERROR(VLOOKUP(C4501,'Charge Conversion'!A:C,3,0),\" \")","v":" "}," "," ",null,null,null,null,null,{"$f":"VLOOKUP(D4501,'Group Name'!A:B,2,0)","v":{"$error":"#N/A"}}," "]
[null,null,null,null,null,null,null,null,null,{"$f":"+IFERROR(VLOOKUP(C4502,'Charge Conversion'!A:C,3,0),\" \")","v":" "}," "," ",null,null,null,null,null,{"$f":"VLOOKUP(D4502,'Group Name'!A:B,2,0)","v":{"$error":"#N/A"}}," "]
[null,null,null,null,null,null,null,null,null,{"$f":"+IFERROR(VLOOKUP(C4506,'Charge Conversion'!A:C,3,0),\" \")","v":" "}," "," ",null,null,null,null,null,{"$f":"VLOOKUP(D4506,'Group Name'!A:B,2,0)","v":{"$error":"#N/A"}}," "]
[null,null,null,null,null,null,null,null,null,{"$f":"+IFERROR(VLOOKUP(C4508,'Charge Conversion'!A:C,3,0),\" \")","v":" "}," "," ",null,null,null,null,null,{"$f":"VLOOKUP(D4508,'Group Name'!A:B,2,0)","v":{"$error":"#N/A"}}," "]
[null,null,null,null,null,null,null,null,null,{"$f":"+IFERROR(VLOOKUP(C4511,'Charge Conversion'!A:C,3,0),\" \")","v":" "}," "," ",null,null,null,null,null,{"$f":"VLOOKUP(D4511,'Group Name'!A:B,2,0)","v":{"$error":"#N/A"}}," "]
[null,null,null,null,null,null,null,null,null,{"$f":"+IFERROR(VLOOKUP(C4513,'Charge Conversion'!A:C,3,0),\" \")","v":" "}," "," ",null,null,null,null,null,{"$f":"VLOOKUP(D4513,'Group Name'!A:B,2,0)","v":{"$error":"#N/A"}}," "]
[null,null,null,null,null,null,null,null,null,{"$f":"+IFERROR(VLOOKUP(C4517,'Charge Conversion'!A:C,3,0),\" \")","v":" "}," "," ",null,null,null,null,null,{"$f":"VLOOKUP(D4517,'Group Name'!A:B,2,0)","v":{"$error":"#N/A"}}," "]
[null,null,null,null,null,null,null,null,null,{"$f":"+IFERROR(VLOOKUP(C4518,'Charge Conversion'!A:C,3,0),\" \")","v":" "}," "," ",null,null,null,null,null,{"$f":"VLOOKUP(D4518,'Group Name'!A:B,2,0)","v":{"$error":"#N/A"}}," "]
[null,null,null,null,null,null,null,null,null,{"$f":"+IFERROR(VLOOKUP(C4520,'Charge Conversion'!A:C,3,0),\" \")","v":" "}," "," ",null,null,null,null,null,{"$f":"VLOOKUP(D4520,'Group Name'!A:B,2,0)","v":{"$error":"#N/A"}}," "]
[null,null,null,null,null,null,null,null,null,{"$f":"+IFERROR(VLOOKUP(C4523,'Charge Conversion'!A:C,3,0),\" \")","v":" "}," "," ",null,null,null,null,null,{"$f":"VLOOKUP(D4523,'Group Name'!A:B,2,0)","v":{"$error":"#N/A"}}," "]
[null,null,null,null,null,null,null,null,null,{"$f":"+IFERROR(VLOOKUP(C4526,'Charge Conversion'!A:C,3,0),\" \")","v":" "}," "," ",null,null,null,null,null,{"$f":"VLOOKUP(D4526,'Group Name'!A:B,2,0)","v":{"$error":"#N/A"}}," "]
[null,null,null,null,null,null,null,null,null,{"$f":"+IFERROR(VLOOKUP(C4528,'Charge Conversion'!A:C,3,0),\" \")","v":" "}," "," ",null,null,null,null,null,{"$f":"VLOOKUP(D4528,'Group Name'!A:B,2,0)","v":{"$error":"#N/A"}}," "]
[null,null,null,null,null,null,null,null,null,{"$f":"+IFERROR(VLOOKUP(C4532,'Charge Conversion'!A:C,3,0),\" \")","v":" "}," "," ",null,null,null,null,null,{"$f":"VLOOKUP(D4532,'Group Name'!A:B,2,0)","v":{"$error":"#N/A"}}," "]
[null,null,null,null,null,null,null,null,null,{"$f":"+IFERROR(VLOOKUP(C4533,'Charge Conversion'!A:C,3,0),\" \")","v":" "}," "," ",null,null,null,null,null,{"$f":"VLOOKUP(D4533,'Group Name'!A:B,2,0)","v":{"$error":"#N/A"}}," "]
[null,null,null,null,null,null,null,null,null,{"$f":"+IFERROR(VLOOKUP(C4537,'Charge Conversion'!A:C,3,0),\" \")","v":" "}," "," ",null,null,null,null,null,{"$f":"VLOOKUP(D4537,'Group Name'!A:B,2,0)","v":{"$error":"#N/A"}}," "]
[null,null,null,null,null,null,null,null,null,{"$f":"+IFERROR(VLOOKUP(C4538,'Charge Conversion'!A:C,3,0),\" \")","v":" "}," "," ",null,null,null,null,null,{"$f":"VLOOKUP(D4538,'Group Name'!A:B,2,0)","v":{"$error":"#N/A"}}," "]
[null,null,null,null,null,null,null,null,null,{"$f":"+IFERROR(VLOOKUP(C4540,'Charge Conversion'!A:C,3,0),\" \")","v":" "}," "," ",null,null,null,null,null,{"$f":"VLOOKUP(D4540,'Group Name'!A:B,2,0)","v":{"$error":"#N/A"}}," "]
[null,null,null,null,null,null,null,null,null,{"$f":"+IFERROR(VLOOKUP(C4543,'Charge Conversion'!A:C,3,0),\" \")","v":" "}," "," ",null,null,null,null,null,{"$f":"VLOOKUP(D4543,'Group Name'!A:B,2,0)","v":{"$error":"#N/A"}}," "]
[null,null,null,null,null,null,null,null,null,{"$f":"+IFERROR(VLOOKUP(C4546,'Charge Conversion'!A:C,3,0),\" \")","v":" "}," "," ",null,null,null,null,null,{"$f":"VLOOKUP(D4546,'Group Name'!A:B,2,0)","v":{"$error":"#N/A"}}," "]
[null,null,null,null,null,null,null,null,null,{"$f":"+IFERROR(VLOOKUP(C4548,'Charge Conversion'!A:C,3,0),\" \")","v":" "}," "," ",null,null,null,null,null,{"$f":"VLOOKUP(D4548,'Group Name'!A:B,2,0)","v":{"$error":"#N/A"}}," "]
[null,null,null,null,null,null,null,null,null,{"$f":"+IFERROR(VLOOKUP(C4552,'Charge Conversion'!A:C,3,0),\" \")","v":" "}," "," ",null,null,null,null,null,{"$f":"VLOOKUP(D4552,'Group Name'!A:B,2,0)","v":{"$error":"#N/A"}}," "]
[null,null,null,null,null,null,null,null,null,{"$f":"+IFERROR(VLOOKUP(C4553,'Charge Conversion'!A:C,3,0),\" \")","v":" "}," "," ",null,null,null,null,null,{"$f":"VLOOKUP(D4553,'Group Name'!A:B,2,0)","v":{"$error":"#N/A"}}," "]
[null,null,null,null,null,null,null,null,null,{"$f":"+IFERROR(VLOOKUP(C4557,'Charge Conversion'!A:C,3,0),\" \")","v":" "}," "," ",null,null,null,null,null,{"$f":"VLOOKUP(D4557,'Group Name'!A:B,2,0)","v":{"$error":"#N/A"}}," "]
[null,null,null,null,null,null,null,null,null,{"$f":"+IFERROR(VLOOKUP(C4558,'Charge Conversion'!A:C,3,0),\" \")","v":" "}," "," ",null,null,null,null,null,{"$f":"VLOOKUP(D4558,'Group Name'!A:B,2,0)","v":{"$error":"#N/A"}}," "]
[null,null,null,null,null,null,null,null,null,{"$f":"+IFERROR(VLOOKUP(C4560,'Charge Conversion'!A:C,3,0),\" \")","v":" "}," "," ",null,null,null,null,null,{"$f":"VLOOKUP(D4560,'Group Name'!A:B,2,0)","v":{"$error":"#N/A"}}," "]
[null,null,null,null,null,null,null,null,null,{"$f":"+IFERROR(VLOOKUP(C4563,'Charge Conversion'!A:C,3,0),\" \")","v":" "}," "," ",null,null,null,null,null,{"$f":"VLOOKUP(D4563,'Group Name'!A:B,2,0)","v":{"$error":"#N/A"}}," "]
[null,null,null,null,null,null,null,null,null,{"$f":"+IFERROR(VLOOKUP(C4566,'Charge Conversion'!A:C,3,0),\" \")","v":" "}," "," ",null,null,null,null,null,{"$f":"VLOOKUP(D4566,'Group Name'!A:B,2,0)","v":{"$error":"#N/A"}}," "]
[null,null,null,null,null,null,null,null,null,{"$f":"+IFERROR(VLOOKUP(C4568,'Charge Conversion'!A:C,3,0),\" \")","v":" "}," "," ",null,null,null,null,null,{"$f":"VLOOKUP(D4568,'Group Name'!A:B,2,0)","v":{"$error":"#N/A"}}," "]
[null,null,null,null,null,null,null,null,null,{"$f":"+IFERROR(VLOOKUP(C4572,'Charge Conversion'!A:C,3,0),\" \")","v":" "}," "," ",null,null,null,null,null,{"$f":"VLOOKUP(D4572,'Group Name'!A:B,2,0)","v":{"$error":"#N/A"}}," "]
[null,null,null,null,null,null,null,null,null,{"$f":"+IFERROR(VLOOKUP(C4573,'Charge Conversion'!A:C,3,0),\" \")","v":" "}," "," ",null,null,null,null,null,{"$f":"VLOOKUP(D4573,'Group Name'!A:B,2,0)","v":{"$error":"#N/A"}}," "]
[null,null,null,null,null,null,null,null,null,{"$f":"+IFERROR(VLOOKUP(C4577,'Charge Conversion'!A:C,3,0),\" \")","v":" "}," "," ",null,null,null,null,null,{"$f":"VLOOKUP(D4577,'Group Name'!A:B,2,0)","v":{"$error":"#N/A"}}," "]
[null,null,null,null,null,null,null,null,null,{"$f":"+IFERROR(VLOOKUP(C4578,'Charge Conversion'!A:C,3,0),\" \")","v":" "}," "," ",null,null,null,null,null,{"$f":"VLOOKUP(D4578,'Group Name'!A:B,2,0)","v":{"$error":"#N/A"}}," "]
[null,null,null,null,null,null,null,null,null,{"$f":"+IFERROR(VLOOKUP(C4580,'Charge Conversion'!A:C,3,0),\" \")","v":" "}," "," ",null,null,null,null,null,{"$f":"VLOOKUP(D4580,'Group Name'!A:B,2,0)","v":{"$error":"#N/A"}}," "]
[null,null,null,null,null,null,null,null,null,{"$f":"+IFERROR(VLOOKUP(C4583,'Charge Conversion'!A:C,3,0),\" \")","v":" "}," "," ",null,null,null,null,null,{"$f":"VLOOKUP(D4583,'Group Name'!A:B,2,0)","v":{"$error":"#N/A"}}," "]
[null,null,null,null,null,null,null,null,null,{"$f":"+IFERROR(VLOOKUP(C4586,'Charge Conversion'!A:C,3,0),\" \")","v":" "}," "," ",null,null,null,null,null,{"$f":"VLOOKUP(D4586,'Group Name'!A:B,2,0)","v":{"$error":"#N/A"}}," "]
[null,null,null,null,null,null,null,null,null,{"$f":"+IFERROR(VLOOKUP(C4588,'Charge Conversion'!A:C,3,0),\" \")","v":" "}," "," ",null,null,null,null,null,{"$f":"VLOOKUP(D4588,'Group Name'!A:B,2,0)","v":{"$error":"#N/A"}}," "]
[null,null,null,null,null,null,null,null,null,{"$f":"+IFERROR(VLOOKUP(C4592,'Charge Conversion'!A:C,3,0),\" \")","v":" "}," "," ",null,null,null,null,null,{"$f":"VLOOKUP(D4592,'Group Name'!A:B,2,0)","v":{"$error":"#N/A"}}," "]
[null,null,null,null,null,null,null,null,null,{"$f":"+IFERROR(VLOOKUP(C4593,'Charge Conversion'!A:C,3,0),\" \")","v":" "}," "," ",null,null,null,null,null,{"$f":"VLOOKUP(D4593,'Group Name'!A:B,2,0)","v":{"$error":"#N/A"}}," "]
[null,null,null,null,null,null,null,null,null,{"$f":"+IFERROR(VLOOKUP(C4597,'Charge Conversion'!A:C,3,0),\" \")","v":" "}," "," ",null,null,null,null,null,{"$f":"VLOOKUP(D4597,'Group Name'!A:B,2,0)","v":{"$error":"#N/A"}}," "]
[null,null,null,null,null,null,null,null,null,{"$f":"+IFERROR(VLOOKUP(C4598,'Charge Conversion'!A:C,3,0),\" \")","v":" "}," "," ",null,null,null,null,null,{"$f":"VLOOKUP(D4598,'Group Name'!A:B,2,0)","v":{"$error":"#N/A"}}," "]
[null,null,null,null,null,null,null,null,null,{"$f":"+IFERROR(VLOOKUP(C4600,'Charge Conversion'!A:C,3,0),\" \")","v":" "}," "," ",null,null,null,null,null,{"$f":"VLOOKUP(D4600,'Group Name'!A:B,2,0)","v":{"$error":"#N/A"}}," "]
[null,null,null,null,null,null,null,null,null,{"$f":"+IFERROR(VLOOKUP(C4603,'Charge Conversion'!A:C,3,0),\" \")","v":" "}," "," ",null,null,null,null,null,{"$f":"VLOOKUP(D4603,'Group Name'!A:B,2,0)","v":{"$error":"#N/A"}}," "]
[null,null,null,null,null,null,null,null,null,{"$f":"+IFERROR(VLOOKUP(C4606,'Charge Conversion'!A:C,3,0),\" \")","v":" "}," "," ",null,null,null,null,null,{"$f":"VLOOKUP(D4606,'Group Name'!A:B,2,0)","v":{"$error":"#N/A"}}," "]
[null,null,null,null,null,null,null,null,null,{"$f":"+IFERROR(VLOOKUP(C4608,'Charge Conversion'!A:C,3,0),\" \")","v":" "}," "," ",null,null,null,null,null,{"$f":"VLOOKUP(D4608,'Group Name'!A:B,2,0)","v":{"$error":"#N/A"}}," "]
[null,null,null,null,null,null,null,null,null,{"$f":"+IFERROR(VLOOKUP(C4612,'Charge Conversion'!A:C,3,0),\" \")","v":" "}," "," ",null,null,null,null,null,{"$f":"VLOOKUP(D4612,'Group Name'!A:B,2,0)","v":{"$error":"#N/A"}}," "]
[null,null,null,null,null,null,null,null,null,{"$f":"+IFERROR(VLOOKUP(C4613,'Charge Conversion'!A:C,3,0),\" \")","v":" "},{"$f":"+IFERROR(I4613*J4613,\" \")","v":" "},{"$f":"S4613","v":" "},null,null,null,null,null,{"$f":"VLOOKUP(D4613,'Group Name'!A:B,2,0)","v":{"$error":"#N/A"}},{"$f":"IFERROR((IF(A4613=\" \",\" \",R4613)),\" \")","v":" "}]
[null,null,null,null,null,null,null,null,null,{"$f":"+IFERROR(VLOOKUP(C4615,'Charge Conversion'!A:C,3,0),\" \")","v":" "}," "," ",null,null,null,null,null,{"$f":"VLOOKUP(D4615,'Group Name'!A:B,2,0)","v":{"$error":"#N/A"}}," "]
[null,null,null,null,null,null,null,null,null,{"$f":"+IFERROR(VLOOKUP(C4618,'Charge Conversion'!A:C,3,0),\" \")","v":" "}," "," ",null,null,null,null,null,{"$f":"VLOOKUP(D4618,'Group Name'!A:B,2,0)","v":{"$error":"#N/A"}}," "]
[null,null,null,null,null,null,null,null,null,{"$f":"+IFERROR(VLOOKUP(C4620,'Charge Conversion'!A:C,3,0),\" \")","v":" "}," "," ",null,null,null,null,null,{"$f":"VLOOKUP(D4620,'Group Name'!A:B,2,0)","v":{"$error":"#N/A"}}," "]
[null,null,null,null,null,null,null,null,null,{"$f":"+IFERROR(VLOOKUP(C4623,'Charge Conversion'!A:C,3,0),\" \")","v":" "}," "," ",null,null,null,null,null,{"$f":"VLOOKUP(D4623,'Group Name'!A:B,2,0)","v":{"$error":"#N/A"}}," "]
[null,null,null,null,null,null,null,null,null,{"$f":"+IFERROR(VLOOKUP(C4626,'Charge Conversion'!A:C,3,0),\" \")","v":" "}," "," ",null,null,null,null,null,{"$f":"VLOOKUP(D4626,'Group Name'!A:B,2,0)","v":{"$error":"#N/A"}}," "]
[null,null,null,null,null,null,null,null,null,{"$f":"+IFERROR(VLOOKUP(C4628,'Charge Conversion'!A:C,3,0),\" \")","v":" "}," "," ",null,null,null,null,null,{"$f":"VLOOKUP(D4628,'Group Name'!A:B,2,0)","v":{"$error":"#N/A"}}," "]
[null,null,null,null,null,null,null,null,null,{"$f":"+IFERROR(VLOOKUP(C4632,'Charge Conversion'!A:C,3,0),\" \")","v":" "}," "," ",null,null,null,null,null,{"$f":"VLOOKUP(D4632,'Group Name'!A:B,2,0)","v":{"$error":"#N/A"}}," "]
[null,null,null,null,null,null,null,null,null,{"$f":"+IFERROR(VLOOKUP(C4633,'Charge Conversion'!A:C,3,0),\" \")","v":" "}," "," ",null,null,null,null,null,{"$f":"VLOOKUP(D4633,'Group Name'!A:B,2,0)","v":{"$error":"#N/A"}}," "]
[null,null,null,null,null,null,null,null,null,{"$f":"+IFERROR(VLOOKUP(C4635,'Charge Conversion'!A:C,3,0),\" \")","v":" "}," "," ",null,null,null,null,null,{"$f":"VLOOKUP(D4635,'Group Name'!A:B,2,0)","v":{"$error":"#N/A"}}," "]
[null,null,null,null,null,null,null,null,null,{"$f":"+IFERROR(VLOOKUP(C4638,'Charge Conversion'!A:C,3,0),\" \")","v":" "}," "," ",null,null,null,null,null,{"$f":"VLOOKUP(D4638,'Group Name'!A:B,2,0)","v":{"$error":"#N/A"}}," "]
[null,null,null,null,null,null,null,null,null,{"$f":"+IFERROR(VLOOKUP(C4640,'Charge Conversion'!A:C,3,0),\" \")","v":" "}," "," ",null,null,null,null,null,{"$f":"VLOOKUP(D4640,'Group Name'!A:B,2,0)","v":{"$error":"#N/A"}}," "]
[null,null,null,null,null,null,null,null,null,{"$f":"+IFERROR(VLOOKUP(C4644,'Charge Conversion'!A:C,3,0),\" \")","v":" "}," "," ",null,null,null,null,null,{"$f":"VLOOKUP(D4644,'Group Name'!A:B,2,0)","v":{"$error":"#N/A"}}," "]
[null,null,null,null,null,null,null,null,null,{"$f":"+IFERROR(VLOOKUP(C4647,'Charge Conversion'!A:C,3,0),\" \")","v":" "}," "," ",null,null,null,null,null,{"$f":"VLOOKUP(D4647,'Group Name'!A:B,2,0)","v":{"$error":"#N/A"}}," "]
[null,null,null,null,null,null,null,null,null,{"$f":"+IFERROR(VLOOKUP(C4649,'Charge Conversion'!A:C,3,0),\" \")","v":" "}," "," ",null,null,null,null,null,{"$f":"VLOOKUP(D4649,'Group Name'!A:B,2,0)","v":{"$error":"#N/A"}}," "]
[null,null,null,null,null,null,null,null,null,{"$f":"+IFERROR(VLOOKUP(C4652,'Charge Conversion'!A:C,3,0),\" \")","v":" "}," "," ",null,null,null,null,null,{"$f":"VLOOKUP(D4652,'Group Name'!A:B,2,0)","v":{"$error":"#N/A"}}," "]
[null,null,null,null,null,null,null,null,null,{"$f":"+IFERROR(VLOOKUP(C4655,'Charge Conversion'!A:C,3,0),\" \")","v":" "}," "," ",null,null,null,null,null,{"$f":"VLOOKUP(D4655,'Group Name'!A:B,2,0)","v":{"$error":"#N/A"}}," "]
[null,null,null,null,null,null,null,null,null,{"$f":"+IFERROR(VLOOKUP(C4657,'Charge Conversion'!A:C,3,0),\" \")","v":" "}," "," ",null,null,null,null,null,{"$f":"VLOOKUP(D4657,'Group Name'!A:B,2,0)","v":{"$error":"#N/A"}}," "]
[null,null,null,null,null,null,null,null,null,{"$f":"+IFERROR(VLOOKUP(C4658,'Charge Conversion'!A:C,3,0),\" \")","v":" "}," "," ",null,null,null,null,null,{"$f":"VLOOKUP(D4658,'Group Name'!A:B,2,0)","v":{"$error":"#N/A"}}," "]
[null,null,null,null,null,null,null,null,null,{"$f":"+IFERROR(VLOOKUP(C4662,'Charge Conversion'!A:C,3,0),\" \")","v":" "}," "," ",null,null,null,null,null,{"$f":"VLOOKUP(D4662,'Group Name'!A:B,2,0)","v":{"$error":"#N/A"}}," "]
[null,null,null,null,null,null,null,null,null,{"$f":"+IFERROR(VLOOKUP(C4664,'Charge Conversion'!A:C,3,0),\" \")","v":" "}," "," ",null,null,null,null,null,{"$f":"VLOOKUP(D4664,'Group Name'!A:B,2,0)","v":{"$error":"#N/A"}}," "]
[null,null,null,null,null,null,null,null,null,{"$f":"+IFERROR(VLOOKUP(C4667,'Charge Conversion'!A:C,3,0),\" \")","v":" "}," "," ",null,null,null,null,null,{"$f":"VLOOKUP(D4667,'Group Name'!A:B,2,0)","v":{"$error":"#N/A"}}," "]
[null,null,null,null,null,null,null,null,null,{"$f":"+IFERROR(VLOOKUP(C4670,'Charge Conversion'!A:C,3,0),\" \")","v":" "}," "," ",null,null,null,null,null,{"$f":"VLOOKUP(D4670,'Group Name'!A:B,2,0)","v":{"$error":"#N/A"}}," "]
[null,null,null,null,null,null,null,null,null,{"$f":"+IFERROR(VLOOKUP(C4672,'Charge Conversion'!A:C,3,0),\" \")","v":" "}," "," ",null,null,null,null,null,{"$f":"VLOOKUP(D4672,'Group Name'!A:B,2,0)","v":{"$error":"#N/A"}}," "]
[null,null,null,null,null,null,null,null,null,{"$f":"+IFERROR(VLOOKUP(C4675,'Charge Conversion'!A:C,3,0),\" \")","v":" "}," "," ",null,null,null,null,null,{"$f":"VLOOKUP(D4675,'Group Name'!A:B,2,0)","v":{"$error":"#N/A"}}," "]
[null,null,null,null,null,null,null,null,null,{"$f":"+IFERROR(VLOOKUP(C4677,'Charge Conversion'!A:C,3,0),\" \")","v":" "},{"$f":"+IFERROR(I4677*J4677,\" \")","v":" "},{"$f":"S4677","v":" "},null,null,null,null,null,{"$f":"VLOOKUP(D4677,'Group Name'!A:B,2,0)","v":{"$error":"#N/A"}},{"$f":"IFERROR((IF(A4677=\" \",\" \",R4677)),\" \")","v":" "}]
[null,null,null,null,null,null,null,null,null,{"$f":"+IFERROR(VLOOKUP(C4678,'Charge Conversion'!A:C,3,0),\" \")","v":" "}," "," ",null,null,null,null,null,{"$f":"VLOOKUP(D4678,'Group Name'!A:B,2,0)","v":{"$error":"#N/A"}}," "]
[null,null,null,null,null,null,null,null,null,{"$f":"+IFERROR(VLOOKUP(C4682,'Charge Conversion'!A:C,3,0),\" \")","v":" "}," "," ",null,null,null,null,null,{"$f":"VLOOKUP(D4682,'Group Name'!A:B,2,0)","v":{"$error":"#N/A"}}," "]
[null,null,null,null,null,null,null,null,null,{"$f":"+IFERROR(VLOOKUP(C4684,'Charge Conversion'!A:C,3,0),\" \")","v":" "}," "," ",null,null,null,null,null,{"$f":"VLOOKUP(D4684,'Group Name'!A:B,2,0)","v":{"$error":"#N/A"}}," "]
[null,null,null,null,null,null,null,null,null,{"$f":"+IFERROR(VLOOKUP(C4687,'Charge Conversion'!A:C,3,0),\" \")","v":" "}," "," ",null,null,null,null,null,{"$f":"VLOOKUP(D4687,'Group Name'!A:B,2,0)","v":{"$error":"#N/A"}}," "]
[null,null,null,null,null,null,null,null,null,{"$f":"+IFERROR(VLOOKUP(C4690,'Charge Conversion'!A:C,3,0),\" \")","v":" "}," "," ",null,null,null,null,null,{"$f":"VLOOKUP(D4690,'Group Name'!A:B,2,0)","v":{"$error":"#N/A"}}," "]
[null,null,null,null,null,null,null,null,null,{"$f":"+IFERROR(VLOOKUP(C4692,'Charge Conversion'!A:C,3,0),\" \")","v":" "}," "," ",null,null,null,null,null,{"$f":"VLOOKUP(D4692,'Group Name'!A:B,2,0)","v":{"$error":"#N/A"}}," "]
[null,null,null,null,null,null,null,null,null,{"$f":"+IFERROR(VLOOKUP(C4695,'Charge Conversion'!A:C,3,0),\" \")","v":" "}," "," ",null,null,null,null,null,{"$f":"VLOOKUP(D4695,'Group Name'!A:B,2,0)","v":{"$error":"#N/A"}}," "]
[null,null,null,null,null,null,null,null,null,{"$f":"+IFERROR(VLOOKUP(C4697,'Charge Conversion'!A:C,3,0),\" \")","v":" "}," "," ",null,null,null,null,null,{"$f":"VLOOKUP(D4697,'Group Name'!A:B,2,0)","v":{"$error":"#N/A"}}," "]
[null,null,null,null,null,null,null,null,null,{"$f":"+IFERROR(VLOOKUP(C4698,'Charge Conversion'!A:C,3,0),\" \")","v":" "}," "," ",null,null,null,null,null,{"$f":"VLOOKUP(D4698,'Group Name'!A:B,2,0)","v":{"$error":"#N/A"}}," "]
[null,null,null,null,null,null,null,null,null,{"$f":"+IFERROR(VLOOKUP(C4702,'Charge Conversion'!A:C,3,0),\" \")","v":" "}," "," ",null,null,null,null,null,{"$f":"VLOOKUP(D4702,'Group Name'!A:B,2,0)","v":{"$error":"#N/A"}}," "]
[null,null,null,null,null,null,null,null,null,{"$f":"+IFERROR(VLOOKUP(C4704,'Charge Conversion'!A:C,3,0),\" \")","v":" "}," "," ",null,null,null,null,null,{"$f":"VLOOKUP(D4704,'Group Name'!A:B,2,0)","v":{"$error":"#N/A"}}," "]
[null,null,null,null,null,null,null,null,null,{"$f":"+IFERROR(VLOOKUP(C4707,'Charge Conversion'!A:C,3,0),\" \")","v":" "}," "," ",null,null,null,null,null,{"$f":"VLOOKUP(D4707,'Group Name'!A:B,2,0)","v":{"$error":"#N/A"}}," "]
[null,null,null,null,null,null,null,null,null,{"$f":"+IFERROR(VLOOKUP(C4710,'Charge Conversion'!A:C,3,0),\" \")","v":" "}," "," ",null,null,null,null,null,{"$f":"VLOOKUP(D4710,'Group Name'!A:B,2,0)","v":{"$error":"#N/A"}}," "]
[null,null,null,null,null,null,null,null,null,{"$f":"+IFERROR(VLOOKUP(C4712,'Charge Conversion'!A:C,3,0),\" \")","v":" "}," "," ",null,null,null,null,null,{"$f":"VLOOKUP(D4712,'Group Name'!A:B,2,0)","v":{"$error":"#N/A"}}," "]
[null,null,null,null,null,null,null,null,null,{"$f":"+IFERROR(VLOOKUP(C4715,'Charge Conversion'!A:C,3,0),\" \")","v":" "}," "," ",null,null,null,null,null,{"$f":"VLOOKUP(D4715,'Group Name'!A:B,2,0)","v":{"$error":"#N/A"}}," "]
[null,null,null,null,null,null,null,null,null,{"$f":"+IFERROR(VLOOKUP(C4717,'Charge Conversion'!A:C,3,0),\" \")","v":" "}," "," ",null,null,null,null,null,{"$f":"VLOOKUP(D4717,'Group Name'!A:B,2,0)","v":{"$error":"#N/A"}}," "]
[null,null,null,null,null,null,null,null,null,{"$f":"+IFERROR(VLOOKUP(C4718,'Charge Conversion'!A:C,3,0),\" \")","v":" "}," "," ",null,null,null,null,null,{"$f":"VLOOKUP(D4718,'Group Name'!A:B,2,0)","v":{"$error":"#N/A"}}," "]
[null,null,null,null,null,null,null,null,null,{"$f":"+IFERROR(VLOOKUP(C4722,'Charge Conversion'!A:C,3,0),\" \")","v":" "}," "," ",null,null,null,null,null,{"$f":"VLOOKUP(D4722,'Group Name'!A:B,2,0)","v":{"$error":"#N/A"}}," "]
[null,null,null,null,null,null,null,null,null,{"$f":"+IFERROR(VLOOKUP(C4724,'Charge Conversion'!A:C,3,0),\" \")","v":" "}," "," ",null,null,null,null,null,{"$f":"VLOOKUP(D4724,'Group Name'!A:B,2,0)","v":{"$error":"#N/A"}}," "]
[null,null,null,null,null,null,null,null,null,{"$f":"+IFERROR(VLOOKUP(C4727,'Charge Conversion'!A:C,3,0),\" \")","v":" "}," "," ",null,null,null,null,null,{"$f":"VLOOKUP(D4727,'Group Name'!A:B,2,0)","v":{"$error":"#N/A"}}," "]
[null,null,null,null,null,null,null,null,null,{"$f":"+IFERROR(VLOOKUP(C4730,'Charge Conversion'!A:C,3,0),\" \")","v":" "}," "," ",null,null,null,null,null,{"$f":"VLOOKUP(D4730,'Group Name'!A:B,2,0)","v":{"$error":"#N/A"}}," "]
[null,null,null,null,null,null,null,null,null,{"$f":"+IFERROR(VLOOKUP(C4732,'Charge Conversion'!A:C,3,0),\" \")","v":" "}," "," ",null,null,null,null,null,{"$f":"VLOOKUP(D4732,'Group Name'!A:B,2,0)","v":{"$error":"#N/A"}}," "]
[null,null,null,null,null,null,null,null,null,{"$f":"+IFERROR(VLOOKUP(C4735,'Charge Conversion'!A:C,3,0),\" \")","v":" "}," "," ",null,null,null,null,null,{"$f":"VLOOKUP(D4735,'Group Name'!A:B,2,0)","v":{"$error":"#N/A"}}," "]
[null,null,null,null,null,null,null,null,null,{"$f":"+IFERROR(VLOOKUP(C4737,'Charge Conversion'!A:C,3,0),\" \")","v":" "}," "," ",null,null,null,null,null,{"$f":"VLOOKUP(D4737,'Group Name'!A:B,2,0)","v":{"$error":"#N/A"}}," "]
[null,null,null,null,null,null,null,null,null,{"$f":"+IFERROR(VLOOKUP(C4738,'Charge Conversion'!A:C,3,0),\" \")","v":" "}," "," ",null,null,null,null,null,{"$f":"VLOOKUP(D4738,'Group Name'!A:B,2,0)","v":{"$error":"#N/A"}}," "]
[null,null,null,null,null,null,null,null,null,{"$f":"+IFERROR(VLOOKUP(C4742,'Charge Conversion'!A:C,3,0),\" \")","v":" "}," "," ",null,null,null,null,null,{"$f":"VLOOKUP(D4742,'Group Name'!A:B,2,0)","v":{"$error":"#N/A"}}," "]
[null,null,null,null,null,null,null,null,null,{"$f":"+IFERROR(VLOOKUP(C4744,'Charge Conversion'!A:C,3,0),\" \")","v":" "}," "," ",null,null,null,null,null,{"$f":"VLOOKUP(D4744,'Group Name'!A:B,2,0)","v":{"$error":"#N/A"}}," "]
[null,null,null,null,null,null,null,null,null,{"$f":"+IFERROR(VLOOKUP(C4747,'Charge Conversion'!A:C,3,0),\" \")","v":" "}," "," ",null,null,null,null,null,{"$f":"VLOOKUP(D4747,'Group Name'!A:B,2,0)","v":{"$error":"#N/A"}}," "]
[null,null,null,null,null,null,null,null,null,{"$f":"+IFERROR(VLOOKUP(C4750,'Charge Conversion'!A:C,3,0),\" \")","v":" "}," "," ",null,null,null,null,null,{"$f":"VLOOKUP(D4750,'Group Name'!A:B,2,0)","v":{"$error":"#N/A"}}," "]
[null,null,null,null,null,null,null,null,null,{"$f":"+IFERROR(VLOOKUP(C4752,'Charge Conversion'!A:C,3,0),\" \")","v":" "}," "," ",null,null,null,null,null,{"$f":"VLOOKUP(D4752,'Group Name'!A:B,2,0)","v":{"$error":"#N/A"}}," "]
[null,null,null,null,null,null,null,null,null,{"$f":"+IFERROR(VLOOKUP(C4753,'Charge Conversion'!A:C,3,0),\" \")","v":" "}," "," ",null,null,null,null,null,{"$f":"VLOOKUP(D4753,'Group Name'!A:B,2,0)","v":{"$error":"#N/A"}}," "]
[null,null,null,null,null,null,null,null,null,{"$f":"+IFERROR(VLOOKUP(C4757,'Charge Conversion'!A:C,3,0),\" \")","v":" "}," "," ",null,null,null,null,null,{"$f":"VLOOKUP(D4757,'Group Name'!A:B,2,0)","v":{"$error":"#N/A"}}," "]
[null,null,null,null,null,null,null,null,null,{"$f":"+IFERROR(VLOOKUP(C4758,'Charge Conversion'!A:C,3,0),\" \")","v":" "}," "," ",null,null,null,null,null,{"$f":"VLOOKUP(D4758,'Group Name'!A:B,2,0)","v":{"$error":"#N/A"}}," "]
[null,null,null,null,null,null,null,null,null,{"$f":"+IFERROR(VLOOKUP(C4762,'Charge Conversion'!A:C,3,0),\" \")","v":" "}," "," ",null,null,null,null,null,{"$f":"VLOOKUP(D4762,'Group Name'!A:B,2,0)","v":{"$error":"#N/A"}}," "]
[null,null,null,null,null,null,null,null,null,{"$f":"+IFERROR(VLOOKUP(C4764,'Charge Conversion'!A:C,3,0),\" \")","v":" "}," "," ",null,null,null,null,null,{"$f":"VLOOKUP(D4764,'Group Name'!A:B,2,0)","v":{"$error":"#N/A"}}," "]
[null,null,null,null,null,null,null,null,null,{"$f":"+IFERROR(VLOOKUP(C4767,'Charge Conversion'!A:C,3,0),\" \")","v":" "}," "," ",null,null,null,null,null,{"$f":"VLOOKUP(D4767,'Group Name'!A:B,2,0)","v":{"$error":"#N/A"}}," "]
[null,null,null,null,null,null,null,null,null,{"$f":"+IFERROR(VLOOKUP(C4770,'Charge Conversion'!A:C,3,0),\" \")","v":" "}," "," ",null,null,null,null,null,{"$f":"VLOOKUP(D4770,'Group Name'!A:B,2,0)","v":{"$error":"#N/A"}}," "]
[null,null,null,null,null,null,null,null,null,{"$f":"+IFERROR(VLOOKUP(C4772,'Charge Conversion'!A:C,3,0),\" \")","v":" "}," "," ",null,null,null,null,null,{"$f":"VLOOKUP(D4772,'Group Name'!A:B,2,0)","v":{"$error":"#N/A"}}," "]
[null,null,null,null,null,null,null,null,null,{"$f":"+IFERROR(VLOOKUP(C4773,'Charge Conversion'!A:C,3,0),\" \")","v":" "}," "," ",null,null,null,null,null,{"$f":"VLOOKUP(D4773,'Group Name'!A:B,2,0)","v":{"$error":"#N/A"}}," "]
[null,null,null,null,null,null,null,null,null,{"$f":"+IFERROR(VLOOKUP(C4776,'Charge Conversion'!A:C,3,0),\" \")","v":" "}," "," ",null,null,null,null,null,{"$f":"VLOOKUP(D4776,'Group Name'!A:B,2,0)","v":{"$error":"#N/A"}}," "]
[null,null,null,null,null,null,null,null,null,{"$f":"+IFERROR(VLOOKUP(C4779,'Charge Conversion'!A:C,3,0),\" \")","v":" "}," "," ",null,null,null,null,null,{"$f":"VLOOKUP(D4779,'Group Name'!A:B,2,0)","v":{"$error":"#N/A"}}," "]
[null,null,null,null,null,null,null,null,null,{"$f":"+IFERROR(VLOOKUP(C4782,'Charge Conversion'!A:C,3,0),\" \")","v":" "}," "," ",null,null,null,null,null,{"$f":"VLOOKUP(D4782,'Group Name'!A:B,2,0)","v":{"$error":"#N/A"}}," "]
[null,null,null,null,null,null,null,null,null,{"$f":"+IFERROR(VLOOKUP(C4784,'Charge Conversion'!A:C,3,0),\" \")","v":" "}," "," ",null,null,null,null,null,{"$f":"VLOOKUP(D4784,'Group Name'!A:B,2,0)","v":{"$error":"#N/A"}}," "]
[null,null,null,null,null,null,null,null,null,{"$f":"+IFERROR(VLOOKUP(C4787,'Charge Conversion'!A:C,3,0),\" \")","v":" "}," "," ",null,null,null,null,null,{"$f":"VLOOKUP(D4787,'Group Name'!A:B,2,0)","v":{"$error":"#N/A"}}," "]
[null,null,null,null,null,null,null,null,null,{"$f":"+IFERROR(VLOOKUP(C4789,'Charge Conversion'!A:C,3,0),\" \")","v":" "}," "," ",null,null,null,null,null,{"$f":"VLOOKUP(D4789,'Group Name'!A:B,2,0)","v":{"$error":"#N/A"}}," "]
[null,null,null,null,null,null,null,null,null,{"$f":"+IFERROR(VLOOKUP(C4793,'Charge Conversion'!A:C,3,0),\" \")","v":" "}," "," ",null,null,null,null,null,{"$f":"VLOOKUP(D4793,'Group Name'!A:B,2,0)","v":{"$error":"#N/A"}}," "]
[null,null,null,null,null,null,null,null,null,{"$f":"+IFERROR(VLOOKUP(C4794,'Charge Conversion'!A:C,3,0),\" \")","v":" "}," "," ",null,null,null,null,null,{"$f":"VLOOKUP(D4794,'Group Name'!A:B,2,0)","v":{"$error":"#N/A"}}," "]
[null,null,null,null,null,null,null,null,null,{"$f":"+IFERROR(VLOOKUP(C4796,'Charge Conversion'!A:C,3,0),\" \")","v":" "}," "," ",null,null,null,null,null,{"$f":"VLOOKUP(D4796,'Group Name'!A:B,2,0)","v":{"$error":"#N/A"}}," "]
[null,null,null,null,null,null,null,null,null,{"$f":"+IFERROR(VLOOKUP(C4799,'Charge Conversion'!A:C,3,0),\" \")","v":" "}," "," ",null,null,null,null,null,{"$f":"VLOOKUP(D4799,'Group Name'!A:B,2,0)","v":{"$error":"#N/A"}}," "]
[null,null,null,null,null,null,null,null,null,{"$f":"+IFERROR(VLOOKUP(C4802,'Charge Conversion'!A:C,3,0),\" \")","v":" "}," "," ",null,null,null,null,null,{"$f":"VLOOKUP(D4802,'Group Name'!A:B,2,0)","v":{"$error":"#N/A"}}," "]
[null,null,null,null,null,null,null,null,null,{"$f":"+IFERROR(VLOOKUP(C4804,'Charge Conversion'!A:C,3,0),\" \")","v":" "}," "," ",null,null,null,null,null,{"$f":"VLOOKUP(D4804,'Group Name'!A:B,2,0)","v":{"$error":"#N/A"}}," "]
[null,null,null,null,null,null,null,null,null,{"$f":"+IFERROR(VLOOKUP(C4808,'Charge Conversion'!A:C,3,0),\" \")","v":" "}," "," ",null,null,null,null,null,{"$f":"VLOOKUP(D4808,'Group Name'!A:B,2,0)","v":{"$error":"#N/A"}}," "]
[null,null,null,null,null,null,null,null,null,{"$f":"+IFERROR(VLOOKUP(C4809,'Charge Conversion'!A:C,3,0),\" \")","v":" "}," "," ",null,null,null,null,null,{"$f":"VLOOKUP(D4809,'Group Name'!A:B,2,0)","v":{"$error":"#N/A"}}," "]
[null,null,null,null,null,null,null,null,null,{"$f":"+IFERROR(VLOOKUP(C4813,'Charge Conversion'!A:C,3,0),\" \")","v":" "}," "," ",null,null,null,null,null,{"$f":"VLOOKUP(D4813,'Group Name'!A:B,2,0)","v":{"$error":"#N/A"}}," "]
[null,null,null,null,null,null,null,null,null,{"$f":"+IFERROR(VLOOKUP(C4814,'Charge Conversion'!A:C,3,0),\" \")","v":" "}," "," ",null,null,null,null,null,{"$f":"VLOOKUP(D4814,'Group Name'!A:B,2,0)","v":{"$error":"#N/A"}}," "]
[null,null,null,null,null,null,null,null,null,{"$f":"+IFERROR(VLOOKUP(C4816,'Charge Conversion'!A:C,3,0),\" \")","v":" "}," "," ",null,null,null,null,null,{"$f":"VLOOKUP(D4816,'Group Name'!A:B,2,0)","v":{"$error":"#N/A"}}," "]
[null,null,null,null,null,null,null,null,null,{"$f":"+IFERROR(VLOOKUP(C4819,'Charge Conversion'!A:C,3,0),\" \")","v":" "}," "," ",null,null,null,null,null,{"$f":"VLOOKUP(D4819,'Group Name'!A:B,2,0)","v":{"$error":"#N/A"}}," "]
[null,null,null,null,null,null,null,null,null,{"$f":"+IFERROR(VLOOKUP(C4822,'Charge Conversion'!A:C,3,0),\" \")","v":" "}," "," ",null,null,null,null,null,{"$f":"VLOOKUP(D4822,'Group Name'!A:B,2,0)","v":{"$error":"#N/A"}}," "]
[null,null,null,null,null,null,null,null,null,{"$f":"+IFERROR(VLOOKUP(C4824,'Charge Conversion'!A:C,3,0),\" \")","v":" "}," "," ",null,null,null,null,null,{"$f":"VLOOKUP(D4824,'Group Name'!A:B,2,0)","v":{"$error":"#N/A"}}," "]
[null,null,null,null,null,null,null,null,null,{"$f":"+IFERROR(VLOOKUP(C4828,'Charge Conversion'!A:C,3,0),\" \")","v":" "}," "," ",null,null,null,null,null,{"$f":"VLOOKUP(D4828,'Group Name'!A:B,2,0)","v":{"$error":"#N/A"}}," "]
[null,null,null,null,null,null,null,null,null,{"$f":"+IFERROR(VLOOKUP(C4829,'Charge Conversion'!A:C,3,0),\" \")","v":" "}," "," ",null,null,null,null,null,{"$f":"VLOOKUP(D4829,'Group Name'!A:B,2,0)","v":{"$error":"#N/A"}}," "]
[null,null,null,null,null,null,null,null,null,{"$f":"+IFERROR(VLOOKUP(C4833,'Charge Conversion'!A:C,3,0),\" \")","v":" "}," "," ",null,null,null,null,null,{"$f":"VLOOKUP(D4833,'Group Name'!A:B,2,0)","v":{"$error":"#N/A"}}," "]
[null,null,null,null,null,null,null,null,null,{"$f":"+IFERROR(VLOOKUP(C4834,'Charge Conversion'!A:C,3,0),\" \")","v":" "}," "," ",null,null,null,null,null,{"$f":"VLOOKUP(D4834,'Group Name'!A:B,2,0)","v":{"$error":"#N/A"}}," "]
[null,null,null,null,null,null,null,null,null,{"$f":"+IFERROR(VLOOKUP(C4836,'Charge Conversion'!A:C,3,0),\" \")","v":" "}," "," ",null,null,null,null,null,{"$f":"VLOOKUP(D4836,'Group Name'!A:B,2,0)","v":{"$error":"#N/A"}}," "]
[null,null,null,null,null,null,null,null,null,{"$f":"+IFERROR(VLOOKUP(C4839,'Charge Conversion'!A:C,3,0),\" \")","v":" "}," "," ",null,null,null,null,null,{"$f":"VLOOKUP(D4839,'Group Name'!A:B,2,0)","v":{"$error":"#N/A"}}," "]
[null,null,null,null,null,null,null,null,null,{"$f":"+IFERROR(VLOOKUP(C4842,'Charge Conversion'!A:C,3,0),\" \")","v":" "}," "," ",null,null,null,null,null,{"$f":"VLOOKUP(D4842,'Group Name'!A:B,2,0)","v":{"$error":"#N/A"}}," "]
[null,null,null,null,null,null,null,null,null,{"$f":"+IFERROR(VLOOKUP(C4844,'Charge Conversion'!A:C,3,0),\" \")","v":" "}," "," ",null,null,null,null,null,{"$f":"VLOOKUP(D4844,'Group Name'!A:B,2,0)","v":{"$error":"#N/A"}}," "]
[null,null,null,null,null,null,null,null,null,{"$f":"+IFERROR(VLOOKUP(C4848,'Charge Conversion'!A:C,3,0),\" \")","v":" "}," "," ",null,null,null,null,null,{"$f":"VLOOKUP(D4848,'Group Name'!A:B,2,0)","v":{"$error":"#N/A"}}," "]
[null,null,null,null,null,null,null,null,null,{"$f":"+IFERROR(VLOOKUP(C4849,'Charge Conversion'!A:C,3,0),\" \")","v":" "}," "," ",null,null,null,null,null,{"$f":"VLOOKUP(D4849,'Group Name'!A:B,2,0)","v":{"$error":"#N/A"}}," "]
[null,null,null,null,null,null,null,null,null,{"$f":"+IFERROR(VLOOKUP(C4853,'Charge Conversion'!A:C,3,0),\" \")","v":" "}," "," ",null,null,null,null,null,{"$f":"VLOOKUP(D4853,'Group Name'!A:B,2,0)","v":{"$error":"#N/A"}}," "]
[null,null,null,null,null,null,null,null,null,{"$f":"+IFERROR(VLOOKUP(C4854,'Charge Conversion'!A:C,3,0),\" \")","v":" "}," "," ",null,null,null,null,null,{"$f":"VLOOKUP(D4854,'Group Name'!A:B,2,0)","v":{"$error":"#N/A"}}," "]
[null,null,null,null,null,null,null,null,null,{"$f":"+IFERROR(VLOOKUP(C4856,'Charge Conversion'!A:C,3,0),\" \")","v":" "}," "," ",null,null,null,null,null,{"$f":"VLOOKUP(D4856,'Group Name'!A:B,2,0)","v":{"$error":"#N/A"}}," "]
[null,null,null,null,null,null,null,null,null,{"$f":"+IFERROR(VLOOKUP(C4859,'Charge Conversion'!A:C,3,0),\" \")","v":" "}," "," ",null,null,null,null,null,{"$f":"VLOOKUP(D4859,'Group Name'!A:B,2,0)","v":{"$error":"#N/A"}}," "]
[null,null,null,null,null,null,null,null,null,{"$f":"+IFERROR(VLOOKUP(C4862,'Charge Conversion'!A:C,3,0),\" \")","v":" "}," "," ",null,null,null,null,null,{"$f":"VLOOKUP(D4862,'Group Name'!A:B,2,0)","v":{"$error":"#N/A"}}," "]
[null,null,null,null,null,null,null,null,null,{"$f":"+IFERROR(VLOOKUP(C4864,'Charge Conversion'!A:C,3,0),\" \")","v":" "}," "," ",null,null,null,null,null,{"$f":"VLOOKUP(D4864,'Group Name'!A:B,2,0)","v":{"$error":"#N/A"}}," "]
[null,null,null,null,null,null,null,null,null,{"$f":"+IFERROR(VLOOKUP(C4868,'Charge Conversion'!A:C,3,0),\" \")","v":" "}," "," ",null,null,null,null,null,{"$f":"VLOOKUP(D4868,'Group Name'!A:B,2,0)","v":{"$error":"#N/A"}}," "]
[null,null,null,null,null,null,null,null,null,{"$f":"+IFERROR(VLOOKUP(C4869,'Charge Conversion'!A:C,3,0),\" \")","v":" "},{"$f":"+IFERROR(I4869*J4869,\" \")","v":" "},{"$f":"S4869","v":" "},null,null,null,null,null,{"$f":"VLOOKUP(D4869,'Group Name'!A:B,2,0)","v":{"$error":"#N/A"}},{"$f":"IFERROR((IF(A4869=\" \",\" \",R4869)),\" \")","v":" "}]
[null,null,null,null,null,null,null,null,null,{"$f":"+IFERROR(VLOOKUP(C4873,'Charge Conversion'!A:C,3,0),\" \")","v":" "}," "," ",null,null,null,null,null,{"$f":"VLOOKUP(D4873,'Group Name'!A:B,2,0)","v":{"$error":"#N/A"}}," "]
[null,null,null,null,null,null,null,null,null,{"$f":"+IFERROR(VLOOKUP(C4874,'Charge Conversion'!A:C,3,0),\" \")","v":" "}," "," ",null,null,null,null,null,{"$f":"VLOOKUP(D4874,'Group Name'!A:B,2,0)","v":{"$error":"#N/A"}}," "]
[null,null,null,null,null,null,null,null,null,{"$f":"+IFERROR(VLOOKUP(C4876,'Charge Conversion'!A:C,3,0),\" \")","v":" "}," "," ",null,null,null,null,null,{"$f":"VLOOKUP(D4876,'Group Name'!A:B,2,0)","v":{"$error":"#N/A"}}," "]
[null,null,null,null,null,null,null,null,null,{"$f":"+IFERROR(VLOOKUP(C4879,'Charge Conversion'!A:C,3,0),\" \")","v":" "}," "," ",null,null,null,null,null,{"$f":"VLOOKUP(D4879,'Group Name'!A:B,2,0)","v":{"$error":"#N/A"}}," "]
[null,null,null,null,null,null,null,null,null,{"$f":"+IFERROR(VLOOKUP(C4882,'Charge Conversion'!A:C,3,0),\" \")","v":" "}," "," ",null,null,null,null,null,{"$f":"VLOOKUP(D4882,'Group Name'!A:B,2,0)","v":{"$error":"#N/A"}}," "]
[null,null,null,null,null,null,null,null,null,{"$f":"+IFERROR(VLOOKUP(C4884,'Charge Conversion'!A:C,3,0),\" \")","v":" "}," "," ",null,null,null,null,null,{"$f":"VLOOKUP(D4884,'Group Name'!A:B,2,0)","v":{"$error":"#N/A"}}," "]
[null,null,null,null,null,null,null,null,null,{"$f":"+IFERROR(VLOOKUP(C4888,'Charge Conversion'!A:C,3,0),\" \")","v":" "}," "," ",null,null,null,null,null,{"$f":"VLOOKUP(D4888,'Group Name'!A:B,2,0)","v":{"$error":"#N/A"}}," "]
[null,null,null,null,null,null,null,null,null,{"$f":"+IFERROR(VLOOKUP(C4889,'Charge Conversion'!A:C,3,0),\" \")","v":" "}," "," ",null,null,null,null,null,{"$f":"VLOOKUP(D4889,'Group Name'!A:B,2,0)","v":{"$error":"#N/A"}}," "]
[null,null,null,null,null,null,null,null,null,{"$f":"+IFERROR(VLOOKUP(C4891,'Charge Conversion'!A:C,3,0),\" \")","v":" "}," "," ",null,null,null,null,null,{"$f":"VLOOKUP(D4891,'Group Name'!A:B,2,0)","v":{"$error":"#N/A"}}," "]
[null,null,null,null,null,null,null,null,null,{"$f":"+IFERROR(VLOOKUP(C4894,'Charge Conversion'!A:C,3,0),\" \")","v":" "}," "," ",null,null,null,null,null,{"$f":"VLOOKUP(D4894,'Group Name'!A:B,2,0)","v":{"$error":"#N/A"}}," "]
[null,null,null,null,null,null,null,null,null,{"$f":"+IFERROR(VLOOKUP(C4896,'Charge Conversion'!A:C,3,0),\" \")","v":" "}," "," ",null,null,null,null,null,{"$f":"VLOOKUP(D4896,'Group Name'!A:B,2,0)","v":{"$error":"#N/A"}}," "]
[null,null,null,null,null,null,null,null,null,{"$f":"+IFERROR(VLOOKUP(C4899,'Charge Conversion'!A:C,3,0),\" \")","v":" "}," "," ",null,null,null,null,null,{"$f":"VLOOKUP(D4899,'Group Name'!A:B,2,0)","v":{"$error":"#N/A"}}," "]
[null,null,null,null,null,null,null,null,null,{"$f":"+IFERROR(VLOOKUP(C4902,'Charge Conversion'!A:C,3,0),\" \")","v":" "}," "," ",null,null,null,null,null,{"$f":"VLOOKUP(D4902,'Group Name'!A:B,2,0)","v":{"$error":"#N/A"}}," "]
[null,null,null,null,null,null,null,null,null,{"$f":"+IFERROR(VLOOKUP(C4905,'Charge Conversion'!A:C,3,0),\" \")","v":" "}," "," ",null,null,null,null,null,{"$f":"VLOOKUP(D4905,'Group Name'!A:B,2,0)","v":{"$error":"#N/A"}}," "]
[null,null,null,null,null,null,null,null,null,{"$f":"+IFERROR(VLOOKUP(C4908,'Charge Conversion'!A:C,3,0),\" \")","v":" "}," "," ",null,null,null,null,null,{"$f":"VLOOKUP(D4908,'Group Name'!A:B,2,0)","v":{"$error":"#N/A"}}," "]
[null,null,null,null,null,null,null,null,null,{"$f":"+IFERROR(VLOOKUP(C4911,'Charge Conversion'!A:C,3,0),\" \")","v":" "}," "," ",null,null,null,null,null,{"$f":"VLOOKUP(D4911,'Group Name'!A:B,2,0)","v":{"$error":"#N/A"}}," "]
[null,null,null,null,null,null,null,null,null,{"$f":"+IFERROR(VLOOKUP(C4913,'Charge Conversion'!A:C,3,0),\" \")","v":" "}," "," ",null,null,null,null,null,{"$f":"VLOOKUP(D4913,'Group Name'!A:B,2,0)","v":{"$error":"#N/A"}}," "]
[null,null,null,null,null,null,null,null,null,{"$f":"+IFERROR(VLOOKUP(C4914,'Charge Conversion'!A:C,3,0),\" \")","v":" "}," "," ",null,null,null,null,null,{"$f":"VLOOKUP(D4914,'Group Name'!A:B,2,0)","v":{"$error":"#N/A"}}," "]
[null,null,null,null,null,null,null,null,null,{"$f":"+IFERROR(VLOOKUP(C4918,'Charge Conversion'!A:C,3,0),\" \")","v":" "}," "," ",null,null,null,null,null,{"$f":"VLOOKUP(D4918,'Group Name'!A:B,2,0)","v":{"$error":"#N/A"}}," "]
[null,null,null,null,null,null,null,null,null,{"$f":"+IFERROR(VLOOKUP(C4920,'Charge Conversion'!A:C,3,0),\" \")","v":" "}," "," ",null,null,null,null,null,{"$f":"VLOOKUP(D4920,'Group Name'!A:B,2,0)","v":{"$error":"#N/A"}}," "]
[null,null,null,null,null,null,null,null,null,{"$f":"+IFERROR(VLOOKUP(C4923,'Charge Conversion'!A:C,3,0),\" \")","v":" "}," "," ",null,null,null,null,null,{"$f":"VLOOKUP(D4923,'Group Name'!A:B,2,0)","v":{"$error":"#N/A"}}," "]
[null,null,null,null,null,null,null,null,null,{"$f":"+IFERROR(VLOOKUP(C4925,'Charge Conversion'!A:C,3,0),\" \")","v":" "}," "," ",null,null,null,null,null,{"$f":"VLOOKUP(D4925,'Group Name'!A:B,2,0)","v":{"$error":"#N/A"}}," "]
[null,null,null,null,null,null,null,null,null,{"$f":"+IFERROR(VLOOKUP(C4928,'Charge Conversion'!A:C,3,0),\" \")","v":" "}," "," ",null,null,null,null,null,{"$f":"VLOOKUP(D4928,'Group Name'!A:B,2,0)","v":{"$error":"#N/A"}}," "]
[null,null,null,null,null,null,null,null,null,{"$f":"+IFERROR(VLOOKUP(C4931,'Charge Conversion'!A:C,3,0),\" \")","v":" "}," "," ",null,null,null,null,null,{"$f":"VLOOKUP(D4931,'Group Name'!A:B,2,0)","v":{"$error":"#N/A"}}," "]
[null,null,null,null,null,null,null,null,null,{"$f":"+IFERROR(VLOOKUP(C4933,'Charge Conversion'!A:C,3,0),\" \")","v":" "},{"$f":"+IFERROR(I4933*J4933,\" \")","v":" "},{"$f":"S4933","v":" "},null,null,null,null,null,{"$f":"VLOOKUP(D4933,'Group Name'!A:B,2,0)","v":{"$error":"#N/A"}},{"$f":"IFERROR((IF(A4933=\" \",\" \",R4933)),\" \")","v":" "}]
[null,null,null,null,null,null,null,null,null,{"$f":"+IFERROR(VLOOKUP(C4934,'Charge Conversion'!A:C,3,0),\" \")","v":" "}," "," ",null,null,null,null,null,{"$f":"VLOOKUP(D4934,'Group Name'!A:B,2,0)","v":{"$error":"#N/A"}}," "]
[null,null,null,null,null,null,null,null,null,{"$f":"+IFERROR(VLOOKUP(C4938,'Charge Conversion'!A:C,3,0),\" \")","v":" "}," "," ",null,null,null,null,null,{"$f":"VLOOKUP(D4938,'Group Name'!A:B,2,0)","v":{"$error":"#N/A"}}," "]
[null,null,null,null,null,null,null,null,null,{"$f":"+IFERROR(VLOOKUP(C4940,'Charge Conversion'!A:C,3,0),\" \")","v":" "}," "," ",null,null,null,null,null,{"$f":"VLOOKUP(D4940,'Group Name'!A:B,2,0)","v":{"$error":"#N/A"}}," "]
[null,null,null,null,null,null,null,null,null,{"$f":"+IFERROR(VLOOKUP(C4943,'Charge Conversion'!A:C,3,0),\" \")","v":" "}," "," ",null,null,null,null,null,{"$f":"VLOOKUP(D4943,'Group Name'!A:B,2,0)","v":{"$error":"#N/A"}}," "]
[null,null,null,null,null,null,null,null,null,{"$f":"+IFERROR(VLOOKUP(C4946,'Charge Conversion'!A:C,3,0),\" \")","v":" "}," "," ",null,null,null,null,null,{"$f":"VLOOKUP(D4946,'Group Name'!A:B,2,0)","v":{"$error":"#N/A"}}," "]
[null,null,null,null,null,null,null,null,null,{"$f":"+IFERROR(VLOOKUP(C4948,'Charge Conversion'!A:C,3,0),\" \")","v":" "}," "," ",null,null,null,null,null,{"$f":"VLOOKUP(D4948,'Group Name'!A:B,2,0)","v":{"$error":"#N/A"}}," "]
[null,null,null,null,null,null,null,null,null,{"$f":"+IFERROR(VLOOKUP(C4951,'Charge Conversion'!A:C,3,0),\" \")","v":" "}," "," ",null,null,null,null,null,{"$f":"VLOOKUP(D4951,'Group Name'!A:B,2,0)","v":{"$error":"#N/A"}}," "]
[null,null,null,null,null,null,null,null,null,{"$f":"+IFERROR(VLOOKUP(C4953,'Charge Conversion'!A:C,3,0),\" \")","v":" "}," "," ",null,null,null,null,null,{"$f":"VLOOKUP(D4953,'Group Name'!A:B,2,0)","v":{"$error":"#N/A"}}," "]
[null,null,null,null,null,null,null,null,null,{"$f":"+IFERROR(VLOOKUP(C4954,'Charge Conversion'!A:C,3,0),\" \")","v":" "}," "," ",null,null,null,null,null,{"$f":"VLOOKUP(D4954,'Group Name'!A:B,2,0)","v":{"$error":"#N/A"}}," "]
[null,null,null,null,null,null,null,null,null,{"$f":"+IFERROR(VLOOKUP(C4958,'Charge Conversion'!A:C,3,0),\" \")","v":" "}," "," ",null,null,null,null,null,{"$f":"VLOOKUP(D4958,'Group Name'!A:B,2,0)","v":{"$error":"#N/A"}}," "]
[null,null,null,null,null,null,null,null,null,{"$f":"+IFERROR(VLOOKUP(C4960,'Charge Conversion'!A:C,3,0),\" \")","v":" "}," "," ",null,null,null,null,null,{"$f":"VLOOKUP(D4960,'Group Name'!A:B,2,0)","v":{"$error":"#N/A"}}," "]
[null,null,null,null,null,null,null,null,null,{"$f":"+IFERROR(VLOOKUP(C4963,'Charge Conversion'!A:C,3,0),\" \")","v":" "}," "," ",null,null,null,null,null,{"$f":"VLOOKUP(D4963,'Group Name'!A:B,2,0)","v":{"$error":"#N/A"}}," "]
[null,null,null,null,null,null,null,null,null,{"$f":"+IFERROR(VLOOKUP(C4966,'Charge Conversion'!A:C,3,0),\" \")","v":" "}," "," ",null,null,null,null,null,{"$f":"VLOOKUP(D4966,'Group Name'!A:B,2,0)","v":{"$error":"#N/A"}}," "]
[null,null,null,null,null,null,null,null,null,{"$f":"+IFERROR(VLOOKUP(C4968,'Charge Conversion'!A:C,3,0),\" \")","v":" "}," "," ",null,null,null,null,null,{"$f":"VLOOKUP(D4968,'Group Name'!A:B,2,0)","v":{"$error":"#N/A"}}," "]
[null,null,null,null,null,null,null,null,null,{"$f":"+IFERROR(VLOOKUP(C4971,'Charge Conversion'!A:C,3,0),\" \")","v":" "}," "," ",null,null,null,null,null,{"$f":"VLOOKUP(D4971,'Group Name'!A:B,2,0)","v":{"$error":"#N/A"}}," "]
[null,null,null,null,null,null,null,null,null,{"$f":"+IFERROR(VLOOKUP(C4973,'Charge Conversion'!A:C,3,0),\" \")","v":" "}," "," ",null,null,null,null,null,{"$f":"VLOOKUP(D4973,'Group Name'!A:B,2,0)","v":{"$error":"#N/A"}}," "]
[null,null,null,null,null,null,null,null,null,{"$f":"+IFERROR(VLOOKUP(C4974,'Charge Conversion'!A:C,3,0),\" \")","v":" "}," "," ",null,null,null,null,null,{"$f":"VLOOKUP(D4974,'Group Name'!A:B,2,0)","v":{"$error":"#N/A"}}," "]
[null,null,null,null,null,null,null,null,null,{"$f":"+IFERROR(VLOOKUP(C4978,'Charge Conversion'!A:C,3,0),\" \")","v":" "}," "," ",null,null,null,null,null,{"$f":"VLOOKUP(D4978,'Group Name'!A:B,2,0)","v":{"$error":"#N/A"}}," "]
[null,null,null,null,null,null,null,null,null,{"$f":"+IFERROR(VLOOKUP(C4980,'Charge Conversion'!A:C,3,0),\" \")","v":" "}," "," ",null,null,null,null,null,{"$f":"VLOOKUP(D4980,'Group Name'!A:B,2,0)","v":{"$error":"#N/A"}}," "]
[null,null,null,null,null,null,null,null,null,{"$f":"+IFERROR(VLOOKUP(C4983,'Charge Conversion'!A:C,3,0),\" \")","v":" "}," "," ",null,null,null,null,null,{"$f":"VLOOKUP(D4983,'Group Name'!A:B,2,0)","v":{"$error":"#N/A"}}," "]
[null,null,null,null,null,null,null,null,null,{"$f":"+IFERROR(VLOOKUP(C4986,'Charge Conversion'!A:C,3,0),\" \")","v":" "}," "," ",null,null,null,null,null,{"$f":"VLOOKUP(D4986,'Group Name'!A:B,2,0)","v":{"$error":"#N/A"}}," "]
[null,null,null,null,null,null,null,null,null,{"$f":"+IFERROR(VLOOKUP(C4988,'Charge Conversion'!A:C,3,0),\" \")","v":" "}," "," ",null,null,null,null,null,{"$f":"VLOOKUP(D4988,'Group Name'!A:B,2,0)","v":{"$error":"#N/A"}}," "]
[null,null,null,null,null,null,null,null,null,{"$f":"+IFERROR(VLOOKUP(C4991,'Charge Conversion'!A:C,3,0),\" \")","v":" "}," "," ",null,null,null,null,null,{"$f":"VLOOKUP(D4991,'Group Name'!A:B,2,0)","v":{"$error":"#N/A"}}," "]
[null,null,null,null,null,null,null,null,null,{"$f":"+IFERROR(VLOOKUP(C4993,'Charge Conversion'!A:C,3,0),\" \")","v":" "}," "," ",null,null,null,null,null,{"$f":"VLOOKUP(D4993,'Group Name'!A:B,2,0)","v":{"$error":"#N/A"}}," "]
[null,null,null,null,null,null,null,null,null,{"$f":"+IFERROR(VLOOKUP(C4994,'Charge Conversion'!A:C,3,0),\" \")","v":" "}," "," ",null,null,null,null,null,{"$f":"VLOOKUP(D4994,'Group Name'!A:B,2,0)","v":{"$error":"#N/A"}}," "]
[null,null,null,null,null,null,null,null,null,{"$f":"+IFERROR(VLOOKUP(C4998,'Charge Conversion'!A:C,3,0),\" \")","v":" "}," "," ",null,null,null,null,null,{"$f":"VLOOKUP(D4998,'Group Name'!A:B,2,0)","v":{"$error":"#N/A"}}," "]
[null,null,null,null,null,null,null,null,null,{"$f":"+IFERROR(VLOOKUP(C5000,'Charge Conversion'!A:C,3,0),\" \")","v":" "}," "," ",null,null,null,null,null,{"$f":"VLOOKUP(D5000,'Group Name'!A:B,2,0)","v":{"$error":"#N/A"}}," "]
[null,null,null,null,null,null,null,null,null,{"$f":"+IFERROR(VLOOKUP(C5003,'Charge Conversion'!A:C,3,0),\" \")","v":" "}," "," ",null,null,null,null,null,{"$f":"VLOOKUP(D5003,'Group Name'!A:B,2,0)","v":{"$error":"#N/A"}}," "]
[null,null,null,null,null,null,null,null,null,{"$f":"+IFERROR(VLOOKUP(C5006,'Charge Conversion'!A:C,3,0),\" \")","v":" "}," "," ",null,null,null,null,null,{"$f":"VLOOKUP(D5006,'Group Name'!A:B,2,0)","v":{"$error":"#N/A"}}," "]
[null,null,null,null,null,null,null,null,null,{"$f":"+IFERROR(VLOOKUP(C5008,'Charge Conversion'!A:C,3,0),\" \")","v":" "}," "," ",null,null,null,null,null,{"$f":"VLOOKUP(D5008,'Group Name'!A:B,2,0)","v":{"$error":"#N/A"}}," "]
[null,null,null,null,null,null,null,null,null,{"$f":"+IFERROR(VLOOKUP(C5011,'Charge Conversion'!A:C,3,0),\" \")","v":" "}," "," ",null,null,null,null,null,{"$f":"VLOOKUP(D5011,'Group Name'!A:B,2,0)","v":{"$error":"#N/A"}}," "]
[null,null,null,null,null,null,null,null,null,{"$f":"+IFERROR(VLOOKUP(C5013,'Charge Conversion'!A:C,3,0),\" \")","v":" "}," "," ",null,null,null,null,null,{"$f":"VLOOKUP(D5013,'Group Name'!A:B,2,0)","v":{"$error":"#N/A"}}," "]
[null,null,null,null,null,null,null,null,null,{"$f":"+IFERROR(VLOOKUP(C5014,'Charge Conversion'!A:C,3,0),\" \")","v":" "}," "," ",null,null,null,null,null,{"$f":"VLOOKUP(D5014,'Group Name'!A:B,2,0)","v":{"$error":"#N/A"}}," "]
[null,null,null,null,null,null,null,null,null,{"$f":"+IFERROR(VLOOKUP(C5018,'Charge Conversion'!A:C,3,0),\" \")","v":" "}," "," ",null,null,null,null,null,{"$f":"VLOOKUP(D5018,'Group Name'!A:B,2,0)","v":{"$error":"#N/A"}}," "]
[null,null,null,null,null,null,null,null,null,{"$f":"+IFERROR(VLOOKUP(C5020,'Charge Conversion'!A:C,3,0),\" \")","v":" "}," "," ",null,null,null,null,null,{"$f":"VLOOKUP(D5020,'Group Name'!A:B,2,0)","v":{"$error":"#N/A"}}," "]
[null,null,null,null,null,null,null,null,null,{"$f":"+IFERROR(VLOOKUP(C5023,'Charge Conversion'!A:C,3,0),\" \")","v":" "}," "," ",null,null,null,null,null,{"$f":"VLOOKUP(D5023,'Group Name'!A:B,2,0)","v":{"$error":"#N/A"}}," "]
[null,null,null,null,null,null,null,null,null,{"$f":"+IFERROR(VLOOKUP(C5026,'Charge Conversion'!A:C,3,0),\" \")","v":" "}," "," ",null,null,null,null,null,{"$f":"VLOOKUP(D5026,'Group Name'!A:B,2,0)","v":{"$error":"#N/A"}}," "]
[null,null,null,null,null,null,null,null,null,{"$f":"+IFERROR(VLOOKUP(C5028,'Charge Conversion'!A:C,3,0),\" \")","v":" "}," "," ",null,null,null,null,null,{"$f":"VLOOKUP(D5028,'Group Name'!A:B,2,0)","v":{"$error":"#N/A"}}," "]
[null,null,null,null,null,null,null,null,null,{"$f":"+IFERROR(VLOOKUP(C5029,'Charge Conversion'!A:C,3,0),\" \")","v":" "}," "," ",null,null,null,null,null,{"$f":"VLOOKUP(D5029,'Group Name'!A:B,2,0)","v":{"$error":"#N/A"}}," "]
[null,null,null,null,null,null,null,null,null,{"$f":"+IFERROR(VLOOKUP(C5033,'Charge Conversion'!A:C,3,0),\" \")","v":" "}," "," ",null,null,null,null,null,{"$f":"VLOOKUP(D5033,'Group Name'!A:B,2,0)","v":{"$error":"#N/A"}}," "]
[null,null,null,null,null,null,null,null,null,{"$f":"+IFERROR(VLOOKUP(C5034,'Charge Conversion'!A:C,3,0),\" \")","v":" "}," "," ",null,null,null,null,null,{"$f":"VLOOKUP(D5034,'Group Name'!A:B,2,0)","v":{"$error":"#N/A"}}," "]
[null,null,null,null,null,null,null,null,null,{"$f":"+IFERROR(VLOOKUP(C5038,'Charge Conversion'!A:C,3,0),\" \")","v":" "}," "," ",null,null,null,null,null,{"$f":"VLOOKUP(D5038,'Group Name'!A:B,2,0)","v":{"$error":"#N/A"}}," "]
[null,null,null,null,null,null,null,null,null,{"$f":"+IFERROR(VLOOKUP(C5040,'Charge Conversion'!A:C,3,0),\" \")","v":" "}," "," ",null,null,null,null,null,{"$f":"VLOOKUP(D5040,'Group Name'!A:B,2,0)","v":{"$error":"#N/A"}}," "]
[null,null,null,null,null,null,null,null,null,{"$f":"+IFERROR(VLOOKUP(C5043,'Charge Conversion'!A:C,3,0),\" \")","v":" "}," "," ",null,null,null,null,null,{"$f":"VLOOKUP(D5043,'Group Name'!A:B,2,0)","v":{"$error":"#N/A"}}," "]
[null,null,null,null,null,null,null,null,null,{"$f":"+IFERROR(VLOOKUP(C5045,'Charge Conversion'!A:C,3,0),\" \")","v":" "}," "," ",null,null,null,null,null,{"$f":"VLOOKUP(D5045,'Group Name'!A:B,2,0)","v":{"$error":"#N/A"}}," "]
[null,null,null,null,null,null,null,null,null,{"$f":"+IFERROR(VLOOKUP(C5049,'Charge Conversion'!A:C,3,0),\" \")","v":" "}," "," ",null,null,null,null,null,{"$f":"VLOOKUP(D5049,'Group Name'!A:B,2,0)","v":{"$error":"#N/A"}}," "]
[null,null,null,null,null,null,null,null,null,{"$f":"+IFERROR(VLOOKUP(C5050,'Charge Conversion'!A:C,3,0),\" \")","v":" "}," "," ",null,null,null,null,null,{"$f":"VLOOKUP(D5050,'Group Name'!A:B,2,0)","v":{"$error":"#N/A"}}," "]
[null,null,null,null,null,null,null,null,null,{"$f":"+IFERROR(VLOOKUP(C5052,'Charge Conversion'!A:C,3,0),\" \")","v":" "}," "," ",null,null,null,null,null,{"$f":"VLOOKUP(D5052,'Group Name'!A:B,2,0)","v":{"$error":"#N/A"}}," "]
[null,null,null,null,null,null,null,null,null,{"$f":"+IFERROR(VLOOKUP(C5055,'Charge Conversion'!A:C,3,0),\" \")","v":" "}," "," ",null,null,null,null,null,{"$f":"VLOOKUP(D5055,'Group Name'!A:B,2,0)","v":{"$error":"#N/A"}}," "]
[null,null,null,null,null,null,null,null,null,{"$f":"+IFERROR(VLOOKUP(C5058,'Charge Conversion'!A:C,3,0),\" \")","v":" "}," "," ",null,null,null,null,null,{"$f":"VLOOKUP(D5058,'Group Name'!A:B,2,0)","v":{"$error":"#N/A"}}," "]
[null,null,null,null,null,null,null,null,null,{"$f":"+IFERROR(VLOOKUP(C5060,'Charge Conversion'!A:C,3,0),\" \")","v":" "}," "," ",null,null,null,null,null,{"$f":"VLOOKUP(D5060,'Group Name'!A:B,2,0)","v":{"$error":"#N/A"}}," "]
[null,null,null,null,null,null,null,null,null,{"$f":"+IFERROR(VLOOKUP(C5063,'Charge Conversion'!A:C,3,0),\" \")","v":" "}," "," ",null,null,null,null,null,{"$f":"VLOOKUP(D5063,'Group Name'!A:B,2,0)","v":{"$error":"#N/A"}}," "]
[null,null,null,null,null,null,null,null,null,{"$f":"+IFERROR(VLOOKUP(C5065,'Charge Conversion'!A:C,3,0),\" \")","v":" "}," "," ",null,null,null,null,null,{"$f":"VLOOKUP(D5065,'Group Name'!A:B,2,0)","v":{"$error":"#N/A"}}," "]
[null,null,null,null,null,null,null,null,null,{"$f":"+IFERROR(VLOOKUP(C5069,'Charge Conversion'!A:C,3,0),\" \")","v":" "}," "," ",null,null,null,null,null,{"$f":"VLOOKUP(D5069,'Group Name'!A:B,2,0)","v":{"$error":"#N/A"}}," "]
[null,null,null,null,null,null,null,null,null,{"$f":"+IFERROR(VLOOKUP(C5070,'Charge Conversion'!A:C,3,0),\" \")","v":" "}," "," ",null,null,null,null,null,{"$f":"VLOOKUP(D5070,'Group Name'!A:B,2,0)","v":{"$error":"#N/A"}}," "]
[null,null,null,null,null,null,null,null,null,{"$f":"+IFERROR(VLOOKUP(C5072,'Charge Conversion'!A:C,3,0),\" \")","v":" "}," "," ",null,null,null,null,null,{"$f":"VLOOKUP(D5072,'Group Name'!A:B,2,0)","v":{"$error":"#N/A"}}," "]
[null,null,null,null,null,null,null,null,null,{"$f":"+IFERROR(VLOOKUP(C5075,'Charge Conversion'!A:C,3,0),\" \")","v":" "}," "," ",null,null,null,null,null,{"$f":"VLOOKUP(D5075,'Group Name'!A:B,2,0)","v":{"$error":"#N/A"}}," "]
[null,null,null,null,null,null,null,null,null,{"$f":"+IFERROR(VLOOKUP(C5078,'Charge Conversion'!A:C,3,0),\" \")","v":" "}," "," ",null,null,null,null,null,{"$f":"VLOOKUP(D5078,'Group Name'!A:B,2,0)","v":{"$error":"#N/A"}}," "]
[null,null,null,null,null,null,null,null,null,{"$f":"+IFERROR(VLOOKUP(C5080,'Charge Conversion'!A:C,3,0),\" \")","v":" "}," "," ",null,null,null,null,null,{"$f":"VLOOKUP(D5080,'Group Name'!A:B,2,0)","v":{"$error":"#N/A"}}," "]
[null,null,null,null,null,null,null,null,null,{"$f":"+IFERROR(VLOOKUP(C5084,'Charge Conversion'!A:C,3,0),\" \")","v":" "}," "," ",null,null,null,null,null,{"$f":"VLOOKUP(D5084,'Group Name'!A:B,2,0)","v":{"$error":"#N/A"}}," "]
[null,null,null,null,null,null,null,null,null,{"$f":"+IFERROR(VLOOKUP(C5085,'Charge Conversion'!A:C,3,0),\" \")","v":" "}," "," ",null,null,null,null,null,{"$f":"VLOOKUP(D5085,'Group Name'!A:B,2,0)","v":{"$error":"#N/A"}}," "]
[null,null,null,null,null,null,null,null,null,{"$f":"+IFERROR(VLOOKUP(C5089,'Charge Conversion'!A:C,3,0),\" \")","v":" "}," "," ",null,null,null,null,null,{"$f":"VLOOKUP(D5089,'Group Name'!A:B,2,0)","v":{"$error":"#N/A"}}," "]
[null,null,null,null,null,null,null,null,null,{"$f":"+IFERROR(VLOOKUP(C5090,'Charge Conversion'!A:C,3,0),\" \")","v":" "}," "," ",null,null,null,null,null,{"$f":"VLOOKUP(D5090,'Group Name'!A:B,2,0)","v":{"$error":"#N/A"}}," "]
[null,null,null,null,null,null,null,null,null,{"$f":"+IFERROR(VLOOKUP(C5092,'Charge Conversion'!A:C,3,0),\" \")","v":" "}," "," ",null,null,null,null,null,{"$f":"VLOOKUP(D5092,'Group Name'!A:B,2,0)","v":{"$error":"#N/A"}}," "]
[null,null,null,null,null,null,null,null,null,{"$f":"+IFERROR(VLOOKUP(C5095,'Charge Conversion'!A:C,3,0),\" \")","v":" "}," "," ",null,null,null,null,null,{"$f":"VLOOKUP(D5095,'Group Name'!A:B,2,0)","v":{"$error":"#N/A"}}," "]
[null,null,null,null,null,null,null,null,null,{"$f":"+IFERROR(VLOOKUP(C5098,'Charge Conversion'!A:C,3,0),\" \")","v":" "}," "," ",null,null,null,null,null,{"$f":"VLOOKUP(D5098,'Group Name'!A:B,2,0)","v":{"$error":"#N/A"}}," "]
[null,null,null,null,null,null,null,null,null,{"$f":"+IFERROR(VLOOKUP(C5100,'Charge Conversion'!A:C,3,0),\" \")","v":" "}," "," ",null,null,null,null,null,{"$f":"VLOOKUP(D5100,'Group Name'!A:B,2,0)","v":{"$error":"#N/A"}}," "]
[null,null,null,null,null,null,null,null,null,{"$f":"+IFERROR(VLOOKUP(C5104,'Charge Conversion'!A:C,3,0),\" \")","v":" "}," "," ",null,null,null,null,null,{"$f":"VLOOKUP(D5104,'Group Name'!A:B,2,0)","v":{"$error":"#N/A"}}," "]
[null,null,null,null,null,null,null,null,null,{"$f":"+IFERROR(VLOOKUP(C5105,'Charge Conversion'!A:C,3,0),\" \")","v":" "}," "," ",null,null,null,null,null,{"$f":"VLOOKUP(D5105,'Group Name'!A:B,2,0)","v":{"$error":"#N/A"}}," "]
[null,null,null,null,null,null,null,null,null,{"$f":"+IFERROR(VLOOKUP(C5109,'Charge Conversion'!A:C,3,0),\" \")","v":" "}," "," ",null,null,null,null,null,{"$f":"VLOOKUP(D5109,'Group Name'!A:B,2,0)","v":{"$error":"#N/A"}}," "]
[null,null,null,null,null,null,null,null,null,{"$f":"+IFERROR(VLOOKUP(C5110,'Charge Conversion'!A:C,3,0),\" \")","v":" "}," "," ",null,null,null,null,null,{"$f":"VLOOKUP(D5110,'Group Name'!A:B,2,0)","v":{"$error":"#N/A"}}," "]
[null,null,null,null,null,null,null,null,null,{"$f":"+IFERROR(VLOOKUP(C5112,'Charge Conversion'!A:C,3,0),\" \")","v":" "}," "," ",null,null,null,null,null,{"$f":"VLOOKUP(D5112,'Group Name'!A:B,2,0)","v":{"$error":"#N/A"}}," "]
[null,null,null,null,null,null,null,null,null,{"$f":"+IFERROR(VLOOKUP(C5115,'Charge Conversion'!A:C,3,0),\" \")","v":" "}," "," ",null,null,null,null,null,{"$f":"VLOOKUP(D5115,'Group Name'!A:B,2,0)","v":{"$error":"#N/A"}}," "]
[null,null,null,null,null,null,null,null,null,{"$f":"+IFERROR(VLOOKUP(C5118,'Charge Conversion'!A:C,3,0),\" \")","v":" "}," "," ",null,null,null,null,null,{"$f":"VLOOKUP(D5118,'Group Name'!A:B,2,0)","v":{"$error":"#N/A"}}," "]
[null,null,null,null,null,null,null,null,null,{"$f":"+IFERROR(VLOOKUP(C5120,'Charge Conversion'!A:C,3,0),\" \")","v":" "}," "," ",null,null,null,null,null,{"$f":"VLOOKUP(D5120,'Group Name'!A:B,2,0)","v":{"$error":"#N/A"}}," "]
[null,null,null,null,null,null,null,null,null,{"$f":"+IFERROR(VLOOKUP(C5124,'Charge Conversion'!A:C,3,0),\" \")","v":" "}," "," ",null,null,null,null,null,{"$f":"VLOOKUP(D5124,'Group Name'!A:B,2,0)","v":{"$error":"#N/A"}}," "]
[null,null,null,null,null,null,null,null,null,{"$f":"+IFERROR(VLOOKUP(C5125,'Charge Conversion'!A:C,3,0),\" \")","v":" "},{"$f":"+IFERROR(I5125*J5125,\" \")","v":" "},{"$f":"S5125","v":" "},null,null,null,null,null,{"$f":"VLOOKUP(D5125,'Group Name'!A:B,2,0)","v":{"$error":"#N/A"}},{"$f":"IFERROR((IF(A5125=\" \",\" \",R5125)),\" \")","v":" "}]
[null,null,null,null,null,null,null,null,null,{"$f":"+IFERROR(VLOOKUP(C5129,'Charge Conversion'!A:C,3,0),\" \")","v":" "}," "," ",null,null,null,null,null,{"$f":"VLOOKUP(D5129,'Group Name'!A:B,2,0)","v":{"$error":"#N/A"}}," "]
[null,null,null,null,null,null,null,null,null,{"$f":"+IFERROR(VLOOKUP(C5130,'Charge Conversion'!A:C,3,0),\" \")","v":" "}," "," ",null,null,null,null,null,{"$f":"VLOOKUP(D5130,'Group Name'!A:B,2,0)","v":{"$error":"#N/A"}}," "]
[null,null,null,null,null,null,null,null,null,{"$f":"+IFERROR(VLOOKUP(C5132,'Charge Conversion'!A:C,3,0),\" \")","v":" "}," "," ",null,null,null,null,null,{"$f":"VLOOKUP(D5132,'Group Name'!A:B,2,0)","v":{"$error":"#N/A"}}," "]
[null,null,null,null,null,null,null,null,null,{"$f":"+IFERROR(VLOOKUP(C5135,'Charge Conversion'!A:C,3,0),\" \")","v":" "}," "," ",null,null,null,null,null,{"$f":"VLOOKUP(D5135,'Group Name'!A:B,2,0)","v":{"$error":"#N/A"}}," "]
[null,null,null,null,null,null,null,null,null,{"$f":"+IFERROR(VLOOKUP(C5138,'Charge Conversion'!A:C,3,0),\" \")","v":" "}," "," ",null,null,null,null,null,{"$f":"VLOOKUP(D5138,'Group Name'!A:B,2,0)","v":{"$error":"#N/A"}}," "]
[null,null,null,null,null,null,null,null,null,{"$f":"+IFERROR(VLOOKUP(C5140,'Charge Conversion'!A:C,3,0),\" \")","v":" "}," "," ",null,null,null,null,null,{"$f":"VLOOKUP(D5140,'Group Name'!A:B,2,0)","v":{"$error":"#N/A"}}," "]
[null,null,null,null,null,null,null,null,null,{"$f":"+IFERROR(VLOOKUP(C5144,'Charge Conversion'!A:C,3,0),\" \")","v":" "}," "," ",null,null,null,null,null,{"$f":"VLOOKUP(D5144,'Group Name'!A:B,2,0)","v":{"$error":"#N/A"}}," "]
[null,null,null,null,null,null,null,null,null,{"$f":"+IFERROR(VLOOKUP(C5145,'Charge Conversion'!A:C,3,0),\" \")","v":" "}," "," ",null,null,null,null,null,{"$f":"VLOOKUP(D5145,'Group Name'!A:B,2,0)","v":{"$error":"#N/A"}}," "]
[null,null,null,null,null,null,null,null,null,{"$f":"+IFERROR(VLOOKUP(C5149,'Charge Conversion'!A:C,3,0),\" \")","v":" "}," "," ",null,null,null,null,null,{"$f":"VLOOKUP(D5149,'Group Name'!A:B,2,0)","v":{"$error":"#N/A"}}," "]
[null,null,null,null,null,null,null,null,null,{"$f":"+IFERROR(VLOOKUP(C5150,'Charge Conversion'!A:C,3,0),\" \")","v":" "}," "," ",null,null,null,null,null,{"$f":"VLOOKUP(D5150,'Group Name'!A:B,2,0)","v":{"$error":"#N/A"}}," "]
[null,null,null,null,null,null,null,null,null,{"$f":"+IFERROR(VLOOKUP(C5152,'Charge Conversion'!A:C,3,0),\" \")","v":" "}," "," ",null,null,null,null,null,{"$f":"VLOOKUP(D5152,'Group Name'!A:B,2,0)","v":{"$error":"#N/A"}}," "]
[null,null,null,null,null,null,null,null,null,{"$f":"+IFERROR(VLOOKUP(C5155,'Charge Conversion'!A:C,3,0),\" \")","v":" "}," "," ",null,null,null,null,null,{"$f":"VLOOKUP(D5155,'Group Name'!A:B,2,0)","v":{"$error":"#N/A"}}," "]
[null,null,null,null,null,null,null,null,null,{"$f":"+IFERROR(VLOOKUP(C5158,'Charge Conversion'!A:C,3,0),\" \")","v":" "}," "," ",null,null,null,null,null,{"$f":"VLOOKUP(D5158,'Group Name'!A:B,2,0)","v":{"$error":"#N/A"}}," "]
[null,null,null,null,null,null,null,null,null,{"$f":"+IFERROR(VLOOKUP(C5160,'Charge Conversion'!A:C,3,0),\" \")","v":" "}," "," ",null,null,null,null,null,{"$f":"VLOOKUP(D5160,'Group Name'!A:B,2,0)","v":{"$error":"#N/A"}}," "]
[null,null,null,null,null,null,null,null,null,{"$f":"+IFERROR(VLOOKUP(C5164,'Charge Conversion'!A:C,3,0),\" \")","v":" "}," "," ",null,null,null,null,null,{"$f":"VLOOKUP(D5164,'Group Name'!A:B,2,0)","v":{"$error":"#N/A"}}," "]
[null,null,null,null,null,null,null,null,null,{"$f":"+IFERROR(VLOOKUP(C5165,'Charge Conversion'!A:C,3,0),\" \")","v":" "}," "," ",null,null,null,null,null,{"$f":"VLOOKUP(D5165,'Group Name'!A:B,2,0)","v":{"$error":"#N/A"}}," "]
[null,null,null,null,null,null,null,null,null,{"$f":"+IFERROR(VLOOKUP(C5167,'Charge Conversion'!A:C,3,0),\" \")","v":" "}," "," ",null,null,null,null,null,{"$f":"VLOOKUP(D5167,'Group Name'!A:B,2,0)","v":{"$error":"#N/A"}}," "]
[null,null,null,null,null,null,null,null,null,{"$f":"+IFERROR(VLOOKUP(C5170,'Charge Conversion'!A:C,3,0),\" \")","v":" "}," "," ",null,null,null,null,null,{"$f":"VLOOKUP(D5170,'Group Name'!A:B,2,0)","v":{"$error":"#N/A"}}," "]
[null,null,null,null,null,null,null,null,null,{"$f":"+IFERROR(VLOOKUP(C5174,'Charge Conversion'!A:C,3,0),\" \")","v":" "}," "," ",null,null,null,null,null,{"$f":"VLOOKUP(D5174,'Group Name'!A:B,2,0)","v":{"$error":"#N/A"}}," "]
[null,null,null,null,null,null,null,null,null,{"$f":"+IFERROR(VLOOKUP(C5176,'Charge Conversion'!A:C,3,0),\" \")","v":" "}," "," ",null,null,null,null,null,{"$f":"VLOOKUP(D5176,'Group Name'!A:B,2,0)","v":{"$error":"#N/A"}}," "]
[null,null,null,null,null,null,null,null,null,{"$f":"+IFERROR(VLOOKUP(C5179,'Charge Conversion'!A:C,3,0),\" \")","v":" "}," "," ",null,null,null,null,null,{"$f":"VLOOKUP(D5179,'Group Name'!A:B,2,0)","v":{"$error":"#N/A"}}," "]
[null,null,null,null,null,null,null,null,null,{"$f":"+IFERROR(VLOOKUP(C5181,'Charge Conversion'!A:C,3,0),\" \")","v":" "}," "," ",null,null,null,null,null,{"$f":"VLOOKUP(D5181,'Group Name'!A:B,2,0)","v":{"$error":"#N/A"}}," "]
[null,null,null,null,null,null,null,null,null,{"$f":"+IFERROR(VLOOKUP(C5184,'Charge Conversion'!A:C,3,0),\" \")","v":" "}," "," ",null,null,null,null,null,{"$f":"VLOOKUP(D5184,'Group Name'!A:B,2,0)","v":{"$error":"#N/A"}}," "]
[null,null,null,null,null,null,null,null,null,{"$f":"+IFERROR(VLOOKUP(C5187,'Charge Conversion'!A:C,3,0),\" \")","v":" "}," "," ",null,null,null,null,null,{"$f":"VLOOKUP(D5187,'Group Name'!A:B,2,0)","v":{"$error":"#N/A"}}," "]
[null,null,null,null,null,null,null,null,null,{"$f":"+IFERROR(VLOOKUP(C5189,'Charge Conversion'!A:C,3,0),\" \")","v":" "},{"$f":"+IFERROR(I5189*J5189,\" \")","v":" "},{"$f":"S5189","v":" "},null,null,null,null,null,{"$f":"VLOOKUP(D5189,'Group Name'!A:B,2,0)","v":{"$error":"#N/A"}},{"$f":"IFERROR((IF(A5189=\" \",\" \",R5189)),\" \")","v":" "}]
[null,null,null,null,null,null,null,null,null,{"$f":"+IFERROR(VLOOKUP(C5190,'Charge Conversion'!A:C,3,0),\" \")","v":" "}," "," ",null,null,null,null,null,{"$f":"VLOOKUP(D5190,'Group Name'!A:B,2,0)","v":{"$error":"#N/A"}}," "]
[null,null,null,null,null,null,null,null,null,{"$f":"+IFERROR(VLOOKUP(C5194,'Charge Conversion'!A:C,3,0),\" \")","v":" "}," "," ",null,null,null,null,null,{"$f":"VLOOKUP(D5194,'Group Name'!A:B,2,0)","v":{"$error":"#N/A"}}," "]
[null,null,null,null,null,null,null,null,null,{"$f":"+IFERROR(VLOOKUP(C5196,'Charge Conversion'!A:C,3,0),\" \")","v":" "}," "," ",null,null,null,null,null,{"$f":"VLOOKUP(D5196,'Group Name'!A:B,2,0)","v":{"$error":"#N/A"}}," "]
[null,null,null,null,null,null,null,null,null,{"$f":"+IFERROR(VLOOKUP(C5199,'Charge Conversion'!A:C,3,0),\" \")","v":" "}," "," ",null,null,null,null,null,{"$f":"VLOOKUP(D5199,'Group Name'!A:B,2,0)","v":{"$error":"#N/A"}}," "]
[null,null,null,null,null,null,null,null,null,{"$f":"+IFERROR(VLOOKUP(C5202,'Charge Conversion'!A:C,3,0),\" \")","v":" "}," "," ",null,null,null,null,null,{"$f":"VLOOKUP(D5202,'Group Name'!A:B,2,0)","v":{"$error":"#N/A"}}," "]
[null,null,null,null,null,null,null,null,null,{"$f":"+IFERROR(VLOOKUP(C5204,'Charge Conversion'!A:C,3,0),\" \")","v":" "}," "," ",null,null,null,null,null,{"$f":"VLOOKUP(D5204,'Group Name'!A:B,2,0)","v":{"$error":"#N/A"}}," "]
[null,null,null,null,null,null,null,null,null,{"$f":"+IFERROR(VLOOKUP(C5207,'Charge Conversion'!A:C,3,0),\" \")","v":" "}," "," ",null,null,null,null,null,{"$f":"VLOOKUP(D5207,'Group Name'!A:B,2,0)","v":{"$error":"#N/A"}}," "]
[null,null,null,null,null,null,null,null,null,{"$f":"+IFERROR(VLOOKUP(C5209,'Charge Conversion'!A:C,3,0),\" \")","v":" "}," "," ",null,null,null,null,null,{"$f":"VLOOKUP(D5209,'Group Name'!A:B,2,0)","v":{"$error":"#N/A"}}," "]
[null,null,null,null,null,null,null,null,null,{"$f":"+IFERROR(VLOOKUP(C5210,'Charge Conversion'!A:C,3,0),\" \")","v":" "}," "," ",null,null,null,null,null,{"$f":"VLOOKUP(D5210,'Group Name'!A:B,2,0)","v":{"$error":"#N/A"}}," "]
[null,null,null,null,null,null,null,null,null,{"$f":"+IFERROR(VLOOKUP(C5214,'Charge Conversion'!A:C,3,0),\" \")","v":" "}," "," ",null,null,null,null,null,{"$f":"VLOOKUP(D5214,'Group Name'!A:B,2,0)","v":{"$error":"#N/A"}}," "]
[null,null,null,null,null,null,null,null,null,{"$f":"+IFERROR(VLOOKUP(C5216,'Charge Conversion'!A:C,3,0),\" \")","v":" "}," "," ",null,null,null,null,null,{"$f":"VLOOKUP(D5216,'Group Name'!A:B,2,0)","v":{"$error":"#N/A"}}," "]
[null,null,null,null,null,null,null,null,null,{"$f":"+IFERROR(VLOOKUP(C5219,'Charge Conversion'!A:C,3,0),\" \")","v":" "}," "," ",null,null,null,null,null,{"$f":"VLOOKUP(D5219,'Group Name'!A:B,2,0)","v":{"$error":"#N/A"}}," "]
[null,null,null,null,null,null,null,null,null,{"$f":"+IFERROR(VLOOKUP(C5222,'Charge Conversion'!A:C,3,0),\" \")","v":" "}," "," ",null,null,null,null,null,{"$f":"VLOOKUP(D5222,'Group Name'!A:B,2,0)","v":{"$error":"#N/A"}}," "]
[null,null,null,null,null,null,null,null,null,{"$f":"+IFERROR(VLOOKUP(C5224,'Charge Conversion'!A:C,3,0),\" \")","v":" "}," "," ",null,null,null,null,null,{"$f":"VLOOKUP(D5224,'Group Name'!A:B,2,0)","v":{"$error":"#N/A"}}," "]
[null,null,null,null,null,null,null,null,null,{"$f":"+IFERROR(VLOOKUP(C5227,'Charge Conversion'!A:C,3,0),\" \")","v":" "}," "," ",null,null,null,null,null,{"$f":"VLOOKUP(D5227,'Group Name'!A:B,2,0)","v":{"$error":"#N/A"}}," "]
[null,null,null,null,null,null,null,null,null,{"$f":"+IFERROR(VLOOKUP(C5229,'Charge Conversion'!A:C,3,0),\" \")","v":" "}," "," ",null,null,null,null,null,{"$f":"VLOOKUP(D5229,'Group Name'!A:B,2,0)","v":{"$error":"#N/A"}}," "]
[null,null,null,null,null,null,null,null,null,{"$f":"+IFERROR(VLOOKUP(C5230,'Charge Conversion'!A:C,3,0),\" \")","v":" "}," "," ",null,null,null,null,null,{"$f":"VLOOKUP(D5230,'Group Name'!A:B,2,0)","v":{"$error":"#N/A"}}," "]
[null,null,null,null,null,null,null,null,null,{"$f":"+IFERROR(VLOOKUP(C5234,'Charge Conversion'!A:C,3,0),\" \")","v":" "}," "," ",null,null,null,null,null,{"$f":"VLOOKUP(D5234,'Group Name'!A:B,2,0)","v":{"$error":"#N/A"}}," "]
[null,null,null,null,null,null,null,null,null,{"$f":"+IFERROR(VLOOKUP(C5236,'Charge Conversion'!A:C,3,0),\" \")","v":" "}," "," ",null,null,null,null,null,{"$f":"VLOOKUP(D5236,'Group Name'!A:B,2,0)","v":{"$error":"#N/A"}}," "]
[null,null,null,null,null,null,null,null,null,{"$f":"+IFERROR(VLOOKUP(C5239,'Charge Conversion'!A:C,3,0),\" \")","v":" "}," "," ",null,null,null,null,null,{"$f":"VLOOKUP(D5239,'Group Name'!A:B,2,0)","v":{"$error":"#N/A"}}," "]
[null,null,null,null,null,null,null,null,null,{"$f":"+IFERROR(VLOOKUP(C5242,'Charge Conversion'!A:C,3,0),\" \")","v":" "}," "," ",null,null,null,null,null,{"$f":"VLOOKUP(D5242,'Group Name'!A:B,2,0)","v":{"$error":"#N/A"}}," "]
[null,null,null,null,null,null,null,null,null,{"$f":"+IFERROR(VLOOKUP(C5244,'Charge Conversion'!A:C,3,0),\" \")","v":" "}," "," ",null,null,null,null,null,{"$f":"VLOOKUP(D5244,'Group Name'!A:B,2,0)","v":{"$error":"#N/A"}}," "]
[null,null,null,null,null,null,null,null,null,{"$f":"+IFERROR(VLOOKUP(C5247,'Charge Conversion'!A:C,3,0),\" \")","v":" "}," "," ",null,null,null,null,null,{"$f":"VLOOKUP(D5247,'Group Name'!A:B,2,0)","v":{"$error":"#N/A"}}," "]
[null,null,null,null,null,null,null,null,null,{"$f":"+IFERROR(VLOOKUP(C5249,'Charge Conversion'!A:C,3,0),\" \")","v":" "}," "," ",null,null,null,null,null,{"$f":"VLOOKUP(D5249,'Group Name'!A:B,2,0)","v":{"$error":"#N/A"}}," "]
[null,null,null,null,null,null,null,null,null,{"$f":"+IFERROR(VLOOKUP(C5250,'Charge Conversion'!A:C,3,0),\" \")","v":" "}," "," ",null,null,null,null,null,{"$f":"VLOOKUP(D5250,'Group Name'!A:B,2,0)","v":{"$error":"#N/A"}}," "]
[null,null,null,null,null,null,null,null,null,{"$f":"+IFERROR(VLOOKUP(C5254,'Charge Conversion'!A:C,3,0),\" \")","v":" "}," "," ",null,null,null,null,null,{"$f":"VLOOKUP(D5254,'Group Name'!A:B,2,0)","v":{"$error":"#N/A"}}," "]
[null,null,null,null,null,null,null,null,null,{"$f":"+IFERROR(VLOOKUP(C5256,'Charge Conversion'!A:C,3,0),\" \")","v":" "}," "," ",null,null,null,null,null,{"$f":"VLOOKUP(D5256,'Group Name'!A:B,2,0)","v":{"$error":"#N/A"}}," "]
[null,null,null,null,null,null,null,null,null,{"$f":"+IFERROR(VLOOKUP(C5259,'Charge Conversion'!A:C,3,0),\" \")","v":" "}," "," ",null,null,null,null,null,{"$f":"VLOOKUP(D5259,'Group Name'!A:B,2,0)","v":{"$error":"#N/A"}}," "]
[null,null,null,null,null,null,null,null,null,{"$f":"+IFERROR(VLOOKUP(C5262,'Charge Conversion'!A:C,3,0),\" \")","v":" "}," "," ",null,null,null,null,null,{"$f":"VLOOKUP(D5262,'Group Name'!A:B,2,0)","v":{"$error":"#N/A"}}," "]
[null,null,null,null,null,null,null,null,null,{"$f":"+IFERROR(VLOOKUP(C5264,'Charge Conversion'!A:C,3,0),\" \")","v":" "}," "," ",null,null,null,null,null,{"$f":"VLOOKUP(D5264,'Group Name'!A:B,2,0)","v":{"$error":"#N/A"}}," "]
[null,null,null,null,null,null,null,null,null,{"$f":"+IFERROR(VLOOKUP(C5267,'Charge Conversion'!A:C,3,0),\" \")","v":" "}," "," ",null,null,null,null,null,{"$f":"VLOOKUP(D5267,'Group Name'!A:B,2,0)","v":{"$error":"#N/A"}}," "]
[null,null,null,null,null,null,null,null,null,{"$f":"+IFERROR(VLOOKUP(C5269,'Charge Conversion'!A:C,3,0),\" \")","v":" "}," "," ",null,null,null,null,null,{"$f":"VLOOKUP(D5269,'Group Name'!A:B,2,0)","v":{"$error":"#N/A"}}," "]
[null,null,null,null,null,null,null,null,null,{"$f":"+IFERROR(VLOOKUP(C5270,'Charge Conversion'!A:C,3,0),\" \")","v":" "}," "," ",null,null,null,null,null,{"$f":"VLOOKUP(D5270,'Group Name'!A:B,2,0)","v":{"$error":"#N/A"}}," "]
[null,null,null,null,null,null,null,null,null,{"$f":"+IFERROR(VLOOKUP(C5274,'Charge Conversion'!A:C,3,0),\" \")","v":" "}," "," ",null,null,null,null,null,{"$f":"VLOOKUP(D5274,'Group Name'!A:B,2,0)","v":{"$error":"#N/A"}}," "]
[null,null,null,null,null,null,null,null,null,{"$f":"+IFERROR(VLOOKUP(C5276,'Charge Conversion'!A:C,3,0),\" \")","v":" "}," "," ",null,null,null,null,null,{"$f":"VLOOKUP(D5276,'Group Name'!A:B,2,0)","v":{"$error":"#N/A"}}," "]
[null,null,null,null,null,null,null,null,null,{"$f":"+IFERROR(VLOOKUP(C5279,'Charge Conversion'!A:C,3,0),\" \")","v":" "}," "," ",null,null,null,null,null,{"$f":"VLOOKUP(D5279,'Group Name'!A:B,2,0)","v":{"$error":"#N/A"}}," "]
[null,null,null,null,null,null,null,null,null,{"$f":"+IFERROR(VLOOKUP(C5282,'Charge Conversion'!A:C,3,0),\" \")","v":" "}," "," ",null,null,null,null,null,{"$f":"VLOOKUP(D5282,'Group Name'!A:B,2,0)","v":{"$error":"#N/A"}}," "]
[null,null,null,null,null,null,null,null,null,{"$f":"+IFERROR(VLOOKUP(C5284,'Charge Conversion'!A:C,3,0),\" \")","v":" "}," "," ",null,null,null,null,null,{"$f":"VLOOKUP(D5284,'Group Name'!A:B,2,0)","v":{"$error":"#N/A"}}," "]
[null,null,null,null,null,null,null,null,null,{"$f":"+IFERROR(VLOOKUP(C5287,'Charge Conversion'!A:C,3,0),\" \")","v":" "}," "," ",null,null,null,null,null,{"$f":"VLOOKUP(D5287,'Group Name'!A:B,2,0)","v":{"$error":"#N/A"}}," "]
[null,null,null,null,null,null,null,null,null,{"$f":"+IFERROR(VLOOKUP(C5289,'Charge Conversion'!A:C,3,0),\" \")","v":" "}," "," ",null,null,null,null,null,{"$f":"VLOOKUP(D5289,'Group Name'!A:B,2,0)","v":{"$error":"#N/A"}}," "]
[null,null,null,null,null,null,null,null,null,{"$f":"+IFERROR(VLOOKUP(C5290,'Charge Conversion'!A:C,3,0),\" \")","v":" "}," "," ",null,null,null,null,null,{"$f":"VLOOKUP(D5290,'Group Name'!A:B,2,0)","v":{"$error":"#N/A"}}," "]
[null,null,null,null,null,null,null,null,null,{"$f":"+IFERROR(VLOOKUP(C5294,'Charge Conversion'!A:C,3,0),\" \")","v":" "}," "," ",null,null,null,null,null,{"$f":"VLOOKUP(D5294,'Group Name'!A:B,2,0)","v":{"$error":"#N/A"}}," "]
[null,null,null,null,null,null,null,null,null,{"$f":"+IFERROR(VLOOKUP(C5296,'Charge Conversion'!A:C,3,0),\" \")","v":" "}," "," ",null,null,null,null,null,{"$f":"VLOOKUP(D5296,'Group Name'!A:B,2,0)","v":{"$error":"#N/A"}}," "]
[null,null,null,null,null,null,null,null,null,{"$f":"+IFERROR(VLOOKUP(C5299,'Charge Conversion'!A:C,3,0),\" \")","v":" "}," "," ",null,null,null,null,null,{"$f":"VLOOKUP(D5299,'Group Name'!A:B,2,0)","v":{"$error":"#N/A"}}," "]
[null,null,null,null,null,null,null,null,null,{"$f":"+IFERROR(VLOOKUP(C5302,'Charge Conversion'!A:C,3,0),\" \")","v":" "}," "," ",null,null,null,null,null,{"$f":"VLOOKUP(D5302,'Group Name'!A:B,2,0)","v":{"$error":"#N/A"}}," "]
[null,null,null,null,null,null,null,null,null,{"$f":"+IFERROR(VLOOKUP(C5305,'Charge Conversion'!A:C,3,0),\" \")","v":" "}," "," ",null,null,null,null,null,{"$f":"VLOOKUP(D5305,'Group Name'!A:B,2,0)","v":{"$error":"#N/A"}}," "]
[null,null,null,null,null,null,null,null,null,{"$f":"+IFERROR(VLOOKUP(C5306,'Charge Conversion'!A:C,3,0),\" \")","v":" "}," "," ",null,null,null,null,null,{"$f":"VLOOKUP(D5306,'Group Name'!A:B,2,0)","v":{"$error":"#N/A"}}," "]
[null,null,null,null,null,null,null,null,null,{"$f":"+IFERROR(VLOOKUP(C5308,'Charge Conversion'!A:C,3,0),\" \")","v":" "}," "," ",null,null,null,null,null,{"$f":"VLOOKUP(D5308,'Group Name'!A:B,2,0)","v":{"$error":"#N/A"}}," "]
[null,null,null,null,null,null,null,null,null,{"$f":"+IFERROR(VLOOKUP(C5311,'Charge Conversion'!A:C,3,0),\" \")","v":" "}," "," ",null,null,null,null,null,{"$f":"VLOOKUP(D5311,'Group Name'!A:B,2,0)","v":{"$error":"#N/A"}}," "]
[null,null,null,null,null,null,null,null,null,{"$f":"+IFERROR(VLOOKUP(C5314,'Charge Conversion'!A:C,3,0),\" \")","v":" "}," "," ",null,null,null,null,null,{"$f":"VLOOKUP(D5314,'Group Name'!A:B,2,0)","v":{"$error":"#N/A"}}," "]
[null,null,null,null,null,null,null,null,null,{"$f":"+IFERROR(VLOOKUP(C5316,'Charge Conversion'!A:C,3,0),\" \")","v":" "}," "," ",null,null,null,null,null,{"$f":"VLOOKUP(D5316,'Group Name'!A:B,2,0)","v":{"$error":"#N/A"}}," "]
[null,null,null,null,null,null,null,null,null,{"$f":"+IFERROR(VLOOKUP(C5319,'Charge Conversion'!A:C,3,0),\" \")","v":" "}," "," ",null,null,null,null,null,{"$f":"VLOOKUP(D5319,'Group Name'!A:B,2,0)","v":{"$error":"#N/A"}}," "]
[null,null,null,null,null,null,null,null,null,{"$f":"+IFERROR(VLOOKUP(C5321,'Charge Conversion'!A:C,3,0),\" \")","v":" "}," "," ",null,null,null,null,null,{"$f":"VLOOKUP(D5321,'Group Name'!A:B,2,0)","v":{"$error":"#N/A"}}," "]
[null,null,null,null,null,null,null,null,null,{"$f":"+IFERROR(VLOOKUP(C5325,'Charge Conversion'!A:C,3,0),\" \")","v":" "}," "," ",null,null,null,null,null,{"$f":"VLOOKUP(D5325,'Group Name'!A:B,2,0)","v":{"$error":"#N/A"}}," "]
[null,null,null,null,null,null,null,null,null,{"$f":"+IFERROR(VLOOKUP(C5326,'Charge Conversion'!A:C,3,0),\" \")","v":" "}," "," ",null,null,null,null,null,{"$f":"VLOOKUP(D5326,'Group Name'!A:B,2,0)","v":{"$error":"#N/A"}}," "]
[null,null,null,null,null,null,null,null,null,{"$f":"+IFERROR(VLOOKUP(C5328,'Charge Conversion'!A:C,3,0),\" \")","v":" "}," "," ",null,null,null,null,null,{"$f":"VLOOKUP(D5328,'Group Name'!A:B,2,0)","v":{"$error":"#N/A"}}," "]
[null,null,null,null,null,null,null,null,null,{"$f":"+IFERROR(VLOOKUP(C5331,'Charge Conversion'!A:C,3,0),\" \")","v":" "}," "," ",null,null,null,null,null,{"$f":"VLOOKUP(D5331,'Group Name'!A:B,2,0)","v":{"$error":"#N/A"}}," "]
[null,null,null,null,null,null,null,null,null,{"$f":"+IFERROR(VLOOKUP(C5334,'Charge Conversion'!A:C,3,0),\" \")","v":" "}," "," ",null,null,null,null,null,{"$f":"VLOOKUP(D5334,'Group Name'!A:B,2,0)","v":{"$error":"#N/A"}}," "]
[null,null,null,null,null,null,null,null,null,{"$f":"+IFERROR(VLOOKUP(C5336,'Charge Conversion'!A:C,3,0),\" \")","v":" "}," "," ",null,null,null,null,null,{"$f":"VLOOKUP(D5336,'Group Name'!A:B,2,0)","v":{"$error":"#N/A"}}," "]
[null,null,null,null,null,null,null,null,null,{"$f":"+IFERROR(VLOOKUP(C5340,'Charge Conversion'!A:C,3,0),\" \")","v":" "}," "," ",null,null,null,null,null,{"$f":"VLOOKUP(D5340,'Group Name'!A:B,2,0)","v":{"$error":"#N/A"}}," "]
[null,null,null,null,null,null,null,null,null,{"$f":"+IFERROR(VLOOKUP(C5341,'Charge Conversion'!A:C,3,0),\" \")","v":" "}," "," ",null,null,null,null,null,{"$f":"VLOOKUP(D5341,'Group Name'!A:B,2,0)","v":{"$error":"#N/A"}}," "]
[null,null,null,null,null,null,null,null,null,{"$f":"+IFERROR(VLOOKUP(C5345,'Charge Conversion'!A:C,3,0),\" \")","v":" "}," "," ",null,null,null,null,null,{"$f":"VLOOKUP(D5345,'Group Name'!A:B,2,0)","v":{"$error":"#N/A"}}," "]
[null,null,null,null,null,null,null,null,null,{"$f":"+IFERROR(VLOOKUP(C5346,'Charge Conversion'!A:C,3,0),\" \")","v":" "}," "," ",null,null,null,null,null,{"$f":"VLOOKUP(D5346,'Group Name'!A:B,2,0)","v":{"$error":"#N/A"}}," "]
[null,null,null,null,null,null,null,null,null,{"$f":"+IFERROR(VLOOKUP(C5348,'Charge Conversion'!A:C,3,0),\" \")","v":" "}," "," ",null,null,null,null,null,{"$f":"VLOOKUP(D5348,'Group Name'!A:B,2,0)","v":{"$error":"#N/A"}}," "]
[null,null,null,null,null,null,null,null,null,{"$f":"+IFERROR(VLOOKUP(C5351,'Charge Conversion'!A:C,3,0),\" \")","v":" "}," "," ",null,null,null,null,null,{"$f":"VLOOKUP(D5351,'Group Name'!A:B,2,0)","v":{"$error":"#N/A"}}," "]
[null,null,null,null,null,null,null,null,null,{"$f":"+IFERROR(VLOOKUP(C5354,'Charge Conversion'!A:C,3,0),\" \")","v":" "}," "," ",null,null,null,null,null,{"$f":"VLOOKUP(D5354,'Group Name'!A:B,2,0)","v":{"$error":"#N/A"}}," "]
[null,null,null,null,null,null,null,null,null,{"$f":"+IFERROR(VLOOKUP(C5356,'Charge Conversion'!A:C,3,0),\" \")","v":" "}," "," ",null,null,null,null,null,{"$f":"VLOOKUP(D5356,'Group Name'!A:B,2,0)","v":{"$error":"#N/A"}}," "]
[null,null,null,null,null,null,null,null,null,{"$f":"+IFERROR(VLOOKUP(C5360,'Charge Conversion'!A:C,3,0),\" \")","v":" "}," "," ",null,null,null,null,null,{"$f":"VLOOKUP(D5360,'Group Name'!A:B,2,0)","v":{"$error":"#N/A"}}," "]
[null,null,null,null,null,null,null,null,null,{"$f":"+IFERROR(VLOOKUP(C5361,'Charge Conversion'!A:C,3,0),\" \")","v":" "}," "," ",null,null,null,null,null,{"$f":"VLOOKUP(D5361,'Group Name'!A:B,2,0)","v":{"$error":"#N/A"}}," "]
[null,null,null,null,null,null,null,null,null,{"$f":"+IFERROR(VLOOKUP(C5365,'Charge Conversion'!A:C,3,0),\" \")","v":" "}," "," ",null,null,null,null,null,{"$f":"VLOOKUP(D5365,'Group Name'!A:B,2,0)","v":{"$error":"#N/A"}}," "]
[null,null,null,null,null,null,null,null,null,{"$f":"+IFERROR(VLOOKUP(C5366,'Charge Conversion'!A:C,3,0),\" \")","v":" "}," "," ",null,null,null,null,null,{"$f":"VLOOKUP(D5366,'Group Name'!A:B,2,0)","v":{"$error":"#N/A"}}," "]
[null,null,null,null,null,null,null,null,null,{"$f":"+IFERROR(VLOOKUP(C5368,'Charge Conversion'!A:C,3,0),\" \")","v":" "}," "," ",null,null,null,null,null,{"$f":"VLOOKUP(D5368,'Group Name'!A:B,2,0)","v":{"$error":"#N/A"}}," "]
[null,null,null,null,null,null,null,null,null,{"$f":"+IFERROR(VLOOKUP(C5371,'Charge Conversion'!A:C,3,0),\" \")","v":" "}," "," ",null,null,null,null,null,{"$f":"VLOOKUP(D5371,'Group Name'!A:B,2,0)","v":{"$error":"#N/A"}}," "]
[null,null,null,null,null,null,null,null,null,{"$f":"+IFERROR(VLOOKUP(C5374,'Charge Conversion'!A:C,3,0),\" \")","v":" "}," "," ",null,null,null,null,null,{"$f":"VLOOKUP(D5374,'Group Name'!A:B,2,0)","v":{"$error":"#N/A"}}," "]
[null,null,null,null,null,null,null,null,null,{"$f":"+IFERROR(VLOOKUP(C5376,'Charge Conversion'!A:C,3,0),\" \")","v":" "}," "," ",null,null,null,null,null,{"$f":"VLOOKUP(D5376,'Group Name'!A:B,2,0)","v":{"$error":"#N/A"}}," "]
[null,null,null,null,null,null,null,null,null,{"$f":"+IFERROR(VLOOKUP(C5380,'Charge Conversion'!A:C,3,0),\" \")","v":" "}," "," ",null,null,null,null,null,{"$f":"VLOOKUP(D5380,'Group Name'!A:B,2,0)","v":{"$error":"#N/A"}}," "]
[null,null,null,null,null,null,null,null,null,{"$f":"+IFERROR(VLOOKUP(C5381,'Charge Conversion'!A:C,3,0),\" \")","v":" "},{"$f":"+IFERROR(I5381*J5381,\" \")","v":" "},{"$f":"S5381","v":" "},null,null,null,null,null,{"$f":"VLOOKUP(D5381,'Group Name'!A:B,2,0)","v":{"$error":"#N/A"}},{"$f":"IFERROR((IF(A5381=\" \",\" \",R5381)),\" \")","v":" "}]
[null,null,null,null,null,null,null,null,null,{"$f":"+IFERROR(VLOOKUP(C5385,'Charge Conversion'!A:C,3,0),\" \")","v":" "}," "," ",null,null,null,null,null,{"$f":"VLOOKUP(D5385,'Group Name'!A:B,2,0)","v":{"$error":"#N/A"}}," "]
[null,null,null,null,null,null,null,null,null,{"$f":"+IFERROR(VLOOKUP(C5386,'Charge Conversion'!A:C,3,0),\" \")","v":" "}," "," ",null,null,null,null,null,{"$f":"VLOOKUP(D5386,'Group Name'!A:B,2,0)","v":{"$error":"#N/A"}}," "]
[null,null,null,null,null,null,null,null,null,{"$f":"+IFERROR(VLOOKUP(C5388,'Charge Conversion'!A:C,3,0),\" \")","v":" "}," "," ",null,null,null,null,null,{"$f":"VLOOKUP(D5388,'Group Name'!A:B,2,0)","v":{"$error":"#N/A"}}," "]
[null,null,null,null,null,null,null,null,null,{"$f":"+IFERROR(VLOOKUP(C5391,'Charge Conversion'!A:C,3,0),\" \")","v":" "}," "," ",null,null,null,null,null,{"$f":"VLOOKUP(D5391,'Group Name'!A:B,2,0)","v":{"$error":"#N/A"}}," "]
[null,null,null,null,null,null,null,null,null,{"$f":"+IFERROR(VLOOKUP(C5394,'Charge Conversion'!A:C,3,0),\" \")","v":" "}," "," ",null,null,null,null,null,{"$f":"VLOOKUP(D5394,'Group Name'!A:B,2,0)","v":{"$error":"#N/A"}}," "]
[null,null,null,null,null,null,null,null,null,{"$f":"+IFERROR(VLOOKUP(C5396,'Charge Conversion'!A:C,3,0),\" \")","v":" "}," "," ",null,null,null,null,null,{"$f":"VLOOKUP(D5396,'Group Name'!A:B,2,0)","v":{"$error":"#N/A"}}," "]
[null,null,null,null,null,null,null,null,null,{"$f":"+IFERROR(VLOOKUP(C5400,'Charge Conversion'!A:C,3,0),\" \")","v":" "}," "," ",null,null,null,null,null,{"$f":"VLOOKUP(D5400,'Group Name'!A:B,2,0)","v":{"$error":"#N/A"}}," "]
[null,null,null,null,null,null,null,null,null,{"$f":"+IFERROR(VLOOKUP(C5401,'Charge Conversion'!A:C,3,0),\" \")","v":" "}," "," ",null,null,null,null,null,{"$f":"VLOOKUP(D5401,'Group Name'!A:B,2,0)","v":{"$error":"#N/A"}}," "]
[null,null,null,null,null,null,null,null,null,{"$f":"+IFERROR(VLOOKUP(C5405,'Charge Conversion'!A:C,3,0),\" \")","v":" "}," "," ",null,null,null,null,null,{"$f":"VLOOKUP(D5405,'Group Name'!A:B,2,0)","v":{"$error":"#N/A"}}," "]
[null,null,null,null,null,null,null,null,null,{"$f":"+IFERROR(VLOOKUP(C5406,'Charge Conversion'!A:C,3,0),\" \")","v":" "}," "," ",null,null,null,null,null,{"$f":"VLOOKUP(D5406,'Group Name'!A:B,2,0)","v":{"$error":"#N/A"}}," "]
[null,null,null,null,null,null,null,null,null,{"$f":"+IFERROR(VLOOKUP(C5408,'Charge Conversion'!A:C,3,0),\" \")","v":" "}," "," ",null,null,null,null,null,{"$f":"VLOOKUP(D5408,'Group Name'!A:B,2,0)","v":{"$error":"#N/A"}}," "]
[null,null,null,null,null,null,null,null,null,{"$f":"+IFERROR(VLOOKUP(C5411,'Charge Conversion'!A:C,3,0),\" \")","v":" "}," "," ",null,null,null,null,null,{"$f":"VLOOKUP(D5411,'Group Name'!A:B,2,0)","v":{"$error":"#N/A"}}," "]
[null,null,null,null,null,null,null,null,null,{"$f":"+IFERROR(VLOOKUP(C5414,'Charge Conversion'!A:C,3,0),\" \")","v":" "}," "," ",null,null,null,null,null,{"$f":"VLOOKUP(D5414,'Group Name'!A:B,2,0)","v":{"$error":"#N/A"}}," "]
[null,null,null,null,null,null,null,null,null,{"$f":"+IFERROR(VLOOKUP(C5416,'Charge Conversion'!A:C,3,0),\" \")","v":" "}," "," ",null,null,null,null,null,{"$f":"VLOOKUP(D5416,'Group Name'!A:B,2,0)","v":{"$error":"#N/A"}}," "]
[null,null,null,null,null,null,null,null,null,{"$f":"+IFERROR(VLOOKUP(C5420,'Charge Conversion'!A:C,3,0),\" \")","v":" "}," "," ",null,null,null,null,null,{"$f":"VLOOKUP(D5420,'Group Name'!A:B,2,0)","v":{"$error":"#N/A"}}," "]
[null,null,null,null,null,null,null,null,null,{"$f":"+IFERROR(VLOOKUP(C5421,'Charge Conversion'!A:C,3,0),\" \")","v":" "}," "," ",null,null,null,null,null,{"$f":"VLOOKUP(D5421,'Group Name'!A:B,2,0)","v":{"$error":"#N/A"}}," "]
[null,null,null,null,null,null,null,null,null,{"$f":"+IFERROR(VLOOKUP(C5423,'Charge Conversion'!A:C,3,0),\" \")","v":" "}," "," ",null,null,null,null,null,{"$f":"VLOOKUP(D5423,'Group Name'!A:B,2,0)","v":{"$error":"#N/A"}}," "]
[null,null,null,null,null,null,null,null,null,{"$f":"+IFERROR(VLOOKUP(C5426,'Charge Conversion'!A:C,3,0),\" \")","v":" "}," "," ",null,null,null,null,null,{"$f":"VLOOKUP(D5426,'Group Name'!A:B,2,0)","v":{"$error":"#N/A"}}," "]
[null,null,null,null,null,null,null,null,null,{"$f":"+IFERROR(VLOOKUP(C5428,'Charge Conversion'!A:C,3,0),\" \")","v":" "}," "," ",null,null,null,null,null,{"$f":"VLOOKUP(D5428,'Group Name'!A:B,2,0)","v":{"$error":"#N/A"}}," "]
[null,null,null,null,null,null,null,null,null,{"$f":"+IFERROR(VLOOKUP(C5431,'Charge Conversion'!A:C,3,0),\" \")","v":" "}," "," ",null,null,null,null,null,{"$f":"VLOOKUP(D5431,'Group Name'!A:B,2,0)","v":{"$error":"#N/A"}}," "]
[null,null,null,null,null,null,null,null,null,{"$f":"+IFERROR(VLOOKUP(C5434,'Charge Conversion'!A:C,3,0),\" \")","v":" "}," "," ",null,null,null,null,null,{"$f":"VLOOKUP(D5434,'Group Name'!A:B,2,0)","v":{"$error":"#N/A"}}," "]
[null,null,null,null,null,null,null,null,null,{"$f":"+IFERROR(VLOOKUP(C5437,'Charge Conversion'!A:C,3,0),\" \")","v":" "}," "," ",null,null,null,null,null,{"$f":"VLOOKUP(D5437,'Group Name'!A:B,2,0)","v":{"$error":"#N/A"}}," "]
[null,null,null,null,null,null,null,null,null,{"$f":"+IFERROR(VLOOKUP(C5440,'Charge Conversion'!A:C,3,0),\" \")","v":" "}," "," ",null,null,null,null,null,{"$f":"VLOOKUP(D5440,'Group Name'!A:B,2,0)","v":{"$error":"#N/A"}}," "]
[null,null,null,null,null,null,null,null,null,{"$f":"+IFERROR(VLOOKUP(C5443,'Charge Conversion'!A:C,3,0),\" \")","v":" "}," "," ",null,null,null,null,null,{"$f":"VLOOKUP(D5443,'Group Name'!A:B,2,0)","v":{"$error":"#N/A"}}," "]
[null,null,null,null,null,null,null,null,null,{"$f":"+IFERROR(VLOOKUP(C5445,'Charge Conversion'!A:C,3,0),\" \")","v":" "},{"$f":"+IFERROR(I5445*J5445,\" \")","v":" "},{"$f":"S5445","v":" "},null,null,null,null,null,{"$f":"VLOOKUP(D5445,'Group Name'!A:B,2,0)","v":{"$error":"#N/A"}},{"$f":"IFERROR((IF(A5445=\" \",\" \",R5445)),\" \")","v":" "}]
[null,null,null,null,null,null,null,null,null,{"$f":"+IFERROR(VLOOKUP(C5446,'Charge Conversion'!A:C,3,0),\" \")","v":" "}," "," ",null,null,null,null,null,{"$f":"VLOOKUP(D5446,'Group Name'!A:B,2,0)","v":{"$error":"#N/A"}}," "]
[null,null,null,null,null,null,null,null,null,{"$f":"+IFERROR(VLOOKUP(C5450,'Charge Conversion'!A:C,3,0),\" \")","v":" "}," "," ",null,null,null,null,null,{"$f":"VLOOKUP(D5450,'Group Name'!A:B,2,0)","v":{"$error":"#N/A"}}," "]
[null,null,null,null,null,null,null,null,null,{"$f":"+IFERROR(VLOOKUP(C5452,'Charge Conversion'!A:C,3,0),\" \")","v":" "}," "," ",null,null,null,null,null,{"$f":"VLOOKUP(D5452,'Group Name'!A:B,2,0)","v":{"$error":"#N/A"}}," "]
[null,null,null,null,null,null,null,null,null,{"$f":"+IFERROR(VLOOKUP(C5455,'Charge Conversion'!A:C,3,0),\" \")","v":" "}," "," ",null,null,null,null,null,{"$f":"VLOOKUP(D5455,'Group Name'!A:B,2,0)","v":{"$error":"#N/A"}}," "]
[null,null,null,null,null,null,null,null,null,{"$f":"+IFERROR(VLOOKUP(C5457,'Charge Conversion'!A:C,3,0),\" \")","v":" "}," "," ",null,null,null,null,null,{"$f":"VLOOKUP(D5457,'Group Name'!A:B,2,0)","v":{"$error":"#N/A"}}," "]
[null,null,null,null,null,null,null,null,null,{"$f":"+IFERROR(VLOOKUP(C5460,'Charge Conversion'!A:C,3,0),\" \")","v":" "}," "," ",null,null,null,null,null,{"$f":"VLOOKUP(D5460,'Group Name'!A:B,2,0)","v":{"$error":"#N/A"}}," "]
[null,null,null,null,null,null,null,null,null,{"$f":"+IFERROR(VLOOKUP(C5463,'Charge Conversion'!A:C,3,0),\" \")","v":" "}," "," ",null,null,null,null,null,{"$f":"VLOOKUP(D5463,'Group Name'!A:B,2,0)","v":{"$error":"#N/A"}}," "]
[null,null,null,null,null,null,null,null,null,{"$f":"+IFERROR(VLOOKUP(C5465,'Charge Conversion'!A:C,3,0),\" \")","v":" "}," "," ",null,null,null,null,null,{"$f":"VLOOKUP(D5465,'Group Name'!A:B,2,0)","v":{"$error":"#N/A"}}," "]
[null,null,null,null,null,null,null,null,null,{"$f":"+IFERROR(VLOOKUP(C5466,'Charge Conversion'!A:C,3,0),\" \")","v":" "}," "," ",null,null,null,null,null,{"$f":"VLOOKUP(D5466,'Group Name'!A:B,2,0)","v":{"$error":"#N/A"}}," "]
[null,null,null,null,null,null,null,null,null,{"$f":"+IFERROR(VLOOKUP(C5470,'Charge Conversion'!A:C,3,0),\" \")","v":" "}," "," ",null,null,null,null,null,{"$f":"VLOOKUP(D5470,'Group Name'!A:B,2,0)","v":{"$error":"#N/A"}}," "]
[null,null,null,null,null,null,null,null,null,{"$f":"+IFERROR(VLOOKUP(C5472,'Charge Conversion'!A:C,3,0),\" \")","v":" "}," "," ",null,null,null,null,null,{"$f":"VLOOKUP(D5472,'Group Name'!A:B,2,0)","v":{"$error":"#N/A"}}," "]
[null,null,null,null,null,null,null,null,null,{"$f":"+IFERROR(VLOOKUP(C5475,'Charge Conversion'!A:C,3,0),\" \")","v":" "}," "," ",null,null,null,null,null,{"$f":"VLOOKUP(D5475,'Group Name'!A:B,2,0)","v":{"$error":"#N/A"}}," "]
[null,null,null,null,null,null,null,null,null,{"$f":"+IFERROR(VLOOKUP(C5478,'Charge Conversion'!A:C,3,0),\" \")","v":" "}," "," ",null,null,null,null,null,{"$f":"VLOOKUP(D5478,'Group Name'!A:B,2,0)","v":{"$error":"#N/A"}}," "]
[null,null,null,null,null,null,null,null,null,{"$f":"+IFERROR(VLOOKUP(C5480,'Charge Conversion'!A:C,3,0),\" \")","v":" "}," "," ",null,null,null,null,null,{"$f":"VLOOKUP(D5480,'Group Name'!A:B,2,0)","v":{"$error":"#N/A"}}," "]
[null,null,null,null,null,null,null,null,null,{"$f":"+IFERROR(VLOOKUP(C5483,'Charge Conversion'!A:C,3,0),\" \")","v":" "}," "," ",null,null,null,null,null,{"$f":"VLOOKUP(D5483,'Group Name'!A:B,2,0)","v":{"$error":"#N/A"}}," "]
[null,null,null,null,null,null,null,null,null,{"$f":"+IFERROR(VLOOKUP(C5485,'Charge Conversion'!A:C,3,0),\" \")","v":" "}," "," ",null,null,null,null,null,{"$f":"VLOOKUP(D5485,'Group Name'!A:B,2,0)","v":{"$error":"#N/A"}}," "]
[null,null,null,null,null,null,null,null,null,{"$f":"+IFERROR(VLOOKUP(C5486,'Charge Conversion'!A:C,3,0),\" \")","v":" "}," "," ",null,null,null,null,null,{"$f":"VLOOKUP(D5486,'Group Name'!A:B,2,0)","v":{"$error":"#N/A"}}," "]
[null,null,null,null,null,null,null,null,null,{"$f":"+IFERROR(VLOOKUP(C5490,'Charge Conversion'!A:C,3,0),\" \")","v":" "}," "," ",null,null,null,null,null,{"$f":"VLOOKUP(D5490,'Group Name'!A:B,2,0)","v":{"$error":"#N/A"}}," "]
[null,null,null,null,null,null,null,null,null,{"$f":"+IFERROR(VLOOKUP(C5492,'Charge Conversion'!A:C,3,0),\" \")","v":" "}," "," ",null,null,null,null,null,{"$f":"VLOOKUP(D5492,'Group Name'!A:B,2,0)","v":{"$error":"#N/A"}}," "]
[null,null,null,null,null,null,null,null,null,{"$f":"+IFERROR(VLOOKUP(C5495,'Charge Conversion'!A:C,3,0),\" \")","v":" "}," "," ",null,null,null,null,null,{"$f":"VLOOKUP(D5495,'Group Name'!A:B,2,0)","v":{"$error":"#N/A"}}," "]
[null,null,null,null,null,null,null,null,null,{"$f":"+IFERROR(VLOOKUP(C5498,'Charge Conversion'!A:C,3,0),\" \")","v":" "}," "," ",null,null,null,null,null,{"$f":"VLOOKUP(D5498,'Group Name'!A:B,2,0)","v":{"$error":"#N/A"}}," "]
[null,null,null,null,null,null,null,null,null,{"$f":"+IFERROR(VLOOKUP(C5500,'Charge Conversion'!A:C,3,0),\" \")","v":" "}," "," ",null,null,null,null,null,{"$f":"VLOOKUP(D5500,'Group Name'!A:B,2,0)","v":{"$error":"#N/A"}}," "]
[null,null,null,null,null,null,null,null,null,{"$f":"+IFERROR(VLOOKUP(C5503,'Charge Conversion'!A:C,3,0),\" \")","v":" "}," "," ",null,null,null,null,null,{"$f":"VLOOKUP(D5503,'Group Name'!A:B,2,0)","v":{"$error":"#N/A"}}," "]
[null,null,null,null,null,null,null,null,null,{"$f":"+IFERROR(VLOOKUP(C5505,'Charge Conversion'!A:C,3,0),\" \")","v":" "}," "," ",null,null,null,null,null,{"$f":"VLOOKUP(D5505,'Group Name'!A:B,2,0)","v":{"$error":"#N/A"}}," "]
[null,null,null,null,null,null,null,null,null,{"$f":"+IFERROR(VLOOKUP(C5506,'Charge Conversion'!A:C,3,0),\" \")","v":" "}," "," ",null,null,null,null,null,{"$f":"VLOOKUP(D5506,'Group Name'!A:B,2,0)","v":{"$error":"#N/A"}}," "]
[null,null,null,null,null,null,null,null,null,{"$f":"+IFERROR(VLOOKUP(C5510,'Charge Conversion'!A:C,3,0),\" \")","v":" "}," "," ",null,null,null,null,null,{"$f":"VLOOKUP(D5510,'Group Name'!A:B,2,0)","v":{"$error":"#N/A"}}," "]
[null,null,null,null,null,null,null,null,null,{"$f":"+IFERROR(VLOOKUP(C5512,'Charge Conversion'!A:C,3,0),\" \")","v":" "}," "," ",null,null,null,null,null,{"$f":"VLOOKUP(D5512,'Group Name'!A:B,2,0)","v":{"$error":"#N/A"}}," "]
[null,null,null,null,null,null,null,null,null,{"$f":"+IFERROR(VLOOKUP(C5515,'Charge Conversion'!A:C,3,0),\" \")","v":" "}," "," ",null,null,null,null,null,{"$f":"VLOOKUP(D5515,'Group Name'!A:B,2,0)","v":{"$error":"#N/A"}}," "]
[null,null,null,null,null,null,null,null,null,{"$f":"+IFERROR(VLOOKUP(C5518,'Charge Conversion'!A:C,3,0),\" \")","v":" "}," "," ",null,null,null,null,null,{"$f":"VLOOKUP(D5518,'Group Name'!A:B,2,0)","v":{"$error":"#N/A"}}," "]
[null,null,null,null,null,null,null,null,null,{"$f":"+IFERROR(VLOOKUP(C5520,'Charge Conversion'!A:C,3,0),\" \")","v":" "}," "," ",null,null,null,null,null,{"$f":"VLOOKUP(D5520,'Group Name'!A:B,2,0)","v":{"$error":"#N/A"}}," "]
[null,null,null,null,null,null,null,null,null,{"$f":"+IFERROR(VLOOKUP(C5523,'Charge Conversion'!A:C,3,0),\" \")","v":" "}," "," ",null,null,null,null,null,{"$f":"VLOOKUP(D5523,'Group Name'!A:B,2,0)","v":{"$error":"#N/A"}}," "]
[null,null,null,null,null,null,null,null,null,{"$f":"+IFERROR(VLOOKUP(C5525,'Charge Conversion'!A:C,3,0),\" \")","v":" "}," "," ",null,null,null,null,null,{"$f":"VLOOKUP(D5525,'Group Name'!A:B,2,0)","v":{"$error":"#N/A"}}," "]
[null,null,null,null,null,null,null,null,null,{"$f":"+IFERROR(VLOOKUP(C5526,'Charge Conversion'!A:C,3,0),\" \")","v":" "}," "," ",null,null,null,null,null,{"$f":"VLOOKUP(D5526,'Group Name'!A:B,2,0)","v":{"$error":"#N/A"}}," "]
[null,null,null,null,null,null,null,null,null,{"$f":"+IFERROR(VLOOKUP(C5530,'Charge Conversion'!A:C,3,0),\" \")","v":" "}," "," ",null,null,null,null,null,{"$f":"VLOOKUP(D5530,'Group Name'!A:B,2,0)","v":{"$error":"#N/A"}}," "]
[null,null,null,null,null,null,null,null,null,{"$f":"+IFERROR(VLOOKUP(C5532,'Charge Conversion'!A:C,3,0),\" \")","v":" "}," "," ",null,null,null,null,null,{"$f":"VLOOKUP(D5532,'Group Name'!A:B,2,0)","v":{"$error":"#N/A"}}," "]
[null,null,null,null,null,null,null,null,null,{"$f":"+IFERROR(VLOOKUP(C5535,'Charge Conversion'!A:C,3,0),\" \")","v":" "}," "," ",null,null,null,null,null,{"$f":"VLOOKUP(D5535,'Group Name'!A:B,2,0)","v":{"$error":"#N/A"}}," "]
[null,null,null,null,null,null,null,null,null,{"$f":"+IFERROR(VLOOKUP(C5538,'Charge Conversion'!A:C,3,0),\" \")","v":" "}," "," ",null,null,null,null,null,{"$f":"VLOOKUP(D5538,'Group Name'!A:B,2,0)","v":{"$error":"#N/A"}}," "]
[null,null,null,null,null,null,null,null,null,{"$f":"+IFERROR(VLOOKUP(C5540,'Charge Conversion'!A:C,3,0),\" \")","v":" "}," "," ",null,null,null,null,null,{"$f":"VLOOKUP(D5540,'Group Name'!A:B,2,0)","v":{"$error":"#N/A"}}," "]
[null,null,null,null,null,null,null,null,null,{"$f":"+IFERROR(VLOOKUP(C5543,'Charge Conversion'!A:C,3,0),\" \")","v":" "}," "," ",null,null,null,null,null,{"$f":"VLOOKUP(D5543,'Group Name'!A:B,2,0)","v":{"$error":"#N/A"}}," "]
[null,null,null,null,null,null,null,null,null,{"$f":"+IFERROR(VLOOKUP(C5545,'Charge Conversion'!A:C,3,0),\" \")","v":" "}," "," ",null,null,null,null,null,{"$f":"VLOOKUP(D5545,'Group Name'!A:B,2,0)","v":{"$error":"#N/A"}}," "]
[null,null,null,null,null,null,null,null,null,{"$f":"+IFERROR(VLOOKUP(C5546,'Charge Conversion'!A:C,3,0),\" \")","v":" "}," "," ",null,null,null,null,null,{"$f":"VLOOKUP(D5546,'Group Name'!A:B,2,0)","v":{"$error":"#N/A"}}," "]
[null,null,null,null,null,null,null,null,null,{"$f":"+IFERROR(VLOOKUP(C5550,'Charge Conversion'!A:C,3,0),\" \")","v":" "}," "," ",null,null,null,null,null,{"$f":"VLOOKUP(D5550,'Group Name'!A:B,2,0)","v":{"$error":"#N/A"}}," "]
[null,null,null,null,null,null,null,null,null,{"$f":"+IFERROR(VLOOKUP(C5552,'Charge Conversion'!A:C,3,0),\" \")","v":" "}," "," ",null,null,null,null,null,{"$f":"VLOOKUP(D5552,'Group Name'!A:B,2,0)","v":{"$error":"#N/A"}}," "]
[null,null,null,null,null,null,null,null,null,{"$f":"+IFERROR(VLOOKUP(C5555,'Charge Conversion'!A:C,3,0),\" \")","v":" "}," "," ",null,null,null,null,null,{"$f":"VLOOKUP(D5555,'Group Name'!A:B,2,0)","v":{"$error":"#N/A"}}," "]
[null,null,null,null,null,null,null,null,null,{"$f":"+IFERROR(VLOOKUP(C5558,'Charge Conversion'!A:C,3,0),\" \")","v":" "}," "," ",null,null,null,null,null,{"$f":"VLOOKUP(D5558,'Group Name'!A:B,2,0)","v":{"$error":"#N/A"}}," "]
[null,null,null,null,null,null,null,null,null,{"$f":"+IFERROR(VLOOKUP(C5560,'Charge Conversion'!A:C,3,0),\" \")","v":" "}," "," ",null,null,null,null,null,{"$f":"VLOOKUP(D5560,'Group Name'!A:B,2,0)","v":{"$error":"#N/A"}}," "]
[null,null,null,null,null,null,null,null,null,{"$f":"+IFERROR(VLOOKUP(C5561,'Charge Conversion'!A:C,3,0),\" \")","v":" "}," "," ",null,null,null,null,null,{"$f":"VLOOKUP(D5561,'Group Name'!A:B,2,0)","v":{"$error":"#N/A"}}," "]
[null,null,null,null,null,null,null,null,null,{"$f":"+IFERROR(VLOOKUP(C5565,'Charge Conversion'!A:C,3,0),\" \")","v":" "}," "," ",null,null,null,null,null,{"$f":"VLOOKUP(D5565,'Group Name'!A:B,2,0)","v":{"$error":"#N/A"}}," "]
[null,null,null,null,null,null,null,null,null,{"$f":"+IFERROR(VLOOKUP(C5566,'Charge Conversion'!A:C,3,0),\" \")","v":" "}," "," ",null,null,null,null,null,{"$f":"VLOOKUP(D5566,'Group Name'!A:B,2,0)","v":{"$error":"#N/A"}}," "]
[null,null,null,null,null,null,null,null,null,{"$f":"+IFERROR(VLOOKUP(C5570,'Charge Conversion'!A:C,3,0),\" \")","v":" "}," "," ",null,null,null,null,null,{"$f":"VLOOKUP(D5570,'Group Name'!A:B,2,0)","v":{"$error":"#N/A"}}," "]
[null,null,null,null,null,null,null,null,null,{"$f":"+IFERROR(VLOOKUP(C5572,'Charge Conversion'!A:C,3,0),\" \")","v":" "}," "," ",null,null,null,null,null,{"$f":"VLOOKUP(D5572,'Group Name'!A:B,2,0)","v":{"$error":"#N/A"}}," "]
[null,null,null,null,null,null,null,null,null,{"$f":"+IFERROR(VLOOKUP(C5575,'Charge Conversion'!A:C,3,0),\" \")","v":" "}," "," ",null,null,null,null,null,{"$f":"VLOOKUP(D5575,'Group Name'!A:B,2,0)","v":{"$error":"#N/A"}}," "]
[null,null,null,null,null,null,null,null,null,{"$f":"+IFERROR(VLOOKUP(C5577,'Charge Conversion'!A:C,3,0),\" \")","v":" "}," "," ",null,null,null,null,null,{"$f":"VLOOKUP(D5577,'Group Name'!A:B,2,0)","v":{"$error":"#N/A"}}," "]
[null,null,null,null,null,null,null,null,null,{"$f":"+IFERROR(VLOOKUP(C5581,'Charge Conversion'!A:C,3,0),\" \")","v":" "}," "," ",null,null,null,null,null,{"$f":"VLOOKUP(D5581,'Group Name'!A:B,2,0)","v":{"$error":"#N/A"}}," "]
[null,null,null,null,null,null,null,null,null,{"$f":"+IFERROR(VLOOKUP(C5582,'Charge Conversion'!A:C,3,0),\" \")","v":" "}," "," ",null,null,null,null,null,{"$f":"VLOOKUP(D5582,'Group Name'!A:B,2,0)","v":{"$error":"#N/A"}}," "]
[null,null,null,null,null,null,null,null,null,{"$f":"+IFERROR(VLOOKUP(C5584,'Charge Conversion'!A:C,3,0),\" \")","v":" "}," "," ",null,null,null,null,null,{"$f":"VLOOKUP(D5584,'Group Name'!A:B,2,0)","v":{"$error":"#N/A"}}," "]
[null,null,null,null,null,null,null,null,null,{"$f":"+IFERROR(VLOOKUP(C5587,'Charge Conversion'!A:C,3,0),\" \")","v":" "}," "," ",null,null,null,null,null,{"$f":"VLOOKUP(D5587,'Group Name'!A:B,2,0)","v":{"$error":"#N/A"}}," "]
[null,null,null,null,null,null,null,null,null,{"$f":"+IFERROR(VLOOKUP(C5590,'Charge Conversion'!A:C,3,0),\" \")","v":" "}," "," ",null,null,null,null,null,{"$f":"VLOOKUP(D5590,'Group Name'!A:B,2,0)","v":{"$error":"#N/A"}}," "]
[null,null,null,null,null,null,null,null,null,{"$f":"+IFERROR(VLOOKUP(C5592,'Charge Conversion'!A:C,3,0),\" \")","v":" "}," "," ",null,null,null,null,null,{"$f":"VLOOKUP(D5592,'Group Name'!A:B,2,0)","v":{"$error":"#N/A"}}," "]
[null,null,null,null,null,null,null,null,null,{"$f":"+IFERROR(VLOOKUP(C5595,'Charge Conversion'!A:C,3,0),\" \")","v":" "}," "," ",null,null,null,null,null,{"$f":"VLOOKUP(D5595,'Group Name'!A:B,2,0)","v":{"$error":"#N/A"}}," "]
[null,null,null,null,null,null,null,null,null,{"$f":"+IFERROR(VLOOKUP(C5597,'Charge Conversion'!A:C,3,0),\" \")","v":" "}," "," ",null,null,null,null,null,{"$f":"VLOOKUP(D5597,'Group Name'!A:B,2,0)","v":{"$error":"#N/A"}}," "]
[null,null,null,null,null,null,null,null,null,{"$f":"+IFERROR(VLOOKUP(C5601,'Charge Conversion'!A:C,3,0),\" \")","v":" "}," "," ",null,null,null,null,null,{"$f":"VLOOKUP(D5601,'Group Name'!A:B,2,0)","v":{"$error":"#N/A"}}," "]
[null,null,null,null,null,null,null,null,null,{"$f":"+IFERROR(VLOOKUP(C5602,'Charge Conversion'!A:C,3,0),\" \")","v":" "}," "," ",null,null,null,null,null,{"$f":"VLOOKUP(D5602,'Group Name'!A:B,2,0)","v":{"$error":"#N/A"}}," "]
[null,null,null,null,null,null,null,null,null,{"$f":"+IFERROR(VLOOKUP(C5604,'Charge Conversion'!A:C,3,0),\" \")","v":" "}," "," ",null,null,null,null,null,{"$f":"VLOOKUP(D5604,'Group Name'!A:B,2,0)","v":{"$error":"#N/A"}}," "]
[null,null,null,null,null,null,null,null,null,{"$f":"+IFERROR(VLOOKUP(C5607,'Charge Conversion'!A:C,3,0),\" \")","v":" "}," "," ",null,null,null,null,null,{"$f":"VLOOKUP(D5607,'Group Name'!A:B,2,0)","v":{"$error":"#N/A"}}," "]
[null,null,null,null,null,null,null,null,null,{"$f":"+IFERROR(VLOOKUP(C5610,'Charge Conversion'!A:C,3,0),\" \")","v":" "}," "," ",null,null,null,null,null,{"$f":"VLOOKUP(D5610,'Group Name'!A:B,2,0)","v":{"$error":"#N/A"}}," "]
[null,null,null,null,null,null,null,null,null,{"$f":"+IFERROR(VLOOKUP(C5612,'Charge Conversion'!A:C,3,0),\" \")","v":" "}," "," ",null,null,null,null,null,{"$f":"VLOOKUP(D5612,'Group Name'!A:B,2,0)","v":{"$error":"#N/A"}}," "]
[null,null,null,null,null,null,null,null,null,{"$f":"+IFERROR(VLOOKUP(C5616,'Charge Conversion'!A:C,3,0),\" \")","v":" "}," "," ",null,null,null,null,null,{"$f":"VLOOKUP(D5616,'Group Name'!A:B,2,0)","v":{"$error":"#N/A"}}," "]
[null,null,null,null,null,null,null,null,null,{"$f":"+IFERROR(VLOOKUP(C5617,'Charge Conversion'!A:C,3,0),\" \")","v":" "}," "," ",null,null,null,null,null,{"$f":"VLOOKUP(D5617,'Group Name'!A:B,2,0)","v":{"$error":"#N/A"}}," "]
[null,null,null,null,null,null,null,null,null,{"$f":"+IFERROR(VLOOKUP(C5621,'Charge Conversion'!A:C,3,0),\" \")","v":" "}," "," ",null,null,null,null,null,{"$f":"VLOOKUP(D5621,'Group Name'!A:B,2,0)","v":{"$error":"#N/A"}}," "]
[null,null,null,null,null,null,null,null,null,{"$f":"+IFERROR(VLOOKUP(C5622,'Charge Conversion'!A:C,3,0),\" \")","v":" "}," "," ",null,null,null,null,null,{"$f":"VLOOKUP(D5622,'Group Name'!A:B,2,0)","v":{"$error":"#N/A"}}," "]
[null,null,null,null,null,null,null,null,null,{"$f":"+IFERROR(VLOOKUP(C5624,'Charge Conversion'!A:C,3,0),\" \")","v":" "}," "," ",null,null,null,null,null,{"$f":"VLOOKUP(D5624,'Group Name'!A:B,2,0)","v":{"$error":"#N/A"}}," "]
[null,null,null,null,null,null,null,null,null,{"$f":"+IFERROR(VLOOKUP(C5627,'Charge Conversion'!A:C,3,0),\" \")","v":" "}," "," ",null,null,null,null,null,{"$f":"VLOOKUP(D5627,'Group Name'!A:B,2,0)","v":{"$error":"#N/A"}}," "]
[null,null,null,null,null,null,null,null,null,{"$f":"+IFERROR(VLOOKUP(C5630,'Charge Conversion'!A:C,3,0),\" \")","v":" "}," "," ",null,null,null,null,null,{"$f":"VLOOKUP(D5630,'Group Name'!A:B,2,0)","v":{"$error":"#N/A"}}," "]
[null,null,null,null,null,null,null,null,null,{"$f":"+IFERROR(VLOOKUP(C5632,'Charge Conversion'!A:C,3,0),\" \")","v":" "}," "," ",null,null,null,null,null,{"$f":"VLOOKUP(D5632,'Group Name'!A:B,2,0)","v":{"$error":"#N/A"}}," "]
[null,null,null,null,null,null,null,null,null,{"$f":"+IFERROR(VLOOKUP(C5636,'Charge Conversion'!A:C,3,0),\" \")","v":" "}," "," ",null,null,null,null,null,{"$f":"VLOOKUP(D5636,'Group Name'!A:B,2,0)","v":{"$error":"#N/A"}}," "]
[null,null,null,null,null,null,null,null,null,{"$f":"+IFERROR(VLOOKUP(C5637,'Charge Conversion'!A:C,3,0),\" \")","v":" "},{"$f":"+IFERROR(I5637*J5637,\" \")","v":" "},{"$f":"S5637","v":" "},null,null,null,null,null,{"$f":"VLOOKUP(D5637,'Group Name'!A:B,2,0)","v":{"$error":"#N/A"}},{"$f":"IFERROR((IF(A5637=\" \",\" \",R5637)),\" \")","v":" "}]
[null,null,null,null,null,null,null,null,null,{"$f":"+IFERROR(VLOOKUP(C5641,'Charge Conversion'!A:C,3,0),\" \")","v":" "}," "," ",null,null,null,null,null,{"$f":"VLOOKUP(D5641,'Group Name'!A:B,2,0)","v":{"$error":"#N/A"}}," "]
[null,null,null,null,null,null,null,null,null,{"$f":"+IFERROR(VLOOKUP(C5642,'Charge Conversion'!A:C,3,0),\" \")","v":" "}," "," ",null,null,null,null,null,{"$f":"VLOOKUP(D5642,'Group Name'!A:B,2,0)","v":{"$error":"#N/A"}}," "]
[null,null,null,null,null,null,null,null,null,{"$f":"+IFERROR(VLOOKUP(C5644,'Charge Conversion'!A:C,3,0),\" \")","v":" "}," "," ",null,null,null,null,null,{"$f":"VLOOKUP(D5644,'Group Name'!A:B,2,0)","v":{"$error":"#N/A"}}," "]
[null,null,null,null,null,null,null,null,null,{"$f":"+IFERROR(VLOOKUP(C5647,'Charge Conversion'!A:C,3,0),\" \")","v":" "}," "," ",null,null,null,null,null,{"$f":"VLOOKUP(D5647,'Group Name'!A:B,2,0)","v":{"$error":"#N/A"}}," "]
[null,null,null,null,null,null,null,null,null,{"$f":"+IFERROR(VLOOKUP(C5650,'Charge Conversion'!A:C,3,0),\" \")","v":" "}," "," ",null,null,null,null,null,{"$f":"VLOOKUP(D5650,'Group Name'!A:B,2,0)","v":{"$error":"#N/A"}}," "]
[null,null,null,null,null,null,null,null,null,{"$f":"+IFERROR(VLOOKUP(C5652,'Charge Conversion'!A:C,3,0),\" \")","v":" "}," "," ",null,null,null,null,null,{"$f":"VLOOKUP(D5652,'Group Name'!A:B,2,0)","v":{"$error":"#N/A"}}," "]
[null,null,null,null,null,null,null,null,null,{"$f":"+IFERROR(VLOOKUP(C5656,'Charge Conversion'!A:C,3,0),\" \")","v":" "}," "," ",null,null,null,null,null,{"$f":"VLOOKUP(D5656,'Group Name'!A:B,2,0)","v":{"$error":"#N/A"}}," "]
[null,null,null,null,null,null,null,null,null,{"$f":"+IFERROR(VLOOKUP(C5657,'Charge Conversion'!A:C,3,0),\" \")","v":" "}," "," ",null,null,null,null,null,{"$f":"VLOOKUP(D5657,'Group Name'!A:B,2,0)","v":{"$error":"#N/A"}}," "]
[null,null,null,null,null,null,null,null,null,{"$f":"+IFERROR(VLOOKUP(C5661,'Charge Conversion'!A:C,3,0),\" \")","v":" "}," "," ",null,null,null,null,null,{"$f":"VLOOKUP(D5661,'Group Name'!A:B,2,0)","v":{"$error":"#N/A"}}," "]
[null,null,null,null,null,null,null,null,null,{"$f":"+IFERROR(VLOOKUP(C5662,'Charge Conversion'!A:C,3,0),\" \")","v":" "}," "," ",null,null,null,null,null,{"$f":"VLOOKUP(D5662,'Group Name'!A:B,2,0)","v":{"$error":"#N/A"}}," "]
[null,null,null,null,null,null,null,null,null,{"$f":"+IFERROR(VLOOKUP(C5664,'Charge Conversion'!A:C,3,0),\" \")","v":" "}," "," ",null,null,null,null,null,{"$f":"VLOOKUP(D5664,'Group Name'!A:B,2,0)","v":{"$error":"#N/A"}}," "]
[null,null,null,null,null,null,null,null,null,{"$f":"+IFERROR(VLOOKUP(C5667,'Charge Conversion'!A:C,3,0),\" \")","v":" "}," "," ",null,null,null,null,null,{"$f":"VLOOKUP(D5667,'Group Name'!A:B,2,0)","v":{"$error":"#N/A"}}," "]
[null,null,null,null,null,null,null,null,null,{"$f":"+IFERROR(VLOOKUP(C5670,'Charge Conversion'!A:C,3,0),\" \")","v":" "}," "," ",null,null,null,null,null,{"$f":"VLOOKUP(D5670,'Group Name'!A:B,2,0)","v":{"$error":"#N/A"}}," "]
[null,null,null,null,null,null,null,null,null,{"$f":"+IFERROR(VLOOKUP(C5672,'Charge Conversion'!A:C,3,0),\" \")","v":" "}," "," ",null,null,null,null,null,{"$f":"VLOOKUP(D5672,'Group Name'!A:B,2,0)","v":{"$error":"#N/A"}}," "]
[null,null,null,null,null,null,null,null,null,{"$f":"+IFERROR(VLOOKUP(C5676,'Charge Conversion'!A:C,3,0),\" \")","v":" "}," "," ",null,null,null,null,null,{"$f":"VLOOKUP(D5676,'Group Name'!A:B,2,0)","v":{"$error":"#N/A"}}," "]
[null,null,null,null,null,null,null,null,null,{"$f":"+IFERROR(VLOOKUP(C5677,'Charge Conversion'!A:C,3,0),\" \")","v":" "}," "," ",null,null,null,null,null,{"$f":"VLOOKUP(D5677,'Group Name'!A:B,2,0)","v":{"$error":"#N/A"}}," "]
[null,null,null,null,null,null,null,null,null,{"$f":"+IFERROR(VLOOKUP(C5681,'Charge Conversion'!A:C,3,0),\" \")","v":" "}," "," ",null,null,null,null,null,{"$f":"VLOOKUP(D5681,'Group Name'!A:B,2,0)","v":{"$error":"#N/A"}}," "]
[null,null,null,null,null,null,null,null,null,{"$f":"+IFERROR(VLOOKUP(C5682,'Charge Conversion'!A:C,3,0),\" \")","v":" "}," "," ",null,null,null,null,null,{"$f":"VLOOKUP(D5682,'Group Name'!A:B,2,0)","v":{"$error":"#N/A"}}," "]
[null,null,null,null,null,null,null,null,null,{"$f":"+IFERROR(VLOOKUP(C5684,'Charge Conversion'!A:C,3,0),\" \")","v":" "}," "," ",null,null,null,null,null,{"$f":"VLOOKUP(D5684,'Group Name'!A:B,2,0)","v":{"$error":"#N/A"}}," "]
[null,null,null,null,null,null,null,null,null,{"$f":"+IFERROR(VLOOKUP(C5687,'Charge Conversion'!A:C,3,0),\" \")","v":" "}," "," ",null,null,null,null,null,{"$f":"VLOOKUP(D5687,'Group Name'!A:B,2,0)","v":{"$error":"#N/A"}}," "]
[null,null,null,null,null,null,null,null,null,{"$f":"+IFERROR(VLOOKUP(C5690,'Charge Conversion'!A:C,3,0),\" \")","v":" "}," "," ",null,null,null,null,null,{"$f":"VLOOKUP(D5690,'Group Name'!A:B,2,0)","v":{"$error":"#N/A"}}," "]
[null,null,null,null,null,null,null,null,null,{"$f":"+IFERROR(VLOOKUP(C5692,'Charge Conversion'!A:C,3,0),\" \")","v":" "}," "," ",null,null,null,null,null,{"$f":"VLOOKUP(D5692,'Group Name'!A:B,2,0)","v":{"$error":"#N/A"}}," "]
[null,null,null,null,null,null,null,null,null,{"$f":"+IFERROR(VLOOKUP(C5696,'Charge Conversion'!A:C,3,0),\" \")","v":" "}," "," ",null,null,null,null,null,{"$f":"VLOOKUP(D5696,'Group Name'!A:B,2,0)","v":{"$error":"#N/A"}}," "]
[null,null,null,null,null,null,null,null,null,{"$f":"+IFERROR(VLOOKUP(C5699,'Charge Conversion'!A:C,3,0),\" \")","v":" "}," "," ",null,null,null,null,null,{"$f":"VLOOKUP(D5699,'Group Name'!A:B,2,0)","v":{"$error":"#N/A"}}," "]
[null,null,null,null,null,null,null,null,null,{"$f":"+IFERROR(VLOOKUP(C5701,'Charge Conversion'!A:C,3,0),\" \")","v":" "},{"$f":"+IFERROR(I5701*J5701,\" \")","v":" "},{"$f":"S5701","v":" "},null,null,null,null,null,{"$f":"VLOOKUP(D5701,'Group Name'!A:B,2,0)","v":{"$error":"#N/A"}},{"$f":"IFERROR((IF(A5701=\" \",\" \",R5701)),\" \")","v":" "}]
[null,null,null,null,null,null,null,null,null,{"$f":"+IFERROR(VLOOKUP(C5702,'Charge Conversion'!A:C,3,0),\" \")","v":" "}," "," ",null,null,null,null,null,{"$f":"VLOOKUP(D5702,'Group Name'!A:B,2,0)","v":{"$error":"#N/A"}}," "]
[null,null,null,null,null,null,null,null,null,{"$f":"+IFERROR(VLOOKUP(C5706,'Charge Conversion'!A:C,3,0),\" \")","v":" "}," "," ",null,null,null,null,null,{"$f":"VLOOKUP(D5706,'Group Name'!A:B,2,0)","v":{"$error":"#N/A"}}," "]
[null,null,null,null,null,null,null,null,null,{"$f":"+IFERROR(VLOOKUP(C5708,'Charge Conversion'!A:C,3,0),\" \")","v":" "}," "," ",null,null,null,null,null,{"$f":"VLOOKUP(D5708,'Group Name'!A:B,2,0)","v":{"$error":"#N/A"}}," "]
[null,null,null,null,null,null,null,null,null,{"$f":"+IFERROR(VLOOKUP(C5711,'Charge Conversion'!A:C,3,0),\" \")","v":" "}," "," ",null,null,null,null,null,{"$f":"VLOOKUP(D5711,'Group Name'!A:B,2,0)","v":{"$error":"#N/A"}}," "]
[null,null,null,null,null,null,null,null,null,{"$f":"+IFERROR(VLOOKUP(C5713,'Charge Conversion'!A:C,3,0),\" \")","v":" "}," "," ",null,null,null,null,null,{"$f":"VLOOKUP(D5713,'Group Name'!A:B,2,0)","v":{"$error":"#N/A"}}," "]
[null,null,null,null,null,null,null,null,null,{"$f":"+IFERROR(VLOOKUP(C5716,'Charge Conversion'!A:C,3,0),\" \")","v":" "}," "," ",null,null,null,null,null,{"$f":"VLOOKUP(D5716,'Group Name'!A:B,2,0)","v":{"$error":"#N/A"}}," "]
[null,null,null,null,null,null,null,null,null,{"$f":"+IFERROR(VLOOKUP(C5719,'Charge Conversion'!A:C,3,0),\" \")","v":" "}," "," ",null,null,null,null,null,{"$f":"VLOOKUP(D5719,'Group Name'!A:B,2,0)","v":{"$error":"#N/A"}}," "]
[null,null,null,null,null,null,null,null,null,{"$f":"+IFERROR(VLOOKUP(C5721,'Charge Conversion'!A:C,3,0),\" \")","v":" "}," "," ",null,null,null,null,null,{"$f":"VLOOKUP(D5721,'Group Name'!A:B,2,0)","v":{"$error":"#N/A"}}," "]
[null,null,null,null,null,null,null,null,null,{"$f":"+IFERROR(VLOOKUP(C5722,'Charge Conversion'!A:C,3,0),\" \")","v":" "}," "," ",null,null,null,null,null,{"$f":"VLOOKUP(D5722,'Group Name'!A:B,2,0)","v":{"$error":"#N/A"}}," "]
[null,null,null,null,null,null,null,null,null,{"$f":"+IFERROR(VLOOKUP(C5726,'Charge Conversion'!A:C,3,0),\" \")","v":" "}," "," ",null,null,null,null,null,{"$f":"VLOOKUP(D5726,'Group Name'!A:B,2,0)","v":{"$error":"#N/A"}}," "]
[null,null,null,null,null,null,null,null,null,{"$f":"+IFERROR(VLOOKUP(C5728,'Charge Conversion'!A:C,3,0),\" \")","v":" "}," "," ",null,null,null,null,null,{"$f":"VLOOKUP(D5728,'Group Name'!A:B,2,0)","v":{"$error":"#N/A"}}," "]
[null,null,null,null,null,null,null,null,null,{"$f":"+IFERROR(VLOOKUP(C5731,'Charge Conversion'!A:C,3,0),\" \")","v":" "}," "," ",null,null,null,null,null,{"$f":"VLOOKUP(D5731,'Group Name'!A:B,2,0)","v":{"$error":"#N/A"}}," "]
[null,null,null,null,null,null,null,null,null,{"$f":"+IFERROR(VLOOKUP(C5733,'Charge Conversion'!A:C,3,0),\" \")","v":" "}," "," ",null,null,null,null,null,{"$f":"VLOOKUP(D5733,'Group Name'!A:B,2,0)","v":{"$error":"#N/A"}}," "]
[null,null,null,null,null,null,null,null,null,{"$f":"+IFERROR(VLOOKUP(C5736,'Charge Conversion'!A:C,3,0),\" \")","v":" "}," "," ",null,null,null,null,null,{"$f":"VLOOKUP(D5736,'Group Name'!A:B,2,0)","v":{"$error":"#N/A"}}," "]
[null,null,null,null,null,null,null,null,null,{"$f":"+IFERROR(VLOOKUP(C5739,'Charge Conversion'!A:C,3,0),\" \")","v":" "}," "," ",null,null,null,null,null,{"$f":"VLOOKUP(D5739,'Group Name'!A:B,2,0)","v":{"$error":"#N/A"}}," "]
[null,null,null,null,null,null,null,null,null,{"$f":"+IFERROR(VLOOKUP(C5741,'Charge Conversion'!A:C,3,0),\" \")","v":" "}," "," ",null,null,null,null,null,{"$f":"VLOOKUP(D5741,'Group Name'!A:B,2,0)","v":{"$error":"#N/A"}}," "]
[null,null,null,null,null,null,null,null,null,{"$f":"+IFERROR(VLOOKUP(C5742,'Charge Conversion'!A:C,3,0),\" \")","v":" "}," "," ",null,null,null,null,null,{"$f":"VLOOKUP(D5742,'Group Name'!A:B,2,0)","v":{"$error":"#N/A"}}," "]
[null,null,null,null,null,null,null,null,null,{"$f":"+IFERROR(VLOOKUP(C5746,'Charge Conversion'!A:C,3,0),\" \")","v":" "}," "," ",null,null,null,null,null,{"$f":"VLOOKUP(D5746,'Group Name'!A:B,2,0)","v":{"$error":"#N/A"}}," "]
[null,null,null,null,null,null,null,null,null,{"$f":"+IFERROR(VLOOKUP(C5748,'Charge Conversion'!A:C,3,0),\" \")","v":" "}," "," ",null,null,null,null,null,{"$f":"VLOOKUP(D5748,'Group Name'!A:B,2,0)","v":{"$error":"#N/A"}}," "]
[null,null,null,null,null,null,null,null,null,{"$f":"+IFERROR(VLOOKUP(C5751,'Charge Conversion'!A:C,3,0),\" \")","v":" "}," "," ",null,null,null,null,null,{"$f":"VLOOKUP(D5751,'Group Name'!A:B,2,0)","v":{"$error":"#N/A"}}," "]
[null,null,null,null,null,null,null,null,null,{"$f":"+IFERROR(VLOOKUP(C5754,'Charge Conversion'!A:C,3,0),\" \")","v":" "}," "," ",null,null,null,null,null,{"$f":"VLOOKUP(D5754,'Group Name'!A:B,2,0)","v":{"$error":"#N/A"}}," "]
[null,null,null,null,null,null,null,null,null,{"$f":"+IFERROR(VLOOKUP(C5756,'Charge Conversion'!A:C,3,0),\" \")","v":" "}," "," ",null,null,null,null,null,{"$f":"VLOOKUP(D5756,'Group Name'!A:B,2,0)","v":{"$error":"#N/A"}}," "]
[null,null,null,null,null,null,null,null,null,{"$f":"+IFERROR(VLOOKUP(C5759,'Charge Conversion'!A:C,3,0),\" \")","v":" "}," "," ",null,null,null,null,null,{"$f":"VLOOKUP(D5759,'Group Name'!A:B,2,0)","v":{"$error":"#N/A"}}," "]
[null,null,null,null,null,null,null,null,null,{"$f":"+IFERROR(VLOOKUP(C5761,'Charge Conversion'!A:C,3,0),\" \")","v":" "}," "," ",null,null,null,null,null,{"$f":"VLOOKUP(D5761,'Group Name'!A:B,2,0)","v":{"$error":"#N/A"}}," "]
[null,null,null,null,null,null,null,null,null,{"$f":"+IFERROR(VLOOKUP(C5762,'Charge Conversion'!A:C,3,0),\" \")","v":" "}," "," ",null,null,null,null,null,{"$f":"VLOOKUP(D5762,'Group Name'!A:B,2,0)","v":{"$error":"#N/A"}}," "]
[null,null,null,null,null,null,null,null,null,{"$f":"+IFERROR(VLOOKUP(C5766,'Charge Conversion'!A:C,3,0),\" \")","v":" "}," "," ",null,null,null,null,null,{"$f":"VLOOKUP(D5766,'Group Name'!A:B,2,0)","v":{"$error":"#N/A"}}," "]
[null,null,null,null,null,null,null,null,null,{"$f":"+IFERROR(VLOOKUP(C5768,'Charge Conversion'!A:C,3,0),\" \")","v":" "}," "," ",null,null,null,null,null,{"$f":"VLOOKUP(D5768,'Group Name'!A:B,2,0)","v":{"$error":"#N/A"}}," "]
[null,null,null,null,null,null,null,null,null,{"$f":"+IFERROR(VLOOKUP(C5771,'Charge Conversion'!A:C,3,0),\" \")","v":" "}," "," ",null,null,null,null,null,{"$f":"VLOOKUP(D5771,'Group Name'!A:B,2,0)","v":{"$error":"#N/A"}}," "]
[null,null,null,null,null,null,null,null,null,{"$f":"+IFERROR(VLOOKUP(C5774,'Charge Conversion'!A:C,3,0),\" \")","v":" "}," "," ",null,null,null,null,null,{"$f":"VLOOKUP(D5774,'Group Name'!A:B,2,0)","v":{"$error":"#N/A"}}," "]
[null,null,null,null,null,null,null,null,null,{"$f":"+IFERROR(VLOOKUP(C5776,'Charge Conversion'!A:C,3,0),\" \")","v":" "},{"$f":"+IFERROR(I5776*J5776,\" \")","v":" "}," ",null,null,null,null,null,{"$f":"VLOOKUP(D5776,'Group Name'!A:B,2,0)","v":{"$error":"#N/A"}}," "]
[null,null,null,null,null,null,null,null,null,{"$f":"+IFERROR(VLOOKUP(C5779,'Charge Conversion'!A:C,3,0),\" \")","v":" "}," "," ",null,null,null,null,null,{"$f":"VLOOKUP(D5779,'Group Name'!A:B,2,0)","v":{"$error":"#N/A"}}," "]
[null,null,null,null,null,null,null,null,null,{"$f":"+IFERROR(VLOOKUP(C5781,'Charge Conversion'!A:C,3,0),\" \")","v":" "}," "," ",null,null,null,null,null,{"$f":"VLOOKUP(D5781,'Group Name'!A:B,2,0)","v":{"$error":"#N/A"}}," "]
[null,null,null,null,null,null,null,null,null,{"$f":"+IFERROR(VLOOKUP(C5782,'Charge Conversion'!A:C,3,0),\" \")","v":" "}," "," ",null,null,null,null,null,{"$f":"VLOOKUP(D5782,'Group Name'!A:B,2,0)","v":{"$error":"#N/A"}}," "]
[null,null,null,null,null,null,null,null,null,{"$f":"+IFERROR(VLOOKUP(C5786,'Charge Conversion'!A:C,3,0),\" \")","v":" "}," "," ",null,null,null,null,null,{"$f":"VLOOKUP(D5786,'Group Name'!A:B,2,0)","v":{"$error":"#N/A"}}," "]
[null,null,null,null,null,null,null,null,null,{"$f":"+IFERROR(VLOOKUP(C5788,'Charge Conversion'!A:C,3,0),\" \")","v":" "}," "," ",null,null,null,null,null,{"$f":"VLOOKUP(D5788,'Group Name'!A:B,2,0)","v":{"$error":"#N/A"}}," "]
[null,null,null,null,null,null,null,null,null,{"$f":"+IFERROR(VLOOKUP(C5791,'Charge Conversion'!A:C,3,0),\" \")","v":" "}," "," ",null,null,null,null,null,{"$f":"VLOOKUP(D5791,'Group Name'!A:B,2,0)","v":{"$error":"#N/A"}}," "]
[null,null,null,null,null,null,null,null,null,{"$f":"+IFERROR(VLOOKUP(C5794,'Charge Conversion'!A:C,3,0),\" \")","v":" "}," "," ",null,null,null,null,null,{"$f":"VLOOKUP(D5794,'Group Name'!A:B,2,0)","v":{"$error":"#N/A"}}," "]
[null,null,null,null,null,null,null,null,null,{"$f":"+IFERROR(VLOOKUP(C5796,'Charge Conversion'!A:C,3,0),\" \")","v":" "}," "," ",null,null,null,null,null,{"$f":"VLOOKUP(D5796,'Group Name'!A:B,2,0)","v":{"$error":"#N/A"}}," "]
[null,null,null,null,null,null,null,null,null,{"$f":"+IFERROR(VLOOKUP(C5799,'Charge Conversion'!A:C,3,0),\" \")","v":" "}," "," ",null,null,null,null,null,{"$f":"VLOOKUP(D5799,'Group Name'!A:B,2,0)","v":{"$error":"#N/A"}}," "]
[null,null,null,null,null,null,null,null,null,{"$f":"+IFERROR(VLOOKUP(C5801,'Charge Conversion'!A:C,3,0),\" \")","v":" "}," "," ",null,null,null,null,null,{"$f":"VLOOKUP(D5801,'Group Name'!A:B,2,0)","v":{"$error":"#N/A"}}," "]
[null,null,null,null,null,null,null,null,null,{"$f":"+IFERROR(VLOOKUP(C5802,'Charge Conversion'!A:C,3,0),\" \")","v":" "}," "," ",null,null,null,null,null,{"$f":"VLOOKUP(D5802,'Group Name'!A:B,2,0)","v":{"$error":"#N/A"}}," "]
[null,null,null,null,null,null,null,null,null,{"$f":"+IFERROR(VLOOKUP(C5806,'Charge Conversion'!A:C,3,0),\" \")","v":" "}," "," ",null,null,null,null,null,{"$f":"VLOOKUP(D5806,'Group Name'!A:B,2,0)","v":{"$error":"#N/A"}}," "]
[null,null,null,null,null,null,null,null,null,{"$f":"+IFERROR(VLOOKUP(C5808,'Charge Conversion'!A:C,3,0),\" \")","v":" "}," "," ",null,null,null,null,null,{"$f":"VLOOKUP(D5808,'Group Name'!A:B,2,0)","v":{"$error":"#N/A"}}," "]
[null,null,null,null,null,null,null,null,null,{"$f":"+IFERROR(VLOOKUP(C5811,'Charge Conversion'!A:C,3,0),\" \")","v":" "}," "," ",null,null,null,null,null,{"$f":"VLOOKUP(D5811,'Group Name'!A:B,2,0)","v":{"$error":"#N/A"}}," "]
[null,null,null,null,null,null,null,null,null,{"$f":"+IFERROR(VLOOKUP(C5814,'Charge Conversion'!A:C,3,0),\" \")","v":" "}," "," ",null,null,null,null,null,{"$f":"VLOOKUP(D5814,'Group Name'!A:B,2,0)","v":{"$error":"#N/A"}}," "]
[null,null,null,null,null,null,null,null,null,{"$f":"+IFERROR(VLOOKUP(C5816,'Charge Conversion'!A:C,3,0),\" \")","v":" "}," "," ",null,null,null,null,null,{"$f":"VLOOKUP(D5816,'Group Name'!A:B,2,0)","v":{"$error":"#N/A"}}," "]
[null,null,null,null,null,null,null,null,null,{"$f":"+IFERROR(VLOOKUP(C5819,'Charge Conversion'!A:C,3,0),\" \")","v":" "}," "," ",null,null,null,null,null,{"$f":"VLOOKUP(D5819,'Group Name'!A:B,2,0)","v":{"$error":"#N/A"}}," "]
[null,null,null,null,null,null,null,null,null,{"$f":"+IFERROR(VLOOKUP(C5821,'Charge Conversion'!A:C,3,0),\" \")","v":" "}," "," ",null,null,null,null,null,{"$f":"VLOOKUP(D5821,'Group Name'!A:B,2,0)","v":{"$error":"#N/A"}}," "]
[null,null,null,null,null,null,null,null,null,{"$f":"+IFERROR(VLOOKUP(C5822,'Charge Conversion'!A:C,3,0),\" \")","v":" "}," "," ",null,null,null,null,null,{"$f":"VLOOKUP(D5822,'Group Name'!A:B,2,0)","v":{"$error":"#N/A"}}," "]
[null,null,null,null,null,null,null,null,null,{"$f":"+IFERROR(VLOOKUP(C5826,'Charge Conversion'!A:C,3,0),\" \")","v":" "}," "," ",null,null,null,null,null,{"$f":"VLOOKUP(D5826,'Group Name'!A:B,2,0)","v":{"$error":"#N/A"}}," "]
[null,null,null,null,null,null,null,null,null,{"$f":"+IFERROR(VLOOKUP(C5828,'Charge Conversion'!A:C,3,0),\" \")","v":" "}," "," ",null,null,null,null,null,{"$f":"VLOOKUP(D5828,'Group Name'!A:B,2,0)","v":{"$error":"#N/A"}}," "]
[null,null,null,null,null,null,null,null,null,{"$f":"+IFERROR(VLOOKUP(C5831,'Charge Conversion'!A:C,3,0),\" \")","v":" "}," "," ",null,null,null,null,null,{"$f":"VLOOKUP(D5831,'Group Name'!A:B,2,0)","v":{"$error":"#N/A"}}," "]
[null,null,null,null,null,null,null,null,null,{"$f":"+IFERROR(VLOOKUP(C5833,'Charge Conversion'!A:C,3,0),\" \")","v":" "}," "," ",null,null,null,null,null,{"$f":"VLOOKUP(D5833,'Group Name'!A:B,2,0)","v":{"$error":"#N/A"}}," "]
[null,null,null,null,null,null,null,null,null,{"$f":"+IFERROR(VLOOKUP(C5837,'Charge Conversion'!A:C,3,0),\" \")","v":" "}," "," ",null,null,null,null,null,{"$f":"VLOOKUP(D5837,'Group Name'!A:B,2,0)","v":{"$error":"#N/A"}}," "]
[null,null,null,null,null,null,null,null,null,{"$f":"+IFERROR(VLOOKUP(C5838,'Charge Conversion'!A:C,3,0),\" \")","v":" "}," "," ",null,null,null,null,null,{"$f":"VLOOKUP(D5838,'Group Name'!A:B,2,0)","v":{"$error":"#N/A"}}," "]
[null,null,null,null,null,null,null,null,null,{"$f":"+IFERROR(VLOOKUP(C5840,'Charge Conversion'!A:C,3,0),\" \")","v":" "},{"$f":"+IFERROR(I5840*J5840,\" \")","v":" "}," ",null,null,null,null,null,{"$f":"VLOOKUP(D5840,'Group Name'!A:B,2,0)","v":{"$error":"#N/A"}}," "]
[null,null,null,null,null,null,null,null,null,{"$f":"+IFERROR(VLOOKUP(C5843,'Charge Conversion'!A:C,3,0),\" \")","v":" "}," "," ",null,null,null,null,null,{"$f":"VLOOKUP(D5843,'Group Name'!A:B,2,0)","v":{"$error":"#N/A"}}," "]
[null,null,null,null,null,null,null,null,null,{"$f":"+IFERROR(VLOOKUP(C5846,'Charge Conversion'!A:C,3,0),\" \")","v":" "}," "," ",null,null,null,null,null,{"$f":"VLOOKUP(D5846,'Group Name'!A:B,2,0)","v":{"$error":"#N/A"}}," "]
[null,null,null,null,null,null,null,null,null,{"$f":"+IFERROR(VLOOKUP(C5848,'Charge Conversion'!A:C,3,0),\" \")","v":" "}," "," ",null,null,null,null,null,{"$f":"VLOOKUP(D5848,'Group Name'!A:B,2,0)","v":{"$error":"#N/A"}}," "]
[null,null,null,null,null,null,null,null,null,{"$f":"+IFERROR(VLOOKUP(C5851,'Charge Conversion'!A:C,3,0),\" \")","v":" "}," "," ",null,null,null,null,null,{"$f":"VLOOKUP(D5851,'Group Name'!A:B,2,0)","v":{"$error":"#N/A"}}," "]
[null,null,null,null,null,null,null,null,null,{"$f":"+IFERROR(VLOOKUP(C5853,'Charge Conversion'!A:C,3,0),\" \")","v":" "}," "," ",null,null,null,null,null,{"$f":"VLOOKUP(D5853,'Group Name'!A:B,2,0)","v":{"$error":"#N/A"}}," "]
[null,null,null,null,null,null,null,null,null,{"$f":"+IFERROR(VLOOKUP(C5857,'Charge Conversion'!A:C,3,0),\" \")","v":" "}," "," ",null,null,null,null,null,{"$f":"VLOOKUP(D5857,'Group Name'!A:B,2,0)","v":{"$error":"#N/A"}}," "]
[null,null,null,null,null,null,null,null,null,{"$f":"+IFERROR(VLOOKUP(C5858,'Charge Conversion'!A:C,3,0),\" \")","v":" "}," "," ",null,null,null,null,null,{"$f":"VLOOKUP(D5858,'Group Name'!A:B,2,0)","v":{"$error":"#N/A"}}," "]
[null,null,null,null,null,null,null,null,null,{"$f":"+IFERROR(VLOOKUP(C5860,'Charge Conversion'!A:C,3,0),\" \")","v":" "}," "," ",null,null,null,null,null,{"$f":"VLOOKUP(D5860,'Group Name'!A:B,2,0)","v":{"$error":"#N/A"}}," "]
[null,null,null,null,null,null,null,null,null,{"$f":"+IFERROR(VLOOKUP(C5863,'Charge Conversion'!A:C,3,0),\" \")","v":" "}," "," ",null,null,null,null,null,{"$f":"VLOOKUP(D5863,'Group Name'!A:B,2,0)","v":{"$error":"#N/A"}}," "]
[null,null,null,null,null,null,null,null,null,{"$f":"+IFERROR(VLOOKUP(C5866,'Charge Conversion'!A:C,3,0),\" \")","v":" "}," "," ",null,null,null,null,null,{"$f":"VLOOKUP(D5866,'Group Name'!A:B,2,0)","v":{"$error":"#N/A"}}," "]
[null,null,null,null,null,null,null,null,null,{"$f":"+IFERROR(VLOOKUP(C5868,'Charge Conversion'!A:C,3,0),\" \")","v":" "}," "," ",null,null,null,null,null,{"$f":"VLOOKUP(D5868,'Group Name'!A:B,2,0)","v":{"$error":"#N/A"}}," "]
[null,null,null,null,null,null,null,null,null,{"$f":"+IFERROR(VLOOKUP(C5871,'Charge Conversion'!A:C,3,0),\" \")","v":" "}," "," ",null,null,null,null,null,{"$f":"VLOOKUP(D5871,'Group Name'!A:B,2,0)","v":{"$error":"#N/A"}}," "]
[null,null,null,null,null,null,null,null,null,{"$f":"+IFERROR(VLOOKUP(C5873,'Charge Conversion'!A:C,3,0),\" \")","v":" "}," "," ",null,null,null,null,null,{"$f":"VLOOKUP(D5873,'Group Name'!A:B,2,0)","v":{"$error":"#N/A"}}," "]
[null,null,null,null,null,null,null,null,null,{"$f":"+IFERROR(VLOOKUP(C5877,'Charge Conversion'!A:C,3,0),\" \")","v":" "}," "," ",null,null,null,null,null,{"$f":"VLOOKUP(D5877,'Group Name'!A:B,2,0)","v":{"$error":"#N/A"}}," "]
[null,null,null,null,null,null,null,null,null,{"$f":"+IFERROR(VLOOKUP(C5878,'Charge Conversion'!A:C,3,0),\" \")","v":" "}," "," ",null,null,null,null,null,{"$f":"VLOOKUP(D5878,'Group Name'!A:B,2,0)","v":{"$error":"#N/A"}}," "]
[null,null,null,null,null,null,null,null,null,{"$f":"+IFERROR(VLOOKUP(C5880,'Charge Conversion'!A:C,3,0),\" \")","v":" "}," "," ",null,null,null,null,null,{"$f":"VLOOKUP(D5880,'Group Name'!A:B,2,0)","v":{"$error":"#N/A"}}," "]
[null,null,null,null,null,null,null,null,null,{"$f":"+IFERROR(VLOOKUP(C5883,'Charge Conversion'!A:C,3,0),\" \")","v":" "}," "," ",null,null,null,null,null,{"$f":"VLOOKUP(D5883,'Group Name'!A:B,2,0)","v":{"$error":"#N/A"}}," "]
[null,null,null,null,null,null,null,null,null,{"$f":"+IFERROR(VLOOKUP(C5886,'Charge Conversion'!A:C,3,0),\" \")","v":" "}," "," ",null,null,null,null,null,{"$f":"VLOOKUP(D5886,'Group Name'!A:B,2,0)","v":{"$error":"#N/A"}}," "]
[null,null,null,null,null,null,null,null,null,{"$f":"+IFERROR(VLOOKUP(C5888,'Charge Conversion'!A:C,3,0),\" \")","v":" "}," "," ",null,null,null,null,null,{"$f":"VLOOKUP(D5888,'Group Name'!A:B,2,0)","v":{"$error":"#N/A"}}," "]
[null,null,null,null,null,null,null,null,null,{"$f":"+IFERROR(VLOOKUP(C5892,'Charge Conversion'!A:C,3,0),\" \")","v":" "}," "," ",null,null,null,null,null,{"$f":"VLOOKUP(D5892,'Group Name'!A:B,2,0)","v":{"$error":"#N/A"}}," "]
[null,null,null,null,null,null,null,null,null,{"$f":"+IFERROR(VLOOKUP(C5893,'Charge Conversion'!A:C,3,0),\" \")","v":" "}," ",{"$f":"S5893","v":" "},null,null,null,null,null,{"$f":"VLOOKUP(D5893,'Group Name'!A:B,2,0)","v":{"$error":"#N/A"}},{"$f":"IFERROR((IF(A5893=\" \",\" \",R5893)),\" \")","v":" "}]
[null,null,null,null,null,null,null,null,null,{"$f":"+IFERROR(VLOOKUP(C5897,'Charge Conversion'!A:C,3,0),\" \")","v":" "}," "," ",null,null,null,null,null,{"$f":"VLOOKUP(D5897,'Group Name'!A:B,2,0)","v":{"$error":"#N/A"}}," "]
[null,null,null,null,null,null,null,null,null,{"$f":"+IFERROR(VLOOKUP(C5898,'Charge Conversion'!A:C,3,0),\" \")","v":" "}," "," ",null,null,null,null,null,{"$f":"VLOOKUP(D5898,'Group Name'!A:B,2,0)","v":{"$error":"#N/A"}}," "]
[null,null,null,null,null,null,null,null,null,{"$f":"+IFERROR(VLOOKUP(C5900,'Charge Conversion'!A:C,3,0),\" \")","v":" "}," "," ",null,null,null,null,null,{"$f":"VLOOKUP(D5900,'Group Name'!A:B,2,0)","v":{"$error":"#N/A"}}," "]
[null,null,null,null,null,null,null,null,null,{"$f":"+IFERROR(VLOOKUP(C5903,'Charge Conversion'!A:C,3,0),\" \")","v":" "}," "," ",null,null,null,null,null,{"$f":"VLOOKUP(D5903,'Group Name'!A:B,2,0)","v":{"$error":"#N/A"}}," "]
[null,null,null,null,null,null,null,null,null,{"$f":"+IFERROR(VLOOKUP(C5906,'Charge Conversion'!A:C,3,0),\" \")","v":" "}," "," ",null,null,null,null,null,{"$f":"VLOOKUP(D5906,'Group Name'!A:B,2,0)","v":{"$error":"#N/A"}}," "]
[null,null,null,null,null,null,null,null,null,{"$f":"+IFERROR(VLOOKUP(C5908,'Charge Conversion'!A:C,3,0),\" \")","v":" "}," "," ",null,null,null,null,null,{"$f":"VLOOKUP(D5908,'Group Name'!A:B,2,0)","v":{"$error":"#N/A"}}," "]
[null,null,null,null,null,null,null,null,null,{"$f":"+IFERROR(VLOOKUP(C5912,'Charge Conversion'!A:C,3,0),\" \")","v":" "}," "," ",null,null,null,null,null,{"$f":"VLOOKUP(D5912,'Group Name'!A:B,2,0)","v":{"$error":"#N/A"}}," "]
[null,null,null,null,null,null,null,null,null,{"$f":"+IFERROR(VLOOKUP(C5913,'Charge Conversion'!A:C,3,0),\" \")","v":" "}," "," ",null,null,null,null,null,{"$f":"VLOOKUP(D5913,'Group Name'!A:B,2,0)","v":{"$error":"#N/A"}}," "]
[null,null,null,null,null,null,null,null,null,{"$f":"+IFERROR(VLOOKUP(C5917,'Charge Conversion'!A:C,3,0),\" \")","v":" "}," "," ",null,null,null,null,null,{"$f":"VLOOKUP(D5917,'Group Name'!A:B,2,0)","v":{"$error":"#N/A"}}," "]
[null,null,null,null,null,null,null,null,null,{"$f":"+IFERROR(VLOOKUP(C5918,'Charge Conversion'!A:C,3,0),\" \")","v":" "}," "," ",null,null,null,null,null,{"$f":"VLOOKUP(D5918,'Group Name'!A:B,2,0)","v":{"$error":"#N/A"}}," "]
[null,null,null,null,null,null,null,null,null,{"$f":"+IFERROR(VLOOKUP(C5920,'Charge Conversion'!A:C,3,0),\" \")","v":" "}," "," ",null,null,null,null,null,{"$f":"VLOOKUP(D5920,'Group Name'!A:B,2,0)","v":{"$error":"#N/A"}}," "]
[null,null,null,null,null,null,null,null,null,{"$f":"+IFERROR(VLOOKUP(C5923,'Charge Conversion'!A:C,3,0),\" \")","v":" "}," "," ",null,null,null,null,null,{"$f":"VLOOKUP(D5923,'Group Name'!A:B,2,0)","v":{"$error":"#N/A"}}," "]
[null,null,null,null,null,null,null,null,null,{"$f":"+IFERROR(VLOOKUP(C5926,'Charge Conversion'!A:C,3,0),\" \")","v":" "}," "," ",null,null,null,null,null,{"$f":"VLOOKUP(D5926,'Group Name'!A:B,2,0)","v":{"$error":"#N/A"}}," "]
[null,null,null,null,null,null,null,null,null,{"$f":"+IFERROR(VLOOKUP(C5928,'Charge Conversion'!A:C,3,0),\" \")","v":" "}," "," ",null,null,null,null,null,{"$f":"VLOOKUP(D5928,'Group Name'!A:B,2,0)","v":{"$error":"#N/A"}}," "]
[null,null,null,null,null,null,null,null,null,{"$f":"+IFERROR(VLOOKUP(C5932,'Charge Conversion'!A:C,3,0),\" \")","v":" "}," "," ",null,null,null,null,null,{"$f":"VLOOKUP(D5932,'Group Name'!A:B,2,0)","v":{"$error":"#N/A"}}," "]
[null,null,null,null,null,null,null,null,null,{"$f":"+IFERROR(VLOOKUP(C5933,'Charge Conversion'!A:C,3,0),\" \")","v":" "}," "," ",null,null,null,null,null,{"$f":"VLOOKUP(D5933,'Group Name'!A:B,2,0)","v":{"$error":"#N/A"}}," "]
[null,null,null,null,null,null,null,null,null,{"$f":"+IFERROR(VLOOKUP(C5937,'Charge Conversion'!A:C,3,0),\" \")","v":" "}," "," ",null,null,null,null,null,{"$f":"VLOOKUP(D5937,'Group Name'!A:B,2,0)","v":{"$error":"#N/A"}}," "]
[null,null,null,null,null,null,null,null,null,{"$f":"+IFERROR(VLOOKUP(C5938,'Charge Conversion'!A:C,3,0),\" \")","v":" "}," "," ",null,null,null,null,null,{"$f":"VLOOKUP(D5938,'Group Name'!A:B,2,0)","v":{"$error":"#N/A"}}," "]
[null,null,null,null,null,null,null,null,null,{"$f":"+IFERROR(VLOOKUP(C5940,'Charge Conversion'!A:C,3,0),\" \")","v":" "}," "," ",null,null,null,null,null,{"$f":"VLOOKUP(D5940,'Group Name'!A:B,2,0)","v":{"$error":"#N/A"}}," "]
[null,null,null,null,null,null,null,null,null,{"$f":"+IFERROR(VLOOKUP(C5943,'Charge Conversion'!A:C,3,0),\" \")","v":" "}," "," ",null,null,null,null,null,{"$f":"VLOOKUP(D5943,'Group Name'!A:B,2,0)","v":{"$error":"#N/A"}}," "]
[null,null,null,null,null,null,null,null,null,{"$f":"+IFERROR(VLOOKUP(C5946,'Charge Conversion'!A:C,3,0),\" \")","v":" "}," "," ",null,null,null,null,null,{"$f":"VLOOKUP(D5946,'Group Name'!A:B,2,0)","v":{"$error":"#N/A"}}," "]
[null,null,null,null,null,null,null,null,null,{"$f":"+IFERROR(VLOOKUP(C5948,'Charge Conversion'!A:C,3,0),\" \")","v":" "}," "," ",null,null,null,null,null,{"$f":"VLOOKUP(D5948,'Group Name'!A:B,2,0)","v":{"$error":"#N/A"}}," "]
[null,null,null,null,null,null,null,null,null,{"$f":"+IFERROR(VLOOKUP(C5952,'Charge Conversion'!A:C,3,0),\" \")","v":" "}," "," ",null,null,null,null,null,{"$f":"VLOOKUP(D5952,'Group Name'!A:B,2,0)","v":{"$error":"#N/A"}}," "]
[null,null,null,null,null,null,null,null,null,{"$f":"+IFERROR(VLOOKUP(C5953,'Charge Conversion'!A:C,3,0),\" \")","v":" "}," "," ",null,null,null,null,null,{"$f":"VLOOKUP(D5953,'Group Name'!A:B,2,0)","v":{"$error":"#N/A"}}," "]
[null,null,null,null,null,null,null,null,null,{"$f":"+IFERROR(VLOOKUP(C5957,'Charge Conversion'!A:C,3,0),\" \")","v":" "}," ",{"$f":"S5957","v":" "},null,null,null,null,null,{"$f":"VLOOKUP(D5957,'Group Name'!A:B,2,0)","v":{"$error":"#N/A"}},{"$f":"IFERROR((IF(A5957=\" \",\" \",R5957)),\" \")","v":" "}]
[null,null,null,null,null,null,null,null,null,{"$f":"+IFERROR(VLOOKUP(C5958,'Charge Conversion'!A:C,3,0),\" \")","v":" "}," "," ",null,null,null,null,null,{"$f":"VLOOKUP(D5958,'Group Name'!A:B,2,0)","v":{"$error":"#N/A"}}," "]
[null,null,null,null,null,null,null,null,null,{"$f":"+IFERROR(VLOOKUP(C5960,'Charge Conversion'!A:C,3,0),\" \")","v":" "}," "," ",null,null,null,null,null,{"$f":"VLOOKUP(D5960,'Group Name'!A:B,2,0)","v":{"$error":"#N/A"}}," "]
[null,null,null,null,null,null,null,null,null,{"$f":"+IFERROR(VLOOKUP(C5964,'Charge Conversion'!A:C,3,0),\" \")","v":" "}," "," ",null,null,null,null,null,{"$f":"VLOOKUP(D5964,'Group Name'!A:B,2,0)","v":{"$error":"#N/A"}}," "]
[null,null,null,null,null,null,null,null,null,{"$f":"+IFERROR(VLOOKUP(C5967,'Charge Conversion'!A:C,3,0),\" \")","v":" "}," "," ",null,null,null,null,null,{"$f":"VLOOKUP(D5967,'Group Name'!A:B,2,0)","v":{"$error":"#N/A"}}," "]
[null,null,null,null,null,null,null,null,null,{"$f":"+IFERROR(VLOOKUP(C5969,'Charge Conversion'!A:C,3,0),\" \")","v":" "}," "," ",null,null,null,null,null,{"$f":"VLOOKUP(D5969,'Group Name'!A:B,2,0)","v":{"$error":"#N/A"}}," "]
[null,null,null,null,null,null,null,null,null,{"$f":"+IFERROR(VLOOKUP(C5972,'Charge Conversion'!A:C,3,0),\" \")","v":" "}," "," ",null,null,null,null,null,{"$f":"VLOOKUP(D5972,'Group Name'!A:B,2,0)","v":{"$error":"#N/A"}}," "]
[null,null,null,null,null,null,null,null,null,{"$f":"+IFERROR(VLOOKUP(C5975,'Charge Conversion'!A:C,3,0),\" \")","v":" "}," "," ",null,null,null,null,null,{"$f":"VLOOKUP(D5975,'Group Name'!A:B,2,0)","v":{"$error":"#N/A"}}," "]
[null,null,null,null,null,null,null,null,null,{"$f":"+IFERROR(VLOOKUP(C5977,'Charge Conversion'!A:C,3,0),\" \")","v":" "}," "," ",null,null,null,null,null,{"$f":"VLOOKUP(D5977,'Group Name'!A:B,2,0)","v":{"$error":"#N/A"}}," "]
[null,null,null,null,null,null,null,null,null,{"$f":"+IFERROR(VLOOKUP(C5978,'Charge Conversion'!A:C,3,0),\" \")","v":" "}," "," ",null,null,null,null,null,{"$f":"VLOOKUP(D5978,'Group Name'!A:B,2,0)","v":{"$error":"#N/A"}}," "]
[null,null,null,null,null,null,null,null,null,{"$f":"+IFERROR(VLOOKUP(C5982,'Charge Conversion'!A:C,3,0),\" \")","v":" "}," "," ",null,null,null,null,null,{"$f":"VLOOKUP(D5982,'Group Name'!A:B,2,0)","v":{"$error":"#N/A"}}," "]
[null,null,null,null,null,null,null,null,null,{"$f":"+IFERROR(VLOOKUP(C5984,'Charge Conversion'!A:C,3,0),\" \")","v":" "}," "," ",null,null,null,null,null,{"$f":"VLOOKUP(D5984,'Group Name'!A:B,2,0)","v":{"$error":"#N/A"}}," "]
[null,null,null,null,null,null,null,null,null,{"$f":"+IFERROR(VLOOKUP(C5987,'Charge Conversion'!A:C,3,0),\" \")","v":" "}," "," ",null,null,null,null,null,{"$f":"VLOOKUP(D5987,'Group Name'!A:B,2,0)","v":{"$error":"#N/A"}}," "]
[null,null,null,null,null,null,null,null,null,{"$f":"+IFERROR(VLOOKUP(C5989,'Charge Conversion'!A:C,3,0),\" \")","v":" "}," "," ",null,null,null,null,null,{"$f":"VLOOKUP(D5989,'Group Name'!A:B,2,0)","v":{"$error":"#N/A"}}," "]
[null,null,null,null,null,null,null,null,null,{"$f":"+IFERROR(VLOOKUP(C5992,'Charge Conversion'!A:C,3,0),\" \")","v":" "}," "," ",null,null,null,null,null,{"$f":"VLOOKUP(D5992,'Group Name'!A:B,2,0)","v":{"$error":"#N/A"}}," "]
[null,null,null,null,null,null,null,null,null,{"$f":"+IFERROR(VLOOKUP(C5995,'Charge Conversion'!A:C,3,0),\" \")","v":" "}," "," ",null,null,null,null,null,{"$f":"VLOOKUP(D5995,'Group Name'!A:B,2,0)","v":{"$error":"#N/A"}}," "]
[null,null,null,null,null,null,null,null,null,{"$f":"+IFERROR(VLOOKUP(C5997,'Charge Conversion'!A:C,3,0),\" \")","v":" "}," "," ",null,null,null,null,null,{"$f":"VLOOKUP(D5997,'Group Name'!A:B,2,0)","v":{"$error":"#N/A"}}," "]
[null,null,null,null,null,null,null,null,null,{"$f":"+IFERROR(VLOOKUP(C5998,'Charge Conversion'!A:C,3,0),\" \")","v":" "}," "," ",null,null,null,null,null,{"$f":"VLOOKUP(D5998,'Group Name'!A:B,2,0)","v":{"$error":"#N/A"}}," "]
[null,null,null,null,null,null,null,null,null,{"$f":"+IFERROR(VLOOKUP(C6002,'Charge Conversion'!A:C,3,0),\" \")","v":" "}," "," ",null,null,null,null,null,{"$f":"VLOOKUP(D6002,'Group Name'!A:B,2,0)","v":{"$error":"#N/A"}}," "]
[null,null,null,null,null,null,null,null,null,{"$f":"+IFERROR(VLOOKUP(C6004,'Charge Conversion'!A:C,3,0),\" \")","v":" "}," "," ",null,null,null,null,null,{"$f":"VLOOKUP(D6004,'Group Name'!A:B,2,0)","v":{"$error":"#N/A"}}," "]
[null,null,null,null,null,null,null,null,null,{"$f":"+IFERROR(VLOOKUP(C6007,'Charge Conversion'!A:C,3,0),\" \")","v":" "}," "," ",null,null,null,null,null,{"$f":"VLOOKUP(D6007,'Group Name'!A:B,2,0)","v":{"$error":"#N/A"}}," "]
[null,null,null,null,null,null,null,null,null,{"$f":"+IFERROR(VLOOKUP(C6009,'Charge Conversion'!A:C,3,0),\" \")","v":" "},null," ",null,null,null,null,null,{"$f":"VLOOKUP(D6009,'Group Name'!A:B,2,0)","v":{"$error":"#N/A"}}," "]
[null,null,null,null,null,null,null,null,null,{"$f":"+IFERROR(VLOOKUP(C6012,'Charge Conversion'!A:C,3,0),\" \")","v":" "},null," ",null,null,null,null,null,{"$f":"VLOOKUP(D6012,'Group Name'!A:B,2,0)","v":{"$error":"#N/A"}}," "]
[null,null,null,null,null,null,null,null,null,{"$f":"+IFERROR(VLOOKUP(C6015,'Charge Conversion'!A:C,3,0),\" \")","v":" "},null," ",null,null,null,null,null,{"$f":"VLOOKUP(D6015,'Group Name'!A:B,2,0)","v":{"$error":"#N/A"}}," "]
[null,null,null,null,null,null,null,null,null,{"$f":"+IFERROR(VLOOKUP(C6017,'Charge Conversion'!A:C,3,0),\" \")","v":" "},null," ",null,null,null,null,null,{"$f":"VLOOKUP(D6017,'Group Name'!A:B,2,0)","v":{"$error":"#N/A"}}," "]
[null,null,null,null,null,null,null,null,null,{"$f":"+IFERROR(VLOOKUP(C6018,'Charge Conversion'!A:C,3,0),\" \")","v":" "},null," ",null,null,null,null,null,{"$f":"VLOOKUP(D6018,'Group Name'!A:B,2,0)","v":{"$error":"#N/A"}}," "]
[null,null,null,null,null,null,null,null,null,{"$f":"+IFERROR(VLOOKUP(C6022,'Charge Conversion'!A:C,3,0),\" \")","v":" "},null," ",null,null,null,null,null,{"$f":"VLOOKUP(D6022,'Group Name'!A:B,2,0)","v":{"$error":"#N/A"}}," "]
[null,null,null,null,null,null,null,null,null,{"$f":"+IFERROR(VLOOKUP(C6024,'Charge Conversion'!A:C,3,0),\" \")","v":" "},null," ",null,null,null,null,null,{"$f":"VLOOKUP(D6024,'Group Name'!A:B,2,0)","v":{"$error":"#N/A"}}," "]
[null,null,null,null,null,null,null,null,null,{"$f":"+IFERROR(VLOOKUP(C6027,'Charge Conversion'!A:C,3,0),\" \")","v":" "},null," ",null,null,null,null,null,{"$f":"VLOOKUP(D6027,'Group Name'!A:B,2,0)","v":{"$error":"#N/A"}}," "]
[null,null,null,null,null,null,null,null,null,{"$f":"+IFERROR(VLOOKUP(C6030,'Charge Conversion'!A:C,3,0),\" \")","v":" "},null," ",null,null,null,null,null,{"$f":"VLOOKUP(D6030,'Group Name'!A:B,2,0)","v":{"$error":"#N/A"}}," "]
[null,null,null,null,null,null,null,null,null,{"$f":"+IFERROR(VLOOKUP(C6032,'Charge Conversion'!A:C,3,0),\" \")","v":" "},null," ",null,null,null,null,null,{"$f":"VLOOKUP(D6032,'Group Name'!A:B,2,0)","v":{"$error":"#N/A"}}," "]
[null,null,null,null,null,null,null,null,null,{"$f":"+IFERROR(VLOOKUP(C6035,'Charge Conversion'!A:C,3,0),\" \")","v":" "},null," ",null,null,null,null,null,{"$f":"VLOOKUP(D6035,'Group Name'!A:B,2,0)","v":{"$error":"#N/A"}}," "]
[null,null,null,null,null,null,null,null,null,{"$f":"+IFERROR(VLOOKUP(C6037,'Charge Conversion'!A:C,3,0),\" \")","v":" "},null," ",null,null,null,null,null,{"$f":"VLOOKUP(D6037,'Group Name'!A:B,2,0)","v":{"$error":"#N/A"}}," "]
[null,null,null,null,null,null,null,null,null,{"$f":"+IFERROR(VLOOKUP(C6038,'Charge Conversion'!A:C,3,0),\" \")","v":" "},null," ",null,null,null,null,null,{"$f":"VLOOKUP(D6038,'Group Name'!A:B,2,0)","v":{"$error":"#N/A"}}," "]
[null,null,null,null,null,null,null,null,null,{"$f":"+IFERROR(VLOOKUP(C6042,'Charge Conversion'!A:C,3,0),\" \")","v":" "},null," ",null,null,null,null,null,{"$f":"VLOOKUP(D6042,'Group Name'!A:B,2,0)","v":{"$error":"#N/A"}}," "]
[null,null,null,null,null,null,null,null,null,{"$f":"+IFERROR(VLOOKUP(C6044,'Charge Conversion'!A:C,3,0),\" \")","v":" "},null," ",null,null,null,null,null,{"$f":"VLOOKUP(D6044,'Group Name'!A:B,2,0)","v":{"$error":"#N/A"}}," "]
[null,null,null,null,null,null,null,null,null,{"$f":"+IFERROR(VLOOKUP(C6047,'Charge Conversion'!A:C,3,0),\" \")","v":" "},null," ",null,null,null,null,null,{"$f":"VLOOKUP(D6047,'Group Name'!A:B,2,0)","v":{"$error":"#N/A"}}," "]
[null,null,null,null,null,null,null,null,null,{"$f":"+IFERROR(VLOOKUP(C6050,'Charge Conversion'!A:C,3,0),\" \")","v":" "},null," ",null,null,null,null,null,{"$f":"VLOOKUP(D6050,'Group Name'!A:B,2,0)","v":{"$error":"#N/A"}}," "]
[null,null,null,null,null,null,null,null,null,{"$f":"+IFERROR(VLOOKUP(C6052,'Charge Conversion'!A:C,3,0),\" \")","v":" "},null," ",null,null,null,null,null,{"$f":"VLOOKUP(D6052,'Group Name'!A:B,2,0)","v":{"$error":"#N/A"}}," "]
[null,null,null,null,null,null,null,null,null,{"$f":"+IFERROR(VLOOKUP(C6055,'Charge Conversion'!A:C,3,0),\" \")","v":" "},null," ",null,null,null,null,null,{"$f":"VLOOKUP(D6055,'Group Name'!A:B,2,0)","v":{"$error":"#N/A"}}," "]
[null,null,null,null,null,null,null,null,null,{"$f":"+IFERROR(VLOOKUP(C6057,'Charge Conversion'!A:C,3,0),\" \")","v":" "},null," ",null,null,null,null,null,{"$f":"VLOOKUP(D6057,'Group Name'!A:B,2,0)","v":{"$error":"#N/A"}}," "]
[null,null,null,null,null,null,null,null,null,{"$f":"+IFERROR(VLOOKUP(C6058,'Charge Conversion'!A:C,3,0),\" \")","v":" "},null," ",null,null,null,null,null,{"$f":"VLOOKUP(D6058,'Group Name'!A:B,2,0)","v":{"$error":"#N/A"}}," "]
[null,null,null,null,null,null,null,null,null,{"$f":"+IFERROR(VLOOKUP(C6062,'Charge Conversion'!A:C,3,0),\" \")","v":" "},null," ",null,null,null,null,null,{"$f":"VLOOKUP(D6062,'Group Name'!A:B,2,0)","v":{"$error":"#N/A"}}," "]
[null,null,null,null,null,null,null,null,null,{"$f":"+IFERROR(VLOOKUP(C6064,'Charge Conversion'!A:C,3,0),\" \")","v":" "},null," ",null,null,null,null,null,{"$f":"VLOOKUP(D6064,'Group Name'!A:B,2,0)","v":{"$error":"#N/A"}}," "]
[null,null,null,null,null,null,null,null,null,{"$f":"+IFERROR(VLOOKUP(C6067,'Charge Conversion'!A:C,3,0),\" \")","v":" "},null," ",null,null,null,null,null,{"$f":"VLOOKUP(D6067,'Group Name'!A:B,2,0)","v":{"$error":"#N/A"}}," "]
[null,null,null,null,null,null,null,null,null,{"$f":"+IFERROR(VLOOKUP(C6070,'Charge Conversion'!A:C,3,0),\" \")","v":" "},null," ",null,null,null,null,null,{"$f":"VLOOKUP(D6070,'Group Name'!A:B,2,0)","v":{"$error":"#N/A"}}," "]
[null,null,null,null,null,null,null,null,null,{"$f":"+IFERROR(VLOOKUP(C6072,'Charge Conversion'!A:C,3,0),\" \")","v":" "},null," ",null,null,null,null,null,{"$f":"VLOOKUP(D6072,'Group Name'!A:B,2,0)","v":{"$error":"#N/A"}}," "]
[null,null,null,null,null,null,null,null,null,{"$f":"+IFERROR(VLOOKUP(C6075,'Charge Conversion'!A:C,3,0),\" \")","v":" "},null," ",null,null,null,null,null,{"$f":"VLOOKUP(D6075,'Group Name'!A:B,2,0)","v":{"$error":"#N/A"}}," "]
[null,null,null,null,null,null,null,null,null,{"$f":"+IFERROR(VLOOKUP(C6077,'Charge Conversion'!A:C,3,0),\" \")","v":" "},null," ",null,null,null,null,null,{"$f":"VLOOKUP(D6077,'Group Name'!A:B,2,0)","v":{"$error":"#N/A"}}," "]
[null,null,null,null,null,null,null,null,null,{"$f":"+IFERROR(VLOOKUP(C6078,'Charge Conversion'!A:C,3,0),\" \")","v":" "},null," ",null,null,null,null,null,{"$f":"VLOOKUP(D6078,'Group Name'!A:B,2,0)","v":{"$error":"#N/A"}}," "]
[null,null,null,null,null,null,null,null,null,{"$f":"+IFERROR(VLOOKUP(C6082,'Charge Conversion'!A:C,3,0),\" \")","v":" "},null," ",null,null,null,null,null,{"$f":"VLOOKUP(D6082,'Group Name'!A:B,2,0)","v":{"$error":"#N/A"}}," "]
[null,null,null,null,null,null,null,null,null,{"$f":"+IFERROR(VLOOKUP(C6084,'Charge Conversion'!A:C,3,0),\" \")","v":" "},null," ",null,null,null,null,null,{"$f":"VLOOKUP(D6084,'Group Name'!A:B,2,0)","v":{"$error":"#N/A"}}," "]
[null,null,null,null,null,null,null,null,null,{"$f":"+IFERROR(VLOOKUP(C6087,'Charge Conversion'!A:C,3,0),\" \")","v":" "},null," ",null,null,null,null,null,{"$f":"VLOOKUP(D6087,'Group Name'!A:B,2,0)","v":{"$error":"#N/A"}}," "]
[null,null,null,null,null,null,null,null,null,{"$f":"+IFERROR(VLOOKUP(C6090,'Charge Conversion'!A:C,3,0),\" \")","v":" "},null," ",null,null,null,null,null,{"$f":"VLOOKUP(D6090,'Group Name'!A:B,2,0)","v":{"$error":"#N/A"}}," "]
[null,null,null,null,null,null,null,null,null,{"$f":"+IFERROR(VLOOKUP(C6092,'Charge Conversion'!A:C,3,0),\" \")","v":" "},null," ",null,null,null,null,null,{"$f":"VLOOKUP(D6092,'Group Name'!A:B,2,0)","v":{"$error":"#N/A"}}," "]
[null,null,null,null,null,null,null,null,null,{"$f":"+IFERROR(VLOOKUP(C6095,'Charge Conversion'!A:C,3,0),\" \")","v":" "},null," ",null,null,null,null,null,{"$f":"VLOOKUP(D6095,'Group Name'!A:B,2,0)","v":{"$error":"#N/A"}}," "]
[null,null,null,null,null,null,null,null,null,{"$f":"+IFERROR(VLOOKUP(C6096,'Charge Conversion'!A:C,3,0),\" \")","v":" "},null," ",null,null,null,null,null,{"$f":"VLOOKUP(D6096,'Group Name'!A:B,2,0)","v":{"$error":"#N/A"}}," "]
[null,null,null,null,null,null,null,null,null,{"$f":"+IFERROR(VLOOKUP(C6099,'Charge Conversion'!A:C,3,0),\" \")","v":" "},null," ",null,null,null,null,null,{"$f":"VLOOKUP(D6099,'Group Name'!A:B,2,0)","v":{"$error":"#N/A"}}," "]
[null,null,null,null,null,null,null,null,null,{"$f":"+IFERROR(VLOOKUP(C6102,'Charge Conversion'!A:C,3,0),\" \")","v":" "},null," ",null,null,null,null,null,{"$f":"VLOOKUP(D6102,'Group Name'!A:B,2,0)","v":{"$error":"#N/A"}}," "]
[null,null,null,null,null,null,null,null,null,{"$f":"+IFERROR(VLOOKUP(C6104,'Charge Conversion'!A:C,3,0),\" \")","v":" "},null," ",null,null,null,null,null,{"$f":"VLOOKUP(D6104,'Group Name'!A:B,2,0)","v":{"$error":"#N/A"}}," "]
[null,null,null,null,null,null,null,null,null,{"$f":"+IFERROR(VLOOKUP(C6107,'Charge Conversion'!A:C,3,0),\" \")","v":" "},null," ",null,null,null,null,null,{"$f":"VLOOKUP(D6107,'Group Name'!A:B,2,0)","v":{"$error":"#N/A"}}," "]
[null,null,null,null,null,null,null,null,null,{"$f":"+IFERROR(VLOOKUP(C6109,'Charge Conversion'!A:C,3,0),\" \")","v":" "},null," ",null,null,null,null,null,{"$f":"VLOOKUP(D6109,'Group Name'!A:B,2,0)","v":{"$error":"#N/A"}}," "]
[null,null,null,null,null,null,null,null,null,{"$f":"+IFERROR(VLOOKUP(C6113,'Charge Conversion'!A:C,3,0),\" \")","v":" "},null," ",null,null,null,null,null,{"$f":"VLOOKUP(D6113,'Group Name'!A:B,2,0)","v":{"$error":"#N/A"}}," "]
[null,null,null,null,null,null,null,null,null,{"$f":"+IFERROR(VLOOKUP(C6114,'Charge Conversion'!A:C,3,0),\" \")","v":" "},null," ",null,null,null,null,null,{"$f":"VLOOKUP(D6114,'Group Name'!A:B,2,0)","v":{"$error":"#N/A"}}," "]
[null,null,null,null,null,null,null,null,null,{"$f":"+IFERROR(VLOOKUP(C6116,'Charge Conversion'!A:C,3,0),\" \")","v":" "},null," ",null,null,null,null,null,{"$f":"VLOOKUP(D6116,'Group Name'!A:B,2,0)","v":{"$error":"#N/A"}}," "]
[null,null,null,null,null,null,null,null,null,{"$f":"+IFERROR(VLOOKUP(C6119,'Charge Conversion'!A:C,3,0),\" \")","v":" "},null," ",null,null,null,null,null,{"$f":"VLOOKUP(D6119,'Group Name'!A:B,2,0)","v":{"$error":"#N/A"}}," "]
[null,null,null,null,null,null,null,null,null,{"$f":"+IFERROR(VLOOKUP(C6122,'Charge Conversion'!A:C,3,0),\" \")","v":" "},null," ",null,null,null,null,null,{"$f":"VLOOKUP(D6122,'Group Name'!A:B,2,0)","v":{"$error":"#N/A"}}," "]
[null,null,null,null,null,null,null,null,null,{"$f":"+IFERROR(VLOOKUP(C6124,'Charge Conversion'!A:C,3,0),\" \")","v":" "},null," ",null,null,null,null,null,{"$f":"VLOOKUP(D6124,'Group Name'!A:B,2,0)","v":{"$error":"#N/A"}}," "]
[null,null,null,null,null,null,null,null,null,{"$f":"+IFERROR(VLOOKUP(C6127,'Charge Conversion'!A:C,3,0),\" \")","v":" "},null," ",null,null,null,null,null,{"$f":"VLOOKUP(D6127,'Group Name'!A:B,2,0)","v":{"$error":"#N/A"}}," "]
[null,null,null,null,null,null,null,null,null,{"$f":"+IFERROR(VLOOKUP(C6129,'Charge Conversion'!A:C,3,0),\" \")","v":" "},null," ",null,null,null,null,null,{"$f":"VLOOKUP(D6129,'Group Name'!A:B,2,0)","v":{"$error":"#N/A"}}," "]
[null,null,null,null,null,null,null,null,null,{"$f":"+IFERROR(VLOOKUP(C6133,'Charge Conversion'!A:C,3,0),\" \")","v":" "},null," ",null,null,null,null,null,{"$f":"VLOOKUP(D6133,'Group Name'!A:B,2,0)","v":{"$error":"#N/A"}}," "]
[null,null,null,null,null,null,null,null,null,{"$f":"+IFERROR(VLOOKUP(C6134,'Charge Conversion'!A:C,3,0),\" \")","v":" "},null," ",null,null,null,null,null,{"$f":"VLOOKUP(D6134,'Group Name'!A:B,2,0)","v":{"$error":"#N/A"}}," "]
[null,null,null,null,null,null,null,null,null,{"$f":"+IFERROR(VLOOKUP(C6136,'Charge Conversion'!A:C,3,0),\" \")","v":" "},null," ",null,null,null,null,null,{"$f":"VLOOKUP(D6136,'Group Name'!A:B,2,0)","v":{"$error":"#N/A"}}," "]
[null,null,null,null,null,null,null,null,null,{"$f":"+IFERROR(VLOOKUP(C6139,'Charge Conversion'!A:C,3,0),\" \")","v":" "},null," ",null,null,null,null,null,{"$f":"VLOOKUP(D6139,'Group Name'!A:B,2,0)","v":{"$error":"#N/A"}}," "]
[null,null,null,null,null,null,null,null,null,{"$f":"+IFERROR(VLOOKUP(C6142,'Charge Conversion'!A:C,3,0),\" \")","v":" "},null," ",null,null,null,null,null,{"$f":"VLOOKUP(D6142,'Group Name'!A:B,2,0)","v":{"$error":"#N/A"}}," "]
[null,null,null,null,null,null,null,null,null,{"$f":"+IFERROR(VLOOKUP(C6144,'Charge Conversion'!A:C,3,0),\" \")","v":" "},null," ",null,null,null,null,null,{"$f":"VLOOKUP(D6144,'Group Name'!A:B,2,0)","v":{"$error":"#N/A"}}," "]
[null,null,null,null,null,null,null,null,null,{"$f":"+IFERROR(VLOOKUP(C6148,'Charge Conversion'!A:C,3,0),\" \")","v":" "},null," ",null,null,null,null,null,{"$f":"VLOOKUP(D6148,'Group Name'!A:B,2,0)","v":{"$error":"#N/A"}}," "]
[null,null,null,null,null,null,null,null,null,{"$f":"+IFERROR(VLOOKUP(C6149,'Charge Conversion'!A:C,3,0),\" \")","v":" "},null,{"$f":"S6149","v":" "},null,null,null,null,null,{"$f":"VLOOKUP(D6149,'Group Name'!A:B,2,0)","v":{"$error":"#N/A"}},{"$f":"IFERROR((IF(A6149=\" \",\" \",R6149)),\" \")","v":" "}]
[null,null,null,null,null,null,null,null,null,{"$f":"+IFERROR(VLOOKUP(C6153,'Charge Conversion'!A:C,3,0),\" \")","v":" "},null," ",null,null,null,null,null,{"$f":"VLOOKUP(D6153,'Group Name'!A:B,2,0)","v":{"$error":"#N/A"}}," "]
[null,null,null,null,null,null,null,null,null,{"$f":"+IFERROR(VLOOKUP(C6154,'Charge Conversion'!A:C,3,0),\" \")","v":" "},null," ",null,null,null,null,null,{"$f":"VLOOKUP(D6154,'Group Name'!A:B,2,0)","v":{"$error":"#N/A"}}," "]
[null,null,null,null,null,null,null,null,null,{"$f":"+IFERROR(VLOOKUP(C6156,'Charge Conversion'!A:C,3,0),\" \")","v":" "},null," ",null,null,null,null,null,{"$f":"VLOOKUP(D6156,'Group Name'!A:B,2,0)","v":{"$error":"#N/A"}}," "]
[null,null,null,null,null,null,null,null,null,{"$f":"+IFERROR(VLOOKUP(C6159,'Charge Conversion'!A:C,3,0),\" \")","v":" "},null," ",null,null,null,null,null,{"$f":"VLOOKUP(D6159,'Group Name'!A:B,2,0)","v":{"$error":"#N/A"}}," "]
[null,null,null,null,null,null,null,null,null,{"$f":"+IFERROR(VLOOKUP(C6162,'Charge Conversion'!A:C,3,0),\" \")","v":" "},null," ",null,null,null,null,null,{"$f":"VLOOKUP(D6162,'Group Name'!A:B,2,0)","v":{"$error":"#N/A"}}," "]
[null,null,null,null,null,null,null,null,null,{"$f":"+IFERROR(VLOOKUP(C6164,'Charge Conversion'!A:C,3,0),\" \")","v":" "},null," ",null,null,null,null,null,{"$f":"VLOOKUP(D6164,'Group Name'!A:B,2,0)","v":{"$error":"#N/A"}}," "]
[null,null,null,null,null,null,null,null,null,{"$f":"+IFERROR(VLOOKUP(C6168,'Charge Conversion'!A:C,3,0),\" \")","v":" "},null," ",null,null,null,null,null,{"$f":"VLOOKUP(D6168,'Group Name'!A:B,2,0)","v":{"$error":"#N/A"}}," "]
[null,null,null,null,null,null,null,null,null,{"$f":"+IFERROR(VLOOKUP(C6169,'Charge Conversion'!A:C,3,0),\" \")","v":" "},null," ",null,null,null,null,null,{"$f":"VLOOKUP(D6169,'Group Name'!A:B,2,0)","v":{"$error":"#N/A"}}," "]
[null,null,null,null,null,null,null,null,null,{"$f":"+IFERROR(VLOOKUP(C6173,'Charge Conversion'!A:C,3,0),\" \")","v":" "},null," ",null,null,null,null,null,{"$f":"VLOOKUP(D6173,'Group Name'!A:B,2,0)","v":{"$error":"#N/A"}}," "]
[null,null,null,null,null,null,null,null,null,{"$f":"+IFERROR(VLOOKUP(C6174,'Charge Conversion'!A:C,3,0),\" \")","v":" "},null," ",null,null,null,null,null,{"$f":"VLOOKUP(D6174,'Group Name'!A:B,2,0)","v":{"$error":"#N/A"}}," "]
[null,null,null,null,null,null,null,null,null,{"$f":"+IFERROR(VLOOKUP(C6176,'Charge Conversion'!A:C,3,0),\" \")","v":" "},null," ",null,null,null,null,null,{"$f":"VLOOKUP(D6176,'Group Name'!A:B,2,0)","v":{"$error":"#N/A"}}," "]
[null,null,null,null,null,null,null,null,null,{"$f":"+IFERROR(VLOOKUP(C6179,'Charge Conversion'!A:C,3,0),\" \")","v":" "},null," ",null,null,null,null,null,{"$f":"VLOOKUP(D6179,'Group Name'!A:B,2,0)","v":{"$error":"#N/A"}}," "]
[null,null,null,null,null,null,null,null,null,{"$f":"+IFERROR(VLOOKUP(C6182,'Charge Conversion'!A:C,3,0),\" \")","v":" "},null," ",null,null,null,null,null,{"$f":"VLOOKUP(D6182,'Group Name'!A:B,2,0)","v":{"$error":"#N/A"}}," "]
[null,null,null,null,null,null,null,null,null,{"$f":"+IFERROR(VLOOKUP(C6184,'Charge Conversion'!A:C,3,0),\" \")","v":" "},null," ",null,null,null,null,null,{"$f":"VLOOKUP(D6184,'Group Name'!A:B,2,0)","v":{"$error":"#N/A"}}," "]
[null,null,null,null,null,null,null,null,null,{"$f":"+IFERROR(VLOOKUP(C6188,'Charge Conversion'!A:C,3,0),\" \")","v":" "},null," ",null,null,null,null,null,{"$f":"VLOOKUP(D6188,'Group Name'!A:B,2,0)","v":{"$error":"#N/A"}}," "]
[null,null,null,null,null,null,null,null,null,{"$f":"+IFERROR(VLOOKUP(C6189,'Charge Conversion'!A:C,3,0),\" \")","v":" "},null," ",null,null,null,null,null,{"$f":"VLOOKUP(D6189,'Group Name'!A:B,2,0)","v":{"$error":"#N/A"}}," "]
[null,null,null,null,null,null,null,null,null,{"$f":"+IFERROR(VLOOKUP(C6193,'Charge Conversion'!A:C,3,0),\" \")","v":" "},null," ",null,null,null,null,null,{"$f":"VLOOKUP(D6193,'Group Name'!A:B,2,0)","v":{"$error":"#N/A"}}," "]
[null,null,null,null,null,null,null,null,null,{"$f":"+IFERROR(VLOOKUP(C6194,'Charge Conversion'!A:C,3,0),\" \")","v":" "},null," ",null,null,null,null,null,{"$f":"VLOOKUP(D6194,'Group Name'!A:B,2,0)","v":{"$error":"#N/A"}}," "]
[null,null,null,null,null,null,null,null,null,{"$f":"+IFERROR(VLOOKUP(C6196,'Charge Conversion'!A:C,3,0),\" \")","v":" "},null," ",null,null,null,null,null,{"$f":"VLOOKUP(D6196,'Group Name'!A:B,2,0)","v":{"$error":"#N/A"}}," "]
[null,null,null,null,null,null,null,null,null,{"$f":"+IFERROR(VLOOKUP(C6199,'Charge Conversion'!A:C,3,0),\" \")","v":" "},null," ",null,null,null,null,null,{"$f":"VLOOKUP(D6199,'Group Name'!A:B,2,0)","v":{"$error":"#N/A"}}," "]
[null,null,null,null,null,null,null,null,null,{"$f":"+IFERROR(VLOOKUP(C6202,'Charge Conversion'!A:C,3,0),\" \")","v":" "},null," ",null,null,null,null,null,{"$f":"VLOOKUP(D6202,'Group Name'!A:B,2,0)","v":{"$error":"#N/A"}}," "]
[null,null,null,null,null,null,null,null,null,{"$f":"+IFERROR(VLOOKUP(C6204,'Charge Conversion'!A:C,3,0),\" \")","v":" "},null," ",null,null,null,null,null,{"$f":"VLOOKUP(D6204,'Group Name'!A:B,2,0)","v":{"$error":"#N/A"}}," "]
[null,null,null,null,null,null,null,null,null,{"$f":"+IFERROR(VLOOKUP(C6208,'Charge Conversion'!A:C,3,0),\" \")","v":" "},null," ",null,null,null,null,null,{"$f":"VLOOKUP(D6208,'Group Name'!A:B,2,0)","v":{"$error":"#N/A"}}," "]
[null,null,null,null,null,null,null,null,null,{"$f":"+IFERROR(VLOOKUP(C6209,'Charge Conversion'!A:C,3,0),\" \")","v":" "},null," ",null,null,null,null,null,{"$f":"VLOOKUP(D6209,'Group Name'!A:B,2,0)","v":{"$error":"#N/A"}}," "]
[null,null,null,null,null,null,null,null,null,{"$f":"+IFERROR(VLOOKUP(C6213,'Charge Conversion'!A:C,3,0),\" \")","v":" "},null,{"$f":"S6213","v":" "},null,null,null,null,null,{"$f":"VLOOKUP(D6213,'Group Name'!A:B,2,0)","v":{"$error":"#N/A"}},{"$f":"IFERROR((IF(A6213=\" \",\" \",R6213)),\" \")","v":" "}]
[null,null,null,null,null,null,null,null,null,{"$f":"+IFERROR(VLOOKUP(C6214,'Charge Conversion'!A:C,3,0),\" \")","v":" "},null," ",null,null,null,null,null,{"$f":"VLOOKUP(D6214,'Group Name'!A:B,2,0)","v":{"$error":"#N/A"}}," "]
[null,null,null,null,null,null,null,null,null,{"$f":"+IFERROR(VLOOKUP(C6216,'Charge Conversion'!A:C,3,0),\" \")","v":" "},null," ",null,null,null,null,null,{"$f":"VLOOKUP(D6216,'Group Name'!A:B,2,0)","v":{"$error":"#N/A"}}," "]
[null,null,null,null,null,null,null,null,null,{"$f":"+IFERROR(VLOOKUP(C6219,'Charge Conversion'!A:C,3,0),\" \")","v":" "},null," ",null,null,null,null,null,{"$f":"VLOOKUP(D6219,'Group Name'!A:B,2,0)","v":{"$error":"#N/A"}}," "]
[null,null,null,null,null,null,null,null,null,{"$f":"+IFERROR(VLOOKUP(C6222,'Charge Conversion'!A:C,3,0),\" \")","v":" "},null," ",null,null,null,null,null,{"$f":"VLOOKUP(D6222,'Group Name'!A:B,2,0)","v":{"$error":"#N/A"}}," "]
[null,null,null,null,null,null,null,null,null,{"$f":"+IFERROR(VLOOKUP(C6224,'Charge Conversion'!A:C,3,0),\" \")","v":" "},null," ",null,null,null,null,null,{"$f":"VLOOKUP(D6224,'Group Name'!A:B,2,0)","v":{"$error":"#N/A"}}," "]
[null,null,null,null,null,null,null,null,null,{"$f":"+IFERROR(VLOOKUP(C6228,'Charge Conversion'!A:C,3,0),\" \")","v":" "},null," ",null,null,null,null,null,{"$f":"VLOOKUP(D6228,'Group Name'!A:B,2,0)","v":{"$error":"#N/A"}}," "]
[null,null,null,null,null,null,null,null,null,{"$f":"+IFERROR(VLOOKUP(C6231,'Charge Conversion'!A:C,3,0),\" \")","v":" "},null," ",null,null,null,null,null,{"$f":"VLOOKUP(D6231,'Group Name'!A:B,2,0)","v":{"$error":"#N/A"}}," "]
[null,null,null,null,null,null,null,null,null,{"$f":"+IFERROR(VLOOKUP(C6233,'Charge Conversion'!A:C,3,0),\" \")","v":" "},null," ",null,null,null,null,null,{"$f":"VLOOKUP(D6233,'Group Name'!A:B,2,0)","v":{"$error":"#N/A"}}," "]
[null,null,null,null,null,null,null,null,null,{"$f":"+IFERROR(VLOOKUP(C6234,'Charge Conversion'!A:C,3,0),\" \")","v":" "},null," ",null,null,null,null,null,{"$f":"VLOOKUP(D6234,'Group Name'!A:B,2,0)","v":{"$error":"#N/A"}}," "]
[null,null,null,null,null,null,null,null,null,{"$f":"+IFERROR(VLOOKUP(C6238,'Charge Conversion'!A:C,3,0),\" \")","v":" "},null," ",null,null,null,null,null,{"$f":"VLOOKUP(D6238,'Group Name'!A:B,2,0)","v":{"$error":"#N/A"}}," "]
[null,null,null,null,null,null,null,null,null,{"$f":"+IFERROR(VLOOKUP(C6240,'Charge Conversion'!A:C,3,0),\" \")","v":" "},null," ",null,null,null,null,null,{"$f":"VLOOKUP(D6240,'Group Name'!A:B,2,0)","v":{"$error":"#N/A"}}," "]
[null,null,null,null,null,null,null,null,null,{"$f":"+IFERROR(VLOOKUP(C6243,'Charge Conversion'!A:C,3,0),\" \")","v":" "},null," ",null,null,null,null,null,{"$f":"VLOOKUP(D6243,'Group Name'!A:B,2,0)","v":{"$error":"#N/A"}}," "]
[null,null,null,null,null,null,null,null,null,{"$f":"+IFERROR(VLOOKUP(C6245,'Charge Conversion'!A:C,3,0),\" \")","v":" "},null," ",null,null,null,null,null,{"$f":"VLOOKUP(D6245,'Group Name'!A:B,2,0)","v":{"$error":"#N/A"}}," "]
[null,null,null,null,null,null,null,null,null,{"$f":"+IFERROR(VLOOKUP(C6248,'Charge Conversion'!A:C,3,0),\" \")","v":" "},null," ",null,null,null,null,null,{"$f":"VLOOKUP(D6248,'Group Name'!A:B,2,0)","v":{"$error":"#N/A"}}," "]
[null,null,null,null,null,null,null,null,null,{"$f":"+IFERROR(VLOOKUP(C6251,'Charge Conversion'!A:C,3,0),\" \")","v":" "},null," ",null,null,null,null,null,{"$f":"VLOOKUP(D6251,'Group Name'!A:B,2,0)","v":{"$error":"#N/A"}}," "]
[null,null,null,null,null,null,null,null,null,{"$f":"+IFERROR(VLOOKUP(C6253,'Charge Conversion'!A:C,3,0),\" \")","v":" "},null," ",null,null,null,null,null,{"$f":"VLOOKUP(D6253,'Group Name'!A:B,2,0)","v":{"$error":"#N/A"}}," "]
[null,null,null,null,null,null,null,null,null,{"$f":"+IFERROR(VLOOKUP(C6254,'Charge Conversion'!A:C,3,0),\" \")","v":" "},null," ",null,null,null,null,null,{"$f":"VLOOKUP(D6254,'Group Name'!A:B,2,0)","v":{"$error":"#N/A"}}," "]
[null,null,null,null,null,null,null,null,null,{"$f":"+IFERROR(VLOOKUP(C6258,'Charge Conversion'!A:C,3,0),\" \")","v":" "},null," ",null,null,null,null,null,{"$f":"VLOOKUP(D6258,'Group Name'!A:B,2,0)","v":{"$error":"#N/A"}}," "]
[null,null,null,null,null,null,null,null,null,{"$f":"+IFERROR(VLOOKUP(C6260,'Charge Conversion'!A:C,3,0),\" \")","v":" "},null," ",null,null,null,null,null,{"$f":"VLOOKUP(D6260,'Group Name'!A:B,2,0)","v":{"$error":"#N/A"}}," "]
[null,null,null,null,null,null,null,null,null,{"$f":"+IFERROR(VLOOKUP(C6263,'Charge Conversion'!A:C,3,0),\" \")","v":" "},null," ",null,null,null,null,null,{"$f":"VLOOKUP(D6263,'Group Name'!A:B,2,0)","v":{"$error":"#N/A"}}," "]
[null,null,null,null,null,null,null,null,null,{"$f":"+IFERROR(VLOOKUP(C6265,'Charge Conversion'!A:C,3,0),\" \")","v":" "},null," ",null,null,null,null,null,{"$f":"VLOOKUP(D6265,'Group Name'!A:B,2,0)","v":{"$error":"#N/A"}}," "]
[null,null,null,null,null,null,null,null,null,{"$f":"+IFERROR(VLOOKUP(C6268,'Charge Conversion'!A:C,3,0),\" \")","v":" "},null," ",null,null,null,null,null,{"$f":"VLOOKUP(D6268,'Group Name'!A:B,2,0)","v":{"$error":"#N/A"}}," "]
[null,null,null,null,null,null,null,null,null,{"$f":"+IFERROR(VLOOKUP(C6271,'Charge Conversion'!A:C,3,0),\" \")","v":" "},null," ",null,null,null,null,null,{"$f":"VLOOKUP(D6271,'Group Name'!A:B,2,0)","v":{"$error":"#N/A"}}," "]
[null,null,null,null,null,null,null,null,null,{"$f":"+IFERROR(VLOOKUP(C6273,'Charge Conversion'!A:C,3,0),\" \")","v":" "},null," ",null,null,null,null,null,{"$f":"VLOOKUP(D6273,'Group Name'!A:B,2,0)","v":{"$error":"#N/A"}}," "]
[null,null,null,null,null,null,null,null,null,{"$f":"+IFERROR(VLOOKUP(C6274,'Charge Conversion'!A:C,3,0),\" \")","v":" "},null," ",null,null,null,null,null,{"$f":"VLOOKUP(D6274,'Group Name'!A:B,2,0)","v":{"$error":"#N/A"}}," "]
[null,null,null,null,null,null,null,null,null,{"$f":"+IFERROR(VLOOKUP(C6278,'Charge Conversion'!A:C,3,0),\" \")","v":" "},null," ",null,null,null,null,null,{"$f":"VLOOKUP(D6278,'Group Name'!A:B,2,0)","v":{"$error":"#N/A"}}," "]
[null,null,null,null,null,null,null,null,null,{"$f":"+IFERROR(VLOOKUP(C6280,'Charge Conversion'!A:C,3,0),\" \")","v":" "},null," ",null,null,null,null,null,{"$f":"VLOOKUP(D6280,'Group Name'!A:B,2,0)","v":{"$error":"#N/A"}}," "]
[null,null,null,null,null,null,null,null,null,{"$f":"+IFERROR(VLOOKUP(C6283,'Charge Conversion'!A:C,3,0),\" \")","v":" "},null," ",null,null,null,null,null,{"$f":"VLOOKUP(D6283,'Group Name'!A:B,2,0)","v":{"$error":"#N/A"}}," "]
[null,null,null,null,null,null,null,null,null,{"$f":"+IFERROR(VLOOKUP(C6286,'Charge Conversion'!A:C,3,0),\" \")","v":" "},null," ",null,null,null,null,null,{"$f":"VLOOKUP(D6286,'Group Name'!A:B,2,0)","v":{"$error":"#N/A"}}," "]
[null,null,null,null,null,null,null,null,null,{"$f":"+IFERROR(VLOOKUP(C6288,'Charge Conversion'!A:C,3,0),\" \")","v":" "},null," ",null,null,null,null,null,{"$f":"VLOOKUP(D6288,'Group Name'!A:B,2,0)","v":{"$error":"#N/A"}}," "]
[null,null,null,null,null,null,null,null,null,{"$f":"+IFERROR(VLOOKUP(C6291,'Charge Conversion'!A:C,3,0),\" \")","v":" "},null," ",null,null,null,null,null,{"$f":"VLOOKUP(D6291,'Group Name'!A:B,2,0)","v":{"$error":"#N/A"}}," "]
[null,null,null,null,null,null,null,null,null,{"$f":"+IFERROR(VLOOKUP(C6293,'Charge Conversion'!A:C,3,0),\" \")","v":" "},null," ",null,null,null,null,null,{"$f":"VLOOKUP(D6293,'Group Name'!A:B,2,0)","v":{"$error":"#N/A"}}," "]
[null,null,null,null,null,null,null,null,null,{"$f":"+IFERROR(VLOOKUP(C6294,'Charge Conversion'!A:C,3,0),\" \")","v":" "},null," ",null,null,null,null,null,{"$f":"VLOOKUP(D6294,'Group Name'!A:B,2,0)","v":{"$error":"#N/A"}}," "]
[null,null,null,null,null,null,null,null,null,{"$f":"+IFERROR(VLOOKUP(C6298,'Charge Conversion'!A:C,3,0),\" \")","v":" "},null," ",null,null,null,null,null,{"$f":"VLOOKUP(D6298,'Group Name'!A:B,2,0)","v":{"$error":"#N/A"}}," "]
[null,null,null,null,null,null,null,null,null,{"$f":"+IFERROR(VLOOKUP(C6300,'Charge Conversion'!A:C,3,0),\" \")","v":" "},null," ",null,null,null,null,null,{"$f":"VLOOKUP(D6300,'Group Name'!A:B,2,0)","v":{"$error":"#N/A"}}," "]
[null,null,null,null,null,null,null,null,null,{"$f":"+IFERROR(VLOOKUP(C6303,'Charge Conversion'!A:C,3,0),\" \")","v":" "},null," ",null,null,null,null,null,{"$f":"VLOOKUP(D6303,'Group Name'!A:B,2,0)","v":{"$error":"#N/A"}}," "]
[null,null,null,null,null,null,null,null,null,{"$f":"+IFERROR(VLOOKUP(C6306,'Charge Conversion'!A:C,3,0),\" \")","v":" "},null," ",null,null,null,null,null,{"$f":"VLOOKUP(D6306,'Group Name'!A:B,2,0)","v":{"$error":"#N/A"}}," "]
[null,null,null,null,null,null,null,null,null,{"$f":"+IFERROR(VLOOKUP(C6308,'Charge Conversion'!A:C,3,0),\" \")","v":" "},null," ",null,null,null,null,null,{"$f":"VLOOKUP(D6308,'Group Name'!A:B,2,0)","v":{"$error":"#N/A"}}," "]
[null,null,null,null,null,null,null,null,null,{"$f":"+IFERROR(VLOOKUP(C6311,'Charge Conversion'!A:C,3,0),\" \")","v":" "},null," ",null,null,null,null,null,{"$f":"VLOOKUP(D6311,'Group Name'!A:B,2,0)","v":{"$error":"#N/A"}}," "]
[null,null,null,null,null,null,null,null,null,{"$f":"+IFERROR(VLOOKUP(C6313,'Charge Conversion'!A:C,3,0),\" \")","v":" "},null," ",null,null,null,null,null,{"$f":"VLOOKUP(D6313,'Group Name'!A:B,2,0)","v":{"$error":"#N/A"}}," "]
[null,null,null,null,null,null,null,null,null,{"$f":"+IFERROR(VLOOKUP(C6314,'Charge Conversion'!A:C,3,0),\" \")","v":" "},null," ",null,null,null,null,null,{"$f":"VLOOKUP(D6314,'Group Name'!A:B,2,0)","v":{"$error":"#N/A"}}," "]
[null,null,null,null,null,null,null,null,null,{"$f":"+IFERROR(VLOOKUP(C6318,'Charge Conversion'!A:C,3,0),\" \")","v":" "},null," ",null,null,null,null,null,{"$f":"VLOOKUP(D6318,'Group Name'!A:B,2,0)","v":{"$error":"#N/A"}}," "]
[null,null,null,null,null,null,null,null,null,{"$f":"+IFERROR(VLOOKUP(C6320,'Charge Conversion'!A:C,3,0),\" \")","v":" "},null," ",null,null,null,null,null,{"$f":"VLOOKUP(D6320,'Group Name'!A:B,2,0)","v":{"$error":"#N/A"}}," "]
[null,null,null,null,null,null,null,null,null,{"$f":"+IFERROR(VLOOKUP(C6323,'Charge Conversion'!A:C,3,0),\" \")","v":" "},null," ",null,null,null,null,null,{"$f":"VLOOKUP(D6323,'Group Name'!A:B,2,0)","v":{"$error":"#N/A"}}," "]
[null,null,null,null,null,null,null,null,null,{"$f":"+IFERROR(VLOOKUP(C6326,'Charge Conversion'!A:C,3,0),\" \")","v":" "},null," ",null,null,null,null,null,{"$f":"VLOOKUP(D6326,'Group Name'!A:B,2,0)","v":{"$error":"#N/A"}}," "]
[null,null,null,null,null,null,null,null,null,{"$f":"+IFERROR(VLOOKUP(C6328,'Charge Conversion'!A:C,3,0),\" \")","v":" "},null," ",null,null,null,null,null,{"$f":"VLOOKUP(D6328,'Group Name'!A:B,2,0)","v":{"$error":"#N/A"}}," "]
[null,null,null,null,null,null,null,null,null,{"$f":"+IFERROR(VLOOKUP(C6331,'Charge Conversion'!A:C,3,0),\" \")","v":" "},null," ",null,null,null,null,null,{"$f":"VLOOKUP(D6331,'Group Name'!A:B,2,0)","v":{"$error":"#N/A"}}," "]
[null,null,null,null,null,null,null,null,null,{"$f":"+IFERROR(VLOOKUP(C6333,'Charge Conversion'!A:C,3,0),\" \")","v":" "},null," ",null,null,null,null,null,{"$f":"VLOOKUP(D6333,'Group Name'!A:B,2,0)","v":{"$error":"#N/A"}}," "]
[null,null,null,null,null,null,null,null,null,{"$f":"+IFERROR(VLOOKUP(C6334,'Charge Conversion'!A:C,3,0),\" \")","v":" "},null," ",null,null,null,null,null,{"$f":"VLOOKUP(D6334,'Group Name'!A:B,2,0)","v":{"$error":"#N/A"}}," "]
[null,null,null,null,null,null,null,null,null,{"$f":"+IFERROR(VLOOKUP(C6338,'Charge Conversion'!A:C,3,0),\" \")","v":" "},null," ",null,null,null,null,null,{"$f":"VLOOKUP(D6338,'Group Name'!A:B,2,0)","v":{"$error":"#N/A"}}," "]
[null,null,null,null,null,null,null,null,null,{"$f":"+IFERROR(VLOOKUP(C6340,'Charge Conversion'!A:C,3,0),\" \")","v":" "},null," ",null,null,null,null,null,{"$f":"VLOOKUP(D6340,'Group Name'!A:B,2,0)","v":{"$error":"#N/A"}}," "]
[null,null,null,null,null,null,null,null,null,{"$f":"+IFERROR(VLOOKUP(C6343,'Charge Conversion'!A:C,3,0),\" \")","v":" "},null," ",null,null,null,null,null,{"$f":"VLOOKUP(D6343,'Group Name'!A:B,2,0)","v":{"$error":"#N/A"}}," "]
[null,null,null,null,null,null,null,null,null,{"$f":"+IFERROR(VLOOKUP(C6346,'Charge Conversion'!A:C,3,0),\" \")","v":" "},null," ",null,null,null,null,null,{"$f":"VLOOKUP(D6346,'Group Name'!A:B,2,0)","v":{"$error":"#N/A"}}," "]
[null,null,null,null,null,null,null,null,null,{"$f":"+IFERROR(VLOOKUP(C6348,'Charge Conversion'!A:C,3,0),\" \")","v":" "},null," ",null,null,null,null,null,{"$f":"VLOOKUP(D6348,'Group Name'!A:B,2,0)","v":{"$error":"#N/A"}}," "]
[null,null,null,null,null,null,null,null,null,{"$f":"+IFERROR(VLOOKUP(C6351,'Charge Conversion'!A:C,3,0),\" \")","v":" "},null," ",null,null,null,null,null,{"$f":"VLOOKUP(D6351,'Group Name'!A:B,2,0)","v":{"$error":"#N/A"}}," "]
[null,null,null,null,null,null,null,null,null,{"$f":"+IFERROR(VLOOKUP(C6353,'Charge Conversion'!A:C,3,0),\" \")","v":" "},null," ",null,null,null,null,null,{"$f":"VLOOKUP(D6353,'Group Name'!A:B,2,0)","v":{"$error":"#N/A"}}," "]
[null,null,null,null,null,null,null,null,null,{"$f":"+IFERROR(VLOOKUP(C6354,'Charge Conversion'!A:C,3,0),\" \")","v":" "},null," ",null,null,null,null,null,{"$f":"VLOOKUP(D6354,'Group Name'!A:B,2,0)","v":{"$error":"#N/A"}}," "]
[null,null,null,null,null,null,null,null,null,{"$f":"+IFERROR(VLOOKUP(C6358,'Charge Conversion'!A:C,3,0),\" \")","v":" "},null," ",null,null,null,null,null,{"$f":"VLOOKUP(D6358,'Group Name'!A:B,2,0)","v":{"$error":"#N/A"}}," "]
[null,null,null,null,null,null,null,null,null,{"$f":"+IFERROR(VLOOKUP(C6360,'Charge Conversion'!A:C,3,0),\" \")","v":" "},null," ",null,null,null,null,null,{"$f":"VLOOKUP(D6360,'Group Name'!A:B,2,0)","v":{"$error":"#N/A"}}," "]
[null,null,null,null,null,null,null,null,null,{"$f":"+IFERROR(VLOOKUP(C6363,'Charge Conversion'!A:C,3,0),\" \")","v":" "},null," ",null,null,null,null,null,{"$f":"VLOOKUP(D6363,'Group Name'!A:B,2,0)","v":{"$error":"#N/A"}}," "]
[null,null,null,null,null,null,null,null,null,{"$f":"+IFERROR(VLOOKUP(C6365,'Charge Conversion'!A:C,3,0),\" \")","v":" "},null," ",null,null,null,null,null,{"$f":"VLOOKUP(D6365,'Group Name'!A:B,2,0)","v":{"$error":"#N/A"}}," "]
[null,null,null,null,null,null,null,null,null,{"$f":"+IFERROR(VLOOKUP(C6369,'Charge Conversion'!A:C,3,0),\" \")","v":" "},null," ",null,null,null,null,null,{"$f":"VLOOKUP(D6369,'Group Name'!A:B,2,0)","v":{"$error":"#N/A"}}," "]
[null,null,null,null,null,null,null,null,null,{"$f":"+IFERROR(VLOOKUP(C6370,'Charge Conversion'!A:C,3,0),\" \")","v":" "},null," ",null,null,null,null,null,{"$f":"VLOOKUP(D6370,'Group Name'!A:B,2,0)","v":{"$error":"#N/A"}}," "]
[null,null,null,null,null,null,null,null,null,{"$f":"+IFERROR(VLOOKUP(C6372,'Charge Conversion'!A:C,3,0),\" \")","v":" "},null," ",null,null,null,null,null,{"$f":"VLOOKUP(D6372,'Group Name'!A:B,2,0)","v":{"$error":"#N/A"}}," "]
[null,null,null,null,null,null,null,null,null,{"$f":"+IFERROR(VLOOKUP(C6375,'Charge Conversion'!A:C,3,0),\" \")","v":" "},null," ",null,null,null,null,null,{"$f":"VLOOKUP(D6375,'Group Name'!A:B,2,0)","v":{"$error":"#N/A"}}," "]
[null,null,null,null,null,null,null,null,null,{"$f":"+IFERROR(VLOOKUP(C6378,'Charge Conversion'!A:C,3,0),\" \")","v":" "},null," ",null,null,null,null,null,{"$f":"VLOOKUP(D6378,'Group Name'!A:B,2,0)","v":{"$error":"#N/A"}}," "]
[null,null,null,null,null,null,null,null,null,{"$f":"+IFERROR(VLOOKUP(C6380,'Charge Conversion'!A:C,3,0),\" \")","v":" "},null," ",null,null,null,null,null,{"$f":"VLOOKUP(D6380,'Group Name'!A:B,2,0)","v":{"$error":"#N/A"}}," "]
[null,null,null,null,null,null,null,null,null,{"$f":"+IFERROR(VLOOKUP(C6383,'Charge Conversion'!A:C,3,0),\" \")","v":" "},null," ",null,null,null,null,null,{"$f":"VLOOKUP(D6383,'Group Name'!A:B,2,0)","v":{"$error":"#N/A"}}," "]
[null,null,null,null,null,null,null,null,null,{"$f":"+IFERROR(VLOOKUP(C6385,'Charge Conversion'!A:C,3,0),\" \")","v":" "},null," ",null,null,null,null,null,{"$f":"VLOOKUP(D6385,'Group Name'!A:B,2,0)","v":{"$error":"#N/A"}}," "]
[null,null,null,null,null,null,null,null,null,{"$f":"+IFERROR(VLOOKUP(C6389,'Charge Conversion'!A:C,3,0),\" \")","v":" "},null," ",null,null,null,null,null,{"$f":"VLOOKUP(D6389,'Group Name'!A:B,2,0)","v":{"$error":"#N/A"}}," "]
[null,null,null,null,null,null,null,null,null,{"$f":"+IFERROR(VLOOKUP(C6390,'Charge Conversion'!A:C,3,0),\" \")","v":" "},null," ",null,null,null,null,null,{"$f":"VLOOKUP(D6390,'Group Name'!A:B,2,0)","v":{"$error":"#N/A"}}," "]
[null,null,null,null,null,null,null,null,null,{"$f":"+IFERROR(VLOOKUP(C6392,'Charge Conversion'!A:C,3,0),\" \")","v":" "},null," ",null,null,null,null,null,{"$f":"VLOOKUP(D6392,'Group Name'!A:B,2,0)","v":{"$error":"#N/A"}}," "]
[null,null,null,null,null,null,null,null,null,{"$f":"+IFERROR(VLOOKUP(C6395,'Charge Conversion'!A:C,3,0),\" \")","v":" "},null," ",null,null,null,null,null,{"$f":"VLOOKUP(D6395,'Group Name'!A:B,2,0)","v":{"$error":"#N/A"}}," "]
[null,null,null,null,null,null,null,null,null,{"$f":"+IFERROR(VLOOKUP(C6398,'Charge Conversion'!A:C,3,0),\" \")","v":" "},null," ",null,null,null,null,null,{"$f":"VLOOKUP(D6398,'Group Name'!A:B,2,0)","v":{"$error":"#N/A"}}," "]
[null,null,null,null,null,null,null,null,null,{"$f":"+IFERROR(VLOOKUP(C6400,'Charge Conversion'!A:C,3,0),\" \")","v":" "},null," ",null,null,null,null,null,{"$f":"VLOOKUP(D6400,'Group Name'!A:B,2,0)","v":{"$error":"#N/A"}}," "]
[null,null,null,null,null,null,null,null,null,{"$f":"+IFERROR(VLOOKUP(C6403,'Charge Conversion'!A:C,3,0),\" \")","v":" "},null," ",null,null,null,null,null,{"$f":"VLOOKUP(D6403,'Group Name'!A:B,2,0)","v":{"$error":"#N/A"}}," "]
[null,null,null,null,null,null,null,null,null,{"$f":"+IFERROR(VLOOKUP(C6405,'Charge Conversion'!A:C,3,0),\" \")","v":" "},null,{"$f":"S6405","v":" "},null,null,null,null,null,{"$f":"VLOOKUP(D6405,'Group Name'!A:B,2,0)","v":{"$error":"#N/A"}},{"$f":"IFERROR((IF(A6405=\" \",\" \",R6405)),\" \")","v":" "}]
[null,null,null,null,null,null,null,null,null,{"$f":"+IFERROR(VLOOKUP(C6409,'Charge Conversion'!A:C,3,0),\" \")","v":" "},null," ",null,null,null,null,null,{"$f":"VLOOKUP(D6409,'Group Name'!A:B,2,0)","v":{"$error":"#N/A"}}," "]
[null,null,null,null,null,null,null,null,null,{"$f":"+IFERROR(VLOOKUP(C6410,'Charge Conversion'!A:C,3,0),\" \")","v":" "},null," ",null,null,null,null,null,{"$f":"VLOOKUP(D6410,'Group Name'!A:B,2,0)","v":{"$error":"#N/A"}}," "]
[null,null,null,null,null,null,null,null,null,{"$f":"+IFERROR(VLOOKUP(C6412,'Charge Conversion'!A:C,3,0),\" \")","v":" "},null," ",null,null,null,null,null,{"$f":"VLOOKUP(D6412,'Group Name'!A:B,2,0)","v":{"$error":"#N/A"}}," "]
[null,null,null,null,null,null,null,null,null,{"$f":"+IFERROR(VLOOKUP(C6415,'Charge Conversion'!A:C,3,0),\" \")","v":" "},null," ",null,null,null,null,null,{"$f":"VLOOKUP(D6415,'Group Name'!A:B,2,0)","v":{"$error":"#N/A"}}," "]
[null,null,null,null,null,null,null,null,null,{"$f":"+IFERROR(VLOOKUP(C6418,'Charge Conversion'!A:C,3,0),\" \")","v":" "},null," ",null,null,null,null,null,{"$f":"VLOOKUP(D6418,'Group Name'!A:B,2,0)","v":{"$error":"#N/A"}}," "]
[null,null,null,null,null,null,null,null,null,{"$f":"+IFERROR(VLOOKUP(C6420,'Charge Conversion'!A:C,3,0),\" \")","v":" "},null," ",null,null,null,null,null,{"$f":"VLOOKUP(D6420,'Group Name'!A:B,2,0)","v":{"$error":"#N/A"}}," "]
[null,null,null,null,null,null,null,null,null,{"$f":"+IFERROR(VLOOKUP(C6424,'Charge Conversion'!A:C,3,0),\" \")","v":" "},null," ",null,null,null,null,null,{"$f":"VLOOKUP(D6424,'Group Name'!A:B,2,0)","v":{"$error":"#N/A"}}," "]
[null,null,null,null,null,null,null,null,null,{"$f":"+IFERROR(VLOOKUP(C6425,'Charge Conversion'!A:C,3,0),\" \")","v":" "},null," ",null,null,null,null,null,{"$f":"VLOOKUP(D6425,'Group Name'!A:B,2,0)","v":{"$error":"#N/A"}}," "]
[null,null,null,null,null,null,null,null,null,{"$f":"+IFERROR(VLOOKUP(C6429,'Charge Conversion'!A:C,3,0),\" \")","v":" "},null," ",null,null,null,null,null,{"$f":"VLOOKUP(D6429,'Group Name'!A:B,2,0)","v":{"$error":"#N/A"}}," "]
[null,null,null,null,null,null,null,null,null,{"$f":"+IFERROR(VLOOKUP(C6430,'Charge Conversion'!A:C,3,0),\" \")","v":" "},null," ",null,null,null,null,null,{"$f":"VLOOKUP(D6430,'Group Name'!A:B,2,0)","v":{"$error":"#N/A"}}," "]
[null,null,null,null,null,null,null,null,null,{"$f":"+IFERROR(VLOOKUP(C6432,'Charge Conversion'!A:C,3,0),\" \")","v":" "},null," ",null,null,null,null,null,{"$f":"VLOOKUP(D6432,'Group Name'!A:B,2,0)","v":{"$error":"#N/A"}}," "]
[null,null,null,null,null,null,null,null,null,{"$f":"+IFERROR(VLOOKUP(C6435,'Charge Conversion'!A:C,3,0),\" \")","v":" "},null," ",null,null,null,null,null,{"$f":"VLOOKUP(D6435,'Group Name'!A:B,2,0)","v":{"$error":"#N/A"}}," "]
[null,null,null,null,null,null,null,null,null,{"$f":"+IFERROR(VLOOKUP(C6438,'Charge Conversion'!A:C,3,0),\" \")","v":" "},null," ",null,null,null,null,null,{"$f":"VLOOKUP(D6438,'Group Name'!A:B,2,0)","v":{"$error":"#N/A"}}," "]
[null,null,null,null,null,null,null,null,null,{"$f":"+IFERROR(VLOOKUP(C6440,'Charge Conversion'!A:C,3,0),\" \")","v":" "},null," ",null,null,null,null,null,{"$f":"VLOOKUP(D6440,'Group Name'!A:B,2,0)","v":{"$error":"#N/A"}}," "]
[null,null,null,null,null,null,null,null,null,{"$f":"+IFERROR(VLOOKUP(C6444,'Charge Conversion'!A:C,3,0),\" \")","v":" "},null," ",null,null,null,null,null,{"$f":"VLOOKUP(D6444,'Group Name'!A:B,2,0)","v":{"$error":"#N/A"}}," "]
[null,null,null,null,null,null,null,null,null,{"$f":"+IFERROR(VLOOKUP(C6445,'Charge Conversion'!A:C,3,0),\" \")","v":" "},null," ",null,null,null,null,null,{"$f":"VLOOKUP(D6445,'Group Name'!A:B,2,0)","v":{"$error":"#N/A"}}," "]
[null,null,null,null,null,null,null,null,null,{"$f":"+IFERROR(VLOOKUP(C6449,'Charge Conversion'!A:C,3,0),\" \")","v":" "},null," ",null,null,null,null,null,{"$f":"VLOOKUP(D6449,'Group Name'!A:B,2,0)","v":{"$error":"#N/A"}}," "]
[null,null,null,null,null,null,null,null,null,{"$f":"+IFERROR(VLOOKUP(C6450,'Charge Conversion'!A:C,3,0),\" \")","v":" "},null," ",null,null,null,null,null,{"$f":"VLOOKUP(D6450,'Group Name'!A:B,2,0)","v":{"$error":"#N/A"}}," "]
[null,null,null,null,null,null,null,null,null,{"$f":"+IFERROR(VLOOKUP(C6452,'Charge Conversion'!A:C,3,0),\" \")","v":" "},null," ",null,null,null,null,null,{"$f":"VLOOKUP(D6452,'Group Name'!A:B,2,0)","v":{"$error":"#N/A"}}," "]
[null,null,null,null,null,null,null,null,null,{"$f":"+IFERROR(VLOOKUP(C6455,'Charge Conversion'!A:C,3,0),\" \")","v":" "},null," ",null,null,null,null,null,{"$f":"VLOOKUP(D6455,'Group Name'!A:B,2,0)","v":{"$error":"#N/A"}}," "]
[null,null,null,null,null,null,null,null,null,{"$f":"+IFERROR(VLOOKUP(C6458,'Charge Conversion'!A:C,3,0),\" \")","v":" "},null," ",null,null,null,null,null,{"$f":"VLOOKUP(D6458,'Group Name'!A:B,2,0)","v":{"$error":"#N/A"}}," "]
[null,null,null,null,null,null,null,null,null,{"$f":"+IFERROR(VLOOKUP(C6460,'Charge Conversion'!A:C,3,0),\" \")","v":" "},null," ",null,null,null,null,null,{"$f":"VLOOKUP(D6460,'Group Name'!A:B,2,0)","v":{"$error":"#N/A"}}," "]
[null,null,null,null,null,null,null,null,null,{"$f":"+IFERROR(VLOOKUP(C6464,'Charge Conversion'!A:C,3,0),\" \")","v":" "},null," ",null,null,null,null,null,{"$f":"VLOOKUP(D6464,'Group Name'!A:B,2,0)","v":{"$error":"#N/A"}}," "]
[null,null,null,null,null,null,null,null,null,{"$f":"+IFERROR(VLOOKUP(C6465,'Charge Conversion'!A:C,3,0),\" \")","v":" "},null," ",null,null,null,null,null,{"$f":"VLOOKUP(D6465,'Group Name'!A:B,2,0)","v":{"$error":"#N/A"}}," "]
[null,null,null,null,null,null,null,null,null,{"$f":"+IFERROR(VLOOKUP(C6469,'Charge Conversion'!A:C,3,0),\" \")","v":" "},null,{"$f":"S6469","v":" "},null,null,null,null,null,{"$f":"VLOOKUP(D6469,'Group Name'!A:B,2,0)","v":{"$error":"#N/A"}},{"$f":"IFERROR((IF(A6469=\" \",\" \",R6469)),\" \")","v":" "}]
[null,null,null,null,null,null,null,null,null,{"$f":"+IFERROR(VLOOKUP(C6470,'Charge Conversion'!A:C,3,0),\" \")","v":" "},null," ",null,null,null,null,null,{"$f":"VLOOKUP(D6470,'Group Name'!A:B,2,0)","v":{"$error":"#N/A"}}," "]
[null,null,null,null,null,null,null,null,null,{"$f":"+IFERROR(VLOOKUP(C6472,'Charge Conversion'!A:C,3,0),\" \")","v":" "},null," ",null,null,null,null,null,{"$f":"VLOOKUP(D6472,'Group Name'!A:B,2,0)","v":{"$error":"#N/A"}}," "]
[null,null,null,null,null,null,null,null,null,{"$f":"+IFERROR(VLOOKUP(C6475,'Charge Conversion'!A:C,3,0),\" \")","v":" "},null," ",null,null,null,null,null,{"$f":"VLOOKUP(D6475,'Group Name'!A:B,2,0)","v":{"$error":"#N/A"}}," "]
[null,null,null,null,null,null,null,null,null,{"$f":"+IFERROR(VLOOKUP(C6478,'Charge Conversion'!A:C,3,0),\" \")","v":" "},null," ",null,null,null,null,null,{"$f":"VLOOKUP(D6478,'Group Name'!A:B,2,0)","v":{"$error":"#N/A"}}," "]
[null,null,null,null,null,null,null,null,null,{"$f":"+IFERROR(VLOOKUP(C6480,'Charge Conversion'!A:C,3,0),\" \")","v":" "},null," ",null,null,null,null,null,{"$f":"VLOOKUP(D6480,'Group Name'!A:B,2,0)","v":{"$error":"#N/A"}}," "]
[null,null,null,null,null,null,null,null,null,{"$f":"+IFERROR(VLOOKUP(C6484,'Charge Conversion'!A:C,3,0),\" \")","v":" "},null," ",null,null,null,null,null,{"$f":"VLOOKUP(D6484,'Group Name'!A:B,2,0)","v":{"$error":"#N/A"}}," "]
[null,null,null,null,null,null,null,null,null,{"$f":"+IFERROR(VLOOKUP(C6485,'Charge Conversion'!A:C,3,0),\" \")","v":" "},null," ",null,null,null,null,null,{"$f":"VLOOKUP(D6485,'Group Name'!A:B,2,0)","v":{"$error":"#N/A"}}," "]
[null,null,null,null,null,null,null,null,null,{"$f":"+IFERROR(VLOOKUP(C6489,'Charge Conversion'!A:C,3,0),\" \")","v":" "},null," ",null,null,null,null,null,{"$f":"VLOOKUP(D6489,'Group Name'!A:B,2,0)","v":{"$error":"#N/A"}}," "]
[null,null,null,null,null,null,null,null,null,{"$f":"+IFERROR(VLOOKUP(C6490,'Charge Conversion'!A:C,3,0),\" \")","v":" "},null," ",null,null,null,null,null,{"$f":"VLOOKUP(D6490,'Group Name'!A:B,2,0)","v":{"$error":"#N/A"}}," "]
[null,null,null,null,null,null,null,null,null,{"$f":"+IFERROR(VLOOKUP(C6494,'Charge Conversion'!A:C,3,0),\" \")","v":" "},null," ",null,null,null,null,null,{"$f":"VLOOKUP(D6494,'Group Name'!A:B,2,0)","v":{"$error":"#N/A"}}," "]
[null,null,null,null,null,null,null,null,null,{"$f":"+IFERROR(VLOOKUP(C6496,'Charge Conversion'!A:C,3,0),\" \")","v":" "},null," ",null,null,null,null,null,{"$f":"VLOOKUP(D6496,'Group Name'!A:B,2,0)","v":{"$error":"#N/A"}}," "]
[null,null,null,null,null,null,null,null,null,{"$f":"+IFERROR(VLOOKUP(C6499,'Charge Conversion'!A:C,3,0),\" \")","v":" "},null," ",null,null,null,null,null,{"$f":"VLOOKUP(D6499,'Group Name'!A:B,2,0)","v":{"$error":"#N/A"}}," "]
[null,null,null,null,null,null,null,null,null,{"$f":"+IFERROR(VLOOKUP(C6501,'Charge Conversion'!A:C,3,0),\" \")","v":" "},null," ",null,null,null,null,null,{"$f":"VLOOKUP(D6501,'Group Name'!A:B,2,0)","v":{"$error":"#N/A"}}," "]
[null,null,null,null,null,null,null,null,null,{"$f":"+IFERROR(VLOOKUP(C6504,'Charge Conversion'!A:C,3,0),\" \")","v":" "},null," ",null,null,null,null,null,{"$f":"VLOOKUP(D6504,'Group Name'!A:B,2,0)","v":{"$error":"#N/A"}}," "]
[null,null,null,null,null,null,null,null,null,{"$f":"+IFERROR(VLOOKUP(C6507,'Charge Conversion'!A:C,3,0),\" \")","v":" "},null," ",null,null,null,null,null,{"$f":"VLOOKUP(D6507,'Group Name'!A:B,2,0)","v":{"$error":"#N/A"}}," "]
[null,null,null,null,null,null,null,null,null,{"$f":"+IFERROR(VLOOKUP(C6509,'Charge Conversion'!A:C,3,0),\" \")","v":" "},null," ",null,null,null,null,null,{"$f":"VLOOKUP(D6509,'Group Name'!A:B,2,0)","v":{"$error":"#N/A"}}," "]
[null,null,null,null,null,null,null,null,null,{"$f":"+IFERROR(VLOOKUP(C6510,'Charge Conversion'!A:C,3,0),\" \")","v":" "},null," ",null,null,null,null,null,{"$f":"VLOOKUP(D6510,'Group Name'!A:B,2,0)","v":{"$error":"#N/A"}}," "]
[null,null,null,null,null,null,null,null,null,{"$f":"+IFERROR(VLOOKUP(C6514,'Charge Conversion'!A:C,3,0),\" \")","v":" "},null," ",null,null,null,null,null,{"$f":"VLOOKUP(D6514,'Group Name'!A:B,2,0)","v":{"$error":"#N/A"}}," "]
[null,null,null,null,null,null,null,null,null,{"$f":"+IFERROR(VLOOKUP(C6516,'Charge Conversion'!A:C,3,0),\" \")","v":" "},null," ",null,null,null,null,null,{"$f":"VLOOKUP(D6516,'Group Name'!A:B,2,0)","v":{"$error":"#N/A"}}," "]
[null,null,null,null,null,null,null,null,null,{"$f":"+IFERROR(VLOOKUP(C6519,'Charge Conversion'!A:C,3,0),\" \")","v":" "},null," ",null,null,null,null,null,{"$f":"VLOOKUP(D6519,'Group Name'!A:B,2,0)","v":{"$error":"#N/A"}}," "]
[null,null,null,null,null,null,null,null,null,{"$f":"+IFERROR(VLOOKUP(C6521,'Charge Conversion'!A:C,3,0),\" \")","v":" "},null," ",null,null,null,null,null,{"$f":"VLOOKUP(D6521,'Group Name'!A:B,2,0)","v":{"$error":"#N/A"}}," "]
[null,null,null,null,null,null,null,null,null,{"$f":"+IFERROR(VLOOKUP(C6524,'Charge Conversion'!A:C,3,0),\" \")","v":" "},null," ",null,null,null,null,null,{"$f":"VLOOKUP(D6524,'Group Name'!A:B,2,0)","v":{"$error":"#N/A"}}," "]
[null,null,null,null,null,null,null,null,null,{"$f":"+IFERROR(VLOOKUP(C6527,'Charge Conversion'!A:C,3,0),\" \")","v":" "},null," ",null,null,null,null,null,{"$f":"VLOOKUP(D6527,'Group Name'!A:B,2,0)","v":{"$error":"#N/A"}}," "]
[null,null,null,null,null,null,null,null,null,{"$f":"+IFERROR(VLOOKUP(C6529,'Charge Conversion'!A:C,3,0),\" \")","v":" "},null," ",null,null,null,null,null,{"$f":"VLOOKUP(D6529,'Group Name'!A:B,2,0)","v":{"$error":"#N/A"}}," "]
[null,null,null,null,null,null,null,null,null,{"$f":"+IFERROR(VLOOKUP(C6530,'Charge Conversion'!A:C,3,0),\" \")","v":" "},null," ",null,null,null,null,null,{"$f":"VLOOKUP(D6530,'Group Name'!A:B,2,0)","v":{"$error":"#N/A"}}," "]
[null,null,null,null,null,null,null,null,null,{"$f":"+IFERROR(VLOOKUP(C6534,'Charge Conversion'!A:C,3,0),\" \")","v":" "},null," ",null,null,null,null,null,{"$f":"VLOOKUP(D6534,'Group Name'!A:B,2,0)","v":{"$error":"#N/A"}}," "]
[null,null,null,null,null,null,null,null,null,{"$f":"+IFERROR(VLOOKUP(C6536,'Charge Conversion'!A:C,3,0),\" \")","v":" "},null," ",null,null,null,null,null,{"$f":"VLOOKUP(D6536,'Group Name'!A:B,2,0)","v":{"$error":"#N/A"}}," "]
[null,null,null,null,null,null,null,null,null,{"$f":"+IFERROR(VLOOKUP(C6539,'Charge Conversion'!A:C,3,0),\" \")","v":" "},null," ",null,null,null,null,null,{"$f":"VLOOKUP(D6539,'Group Name'!A:B,2,0)","v":{"$error":"#N/A"}}," "]
[null,null,null,null,null,null,null,null,null,{"$f":"+IFERROR(VLOOKUP(C6541,'Charge Conversion'!A:C,3,0),\" \")","v":" "},null," ",null,null,null,null,null,{"$f":"VLOOKUP(D6541,'Group Name'!A:B,2,0)","v":{"$error":"#N/A"}}," "]
[null,null,null,null,null,null,null,null,null,{"$f":"+IFERROR(VLOOKUP(C6544,'Charge Conversion'!A:C,3,0),\" \")","v":" "},null," ",null,null,null,null,null,{"$f":"VLOOKUP(D6544,'Group Name'!A:B,2,0)","v":{"$error":"#N/A"}}," "]
[null,null,null,null,null,null,null,null,null,{"$f":"+IFERROR(VLOOKUP(C6547,'Charge Conversion'!A:C,3,0),\" \")","v":" "},null," ",null,null,null,null,null,{"$f":"VLOOKUP(D6547,'Group Name'!A:B,2,0)","v":{"$error":"#N/A"}}," "]
[null,null,null,null,null,null,null,null,null,{"$f":"+IFERROR(VLOOKUP(C6549,'Charge Conversion'!A:C,3,0),\" \")","v":" "},null," ",null,null,null,null,null,{"$f":"VLOOKUP(D6549,'Group Name'!A:B,2,0)","v":{"$error":"#N/A"}}," "]
[null,null,null,null,null,null,null,null,null,{"$f":"+IFERROR(VLOOKUP(C6550,'Charge Conversion'!A:C,3,0),\" \")","v":" "},null," ",null,null,null,null,null,{"$f":"VLOOKUP(D6550,'Group Name'!A:B,2,0)","v":{"$error":"#N/A"}}," "]
[null,null,null,null,null,null,null,null,null,{"$f":"+IFERROR(VLOOKUP(C6554,'Charge Conversion'!A:C,3,0),\" \")","v":" "},null," ",null,null,null,null,null,{"$f":"VLOOKUP(D6554,'Group Name'!A:B,2,0)","v":{"$error":"#N/A"}}," "]
[null,null,null,null,null,null,null,null,null,{"$f":"+IFERROR(VLOOKUP(C6556,'Charge Conversion'!A:C,3,0),\" \")","v":" "},null," ",null,null,null,null,null,{"$f":"VLOOKUP(D6556,'Group Name'!A:B,2,0)","v":{"$error":"#N/A"}}," "]
[null,null,null,null,null,null,null,null,null,{"$f":"+IFERROR(VLOOKUP(C6559,'Charge Conversion'!A:C,3,0),\" \")","v":" "},null," ",null,null,null,null,null,{"$f":"VLOOKUP(D6559,'Group Name'!A:B,2,0)","v":{"$error":"#N/A"}}," "]
[null,null,null,null,null,null,null,null,null,{"$f":"+IFERROR(VLOOKUP(C6562,'Charge Conversion'!A:C,3,0),\" \")","v":" "},null," ",null,null,null,null,null,{"$f":"VLOOKUP(D6562,'Group Name'!A:B,2,0)","v":{"$error":"#N/A"}}," "]
[null,null,null,null,null,null,null,null,null,{"$f":"+IFERROR(VLOOKUP(C6564,'Charge Conversion'!A:C,3,0),\" \")","v":" "},null," ",null,null,null,null,null,{"$f":"VLOOKUP(D6564,'Group Name'!A:B,2,0)","v":{"$error":"#N/A"}}," "]
[null,null,null,null,null,null,null,null,null,{"$f":"+IFERROR(VLOOKUP(C6567,'Charge Conversion'!A:C,3,0),\" \")","v":" "},null," ",null,null,null,null,null,{"$f":"VLOOKUP(D6567,'Group Name'!A:B,2,0)","v":{"$error":"#N/A"}}," "]
[null,null,null,null,null,null,null,null,null,{"$f":"+IFERROR(VLOOKUP(C6569,'Charge Conversion'!A:C,3,0),\" \")","v":" "},null," ",null,null,null,null,null,{"$f":"VLOOKUP(D6569,'Group Name'!A:B,2,0)","v":{"$error":"#N/A"}}," "]
[null,null,null,null,null,null,null,null,null,{"$f":"+IFERROR(VLOOKUP(C6570,'Charge Conversion'!A:C,3,0),\" \")","v":" "},null," ",null,null,null,null,null,{"$f":"VLOOKUP(D6570,'Group Name'!A:B,2,0)","v":{"$error":"#N/A"}}," "]
[null,null,null,null,null,null,null,null,null,{"$f":"+IFERROR(VLOOKUP(C6574,'Charge Conversion'!A:C,3,0),\" \")","v":" "},null," ",null,null,null,null,null,{"$f":"VLOOKUP(D6574,'Group Name'!A:B,2,0)","v":{"$error":"#N/A"}}," "]
[null,null,null,null,null,null,null,null,null,{"$f":"+IFERROR(VLOOKUP(C6576,'Charge Conversion'!A:C,3,0),\" \")","v":" "},null," ",null,null,null,null,null,{"$f":"VLOOKUP(D6576,'Group Name'!A:B,2,0)","v":{"$error":"#N/A"}}," "]
[null,null,null,null,null,null,null,null,null,{"$f":"+IFERROR(VLOOKUP(C6579,'Charge Conversion'!A:C,3,0),\" \")","v":" "},null," ",null,null,null,null,null,{"$f":"VLOOKUP(D6579,'Group Name'!A:B,2,0)","v":{"$error":"#N/A"}}," "]
[null,null,null,null,null,null,null,null,null,{"$f":"+IFERROR(VLOOKUP(C6582,'Charge Conversion'!A:C,3,0),\" \")","v":" "},null," ",null,null,null,null,null,{"$f":"VLOOKUP(D6582,'Group Name'!A:B,2,0)","v":{"$error":"#N/A"}}," "]
[null,null,null,null,null,null,null,null,null,{"$f":"+IFERROR(VLOOKUP(C6584,'Charge Conversion'!A:C,3,0),\" \")","v":" "},null," ",null,null,null,null,null,{"$f":"VLOOKUP(D6584,'Group Name'!A:B,2,0)","v":{"$error":"#N/A"}}," "]
[null,null,null,null,null,null,null,null,null,{"$f":"+IFERROR(VLOOKUP(C6587,'Charge Conversion'!A:C,3,0),\" \")","v":" "},null," ",null,null,null,null,null,{"$f":"VLOOKUP(D6587,'Group Name'!A:B,2,0)","v":{"$error":"#N/A"}}," "]
[null,null,null,null,null,null,null,null,null,{"$f":"+IFERROR(VLOOKUP(C6589,'Charge Conversion'!A:C,3,0),\" \")","v":" "},null," ",null,null,null,null,null,{"$f":"VLOOKUP(D6589,'Group Name'!A:B,2,0)","v":{"$error":"#N/A"}}," "]
[null,null,null,null,null,null,null,null,null,{"$f":"+IFERROR(VLOOKUP(C6590,'Charge Conversion'!A:C,3,0),\" \")","v":" "},null," ",null,null,null,null,null,{"$f":"VLOOKUP(D6590,'Group Name'!A:B,2,0)","v":{"$error":"#N/A"}}," "]
[null,null,null,null,null,null,null,null,null,{"$f":"+IFERROR(VLOOKUP(C6594,'Charge Conversion'!A:C,3,0),\" \")","v":" "},null," ",null,null,null,null,null,{"$f":"VLOOKUP(D6594,'Group Name'!A:B,2,0)","v":{"$error":"#N/A"}}," "]
[null,null,null,null,null,null,null,null,null,{"$f":"+IFERROR(VLOOKUP(C6596,'Charge Conversion'!A:C,3,0),\" \")","v":" "},null," ",null,null,null,null,null,{"$f":"VLOOKUP(D6596,'Group Name'!A:B,2,0)","v":{"$error":"#N/A"}}," "]
[null,null,null,null,null,null,null,null,null,{"$f":"+IFERROR(VLOOKUP(C6599,'Charge Conversion'!A:C,3,0),\" \")","v":" "},null," ",null,null,null,null,null,{"$f":"VLOOKUP(D6599,'Group Name'!A:B,2,0)","v":{"$error":"#N/A"}}," "]
[null,null,null,null,null,null,null,null,null,{"$f":"+IFERROR(VLOOKUP(C6602,'Charge Conversion'!A:C,3,0),\" \")","v":" "},null," ",null,null,null,null,null,{"$f":"VLOOKUP(D6602,'Group Name'!A:B,2,0)","v":{"$error":"#N/A"}}," "]
[null,null,null,null,null,null,null,null,null,{"$f":"+IFERROR(VLOOKUP(C6604,'Charge Conversion'!A:C,3,0),\" \")","v":" "},null," ",null,null,null,null,null,{"$f":"VLOOKUP(D6604,'Group Name'!A:B,2,0)","v":{"$error":"#N/A"}}," "]
[null,null,null,null,null,null,null,null,null,{"$f":"+IFERROR(VLOOKUP(C6607,'Charge Conversion'!A:C,3,0),\" \")","v":" "},null," ",null,null,null,null,null,{"$f":"VLOOKUP(D6607,'Group Name'!A:B,2,0)","v":{"$error":"#N/A"}}," "]
[null,null,null,null,null,null,null,null,null,{"$f":"+IFERROR(VLOOKUP(C6609,'Charge Conversion'!A:C,3,0),\" \")","v":" "},null," ",null,null,null,null,null,{"$f":"VLOOKUP(D6609,'Group Name'!A:B,2,0)","v":{"$error":"#N/A"}}," "]
[null,null,null,null,null,null,null,null,null,{"$f":"+IFERROR(VLOOKUP(C6610,'Charge Conversion'!A:C,3,0),\" \")","v":" "},null," ",null,null,null,null,null,{"$f":"VLOOKUP(D6610,'Group Name'!A:B,2,0)","v":{"$error":"#N/A"}}," "]
[null,null,null,null,null,null,null,null,null,{"$f":"+IFERROR(VLOOKUP(C6614,'Charge Conversion'!A:C,3,0),\" \")","v":" "},null," ",null,null,null,null,null,{"$f":"VLOOKUP(D6614,'Group Name'!A:B,2,0)","v":{"$error":"#N/A"}}," "]
[null,null,null,null,null,null,null,null,null,{"$f":"+IFERROR(VLOOKUP(C6616,'Charge Conversion'!A:C,3,0),\" \")","v":" "},null," ",null,null,null,null,null,{"$f":"VLOOKUP(D6616,'Group Name'!A:B,2,0)","v":{"$error":"#N/A"}}," "]
[null,null,null,null,null,null,null,null,null,{"$f":"+IFERROR(VLOOKUP(C6619,'Charge Conversion'!A:C,3,0),\" \")","v":" "},null," ",null,null,null,null,null,{"$f":"VLOOKUP(D6619,'Group Name'!A:B,2,0)","v":{"$error":"#N/A"}}," "]
[null,null,null,null,null,null,null,null,null,{"$f":"+IFERROR(VLOOKUP(C6622,'Charge Conversion'!A:C,3,0),\" \")","v":" "},null," ",null,null,null,null,null,{"$f":"VLOOKUP(D6622,'Group Name'!A:B,2,0)","v":{"$error":"#N/A"}}," "]
[null,null,null,null,null,null,null,null,null,{"$f":"+IFERROR(VLOOKUP(C6625,'Charge Conversion'!A:C,3,0),\" \")","v":" "},null," ",null,null,null,null,null,{"$f":"VLOOKUP(D6625,'Group Name'!A:B,2,0)","v":{"$error":"#N/A"}}," "]
[null,null,null,null,null,null,null,null,null,{"$f":"+IFERROR(VLOOKUP(C6626,'Charge Conversion'!A:C,3,0),\" \")","v":" "},null," ",null,null,null,null,null,{"$f":"VLOOKUP(D6626,'Group Name'!A:B,2,0)","v":{"$error":"#N/A"}}," "]
[null,null,null,null,null,null,null,null,null,{"$f":"+IFERROR(VLOOKUP(C6628,'Charge Conversion'!A:C,3,0),\" \")","v":" "},null," ",null,null,null,null,null,{"$f":"VLOOKUP(D6628,'Group Name'!A:B,2,0)","v":{"$error":"#N/A"}}," "]
[null,null,null,null,null,null,null,null,null,{"$f":"+IFERROR(VLOOKUP(C6631,'Charge Conversion'!A:C,3,0),\" \")","v":" "},null," ",null,null,null,null,null,{"$f":"VLOOKUP(D6631,'Group Name'!A:B,2,0)","v":{"$error":"#N/A"}}," "]
[null,null,null,null,null,null,null,null,null,{"$f":"+IFERROR(VLOOKUP(C6634,'Charge Conversion'!A:C,3,0),\" \")","v":" "},null," ",null,null,null,null,null,{"$f":"VLOOKUP(D6634,'Group Name'!A:B,2,0)","v":{"$error":"#N/A"}}," "]
[null,null,null,null,null,null,null,null,null,{"$f":"+IFERROR(VLOOKUP(C6636,'Charge Conversion'!A:C,3,0),\" \")","v":" "},null," ",null,null,null,null,null,{"$f":"VLOOKUP(D6636,'Group Name'!A:B,2,0)","v":{"$error":"#N/A"}}," "]
[null,null,null,null,null,null,null,null,null,{"$f":"+IFERROR(VLOOKUP(C6639,'Charge Conversion'!A:C,3,0),\" \")","v":" "},null," ",null,null,null,null,null,{"$f":"VLOOKUP(D6639,'Group Name'!A:B,2,0)","v":{"$error":"#N/A"}}," "]
[null,null,null,null,null,null,null,null,null,{"$f":"+IFERROR(VLOOKUP(C6641,'Charge Conversion'!A:C,3,0),\" \")","v":" "},null," ",null,null,null,null,null,{"$f":"VLOOKUP(D6641,'Group Name'!A:B,2,0)","v":{"$error":"#N/A"}}," "]
[null,null,null,null,null,null,null,null,null,{"$f":"+IFERROR(VLOOKUP(C6645,'Charge Conversion'!A:C,3,0),\" \")","v":" "},null," ",null,null,null,null,null,{"$f":"VLOOKUP(D6645,'Group Name'!A:B,2,0)","v":{"$error":"#N/A"}}," "]
[null,null,null,null,null,null,null,null,null,{"$f":"+IFERROR(VLOOKUP(C6646,'Charge Conversion'!A:C,3,0),\" \")","v":" "},null," ",null,null,null,null,null,{"$f":"VLOOKUP(D6646,'Group Name'!A:B,2,0)","v":{"$error":"#N/A"}}," "]
[null,null,null,null,null,null,null,null,null,{"$f":"+IFERROR(VLOOKUP(C6648,'Charge Conversion'!A:C,3,0),\" \")","v":" "},null," ",null,null,null,null,null,{"$f":"VLOOKUP(D6648,'Group Name'!A:B,2,0)","v":{"$error":"#N/A"}}," "]
[null,null,null,null,null,null,null,null,null,{"$f":"+IFERROR(VLOOKUP(C6651,'Charge Conversion'!A:C,3,0),\" \")","v":" "},null," ",null,null,null,null,null,{"$f":"VLOOKUP(D6651,'Group Name'!A:B,2,0)","v":{"$error":"#N/A"}}," "]
[null,null,null,null,null,null,null,null,null,{"$f":"+IFERROR(VLOOKUP(C6654,'Charge Conversion'!A:C,3,0),\" \")","v":" "},null," ",null,null,null,null,null,{"$f":"VLOOKUP(D6654,'Group Name'!A:B,2,0)","v":{"$error":"#N/A"}}," "]
[null,null,null,null,null,null,null,null,null,{"$f":"+IFERROR(VLOOKUP(C6656,'Charge Conversion'!A:C,3,0),\" \")","v":" "},null," ",null,null,null,null,null,{"$f":"VLOOKUP(D6656,'Group Name'!A:B,2,0)","v":{"$error":"#N/A"}}," "]
[null,null,null,null,null,null,null,null,null,{"$f":"+IFERROR(VLOOKUP(C6659,'Charge Conversion'!A:C,3,0),\" \")","v":" "},null," ",null,null,null,null,null,{"$f":"VLOOKUP(D6659,'Group Name'!A:B,2,0)","v":{"$error":"#N/A"}}," "]
[null,null,null,null,null,null,null,null,null,{"$f":"+IFERROR(VLOOKUP(C6661,'Charge Conversion'!A:C,3,0),\" \")","v":" "},null,{"$f":"S6661","v":" "},null,null,null,null,null,{"$f":"VLOOKUP(D6661,'Group Name'!A:B,2,0)","v":{"$error":"#N/A"}},{"$f":"IFERROR((IF(A6661=\" \",\" \",R6661)),\" \")","v":" "}]
[null,null,null,null,null,null,null,null,null,{"$f":"+IFERROR(VLOOKUP(C6665,'Charge Conversion'!A:C,3,0),\" \")","v":" "},null," ",null,null,null,null,null,{"$f":"VLOOKUP(D6665,'Group Name'!A:B,2,0)","v":{"$error":"#N/A"}}," "]
[null,null,null,null,null,null,null,null,null,{"$f":"+IFERROR(VLOOKUP(C6666,'Charge Conversion'!A:C,3,0),\" \")","v":" "},null," ",null,null,null,null,null,{"$f":"VLOOKUP(D6666,'Group Name'!A:B,2,0)","v":{"$error":"#N/A"}}," "]
[null,null,null,null,null,null,null,null,null,{"$f":"+IFERROR(VLOOKUP(C6668,'Charge Conversion'!A:C,3,0),\" \")","v":" "},null," ",null,null,null,null,null,{"$f":"VLOOKUP(D6668,'Group Name'!A:B,2,0)","v":{"$error":"#N/A"}}," "]
[null,null,null,null,null,null,null,null,null,{"$f":"+IFERROR(VLOOKUP(C6671,'Charge Conversion'!A:C,3,0),\" \")","v":" "},null," ",null,null,null,null,null,{"$f":"VLOOKUP(D6671,'Group Name'!A:B,2,0)","v":{"$error":"#N/A"}}," "]
[null,null,null,null,null,null,null,null,null,{"$f":"+IFERROR(VLOOKUP(C6674,'Charge Conversion'!A:C,3,0),\" \")","v":" "},null," ",null,null,null,null,null,{"$f":"VLOOKUP(D6674,'Group Name'!A:B,2,0)","v":{"$error":"#N/A"}}," "]
[null,null,null,null,null,null,null,null,null,{"$f":"+IFERROR(VLOOKUP(C6676,'Charge Conversion'!A:C,3,0),\" \")","v":" "},null," ",null,null,null,null,null,{"$f":"VLOOKUP(D6676,'Group Name'!A:B,2,0)","v":{"$error":"#N/A"}}," "]
[null,null,null,null,null,null,null,null,null,{"$f":"+IFERROR(VLOOKUP(C6679,'Charge Conversion'!A:C,3,0),\" \")","v":" "},null," ",null,null,null,null,null,{"$f":"VLOOKUP(D6679,'Group Name'!A:B,2,0)","v":{"$error":"#N/A"}}," "]
[null,null,null,null,null,null,null,null,null,{"$f":"+IFERROR(VLOOKUP(C6681,'Charge Conversion'!A:C,3,0),\" \")","v":" "},null," ",null,null,null,null,null,{"$f":"VLOOKUP(D6681,'Group Name'!A:B,2,0)","v":{"$error":"#N/A"}}," "]
[null,null,null,null,null,null,null,null,null,{"$f":"+IFERROR(VLOOKUP(C6685,'Charge Conversion'!A:C,3,0),\" \")","v":" "},null," ",null,null,null,null,null,{"$f":"VLOOKUP(D6685,'Group Name'!A:B,2,0)","v":{"$error":"#N/A"}}," "]
[null,null,null,null,null,null,null,null,null,{"$f":"+IFERROR(VLOOKUP(C6686,'Charge Conversion'!A:C,3,0),\" \")","v":" "},null," ",null,null,null,null,null,{"$f":"VLOOKUP(D6686,'Group Name'!A:B,2,0)","v":{"$error":"#N/A"}}," "]
[null,null,null,null,null,null,null,null,null,{"$f":"+IFERROR(VLOOKUP(C6688,'Charge Conversion'!A:C,3,0),\" \")","v":" "},null," ",null,null,null,null,null,{"$f":"VLOOKUP(D6688,'Group Name'!A:B,2,0)","v":{"$error":"#N/A"}}," "]
[null,null,null,null,null,null,null,null,null,{"$f":"+IFERROR(VLOOKUP(C6691,'Charge Conversion'!A:C,3,0),\" \")","v":" "},null," ",null,null,null,null,null,{"$f":"VLOOKUP(D6691,'Group Name'!A:B,2,0)","v":{"$error":"#N/A"}}," "]
[null,null,null,null,null,null,null,null,null,{"$f":"+IFERROR(VLOOKUP(C6694,'Charge Conversion'!A:C,3,0),\" \")","v":" "},null," ",null,null,null,null,null,{"$f":"VLOOKUP(D6694,'Group Name'!A:B,2,0)","v":{"$error":"#N/A"}}," "]
[null,null,null,null,null,null,null,null,null,{"$f":"+IFERROR(VLOOKUP(C6696,'Charge Conversion'!A:C,3,0),\" \")","v":" "},null," ",null,null,null,null,null,{"$f":"VLOOKUP(D6696,'Group Name'!A:B,2,0)","v":{"$error":"#N/A"}}," "]
[null,null,null,null,null,null,null,null,null,{"$f":"+IFERROR(VLOOKUP(C6700,'Charge Conversion'!A:C,3,0),\" \")","v":" "},null," ",null,null,null,null,null,{"$f":"VLOOKUP(D6700,'Group Name'!A:B,2,0)","v":{"$error":"#N/A"}}," "]
[null,null,null,null,null,null,null,null,null,{"$f":"+IFERROR(VLOOKUP(C6701,'Charge Conversion'!A:C,3,0),\" \")","v":" "},null," ",null,null,null,null,null,{"$f":"VLOOKUP(D6701,'Group Name'!A:B,2,0)","v":{"$error":"#N/A"}}," "]
[null,null,null,null,null,null,null,null,null,{"$f":"+IFERROR(VLOOKUP(C6705,'Charge Conversion'!A:C,3,0),\" \")","v":" "},null," ",null,null,null,null,null,{"$f":"VLOOKUP(D6705,'Group Name'!A:B,2,0)","v":{"$error":"#N/A"}}," "]
[null,null,null,null,null,null,null,null,null,{"$f":"+IFERROR(VLOOKUP(C6706,'Charge Conversion'!A:C,3,0),\" \")","v":" "},null," ",null,null,null,null,null,{"$f":"VLOOKUP(D6706,'Group Name'!A:B,2,0)","v":{"$error":"#N/A"}}," "]
[null,null,null,null,null,null,null,null,null,{"$f":"+IFERROR(VLOOKUP(C6708,'Charge Conversion'!A:C,3,0),\" \")","v":" "},null," ",null,null,null,null,null,{"$f":"VLOOKUP(D6708,'Group Name'!A:B,2,0)","v":{"$error":"#N/A"}}," "]
[null,null,null,null,null,null,null,null,null,{"$f":"+IFERROR(VLOOKUP(C6711,'Charge Conversion'!A:C,3,0),\" \")","v":" "},null," ",null,null,null,null,null,{"$f":"VLOOKUP(D6711,'Group Name'!A:B,2,0)","v":{"$error":"#N/A"}}," "]
[null,null,null,null,null,null,null,null,null,{"$f":"+IFERROR(VLOOKUP(C6714,'Charge Conversion'!A:C,3,0),\" \")","v":" "},null," ",null,null,null,null,null,{"$f":"VLOOKUP(D6714,'Group Name'!A:B,2,0)","v":{"$error":"#N/A"}}," "]
[null,null,null,null,null,null,null,null,null,{"$f":"+IFERROR(VLOOKUP(C6716,'Charge Conversion'!A:C,3,0),\" \")","v":" "},null," ",null,null,null,null,null,{"$f":"VLOOKUP(D6716,'Group Name'!A:B,2,0)","v":{"$error":"#N/A"}}," "]
[null,null,null,null,null,null,null,null,null,{"$f":"+IFERROR(VLOOKUP(C6720,'Charge Conversion'!A:C,3,0),\" \")","v":" "},null," ",null,null,null,null,null,{"$f":"VLOOKUP(D6720,'Group Name'!A:B,2,0)","v":{"$error":"#N/A"}}," "]
[null,null,null,null,null,null,null,null,null,{"$f":"+IFERROR(VLOOKUP(C6721,'Charge Conversion'!A:C,3,0),\" \")","v":" "},null," ",null,null,null,null,null,{"$f":"VLOOKUP(D6721,'Group Name'!A:B,2,0)","v":{"$error":"#N/A"}}," "]
[null,null,null,null,null,null,null,null,null,{"$f":"+IFERROR(VLOOKUP(C6725,'Charge Conversion'!A:C,3,0),\" \")","v":" "},null,{"$f":"S6725","v":" "},null,null,null,null,null,{"$f":"VLOOKUP(D6725,'Group Name'!A:B,2,0)","v":{"$error":"#N/A"}},{"$f":"IFERROR((IF(A6725=\" \",\" \",R6725)),\" \")","v":" "}]
[null,null,null,null,null,null,null,null,null,{"$f":"+IFERROR(VLOOKUP(C6726,'Charge Conversion'!A:C,3,0),\" \")","v":" "},null," ",null,null,null,null,null,{"$f":"VLOOKUP(D6726,'Group Name'!A:B,2,0)","v":{"$error":"#N/A"}}," "]
[null,null,null,null,null,null,null,null,null,{"$f":"+IFERROR(VLOOKUP(C6728,'Charge Conversion'!A:C,3,0),\" \")","v":" "},null," ",null,null,null,null,null,{"$f":"VLOOKUP(D6728,'Group Name'!A:B,2,0)","v":{"$error":"#N/A"}}," "]
[null,null,null,null,null,null,null,null,null,{"$f":"+IFERROR(VLOOKUP(C6731,'Charge Conversion'!A:C,3,0),\" \")","v":" "},null," ",null,null,null,null,null,{"$f":"VLOOKUP(D6731,'Group Name'!A:B,2,0)","v":{"$error":"#N/A"}}," "]
[null,null,null,null,null,null,null,null,null,{"$f":"+IFERROR(VLOOKUP(C6734,'Charge Conversion'!A:C,3,0),\" \")","v":" "},null," ",null,null,null,null,null,{"$f":"VLOOKUP(D6734,'Group Name'!A:B,2,0)","v":{"$error":"#N/A"}}," "]
[null,null,null,null,null,null,null,null,null,{"$f":"+IFERROR(VLOOKUP(C6736,'Charge Conversion'!A:C,3,0),\" \")","v":" "},null," ",null,null,null,null,null,{"$f":"VLOOKUP(D6736,'Group Name'!A:B,2,0)","v":{"$error":"#N/A"}}," "]
[null,null,null,null,null,null,null,null,null,{"$f":"+IFERROR(VLOOKUP(C6740,'Charge Conversion'!A:C,3,0),\" \")","v":" "},null," ",null,null,null,null,null,{"$f":"VLOOKUP(D6740,'Group Name'!A:B,2,0)","v":{"$error":"#N/A"}}," "]
[null,null,null,null,null,null,null,null,null,{"$f":"+IFERROR(VLOOKUP(C6741,'Charge Conversion'!A:C,3,0),\" \")","v":" "},null," ",null,null,null,null,null,{"$f":"VLOOKUP(D6741,'Group Name'!A:B,2,0)","v":{"$error":"#N/A"}}," "]
[null,null,null,null,null,null,null,null,null,{"$f":"+IFERROR(VLOOKUP(C6745,'Charge Conversion'!A:C,3,0),\" \")","v":" "},null," ",null,null,null,null,null,{"$f":"VLOOKUP(D6745,'Group Name'!A:B,2,0)","v":{"$error":"#N/A"}}," "]
[null,null,null,null,null,null,null,null,null,{"$f":"+IFERROR(VLOOKUP(C6746,'Charge Conversion'!A:C,3,0),\" \")","v":" "},null," ",null,null,null,null,null,{"$f":"VLOOKUP(D6746,'Group Name'!A:B,2,0)","v":{"$error":"#N/A"}}," "]
[null,null,null,null,null,null,null,null,null,{"$f":"+IFERROR(VLOOKUP(C6748,'Charge Conversion'!A:C,3,0),\" \")","v":" "},null," ",null,null,null,null,null,{"$f":"VLOOKUP(D6748,'Group Name'!A:B,2,0)","v":{"$error":"#N/A"}}," "]
[null,null,null,null,null,null,null,null,null,{"$f":"+IFERROR(VLOOKUP(C6751,'Charge Conversion'!A:C,3,0),\" \")","v":" "},null," ",null,null,null,null,null,{"$f":"VLOOKUP(D6751,'Group Name'!A:B,2,0)","v":{"$error":"#N/A"}}," "]
[null,null,null,null,null,null,null,null,null,{"$f":"+IFERROR(VLOOKUP(C6754,'Charge Conversion'!A:C,3,0),\" \")","v":" "},null," ",null,null,null,null,null,{"$f":"VLOOKUP(D6754,'Group Name'!A:B,2,0)","v":{"$error":"#N/A"}}," "]
[null,null,null,null,null,null,null,null,null,{"$f":"+IFERROR(VLOOKUP(C6757,'Charge Conversion'!A:C,3,0),\" \")","v":" "},null," ",null,null,null,null,null,{"$f":"VLOOKUP(D6757,'Group Name'!A:B,2,0)","v":{"$error":"#N/A"}}," "]
[null,null,null,null,null,null,null,null,null,{"$f":"+IFERROR(VLOOKUP(C6760,'Charge Conversion'!A:C,3,0),\" \")","v":" "},null," ",null,null,null,null,null,{"$f":"VLOOKUP(D6760,'Group Name'!A:B,2,0)","v":{"$error":"#N/A"}}," "]
[null,null,null,null,null,null,null,null,null,{"$f":"+IFERROR(VLOOKUP(C6763,'Charge Conversion'!A:C,3,0),\" \")","v":" "},null," ",null,null,null,null,null,{"$f":"VLOOKUP(D6763,'Group Name'!A:B,2,0)","v":{"$error":"#N/A"}}," "]
[null,null,null,null,null,null,null,null,null,{"$f":"+IFERROR(VLOOKUP(C6765,'Charge Conversion'!A:C,3,0),\" \")","v":" "},null," ",null,null,null,null,null,{"$f":"VLOOKUP(D6765,'Group Name'!A:B,2,0)","v":{"$error":"#N/A"}}," "]
[null,null,null,null,null,null,null,null,null,{"$f":"+IFERROR(VLOOKUP(C6766,'Charge Conversion'!A:C,3,0),\" \")","v":" "},null," ",null,null,null,null,null,{"$f":"VLOOKUP(D6766,'Group Name'!A:B,2,0)","v":{"$error":"#N/A"}}," "]
[null,null,null,null,null,null,null,null,null,{"$f":"+IFERROR(VLOOKUP(C6770,'Charge Conversion'!A:C,3,0),\" \")","v":" "},null," ",null,null,null,null,null,{"$f":"VLOOKUP(D6770,'Group Name'!A:B,2,0)","v":{"$error":"#N/A"}}," "]
[null,null,null,null,null,null,null,null,null,{"$f":"+IFERROR(VLOOKUP(C6772,'Charge Conversion'!A:C,3,0),\" \")","v":" "},null," ",null,null,null,null,null,{"$f":"VLOOKUP(D6772,'Group Name'!A:B,2,0)","v":{"$error":"#N/A"}}," "]
[null,null,null,null,null,null,null,null,null,{"$f":"+IFERROR(VLOOKUP(C6775,'Charge Conversion'!A:C,3,0),\" \")","v":" "},null," ",null,null,null,null,null,{"$f":"VLOOKUP(D6775,'Group Name'!A:B,2,0)","v":{"$error":"#N/A"}}," "]
[null,null,null,null,null,null,null,null,null,{"$f":"+IFERROR(VLOOKUP(C6777,'Charge Conversion'!A:C,3,0),\" \")","v":" "},null," ",null,null,null,null,null,{"$f":"VLOOKUP(D6777,'Group Name'!A:B,2,0)","v":{"$error":"#N/A"}}," "]
[null,null,null,null,null,null,null,null,null,{"$f":"+IFERROR(VLOOKUP(C6780,'Charge Conversion'!A:C,3,0),\" \")","v":" "},null," ",null,null,null,null,null,{"$f":"VLOOKUP(D6780,'Group Name'!A:B,2,0)","v":{"$error":"#N/A"}}," "]
[null,null,null,null,null,null,null,null,null,{"$f":"+IFERROR(VLOOKUP(C6783,'Charge Conversion'!A:C,3,0),\" \")","v":" "},null," ",null,null,null,null,null,{"$f":"VLOOKUP(D6783,'Group Name'!A:B,2,0)","v":{"$error":"#N/A"}}," "]
[null,null,null,null,null,null,null,null,null,{"$f":"+IFERROR(VLOOKUP(C6785,'Charge Conversion'!A:C,3,0),\" \")","v":" "},null," ",null,null,null,null,null,{"$f":"VLOOKUP(D6785,'Group Name'!A:B,2,0)","v":{"$error":"#N/A"}}," "]
[null,null,null,null,null,null,null,null,null,{"$f":"+IFERROR(VLOOKUP(C6786,'Charge Conversion'!A:C,3,0),\" \")","v":" "},null," ",null,null,null,null,null,{"$f":"VLOOKUP(D6786,'Group Name'!A:B,2,0)","v":{"$error":"#N/A"}}," "]
[null,null,null,null,null,null,null,null,null,{"$f":"+IFERROR(VLOOKUP(C6790,'Charge Conversion'!A:C,3,0),\" \")","v":" "},null," ",null,null,null,null,null,{"$f":"VLOOKUP(D6790,'Group Name'!A:B,2,0)","v":{"$error":"#N/A"}}," "]
[null,null,null,null,null,null,null,null,null,{"$f":"+IFERROR(VLOOKUP(C6792,'Charge Conversion'!A:C,3,0),\" \")","v":" "},null," ",null,null,null,null,null,{"$f":"VLOOKUP(D6792,'Group Name'!A:B,2,0)","v":{"$error":"#N/A"}}," "]
[null,null,null,null,null,null,null,null,null,{"$f":"+IFERROR(VLOOKUP(C6795,'Charge Conversion'!A:C,3,0),\" \")","v":" "},null," ",null,null,null,null,null,{"$f":"VLOOKUP(D6795,'Group Name'!A:B,2,0)","v":{"$error":"#N/A"}}," "]
[null,null,null,null,null,null,null,null,null,{"$f":"+IFERROR(VLOOKUP(C6797,'Charge Conversion'!A:C,3,0),\" \")","v":" "},null," ",null,null,null,null,null,{"$f":"VLOOKUP(D6797,'Group Name'!A:B,2,0)","v":{"$error":"#N/A"}}," "]
[null,null,null,null,null,null,null,null,null,{"$f":"+IFERROR(VLOOKUP(C6800,'Charge Conversion'!A:C,3,0),\" \")","v":" "},null," ",null,null,null,null,null,{"$f":"VLOOKUP(D6800,'Group Name'!A:B,2,0)","v":{"$error":"#N/A"}}," "]
[null,null,null,null,null,null,null,null,null,{"$f":"+IFERROR(VLOOKUP(C6803,'Charge Conversion'!A:C,3,0),\" \")","v":" "},null," ",null,null,null,null,null,{"$f":"VLOOKUP(D6803,'Group Name'!A:B,2,0)","v":{"$error":"#N/A"}}," "]
[null,null,null,null,null,null,null,null,null,{"$f":"+IFERROR(VLOOKUP(C6805,'Charge Conversion'!A:C,3,0),\" \")","v":" "},null," ",null,null,null,null,null,{"$f":"VLOOKUP(D6805,'Group Name'!A:B,2,0)","v":{"$error":"#N/A"}}," "]
[null,null,null,null,null,null,null,null,null,{"$f":"+IFERROR(VLOOKUP(C6806,'Charge Conversion'!A:C,3,0),\" \")","v":" "},null," ",null,null,null,null,null,{"$f":"VLOOKUP(D6806,'Group Name'!A:B,2,0)","v":{"$error":"#N/A"}}," "]
[null,null,null,null,null,null,null,null,null,{"$f":"+IFERROR(VLOOKUP(C6810,'Charge Conversion'!A:C,3,0),\" \")","v":" "},null," ",null,null,null,null,null,{"$f":"VLOOKUP(D6810,'Group Name'!A:B,2,0)","v":{"$error":"#N/A"}}," "]
[null,null,null,null,null,null,null,null,null,{"$f":"+IFERROR(VLOOKUP(C6812,'Charge Conversion'!A:C,3,0),\" \")","v":" "},null," ",null,null,null,null,null,{"$f":"VLOOKUP(D6812,'Group Name'!A:B,2,0)","v":{"$error":"#N/A"}}," "]
[null,null,null,null,null,null,null,null,null,{"$f":"+IFERROR(VLOOKUP(C6815,'Charge Conversion'!A:C,3,0),\" \")","v":" "},null," ",null,null,null,null,null,{"$f":"VLOOKUP(D6815,'Group Name'!A:B,2,0)","v":{"$error":"#N/A"}}," "]
[null,null,null,null,null,null,null,null,null,{"$f":"+IFERROR(VLOOKUP(C6817,'Charge Conversion'!A:C,3,0),\" \")","v":" "},null," ",null,null,null,null,null,{"$f":"VLOOKUP(D6817,'Group Name'!A:B,2,0)","v":{"$error":"#N/A"}}," "]
[null,null,null,null,null,null,null,null,null,{"$f":"+IFERROR(VLOOKUP(C6820,'Charge Conversion'!A:C,3,0),\" \")","v":" "},null," ",null,null,null,null,null,{"$f":"VLOOKUP(D6820,'Group Name'!A:B,2,0)","v":{"$error":"#N/A"}}," "]
[null,null,null,null,null,null,null,null,null,{"$f":"+IFERROR(VLOOKUP(C6823,'Charge Conversion'!A:C,3,0),\" \")","v":" "},null," ",null,null,null,null,null,{"$f":"VLOOKUP(D6823,'Group Name'!A:B,2,0)","v":{"$error":"#N/A"}}," "]
[null,null,null,null,null,null,null,null,null,{"$f":"+IFERROR(VLOOKUP(C6825,'Charge Conversion'!A:C,3,0),\" \")","v":" "},null," ",null,null,null,null,null,{"$f":"VLOOKUP(D6825,'Group Name'!A:B,2,0)","v":{"$error":"#N/A"}}," "]
[null,null,null,null,null,null,null,null,null,{"$f":"+IFERROR(VLOOKUP(C6826,'Charge Conversion'!A:C,3,0),\" \")","v":" "},null," ",null,null,null,null,null,{"$f":"VLOOKUP(D6826,'Group Name'!A:B,2,0)","v":{"$error":"#N/A"}}," "]
[null,null,null,null,null,null,null,null,null,{"$f":"+IFERROR(VLOOKUP(C6830,'Charge Conversion'!A:C,3,0),\" \")","v":" "},null," ",null,null,null,null,null,{"$f":"VLOOKUP(D6830,'Group Name'!A:B,2,0)","v":{"$error":"#N/A"}}," "]
[null,null,null,null,null,null,null,null,null,{"$f":"+IFERROR(VLOOKUP(C6832,'Charge Conversion'!A:C,3,0),\" \")","v":" "},null," ",null,null,null,null,null,{"$f":"VLOOKUP(D6832,'Group Name'!A:B,2,0)","v":{"$error":"#N/A"}}," "]
[null,null,null,null,null,null,null,null,null,{"$f":"+IFERROR(VLOOKUP(C6835,'Charge Conversion'!A:C,3,0),\" \")","v":" "},null," ",null,null,null,null,null,{"$f":"VLOOKUP(D6835,'Group Name'!A:B,2,0)","v":{"$error":"#N/A"}}," "]
[null,null,null,null,null,null,null,null,null,{"$f":"+IFERROR(VLOOKUP(C6838,'Charge Conversion'!A:C,3,0),\" \")","v":" "},null," ",null,null,null,null,null,{"$f":"VLOOKUP(D6838,'Group Name'!A:B,2,0)","v":{"$error":"#N/A"}}," "]
[null,null,null,null,null,null,null,null,null,{"$f":"+IFERROR(VLOOKUP(C6840,'Charge Conversion'!A:C,3,0),\" \")","v":" "},null," ",null,null,null,null,null,{"$f":"VLOOKUP(D6840,'Group Name'!A:B,2,0)","v":{"$error":"#N/A"}}," "]
[null,null,null,null,null,null,null,null,null,{"$f":"+IFERROR(VLOOKUP(C6843,'Charge Conversion'!A:C,3,0),\" \")","v":" "},null," ",null,null,null,null,null,{"$f":"VLOOKUP(D6843,'Group Name'!A:B,2,0)","v":{"$error":"#N/A"}}," "]
[null,null,null,null,null,null,null,null,null,{"$f":"+IFERROR(VLOOKUP(C6845,'Charge Conversion'!A:C,3,0),\" \")","v":" "},null," ",null,null,null,null,null,{"$f":"VLOOKUP(D6845,'Group Name'!A:B,2,0)","v":{"$error":"#N/A"}}," "]
[null,null,null,null,null,null,null,null,null,{"$f":"+IFERROR(VLOOKUP(C6846,'Charge Conversion'!A:C,3,0),\" \")","v":" "},null," ",null,null,null,null,null,{"$f":"VLOOKUP(D6846,'Group Name'!A:B,2,0)","v":{"$error":"#N/A"}}," "]
[null,null,null,null,null,null,null,null,null,{"$f":"+IFERROR(VLOOKUP(C6850,'Charge Conversion'!A:C,3,0),\" \")","v":" "},null," ",null,null,null,null,null,{"$f":"VLOOKUP(D6850,'Group Name'!A:B,2,0)","v":{"$error":"#N/A"}}," "]
[null,null,null,null,null,null,null,null,null,{"$f":"+IFERROR(VLOOKUP(C6852,'Charge Conversion'!A:C,3,0),\" \")","v":" "},null," ",null,null,null,null,null,{"$f":"VLOOKUP(D6852,'Group Name'!A:B,2,0)","v":{"$error":"#N/A"}}," "]
[null,null,null,null,null,null,null,null,null,{"$f":"+IFERROR(VLOOKUP(C6855,'Charge Conversion'!A:C,3,0),\" \")","v":" "},null," ",null,null,null,null,null,{"$f":"VLOOKUP(D6855,'Group Name'!A:B,2,0)","v":{"$error":"#N/A"}}," "]
[null,null,null,null,null,null,null,null,null,{"$f":"+IFERROR(VLOOKUP(C6858,'Charge Conversion'!A:C,3,0),\" \")","v":" "},null," ",null,null,null,null,null,{"$f":"VLOOKUP(D6858,'Group Name'!A:B,2,0)","v":{"$error":"#N/A"}}," "]
[null,null,null,null,null,null,null,null,null,{"$f":"+IFERROR(VLOOKUP(C6860,'Charge Conversion'!A:C,3,0),\" \")","v":" "},null," ",null,null,null,null,null,{"$f":"VLOOKUP(D6860,'Group Name'!A:B,2,0)","v":{"$error":"#N/A"}}," "]
[null,null,null,null,null,null,null,null,null,{"$f":"+IFERROR(VLOOKUP(C6863,'Charge Conversion'!A:C,3,0),\" \")","v":" "},null," ",null,null,null,null,null,{"$f":"VLOOKUP(D6863,'Group Name'!A:B,2,0)","v":{"$error":"#N/A"}}," "]
[null,null,null,null,null,null,null,null,null,{"$f":"+IFERROR(VLOOKUP(C6865,'Charge Conversion'!A:C,3,0),\" \")","v":" "},null," ",null,null,null,null,null,{"$f":"VLOOKUP(D6865,'Group Name'!A:B,2,0)","v":{"$error":"#N/A"}}," "]
[null,null,null,null,null,null,null,null,null,{"$f":"+IFERROR(VLOOKUP(C6866,'Charge Conversion'!A:C,3,0),\" \")","v":" "},null," ",null,null,null,null,null,{"$f":"VLOOKUP(D6866,'Group Name'!A:B,2,0)","v":{"$error":"#N/A"}}," "]
[null,null,null,null,null,null,null,null,null,{"$f":"+IFERROR(VLOOKUP(C6870,'Charge Conversion'!A:C,3,0),\" \")","v":" "},null," ",null,null,null,null,null,{"$f":"VLOOKUP(D6870,'Group Name'!A:B,2,0)","v":{"$error":"#N/A"}}," "]
[null,null,null,null,null,null,null,null,null,{"$f":"+IFERROR(VLOOKUP(C6872,'Charge Conversion'!A:C,3,0),\" \")","v":" "},null," ",null,null,null,null,null,{"$f":"VLOOKUP(D6872,'Group Name'!A:B,2,0)","v":{"$error":"#N/A"}}," "]
[null,null,null,null,null,null,null,null,null,{"$f":"+IFERROR(VLOOKUP(C6875,'Charge Conversion'!A:C,3,0),\" \")","v":" "},null," ",null,null,null,null,null,{"$f":"VLOOKUP(D6875,'Group Name'!A:B,2,0)","v":{"$error":"#N/A"}}," "]
[null,null,null,null,null,null,null,null,null,{"$f":"+IFERROR(VLOOKUP(C6878,'Charge Conversion'!A:C,3,0),\" \")","v":" "},null," ",null,null,null,null,null,{"$f":"VLOOKUP(D6878,'Group Name'!A:B,2,0)","v":{"$error":"#N/A"}}," "]
[null,null,null,null,null,null,null,null,null,{"$f":"+IFERROR(VLOOKUP(C6880,'Charge Conversion'!A:C,3,0),\" \")","v":" "},null," ",null,null,null,null,null,{"$f":"VLOOKUP(D6880,'Group Name'!A:B,2,0)","v":{"$error":"#N/A"}}," "]
[null,null,null,null,null,null,null,null,null,{"$f":"+IFERROR(VLOOKUP(C6883,'Charge Conversion'!A:C,3,0),\" \")","v":" "},null," ",null,null,null,null,null,{"$f":"VLOOKUP(D6883,'Group Name'!A:B,2,0)","v":{"$error":"#N/A"}}," "]
[null,null,null,null,null,null,null,null,null,{"$f":"+IFERROR(VLOOKUP(C6885,'Charge Conversion'!A:C,3,0),\" \")","v":" "},null," ",null,null,null,null,null,{"$f":"VLOOKUP(D6885,'Group Name'!A:B,2,0)","v":{"$error":"#N/A"}}," "]
[null,null,null,null,null,null,null,null,null,{"$f":"+IFERROR(VLOOKUP(C6886,'Charge Conversion'!A:C,3,0),\" \")","v":" "},null," ",null,null,null,null,null,{"$f":"VLOOKUP(D6886,'Group Name'!A:B,2,0)","v":{"$error":"#N/A"}}," "]
[null,null,null,null,null,null,null,null,null,{"$f":"+IFERROR(VLOOKUP(C6890,'Charge Conversion'!A:C,3,0),\" \")","v":" "},null," ",null,null,null,null,null,{"$f":"VLOOKUP(D6890,'Group Name'!A:B,2,0)","v":{"$error":"#N/A"}}," "]
[null,null,null,null,null,null,null,null,null,{"$f":"+IFERROR(VLOOKUP(C6892,'Charge Conversion'!A:C,3,0),\" \")","v":" "},null," ",null,null,null,null,null,{"$f":"VLOOKUP(D6892,'Group Name'!A:B,2,0)","v":{"$error":"#N/A"}}," "]
[null,null,null,null,null,null,null,null,null,{"$f":"+IFERROR(VLOOKUP(C6895,'Charge Conversion'!A:C,3,0),\" \")","v":" "},null," ",null,null,null,null,null,{"$f":"VLOOKUP(D6895,'Group Name'!A:B,2,0)","v":{"$error":"#N/A"}}," "]
[null,null,null,null,null,null,null,null,null,{"$f":"+IFERROR(VLOOKUP(C6897,'Charge Conversion'!A:C,3,0),\" \")","v":" "},null," ",null,null,null,null,null,{"$f":"VLOOKUP(D6897,'Group Name'!A:B,2,0)","v":{"$error":"#N/A"}}," "]
[null,null,null,null,null,null,null,null,null,{"$f":"+IFERROR(VLOOKUP(C6901,'Charge Conversion'!A:C,3,0),\" \")","v":" "},null," ",null,null,null,null,null,{"$f":"VLOOKUP(D6901,'Group Name'!A:B,2,0)","v":{"$error":"#N/A"}}," "]
[null,null,null,null,null,null,null,null,null,{"$f":"+IFERROR(VLOOKUP(C6902,'Charge Conversion'!A:C,3,0),\" \")","v":" "},null," ",null,null,null,null,null,{"$f":"VLOOKUP(D6902,'Group Name'!A:B,2,0)","v":{"$error":"#N/A"}}," "]
[null,null,null,null,null,null,null,null,null,{"$f":"+IFERROR(VLOOKUP(C6904,'Charge Conversion'!A:C,3,0),\" \")","v":" "},null," ",null,null,null,null,null,{"$f":"VLOOKUP(D6904,'Group Name'!A:B,2,0)","v":{"$error":"#N/A"}}," "]
[null,null,null,null,null,null,null,null,null,{"$f":"+IFERROR(VLOOKUP(C6907,'Charge Conversion'!A:C,3,0),\" \")","v":" "},null," ",null,null,null,null,null,{"$f":"VLOOKUP(D6907,'Group Name'!A:B,2,0)","v":{"$error":"#N/A"}}," "]
[null,null,null,null,null,null,null,null,null,{"$f":"+IFERROR(VLOOKUP(C6910,'Charge Conversion'!A:C,3,0),\" \")","v":" "},null," ",null,null,null,null,null,{"$f":"VLOOKUP(D6910,'Group Name'!A:B,2,0)","v":{"$error":"#N/A"}}," "]
[null,null,null,null,null,null,null,null,null,{"$f":"+IFERROR(VLOOKUP(C6912,'Charge Conversion'!A:C,3,0),\" \")","v":" "},null," ",null,null,null,null,null,{"$f":"VLOOKUP(D6912,'Group Name'!A:B,2,0)","v":{"$error":"#N/A"}}," "]
[null,null,null,null,null,null,null,null,null,{"$f":"+IFERROR(VLOOKUP(C6915,'Charge Conversion'!A:C,3,0),\" \")","v":" "},null," ",null,null,null,null,null,{"$f":"VLOOKUP(D6915,'Group Name'!A:B,2,0)","v":{"$error":"#N/A"}}," "]
[null,null,null,null,null,null,null,null,null,{"$f":"+IFERROR(VLOOKUP(C6917,'Charge Conversion'!A:C,3,0),\" \")","v":" "},null,{"$f":"S6917","v":" "},null,null,null,null,null,{"$f":"VLOOKUP(D6917,'Group Name'!A:B,2,0)","v":{"$error":"#N/A"}},{"$f":"IFERROR((IF(A6917=\" \",\" \",R6917)),\" \")","v":" "}]
[null,null,null,null,null,null,null,null,null,{"$f":"+IFERROR(VLOOKUP(C6921,'Charge Conversion'!A:C,3,0),\" \")","v":" "},null," ",null,null,null,null,null,{"$f":"VLOOKUP(D6921,'Group Name'!A:B,2,0)","v":{"$error":"#N/A"}}," "]
[null,null,null,null,null,null,null,null,null,{"$f":"+IFERROR(VLOOKUP(C6922,'Charge Conversion'!A:C,3,0),\" \")","v":" "},null," ",null,null,null,null,null,{"$f":"VLOOKUP(D6922,'Group Name'!A:B,2,0)","v":{"$error":"#N/A"}}," "]
[null,null,null,null,null,null,null,null,null,{"$f":"+IFERROR(VLOOKUP(C6924,'Charge Conversion'!A:C,3,0),\" \")","v":" "},null," ",null,null,null,null,null,{"$f":"VLOOKUP(D6924,'Group Name'!A:B,2,0)","v":{"$error":"#N/A"}}," "]
[null,null,null,null,null,null,null,null,null,{"$f":"+IFERROR(VLOOKUP(C6927,'Charge Conversion'!A:C,3,0),\" \")","v":" "},null," ",null,null,null,null,null,{"$f":"VLOOKUP(D6927,'Group Name'!A:B,2,0)","v":{"$error":"#N/A"}}," "]
[null,null,null,null,null,null,null,null,null,{"$f":"+IFERROR(VLOOKUP(C6930,'Charge Conversion'!A:C,3,0),\" \")","v":" "},null," ",null,null,null,null,null,{"$f":"VLOOKUP(D6930,'Group Name'!A:B,2,0)","v":{"$error":"#N/A"}}," "]
[null,null,null,null,null,null,null,null,null,{"$f":"+IFERROR(VLOOKUP(C6932,'Charge Conversion'!A:C,3,0),\" \")","v":" "},null," ",null,null,null,null,null,{"$f":"VLOOKUP(D6932,'Group Name'!A:B,2,0)","v":{"$error":"#N/A"}}," "]
[null,null,null,null,null,null,null,null,null,{"$f":"+IFERROR(VLOOKUP(C6935,'Charge Conversion'!A:C,3,0),\" \")","v":" "},null," ",null,null,null,null,null,{"$f":"VLOOKUP(D6935,'Group Name'!A:B,2,0)","v":{"$error":"#N/A"}}," "]
[null,null,null,null,null,null,null,null,null,{"$f":"+IFERROR(VLOOKUP(C6937,'Charge Conversion'!A:C,3,0),\" \")","v":" "},null," ",null,null,null,null,null,{"$f":"VLOOKUP(D6937,'Group Name'!A:B,2,0)","v":{"$error":"#N/A"}}," "]
[null,null,null,null,null,null,null,null,null,{"$f":"+IFERROR(VLOOKUP(C6941,'Charge Conversion'!A:C,3,0),\" \")","v":" "},null," ",null,null,null,null,null,{"$f":"VLOOKUP(D6941,'Group Name'!A:B,2,0)","v":{"$error":"#N/A"}}," "]
[null,null,null,null,null,null,null,null,null,{"$f":"+IFERROR(VLOOKUP(C6942,'Charge Conversion'!A:C,3,0),\" \")","v":" "},null," ",null,null,null,null,null,{"$f":"VLOOKUP(D6942,'Group Name'!A:B,2,0)","v":{"$error":"#N/A"}}," "]
[null,null,null,null,null,null,null,null,null,{"$f":"+IFERROR(VLOOKUP(C6944,'Charge Conversion'!A:C,3,0),\" \")","v":" "},null," ",null,null,null,null,null,{"$f":"VLOOKUP(D6944,'Group Name'!A:B,2,0)","v":{"$error":"#N/A"}}," "]
[null,null,null,null,null,null,null,null,null,{"$f":"+IFERROR(VLOOKUP(C6947,'Charge Conversion'!A:C,3,0),\" \")","v":" "},null," ",null,null,null,null,null,{"$f":"VLOOKUP(D6947,'Group Name'!A:B,2,0)","v":{"$error":"#N/A"}}," "]
[null,null,null,null,null,null,null,null,null,{"$f":"+IFERROR(VLOOKUP(C6950,'Charge Conversion'!A:C,3,0),\" \")","v":" "},null," ",null,null,null,null,null,{"$f":"VLOOKUP(D6950,'Group Name'!A:B,2,0)","v":{"$error":"#N/A"}}," "]
[null,null,null,null,null,null,null,null,null,{"$f":"+IFERROR(VLOOKUP(C6952,'Charge Conversion'!A:C,3,0),\" \")","v":" "},null," ",null,null,null,null,null,{"$f":"VLOOKUP(D6952,'Group Name'!A:B,2,0)","v":{"$error":"#N/A"}}," "]
[null,null,null,null,null,null,null,null,null,{"$f":"+IFERROR(VLOOKUP(C6956,'Charge Conversion'!A:C,3,0),\" \")","v":" "},null," ",null,null,null,null,null,{"$f":"VLOOKUP(D6956,'Group Name'!A:B,2,0)","v":{"$error":"#N/A"}}," "]
[null,null,null,null,null,null,null,null,null,{"$f":"+IFERROR(VLOOKUP(C6957,'Charge Conversion'!A:C,3,0),\" \")","v":" "},null," ",null,null,null,null,null,{"$f":"VLOOKUP(D6957,'Group Name'!A:B,2,0)","v":{"$error":"#N/A"}}," "]
[null,null,null,null,null,null,null,null,null,{"$f":"+IFERROR(VLOOKUP(C6961,'Charge Conversion'!A:C,3,0),\" \")","v":" "},null," ",null,null,null,null,null,{"$f":"VLOOKUP(D6961,'Group Name'!A:B,2,0)","v":{"$error":"#N/A"}}," "]
[null,null,null,null,null,null,null,null,null,{"$f":"+IFERROR(VLOOKUP(C6962,'Charge Conversion'!A:C,3,0),\" \")","v":" "},null," ",null,null,null,null,null,{"$f":"VLOOKUP(D6962,'Group Name'!A:B,2,0)","v":{"$error":"#N/A"}}," "]
[null,null,null,null,null,null,null,null,null,{"$f":"+IFERROR(VLOOKUP(C6964,'Charge Conversion'!A:C,3,0),\" \")","v":" "},null," ",null,null,null,null,null,{"$f":"VLOOKUP(D6964,'Group Name'!A:B,2,0)","v":{"$error":"#N/A"}}," "]
[null,null,null,null,null,null,null,null,null,{"$f":"+IFERROR(VLOOKUP(C6967,'Charge Conversion'!A:C,3,0),\" \")","v":" "},null," ",null,null,null,null,null,{"$f":"VLOOKUP(D6967,'Group Name'!A:B,2,0)","v":{"$error":"#N/A"}}," "]
[null,null,null,null,null,null,null,null,null,{"$f":"+IFERROR(VLOOKUP(C6970,'Charge Conversion'!A:C,3,0),\" \")","v":" "},null," ",null,null,null,null,null,{"$f":"VLOOKUP(D6970,'Group Name'!A:B,2,0)","v":{"$error":"#N/A"}}," "]
[null,null,null,null,null,null,null,null,null,{"$f":"+IFERROR(VLOOKUP(C6972,'Charge Conversion'!A:C,3,0),\" \")","v":" "},null," ",null,null,null,null,null,{"$f":"VLOOKUP(D6972,'Group Name'!A:B,2,0)","v":{"$error":"#N/A"}}," "]
[null,null,null,null,null,null,null,null,null,{"$f":"+IFERROR(VLOOKUP(C6976,'Charge Conversion'!A:C,3,0),\" \")","v":" "},null," ",null,null,null,null,null,{"$f":"VLOOKUP(D6976,'Group Name'!A:B,2,0)","v":{"$error":"#N/A"}}," "]
[null,null,null,null,null,null,null,null,null,{"$f":"+IFERROR(VLOOKUP(C6977,'Charge Conversion'!A:C,3,0),\" \")","v":" "},null," ",null,null,null,null,null,{"$f":"VLOOKUP(D6977,'Group Name'!A:B,2,0)","v":{"$error":"#N/A"}}," "]
[null,null,null,null,null,null,null,null,null,{"$f":"+IFERROR(VLOOKUP(C6981,'Charge Conversion'!A:C,3,0),\" \")","v":" "},null,{"$f":"S6981","v":" "},null,null,null,null,null,{"$f":"VLOOKUP(D6981,'Group Name'!A:B,2,0)","v":{"$error":"#N/A"}},{"$f":"IFERROR((IF(A6981=\" \",\" \",R6981)),\" \")","v":" "}]
[null,null,null,null,null,null,null,null,null,{"$f":"+IFERROR(VLOOKUP(C6982,'Charge Conversion'!A:C,3,0),\" \")","v":" "},null," ",null,null,null,null,null,{"$f":"VLOOKUP(D6982,'Group Name'!A:B,2,0)","v":{"$error":"#N/A"}}," "]
[null,null,null,null,null,null,null,null,null,{"$f":"+IFERROR(VLOOKUP(C6984,'Charge Conversion'!A:C,3,0),\" \")","v":" "},null," ",null,null,null,null,null,{"$f":"VLOOKUP(D6984,'Group Name'!A:B,2,0)","v":{"$error":"#N/A"}}," "]
[null,null,null,null,null,null,null,null,null,{"$f":"+IFERROR(VLOOKUP(C6987,'Charge Conversion'!A:C,3,0),\" \")","v":" "},null," ",null,null,null,null,null,{"$f":"VLOOKUP(D6987,'Group Name'!A:B,2,0)","v":{"$error":"#N/A"}}," "]
[null,null,null,null,null,null,null,null,null,{"$f":"+IFERROR(VLOOKUP(C6990,'Charge Conversion'!A:C,3,0),\" \")","v":" "},null," ",null,null,null,null,null,{"$f":"VLOOKUP(D6990,'Group Name'!A:B,2,0)","v":{"$error":"#N/A"}}," "]
[null,null,null,null,null,null,null,null,null,{"$f":"+IFERROR(VLOOKUP(C6992,'Charge Conversion'!A:C,3,0),\" \")","v":" "},null," ",null,null,null,null,null,{"$f":"VLOOKUP(D6992,'Group Name'!A:B,2,0)","v":{"$error":"#N/A"}}," "]
[null,null,null,null,null,null,null,null,null,{"$f":"+IFERROR(VLOOKUP(C6996,'Charge Conversion'!A:C,3,0),\" \")","v":" "},null," ",null,null,null,null,null,{"$f":"VLOOKUP(D6996,'Group Name'!A:B,2,0)","v":{"$error":"#N/A"}}," "]
[null,null,null,null,null,null,null,null,null,{"$f":"+IFERROR(VLOOKUP(C6997,'Charge Conversion'!A:C,3,0),\" \")","v":" "},null," ",null,null,null,null,null,{"$f":"VLOOKUP(D6997,'Group Name'!A:B,2,0)","v":{"$error":"#N/A"}}," "]
[null,null,null,null,null,null,null,null,null,{"$f":"+IFERROR(VLOOKUP(C7001,'Charge Conversion'!A:C,3,0),\" \")","v":" "},null," ",null,null,null,null,null,{"$f":"VLOOKUP(D7001,'Group Name'!A:B,2,0)","v":{"$error":"#N/A"}}," "]
[null,null,null,null,null,null,null,null,null,{"$f":"+IFERROR(VLOOKUP(C7002,'Charge Conversion'!A:C,3,0),\" \")","v":" "},null," ",null,null,null,null,null,{"$f":"VLOOKUP(D7002,'Group Name'!A:B,2,0)","v":{"$error":"#N/A"}}," "]
[null,null,null,null,null,null,null,null,null,{"$f":"+IFERROR(VLOOKUP(C7004,'Charge Conversion'!A:C,3,0),\" \")","v":" "},null," ",null,null,null,null,null,{"$f":"VLOOKUP(D7004,'Group Name'!A:B,2,0)","v":{"$error":"#N/A"}}," "]
[null,null,null,null,null,null,null,null,null,{"$f":"+IFERROR(VLOOKUP(C7007,'Charge Conversion'!A:C,3,0),\" \")","v":" "},null," ",null,null,null,null,null,{"$f":"VLOOKUP(D7007,'Group Name'!A:B,2,0)","v":{"$error":"#N/A"}}," "]
[null,null,null,null,null,null,null,null,null,{"$f":"+IFERROR(VLOOKUP(C7010,'Charge Conversion'!A:C,3,0),\" \")","v":" "},null," ",null,null,null,null,null,{"$f":"VLOOKUP(D7010,'Group Name'!A:B,2,0)","v":{"$error":"#N/A"}}," "]
[null,null,null,null,null,null,null,null,null,{"$f":"+IFERROR(VLOOKUP(C7012,'Charge Conversion'!A:C,3,0),\" \")","v":" "},null," ",null,null,null,null,null,{"$f":"VLOOKUP(D7012,'Group Name'!A:B,2,0)","v":{"$error":"#N/A"}}," "]
[null,null,null,null,null,null,null,null,null,{"$f":"+IFERROR(VLOOKUP(C7016,'Charge Conversion'!A:C,3,0),\" \")","v":" "},null," ",null,null,null,null,null,{"$f":"VLOOKUP(D7016,'Group Name'!A:B,2,0)","v":{"$error":"#N/A"}}," "]
[null,null,null,null,null,null,null,null,null,{"$f":"+IFERROR(VLOOKUP(C7019,'Charge Conversion'!A:C,3,0),\" \")","v":" "},null," ",null,null,null,null,null,{"$f":"VLOOKUP(D7019,'Group Name'!A:B,2,0)","v":{"$error":"#N/A"}}," "]
[null,null,null,null,null,null,null,null,null,{"$f":"+IFERROR(VLOOKUP(C7020,'Charge Conversion'!A:C,3,0),\" \")","v":" "},null," ",null,null,null,null,null,{"$f":"VLOOKUP(D7020,'Group Name'!A:B,2,0)","v":{"$error":"#N/A"}}," "]
[null,null,null,null,null,null,null,null,null,{"$f":"+IFERROR(VLOOKUP(C7021,'Charge Conversion'!A:C,3,0),\" \")","v":" "},null," ",null,null,null,null,null,{"$f":"VLOOKUP(D7021,'Group Name'!A:B,2,0)","v":{"$error":"#N/A"}}," "]
[null,null,null,null,null,null,null,null,null,{"$f":"+IFERROR(VLOOKUP(C7022,'Charge Conversion'!A:C,3,0),\" \")","v":" "},null," ",null,null,null,null,null,{"$f":"VLOOKUP(D7022,'Group Name'!A:B,2,0)","v":{"$error":"#N/A"}}," "]
[null,null,null,null,null,null,null,null,null,{"$f":"+IFERROR(VLOOKUP(C7023,'Charge Conversion'!A:C,3,0),\" \")","v":" "},null," ",null,null,null,null,null,{"$f":"VLOOKUP(D7023,'Group Name'!A:B,2,0)","v":{"$error":"#N/A"}}," "]
[null,null,null,null,null,null,null,null,null,{"$f":"+IFERROR(VLOOKUP(C7024,'Charge Conversion'!A:C,3,0),\" \")","v":" "},null," ",null,null,null,null,null,{"$f":"VLOOKUP(D7024,'Group Name'!A:B,2,0)","v":{"$error":"#N/A"}}," "]
[null,null,null,null,null,null,null,null,null,{"$f":"+IFERROR(VLOOKUP(C7025,'Charge Conversion'!A:C,3,0),\" \")","v":" "},null," ",null,null,null,null,null,{"$f":"VLOOKUP(D7025,'Group Name'!A:B,2,0)","v":{"$error":"#N/A"}}," "]
[null,null,null,null,null,null,null,null,null,{"$f":"+IFERROR(VLOOKUP(C7026,'Charge Conversion'!A:C,3,0),\" \")","v":" "},null," ",null,null,null,null,null,{"$f":"VLOOKUP(D7026,'Group Name'!A:B,2,0)","v":{"$error":"#N/A"}}," "]
[null,null,null,null,null,null,null,null,null,{"$f":"+IFERROR(VLOOKUP(C7027,'Charge Conversion'!A:C,3,0),\" \")","v":" "},null," ",null,null,null,null,null,{"$f":"VLOOKUP(D7027,'Group Name'!A:B,2,0)","v":{"$error":"#N/A"}}," "]
[null,null,null,null,null,null,null,null,null,{"$f":"+IFERROR(VLOOKUP(C7028,'Charge Conversion'!A:C,3,0),\" \")","v":" "},null," ",null,null,null,null,null,{"$f":"VLOOKUP(D7028,'Group Name'!A:B,2,0)","v":{"$error":"#N/A"}}," "]
[null,null,null,null,null,null,null,null,null,{"$f":"+IFERROR(VLOOKUP(C7029,'Charge Conversion'!A:C,3,0),\" \")","v":" "},null," ",null,null,null,null,null,{"$f":"VLOOKUP(D7029,'Group Name'!A:B,2,0)","v":{"$error":"#N/A"}}," "]
[null,null,null,null,null,null,null,null,null,{"$f":"+IFERROR(VLOOKUP(C7030,'Charge Conversion'!A:C,3,0),\" \")","v":" "},null," ",null,null,null,null,null,{"$f":"VLOOKUP(D7030,'Group Name'!A:B,2,0)","v":{"$error":"#N/A"}}," "]
[null,null,null,null,null,null,null,null,null,{"$f":"+IFERROR(VLOOKUP(C7031,'Charge Conversion'!A:C,3,0),\" \")","v":" "},null," ",null,null,null,null,null,{"$f":"VLOOKUP(D7031,'Group Name'!A:B,2,0)","v":{"$error":"#N/A"}}," "]
[null,null,null,null,null,null,null,null,null,{"$f":"+IFERROR(VLOOKUP(C7032,'Charge Conversion'!A:C,3,0),\" \")","v":" "},null," ",null,null,null,null,null,{"$f":"VLOOKUP(D7032,'Group Name'!A:B,2,0)","v":{"$error":"#N/A"}}," "]
[null,null,null,null,null,null,null,null,null,{"$f":"+IFERROR(VLOOKUP(C7033,'Charge Conversion'!A:C,3,0),\" \")","v":" "},null," ",null,null,null,null,null,{"$f":"VLOOKUP(D7033,'Group Name'!A:B,2,0)","v":{"$error":"#N/A"}}," "]
[null,null,null,null,null,null,null,null,null,{"$f":"+IFERROR(VLOOKUP(C7034,'Charge Conversion'!A:C,3,0),\" \")","v":" "},null," ",null,null,null,null,null,{"$f":"VLOOKUP(D7034,'Group Name'!A:B,2,0)","v":{"$error":"#N/A"}}," "]
[null,null,null,null,null,null,null,null,null,{"$f":"+IFERROR(VLOOKUP(C7035,'Charge Conversion'!A:C,3,0),\" \")","v":" "},null," ",null,null,null,null,null,{"$f":"VLOOKUP(D7035,'Group Name'!A:B,2,0)","v":{"$error":"#N/A"}}," "]
[null,null,null,null,null,null,null,null,null,{"$f":"+IFERROR(VLOOKUP(C7036,'Charge Conversion'!A:C,3,0),\" \")","v":" "},null," ",null,null,null,null,null,{"$f":"VLOOKUP(D7036,'Group Name'!A:B,2,0)","v":{"$error":"#N/A"}}," "]
[null,null,null,null,null,null,null,null,null,{"$f":"+IFERROR(VLOOKUP(C7037,'Charge Conversion'!A:C,3,0),\" \")","v":" "},null," ",null,null,null,null,null,{"$f":"VLOOKUP(D7037,'Group Name'!A:B,2,0)","v":{"$error":"#N/A"}}," "]
[null,null,null,null,null,null,null,null,null,{"$f":"+IFERROR(VLOOKUP(C7038,'Charge Conversion'!A:C,3,0),\" \")","v":" "},null," ",null,null,null,null,null,{"$f":"VLOOKUP(D7038,'Group Name'!A:B,2,0)","v":{"$error":"#N/A"}}," "]
[null,null,null,null,null,null,null,null,null,{"$f":"+IFERROR(VLOOKUP(C7039,'Charge Conversion'!A:C,3,0),\" \")","v":" "},null," ",null,null,null,null,null,{"$f":"VLOOKUP(D7039,'Group Name'!A:B,2,0)","v":{"$error":"#N/A"}}," "]
[null,null,null,null,null,null,null,null,null,{"$f":"+IFERROR(VLOOKUP(C7040,'Charge Conversion'!A:C,3,0),\" \")","v":" "},null," ",null,null,null,null,null,{"$f":"VLOOKUP(D7040,'Group Name'!A:B,2,0)","v":{"$error":"#N/A"}}," "]
[null,null,null,null,null,null,null,null,null,{"$f":"+IFERROR(VLOOKUP(C7041,'Charge Conversion'!A:C,3,0),\" \")","v":" "},null," ",null,null,null,null,null,{"$f":"VLOOKUP(D7041,'Group Name'!A:B,2,0)","v":{"$error":"#N/A"}}," "]
[null,null,null,null,null,null,null,null,null,{"$f":"+IFERROR(VLOOKUP(C7042,'Charge Conversion'!A:C,3,0),\" \")","v":" "},null," ",null,null,null,null,null,{"$f":"VLOOKUP(D7042,'Group Name'!A:B,2,0)","v":{"$error":"#N/A"}}," "]
[null,null,null,null,null,null,null,null,null,{"$f":"+IFERROR(VLOOKUP(C7043,'Charge Conversion'!A:C,3,0),\" \")","v":" "},null," ",null,null,null,null,null,{"$f":"VLOOKUP(D7043,'Group Name'!A:B,2,0)","v":{"$error":"#N/A"}}," "]
[null,null,null,null,null,null,null,null,null,{"$f":"+IFERROR(VLOOKUP(C7044,'Charge Conversion'!A:C,3,0),\" \")","v":" "},null," ",null,null,null,null,null,{"$f":"VLOOKUP(D7044,'Group Name'!A:B,2,0)","v":{"$error":"#N/A"}}," "]
[null,null,null,null,null,null,null,null,null,{"$f":"+IFERROR(VLOOKUP(C7045,'Charge Conversion'!A:C,3,0),\" \")","v":" "},null,{"$f":"S7045","v":" "},null,null,null,null,null,{"$f":"VLOOKUP(D7045,'Group Name'!A:B,2,0)","v":{"$error":"#N/A"}},{"$f":"IFERROR((IF(A7045=\" \",\" \",R7045)),\" \")","v":" "}]
[null,null,null,null,null,null,null,null,null,{"$f":"+IFERROR(VLOOKUP(C7046,'Charge Conversion'!A:C,3,0),\" \")","v":" "},null," ",null,null,null,null,null,{"$f":"VLOOKUP(D7046,'Group Name'!A:B,2,0)","v":{"$error":"#N/A"}}," "]
[null,null,null,null,null,null,null,null,null,{"$f":"+IFERROR(VLOOKUP(C7047,'Charge Conversion'!A:C,3,0),\" \")","v":" "},null," ",null,null,null,null,null,{"$f":"VLOOKUP(D7047,'Group Name'!A:B,2,0)","v":{"$error":"#N/A"}}," "]
[null,null,null,null,null,null,null,null,null,{"$f":"+IFERROR(VLOOKUP(C7048,'Charge Conversion'!A:C,3,0),\" \")","v":" "},null," ",null,null,null,null,null,{"$f":"VLOOKUP(D7048,'Group Name'!A:B,2,0)","v":{"$error":"#N/A"}}," "]
[null,null,null,null,null,null,null,null,null,{"$f":"+IFERROR(VLOOKUP(C7049,'Charge Conversion'!A:C,3,0),\" \")","v":" "},null," ",null,null,null,null,null,{"$f":"VLOOKUP(D7049,'Group Name'!A:B,2,0)","v":{"$error":"#N/A"}}," "]
[null,null,null,null,null,null,null,null,null,{"$f":"+IFERROR(VLOOKUP(C7050,'Charge Conversion'!A:C,3,0),\" \")","v":" "},null," ",null,null,null,null,null,{"$f":"VLOOKUP(D7050,'Group Name'!A:B,2,0)","v":{"$error":"#N/A"}}," "]
[null,null,null,null,null,null,null,null,null,{"$f":"+IFERROR(VLOOKUP(C7051,'Charge Conversion'!A:C,3,0),\" \")","v":" "},null," ",null,null,null,null,null,{"$f":"VLOOKUP(D7051,'Group Name'!A:B,2,0)","v":{"$error":"#N/A"}}," "]
[null,null,null,null,null,null,null,null,null,{"$f":"+IFERROR(VLOOKUP(C7052,'Charge Conversion'!A:C,3,0),\" \")","v":" "},null," ",null,null,null,null,null,{"$f":"VLOOKUP(D7052,'Group Name'!A:B,2,0)","v":{"$error":"#N/A"}}," "]
[null,null,null,null,null,null,null,null,null,{"$f":"+IFERROR(VLOOKUP(C7053,'Charge Conversion'!A:C,3,0),\" \")","v":" "},null," ",null,null,null,null,null,{"$f":"VLOOKUP(D7053,'Group Name'!A:B,2,0)","v":{"$error":"#N/A"}}," "]
[null,null,null,null,null,null,null,null,null,{"$f":"+IFERROR(VLOOKUP(C7054,'Charge Conversion'!A:C,3,0),\" \")","v":" "},null," ",null,null,null,null,null,{"$f":"VLOOKUP(D7054,'Group Name'!A:B,2,0)","v":{"$error":"#N/A"}}," "]
[null,null,null,null,null,null,null,null,null,{"$f":"+IFERROR(VLOOKUP(C7055,'Charge Conversion'!A:C,3,0),\" \")","v":" "},null," ",null,null,null,null,null,{"$f":"VLOOKUP(D7055,'Group Name'!A:B,2,0)","v":{"$error":"#N/A"}}," "]
[null,null,null,null,null,null,null,null,null,{"$f":"+IFERROR(VLOOKUP(C7056,'Charge Conversion'!A:C,3,0),\" \")","v":" "},null," ",null,null,null,null,null,{"$f":"VLOOKUP(D7056,'Group Name'!A:B,2,0)","v":{"$error":"#N/A"}}," "]
[null,null,null,null,null,null,null,null,null,{"$f":"+IFERROR(VLOOKUP(C7057,'Charge Conversion'!A:C,3,0),\" \")","v":" "},null," ",null,null,null,null,null,{"$f":"VLOOKUP(D7057,'Group Name'!A:B,2,0)","v":{"$error":"#N/A"}}," "]
[null,null,null,null,null,null,null,null,null,{"$f":"+IFERROR(VLOOKUP(C7058,'Charge Conversion'!A:C,3,0),\" \")","v":" "},null," ",null,null,null,null,null,{"$f":"VLOOKUP(D7058,'Group Name'!A:B,2,0)","v":{"$error":"#N/A"}}," "]
[null,null,null,null,null,null,null,null,null,{"$f":"+IFERROR(VLOOKUP(C7059,'Charge Conversion'!A:C,3,0),\" \")","v":" "},null," ",null,null,null,null,null,{"$f":"VLOOKUP(D7059,'Group Name'!A:B,2,0)","v":{"$error":"#N/A"}}," "]
[null,null,null,null,null,null,null,null,null,{"$f":"+IFERROR(VLOOKUP(C7060,'Charge Conversion'!A:C,3,0),\" \")","v":" "},null," ",null,null,null,null,null,{"$f":"VLOOKUP(D7060,'Group Name'!A:B,2,0)","v":{"$error":"#N/A"}}," "]
[null,null,null,null,null,null,null,null,null,{"$f":"+IFERROR(VLOOKUP(C7061,'Charge Conversion'!A:C,3,0),\" \")","v":" "},null," ",null,null,null,null,null,{"$f":"VLOOKUP(D7061,'Group Name'!A:B,2,0)","v":{"$error":"#N/A"}}," "]
[null,null,null,null,null,null,null,null,null,{"$f":"+IFERROR(VLOOKUP(C7062,'Charge Conversion'!A:C,3,0),\" \")","v":" "},null," ",null,null,null,null,null,{"$f":"VLOOKUP(D7062,'Group Name'!A:B,2,0)","v":{"$error":"#N/A"}}," "]
[null,null,null,null,null,null,null,null,null,{"$f":"+IFERROR(VLOOKUP(C7063,'Charge Conversion'!A:C,3,0),\" \")","v":" "},null," ",null,null,null,null,null,{"$f":"VLOOKUP(D7063,'Group Name'!A:B,2,0)","v":{"$error":"#N/A"}}," "]
[null,null,null,null,null,null,null,null,null,{"$f":"+IFERROR(VLOOKUP(C7064,'Charge Conversion'!A:C,3,0),\" \")","v":" "},null," ",null,null,null,null,null,{"$f":"VLOOKUP(D7064,'Group Name'!A:B,2,0)","v":{"$error":"#N/A"}}," "]
[null,null,null,null,null,null,null,null,null,{"$f":"+IFERROR(VLOOKUP(C7065,'Charge Conversion'!A:C,3,0),\" \")","v":" "},null," ",null,null,null,null,null,{"$f":"VLOOKUP(D7065,'Group Name'!A:B,2,0)","v":{"$error":"#N/A"}}," "]
[null,null,null,null,null,null,null,null,null,{"$f":"+IFERROR(VLOOKUP(C7066,'Charge Conversion'!A:C,3,0),\" \")","v":" "},null," ",null,null,null,null,null,{"$f":"VLOOKUP(D7066,'Group Name'!A:B,2,0)","v":{"$error":"#N/A"}}," "]
[null,null,null,null,null,null,null,null,null,{"$f":"+IFERROR(VLOOKUP(C7067,'Charge Conversion'!A:C,3,0),\" \")","v":" "},null," ",null,null,null,null,null,{"$f":"VLOOKUP(D7067,'Group Name'!A:B,2,0)","v":{"$error":"#N/A"}}," "]
[null,null,null,null,null,null,null,null,null,{"$f":"+IFERROR(VLOOKUP(C7068,'Charge Conversion'!A:C,3,0),\" \")","v":" "},null," ",null,null,null,null,null,{"$f":"VLOOKUP(D7068,'Group Name'!A:B,2,0)","v":{"$error":"#N/A"}}," "]
[null,null,null,null,null,null,null,null,null,{"$f":"+IFERROR(VLOOKUP(C7069,'Charge Conversion'!A:C,3,0),\" \")","v":" "},null," ",null,null,null,null,null,{"$f":"VLOOKUP(D7069,'Group Name'!A:B,2,0)","v":{"$error":"#N/A"}}," "]
[null,null,null,null,null,null,null,null,null,{"$f":"+IFERROR(VLOOKUP(C7070,'Charge Conversion'!A:C,3,0),\" \")","v":" "},null," ",null,null,null,null,null,{"$f":"VLOOKUP(D7070,'Group Name'!A:B,2,0)","v":{"$error":"#N/A"}}," "]
[null,null,null,null,null,null,null,null,null,{"$f":"+IFERROR(VLOOKUP(C7071,'Charge Conversion'!A:C,3,0),\" \")","v":" "},null," ",null,null,null,null,null,{"$f":"VLOOKUP(D7071,'Group Name'!A:B,2,0)","v":{"$error":"#N/A"}}," "]
[null,null,null,null,null,null,null,null,null,{"$f":"+IFERROR(VLOOKUP(C7072,'Charge Conversion'!A:C,3,0),\" \")","v":" "},null," ",null,null,null,null,null,{"$f":"VLOOKUP(D7072,'Group Name'!A:B,2,0)","v":{"$error":"#N/A"}}," "]
[null,null,null,null,null,null,null,null,null,{"$f":"+IFERROR(VLOOKUP(C7073,'Charge Conversion'!A:C,3,0),\" \")","v":" "},null," ",null,null,null,null,null,{"$f":"VLOOKUP(D7073,'Group Name'!A:B,2,0)","v":{"$error":"#N/A"}}," "]
[null,null,null,null,null,null,null,null,null,{"$f":"+IFERROR(VLOOKUP(C7074,'Charge Conversion'!A:C,3,0),\" \")","v":" "},null," ",null,null,null,null,null,{"$f":"VLOOKUP(D7074,'Group Name'!A:B,2,0)","v":{"$error":"#N/A"}}," "]
[null,null,null,null,null,null,null,null,null,{"$f":"+IFERROR(VLOOKUP(C7075,'Charge Conversion'!A:C,3,0),\" \")","v":" "},null," ",null,null,null,null,null,{"$f":"VLOOKUP(D7075,'Group Name'!A:B,2,0)","v":{"$error":"#N/A"}}," "]
[null,null,null,null,null,null,null,null,null,{"$f":"+IFERROR(VLOOKUP(C7076,'Charge Conversion'!A:C,3,0),\" \")","v":" "},null," ",null,null,null,null,null,{"$f":"VLOOKUP(D7076,'Group Name'!A:B,2,0)","v":{"$error":"#N/A"}}," "]
[null,null,null,null,null,null,null,null,null,{"$f":"+IFERROR(VLOOKUP(C7077,'Charge Conversion'!A:C,3,0),\" \")","v":" "},null," ",null,null,null,null,null,{"$f":"VLOOKUP(D7077,'Group Name'!A:B,2,0)","v":{"$error":"#N/A"}}," "]
[null,null,null,null,null,null,null,null,null,{"$f":"+IFERROR(VLOOKUP(C7078,'Charge Conversion'!A:C,3,0),\" \")","v":" "},null," ",null,null,null,null,null,{"$f":"VLOOKUP(D7078,'Group Name'!A:B,2,0)","v":{"$error":"#N/A"}}," "]
[null,null,null,null,null,null,null,null,null,{"$f":"+IFERROR(VLOOKUP(C7079,'Charge Conversion'!A:C,3,0),\" \")","v":" "},null," ",null,null,null,null,null,{"$f":"VLOOKUP(D7079,'Group Name'!A:B,2,0)","v":{"$error":"#N/A"}}," "]
[null,null,null,null,null,null,null,null,null,{"$f":"+IFERROR(VLOOKUP(C7080,'Charge Conversion'!A:C,3,0),\" \")","v":" "},null," ",null,null,null,null,null,{"$f":"VLOOKUP(D7080,'Group Name'!A:B,2,0)","v":{"$error":"#N/A"}}," "]
[null,null,null,null,null,null,null,null,null,{"$f":"+IFERROR(VLOOKUP(C7081,'Charge Conversion'!A:C,3,0),\" \")","v":" "},null," ",null,null,null,null,null,{"$f":"VLOOKUP(D7081,'Group Name'!A:B,2,0)","v":{"$error":"#N/A"}}," "]
[null,null,null,null,null,null,null,null,null,{"$f":"+IFERROR(VLOOKUP(C7082,'Charge Conversion'!A:C,3,0),\" \")","v":" "},null," ",null,null,null,null,null,{"$f":"VLOOKUP(D7082,'Group Name'!A:B,2,0)","v":{"$error":"#N/A"}}," "]
[null,null,null,null,null,null,null,null,null,{"$f":"+IFERROR(VLOOKUP(C7083,'Charge Conversion'!A:C,3,0),\" \")","v":" "},null," ",null,null,null,null,null,{"$f":"VLOOKUP(D7083,'Group Name'!A:B,2,0)","v":{"$error":"#N/A"}}," "]
[null,null,null,null,null,null,null,null,null,{"$f":"+IFERROR(VLOOKUP(C7084,'Charge Conversion'!A:C,3,0),\" \")","v":" "},null," ",null,null,null,null,null,{"$f":"VLOOKUP(D7084,'Group Name'!A:B,2,0)","v":{"$error":"#N/A"}}," "]
[null,null,null,null,null,null,null,null,null,{"$f":"+IFERROR(VLOOKUP(C7085,'Charge Conversion'!A:C,3,0),\" \")","v":" "},null," ",null,null,null,null,null,{"$f":"VLOOKUP(D7085,'Group Name'!A:B,2,0)","v":{"$error":"#N/A"}}," "]
[null,null,null,null,null,null,null,null,null,{"$f":"+IFERROR(VLOOKUP(C7086,'Charge Conversion'!A:C,3,0),\" \")","v":" "},null," ",null,null,null,null,null,{"$f":"VLOOKUP(D7086,'Group Name'!A:B,2,0)","v":{"$error":"#N/A"}}," "]
[null,null,null,null,null,null,null,null,null,{"$f":"+IFERROR(VLOOKUP(C7087,'Charge Conversion'!A:C,3,0),\" \")","v":" "},null," ",null,null,null,null,null,{"$f":"VLOOKUP(D7087,'Group Name'!A:B,2,0)","v":{"$error":"#N/A"}}," "]
[null,null,null,null,null,null,null,null,null,{"$f":"+IFERROR(VLOOKUP(C7088,'Charge Conversion'!A:C,3,0),\" \")","v":" "},null," ",null,null,null,null,null,{"$f":"VLOOKUP(D7088,'Group Name'!A:B,2,0)","v":{"$error":"#N/A"}}," "]
[null,null,null,null,null,null,null,null,null,{"$f":"+IFERROR(VLOOKUP(C7089,'Charge Conversion'!A:C,3,0),\" \")","v":" "},null," ",null,null,null,null,null,{"$f":"VLOOKUP(D7089,'Group Name'!A:B,2,0)","v":{"$error":"#N/A"}}," "]
[null,null,null,null,null,null,null,null,null,{"$f":"+IFERROR(VLOOKUP(C7090,'Charge Conversion'!A:C,3,0),\" \")","v":" "},null," ",null,null,null,null,null,{"$f":"VLOOKUP(D7090,'Group Name'!A:B,2,0)","v":{"$error":"#N/A"}}," "]
[null,null,null,null,null,null,null,null,null,{"$f":"+IFERROR(VLOOKUP(C7091,'Charge Conversion'!A:C,3,0),\" \")","v":" "},null," ",null,null,null,null,null,{"$f":"VLOOKUP(D7091,'Group Name'!A:B,2,0)","v":{"$error":"#N/A"}}," "]
[null,null,null,null,null,null,null,null,null,{"$f":"+IFERROR(VLOOKUP(C7092,'Charge Conversion'!A:C,3,0),\" \")","v":" "},null," ",null,null,null,null,null,{"$f":"VLOOKUP(D7092,'Group Name'!A:B,2,0)","v":{"$error":"#N/A"}}," "]
[null,null,null,null,null,null,null,null,null,{"$f":"+IFERROR(VLOOKUP(C7093,'Charge Conversion'!A:C,3,0),\" \")","v":" "},null," ",null,null,null,null,null,{"$f":"VLOOKUP(D7093,'Group Name'!A:B,2,0)","v":{"$error":"#N/A"}}," "]
[null,null,null,null,null,null,null,null,null,{"$f":"+IFERROR(VLOOKUP(C7094,'Charge Conversion'!A:C,3,0),\" \")","v":" "},null," ",null,null,null,null,null,{"$f":"VLOOKUP(D7094,'Group Name'!A:B,2,0)","v":{"$error":"#N/A"}}," "]
[null,null,null,null,null,null,null,null,null,{"$f":"+IFERROR(VLOOKUP(C7095,'Charge Conversion'!A:C,3,0),\" \")","v":" "},null," ",null,null,null,null,null,{"$f":"VLOOKUP(D7095,'Group Name'!A:B,2,0)","v":{"$error":"#N/A"}}," "]
[null,null,null,null,null,null,null,null,null,{"$f":"+IFERROR(VLOOKUP(C7096,'Charge Conversion'!A:C,3,0),\" \")","v":" "},null," ",null,null,null,null,null,{"$f":"VLOOKUP(D7096,'Group Name'!A:B,2,0)","v":{"$error":"#N/A"}}," "]
[null,null,null,null,null,null,null,null,null,{"$f":"+IFERROR(VLOOKUP(C7097,'Charge Conversion'!A:C,3,0),\" \")","v":" "},null," ",null,null,null,null,null,{"$f":"VLOOKUP(D7097,'Group Name'!A:B,2,0)","v":{"$error":"#N/A"}}," "]
[null,null,null,null,null,null,null,null,null,{"$f":"+IFERROR(VLOOKUP(C7098,'Charge Conversion'!A:C,3,0),\" \")","v":" "},null," ",null,null,null,null,null,{"$f":"VLOOKUP(D7098,'Group Name'!A:B,2,0)","v":{"$error":"#N/A"}}," "]
[null,null,null,null,null,null,null,null,null,{"$f":"+IFERROR(VLOOKUP(C7099,'Charge Conversion'!A:C,3,0),\" \")","v":" "},null," ",null,null,null,null,null,{"$f":"VLOOKUP(D7099,'Group Name'!A:B,2,0)","v":{"$error":"#N/A"}}," "]
[null,null,null,null,null,null,null,null,null,{"$f":"+IFERROR(VLOOKUP(C7100,'Charge Conversion'!A:C,3,0),\" \")","v":" "},null," ",null,null,null,null,null,{"$f":"VLOOKUP(D7100,'Group Name'!A:B,2,0)","v":{"$error":"#N/A"}}," "]
[null,null,null,null,null,null,null,null,null,{"$f":"+IFERROR(VLOOKUP(C7101,'Charge Conversion'!A:C,3,0),\" \")","v":" "},null," ",null,null,null,null,null,{"$f":"VLOOKUP(D7101,'Group Name'!A:B,2,0)","v":{"$error":"#N/A"}}," "]
[null,null,null,null,null,null,null,null,null,{"$f":"+IFERROR(VLOOKUP(C7102,'Charge Conversion'!A:C,3,0),\" \")","v":" "},null," ",null,null,null,null,null,{"$f":"VLOOKUP(D7102,'Group Name'!A:B,2,0)","v":{"$error":"#N/A"}}," "]
[null,null,null,null,null,null,null,null,null,{"$f":"+IFERROR(VLOOKUP(C7103,'Charge Conversion'!A:C,3,0),\" \")","v":" "},null," ",null,null,null,null,null,{"$f":"VLOOKUP(D7103,'Group Name'!A:B,2,0)","v":{"$error":"#N/A"}}," "]
[null,null,null,null,null,null,null,null,null,{"$f":"+IFERROR(VLOOKUP(C7104,'Charge Conversion'!A:C,3,0),\" \")","v":" "},null," ",null,null,null,null,null,{"$f":"VLOOKUP(D7104,'Group Name'!A:B,2,0)","v":{"$error":"#N/A"}}," "]
[null,null,null,null,null,null,null,null,null,{"$f":"+IFERROR(VLOOKUP(C7105,'Charge Conversion'!A:C,3,0),\" \")","v":" "},null," ",null,null,null,null,null,{"$f":"VLOOKUP(D7105,'Group Name'!A:B,2,0)","v":{"$error":"#N/A"}}," "]
[null,null,null,null,null,null,null,null,null,{"$f":"+IFERROR(VLOOKUP(C7106,'Charge Conversion'!A:C,3,0),\" \")","v":" "},null," ",null,null,null,null,null,{"$f":"VLOOKUP(D7106,'Group Name'!A:B,2,0)","v":{"$error":"#N/A"}}," "]
[null,null,null,null,null,null,null,null,null,{"$f":"+IFERROR(VLOOKUP(C7107,'Charge Conversion'!A:C,3,0),\" \")","v":" "},null," ",null,null,null,null,null,{"$f":"VLOOKUP(D7107,'Group Name'!A:B,2,0)","v":{"$error":"#N/A"}}," "]
[null,null,null,null,null,null,null,null,null,{"$f":"+IFERROR(VLOOKUP(C7108,'Charge Conversion'!A:C,3,0),\" \")","v":" "},null," ",null,null,null,null,null,{"$f":"VLOOKUP(D7108,'Group Name'!A:B,2,0)","v":{"$error":"#N/A"}}," "]
[null,null,null,null,null,null,null,null,null,{"$f":"+IFERROR(VLOOKUP(C7109,'Charge Conversion'!A:C,3,0),\" \")","v":" "},null,{"$f":"S7109","v":" "},null,null,null,null,null,{"$f":"VLOOKUP(D7109,'Group Name'!A:B,2,0)","v":{"$error":"#N/A"}},{"$f":"IFERROR((IF(A7109=\" \",\" \",R7109)),\" \")","v":" "}]
[null,null,null,null,null,null,null,null,null,{"$f":"+IFERROR(VLOOKUP(C7110,'Charge Conversion'!A:C,3,0),\" \")","v":" "},null," ",null,null,null,null,null,{"$f":"VLOOKUP(D7110,'Group Name'!A:B,2,0)","v":{"$error":"#N/A"}}," "]
[null,null,null,null,null,null,null,null,null,{"$f":"+IFERROR(VLOOKUP(C7111,'Charge Conversion'!A:C,3,0),\" \")","v":" "},null," ",null,null,null,null,null,{"$f":"VLOOKUP(D7111,'Group Name'!A:B,2,0)","v":{"$error":"#N/A"}}," "]
[null,null,null,null,null,null,null,null,null,{"$f":"+IFERROR(VLOOKUP(C7112,'Charge Conversion'!A:C,3,0),\" \")","v":" "},null," ",null,null,null,null,null,{"$f":"VLOOKUP(D7112,'Group Name'!A:B,2,0)","v":{"$error":"#N/A"}}," "]
[null,null,null,null,null,null,null,null,null,{"$f":"+IFERROR(VLOOKUP(C7113,'Charge Conversion'!A:C,3,0),\" \")","v":" "},null," ",null,null,null,null,null,{"$f":"VLOOKUP(D7113,'Group Name'!A:B,2,0)","v":{"$error":"#N/A"}}," "]
[null,null,null,null,null,null,null,null,null,{"$f":"+IFERROR(VLOOKUP(C7114,'Charge Conversion'!A:C,3,0),\" \")","v":" "},null," ",null,null,null,null,null,{"$f":"VLOOKUP(D7114,'Group Name'!A:B,2,0)","v":{"$error":"#N/A"}}," "]
[null,null,null,null,null,null,null,null,null,{"$f":"+IFERROR(VLOOKUP(C7115,'Charge Conversion'!A:C,3,0),\" \")","v":" "},null," ",null,null,null,null,null,{"$f":"VLOOKUP(D7115,'Group Name'!A:B,2,0)","v":{"$error":"#N/A"}}," "]
[null,null,null,null,null,null,null,null,null,{"$f":"+IFERROR(VLOOKUP(C7116,'Charge Conversion'!A:C,3,0),\" \")","v":" "},null," ",null,null,null,null,null,{"$f":"VLOOKUP(D7116,'Group Name'!A:B,2,0)","v":{"$error":"#N/A"}}," "]
[null,null,null,null,null,null,null,null,null,{"$f":"+IFERROR(VLOOKUP(C7117,'Charge Conversion'!A:C,3,0),\" \")","v":" "},null," ",null,null,null,null,null,{"$f":"VLOOKUP(D7117,'Group Name'!A:B,2,0)","v":{"$error":"#N/A"}}," "]
[null,null,null,null,null,null,null,null,null,{"$f":"+IFERROR(VLOOKUP(C7118,'Charge Conversion'!A:C,3,0),\" \")","v":" "},null," ",null,null,null,null,null,{"$f":"VLOOKUP(D7118,'Group Name'!A:B,2,0)","v":{"$error":"#N/A"}}," "]
[null,null,null,null,null,null,null,null,null,{"$f":"+IFERROR(VLOOKUP(C7119,'Charge Conversion'!A:C,3,0),\" \")","v":" "},null," ",null,null,null,null,null,{"$f":"VLOOKUP(D7119,'Group Name'!A:B,2,0)","v":{"$error":"#N/A"}}," "]
[null,null,null,null,null,null,null,null,null,{"$f":"+IFERROR(VLOOKUP(C7120,'Charge Conversion'!A:C,3,0),\" \")","v":" "},null," ",null,null,null,null,null,{"$f":"VLOOKUP(D7120,'Group Name'!A:B,2,0)","v":{"$error":"#N/A"}}," "]
[null,null,null,null,null,null,null,null,null,{"$f":"+IFERROR(VLOOKUP(C7121,'Charge Conversion'!A:C,3,0),\" \")","v":" "},null," ",null,null,null,null,null,{"$f":"VLOOKUP(D7121,'Group Name'!A:B,2,0)","v":{"$error":"#N/A"}}," "]
[null,null,null,null,null,null,null,null,null,{"$f":"+IFERROR(VLOOKUP(C7122,'Charge Conversion'!A:C,3,0),\" \")","v":" "},null," ",null,null,null,null,null,{"$f":"VLOOKUP(D7122,'Group Name'!A:B,2,0)","v":{"$error":"#N/A"}}," "]
[null,null,null,null,null,null,null,null,null,{"$f":"+IFERROR(VLOOKUP(C7123,'Charge Conversion'!A:C,3,0),\" \")","v":" "},null," ",null,null,null,null,null,{"$f":"VLOOKUP(D7123,'Group Name'!A:B,2,0)","v":{"$error":"#N/A"}}," "]
[null,null,null,null,null,null,null,null,null,{"$f":"+IFERROR(VLOOKUP(C7124,'Charge Conversion'!A:C,3,0),\" \")","v":" "},null," ",null,null,null,null,null,{"$f":"VLOOKUP(D7124,'Group Name'!A:B,2,0)","v":{"$error":"#N/A"}}," "]
[null,null,null,null,null,null,null,null,null,{"$f":"+IFERROR(VLOOKUP(C7125,'Charge Conversion'!A:C,3,0),\" \")","v":" "},null," ",null,null,null,null,null,{"$f":"VLOOKUP(D7125,'Group Name'!A:B,2,0)","v":{"$error":"#N/A"}}," "]
[null,null,null,null,null,null,null,null,null,{"$f":"+IFERROR(VLOOKUP(C7126,'Charge Conversion'!A:C,3,0),\" \")","v":" "},null," ",null,null,null,null,null,{"$f":"VLOOKUP(D7126,'Group Name'!A:B,2,0)","v":{"$error":"#N/A"}}," "]
[null,null,null,null,null,null,null,null,null,{"$f":"+IFERROR(VLOOKUP(C7127,'Charge Conversion'!A:C,3,0),\" \")","v":" "},null," ",null,null,null,null,null,{"$f":"VLOOKUP(D7127,'Group Name'!A:B,2,0)","v":{"$error":"#N/A"}}," "]
[null,null,null,null,null,null,null,null,null,{"$f":"+IFERROR(VLOOKUP(C7128,'Charge Conversion'!A:C,3,0),\" \")","v":" "},null," ",null,null,null,null,null,{"$f":"VLOOKUP(D7128,'Group Name'!A:B,2,0)","v":{"$error":"#N/A"}}," "]
[null,null,null,null,null,null,null,null,null,{"$f":"+IFERROR(VLOOKUP(C7129,'Charge Conversion'!A:C,3,0),\" \")","v":" "},null," ",null,null,null,null,null,{"$f":"VLOOKUP(D7129,'Group Name'!A:B,2,0)","v":{"$error":"#N/A"}}," "]
[null,null,null,null,null,null,null,null,null,{"$f":"+IFERROR(VLOOKUP(C7130,'Charge Conversion'!A:C,3,0),\" \")","v":" "},null," ",null,null,null,null,null,{"$f":"VLOOKUP(D7130,'Group Name'!A:B,2,0)","v":{"$error":"#N/A"}}," "]
[null,null,null,null,null,null,null,null,null,{"$f":"+IFERROR(VLOOKUP(C7131,'Charge Conversion'!A:C,3,0),\" \")","v":" "},null," ",null,null,null,null,null,{"$f":"VLOOKUP(D7131,'Group Name'!A:B,2,0)","v":{"$error":"#N/A"}}," "]
[null,null,null,null,null,null,null,null,null,{"$f":"+IFERROR(VLOOKUP(C7132,'Charge Conversion'!A:C,3,0),\" \")","v":" "},null," ",null,null,null,null,null,{"$f":"VLOOKUP(D7132,'Group Name'!A:B,2,0)","v":{"$error":"#N/A"}}," "]
[null,null,null,null,null,null,null,null,null,{"$f":"+IFERROR(VLOOKUP(C7133,'Charge Conversion'!A:C,3,0),\" \")","v":" "},null," ",null,null,null,null,null,{"$f":"VLOOKUP(D7133,'Group Name'!A:B,2,0)","v":{"$error":"#N/A"}}," "]
[null,null,null,null,null,null,null,null,null,{"$f":"+IFERROR(VLOOKUP(C7134,'Charge Conversion'!A:C,3,0),\" \")","v":" "},null," ",null,null,null,null,null,{"$f":"VLOOKUP(D7134,'Group Name'!A:B,2,0)","v":{"$error":"#N/A"}}," "]
[null,null,null,null,null,null,null,null,null,{"$f":"+IFERROR(VLOOKUP(C7135,'Charge Conversion'!A:C,3,0),\" \")","v":" "},null," ",null,null,null,null,null,{"$f":"VLOOKUP(D7135,'Group Name'!A:B,2,0)","v":{"$error":"#N/A"}}," "]
[null,null,null,null,null,null,null,null,null,{"$f":"+IFERROR(VLOOKUP(C7136,'Charge Conversion'!A:C,3,0),\" \")","v":" "},null," ",null,null,null,null,null,{"$f":"VLOOKUP(D7136,'Group Name'!A:B,2,0)","v":{"$error":"#N/A"}}," "]
[null,null,null,null,null,null,null,null,null,{"$f":"+IFERROR(VLOOKUP(C7137,'Charge Conversion'!A:C,3,0),\" \")","v":" "},null," ",null,null,null,null,null,{"$f":"VLOOKUP(D7137,'Group Name'!A:B,2,0)","v":{"$error":"#N/A"}}," "]
[null,null,null,null,null,null,null,null,null,{"$f":"+IFERROR(VLOOKUP(C7138,'Charge Conversion'!A:C,3,0),\" \")","v":" "},null," ",null,null,null,null,null,{"$f":"VLOOKUP(D7138,'Group Name'!A:B,2,0)","v":{"$error":"#N/A"}}," "]
[null,null,null,null,null,null,null,null,null,{"$f":"+IFERROR(VLOOKUP(C7139,'Charge Conversion'!A:C,3,0),\" \")","v":" "},null," ",null,null,null,null,null,{"$f":"VLOOKUP(D7139,'Group Name'!A:B,2,0)","v":{"$error":"#N/A"}}," "]
[null,null,null,null,null,null,null,null,null,{"$f":"+IFERROR(VLOOKUP(C7140,'Charge Conversion'!A:C,3,0),\" \")","v":" "},null," ",null,null,null,null,null,{"$f":"VLOOKUP(D7140,'Group Name'!A:B,2,0)","v":{"$error":"#N/A"}}," "]
[null,null,null,null,null,null,null,null,null,{"$f":"+IFERROR(VLOOKUP(C7141,'Charge Conversion'!A:C,3,0),\" \")","v":" "},null," ",null,null,null,null,null,{"$f":"VLOOKUP(D7141,'Group Name'!A:B,2,0)","v":{"$error":"#N/A"}}," "]
[null,null,null,null,null,null,null,null,null,{"$f":"+IFERROR(VLOOKUP(C7142,'Charge Conversion'!A:C,3,0),\" \")","v":" "},null," ",null,null,null,null,null,{"$f":"VLOOKUP(D7142,'Group Name'!A:B,2,0)","v":{"$error":"#N/A"}}," "]
[null,null,null,null,null,null,null,null,null,{"$f":"+IFERROR(VLOOKUP(C7143,'Charge Conversion'!A:C,3,0),\" \")","v":" "},null," ",null,null,null,null,null,{"$f":"VLOOKUP(D7143,'Group Name'!A:B,2,0)","v":{"$error":"#N/A"}}," "]
[null,null,null,null,null,null,null,null,null,{"$f":"+IFERROR(VLOOKUP(C7144,'Charge Conversion'!A:C,3,0),\" \")","v":" "},null," ",null,null,null,null,null,{"$f":"VLOOKUP(D7144,'Group Name'!A:B,2,0)","v":{"$error":"#N/A"}}," "]
[null,null,null,null,null,null,null,null,null,{"$f":"+IFERROR(VLOOKUP(C7145,'Charge Conversion'!A:C,3,0),\" \")","v":" "},null," ",null,null,null,null,null,{"$f":"VLOOKUP(D7145,'Group Name'!A:B,2,0)","v":{"$error":"#N/A"}}," "]
[null,null,null,null,null,null,null,null,null,{"$f":"+IFERROR(VLOOKUP(C7146,'Charge Conversion'!A:C,3,0),\" \")","v":" "},null," ",null,null,null,null,null,{"$f":"VLOOKUP(D7146,'Group Name'!A:B,2,0)","v":{"$error":"#N/A"}}," "]
[null,null,null,null,null,null,null,null,null,{"$f":"+IFERROR(VLOOKUP(C7147,'Charge Conversion'!A:C,3,0),\" \")","v":" "},null," ",null,null,null,null,null,{"$f":"VLOOKUP(D7147,'Group Name'!A:B,2,0)","v":{"$error":"#N/A"}}," "]
[null,null,null,null,null,null,null,null,null,{"$f":"+IFERROR(VLOOKUP(C7148,'Charge Conversion'!A:C,3,0),\" \")","v":" "},null," ",null,null,null,null,null,{"$f":"VLOOKUP(D7148,'Group Name'!A:B,2,0)","v":{"$error":"#N/A"}}," "]
[null,null,null,null,null,null,null,null,null,{"$f":"+IFERROR(VLOOKUP(C7149,'Charge Conversion'!A:C,3,0),\" \")","v":" "},null," ",null,null,null,null,null,{"$f":"VLOOKUP(D7149,'Group Name'!A:B,2,0)","v":{"$error":"#N/A"}}," "]
[null,null,null,null,null,null,null,null,null,{"$f":"+IFERROR(VLOOKUP(C7150,'Charge Conversion'!A:C,3,0),\" \")","v":" "},null," ",null,null,null,null,null,{"$f":"VLOOKUP(D7150,'Group Name'!A:B,2,0)","v":{"$error":"#N/A"}}," "]
[null,null,null,null,null,null,null,null,null,{"$f":"+IFERROR(VLOOKUP(C7151,'Charge Conversion'!A:C,3,0),\" \")","v":" "},null," ",null,null,null,null,null,{"$f":"VLOOKUP(D7151,'Group Name'!A:B,2,0)","v":{"$error":"#N/A"}}," "]
[null,null,null,null,null,null,null,null,null,{"$f":"+IFERROR(VLOOKUP(C7152,'Charge Conversion'!A:C,3,0),\" \")","v":" "},null," ",null,null,null,null,null,{"$f":"VLOOKUP(D7152,'Group Name'!A:B,2,0)","v":{"$error":"#N/A"}}," "]
[null,null,null,null,null,null,null,null,null,{"$f":"+IFERROR(VLOOKUP(C7153,'Charge Conversion'!A:C,3,0),\" \")","v":" "},null," ",null,null,null,null,null,{"$f":"VLOOKUP(D7153,'Group Name'!A:B,2,0)","v":{"$error":"#N/A"}}," "]
[null,null,null,null,null,null,null,null,null,{"$f":"+IFERROR(VLOOKUP(C7154,'Charge Conversion'!A:C,3,0),\" \")","v":" "},null," ",null,null,null,null,null,{"$f":"VLOOKUP(D7154,'Group Name'!A:B,2,0)","v":{"$error":"#N/A"}}," "]
[null,null,null,null,null,null,null,null,null,{"$f":"+IFERROR(VLOOKUP(C7155,'Charge Conversion'!A:C,3,0),\" \")","v":" "},null," ",null,null,null,null,null,{"$f":"VLOOKUP(D7155,'Group Name'!A:B,2,0)","v":{"$error":"#N/A"}}," "]
[null,null,null,null,null,null,null,null,null,{"$f":"+IFERROR(VLOOKUP(C7156,'Charge Conversion'!A:C,3,0),\" \")","v":" "},null," ",null,null,null,null,null,{"$f":"VLOOKUP(D7156,'Group Name'!A:B,2,0)","v":{"$error":"#N/A"}}," "]
[null,null,null,null,null,null,null,null,null,{"$f":"+IFERROR(VLOOKUP(C7157,'Charge Conversion'!A:C,3,0),\" \")","v":" "},null," ",null,null,null,null,null,{"$f":"VLOOKUP(D7157,'Group Name'!A:B,2,0)","v":{"$error":"#N/A"}}," "]
[null,null,null,null,null,null,null,null,null,{"$f":"+IFERROR(VLOOKUP(C7158,'Charge Conversion'!A:C,3,0),\" \")","v":" "},null," ",null,null,null,null,null,{"$f":"VLOOKUP(D7158,'Group Name'!A:B,2,0)","v":{"$error":"#N/A"}}," "]
[null,null,null,null,null,null,null,null,null,{"$f":"+IFERROR(VLOOKUP(C7159,'Charge Conversion'!A:C,3,0),\" \")","v":" "},null," ",null,null,null,null,null,{"$f":"VLOOKUP(D7159,'Group Name'!A:B,2,0)","v":{"$error":"#N/A"}}," "]
[null,null,null,null,null,null,null,null,null,{"$f":"+IFERROR(VLOOKUP(C7160,'Charge Conversion'!A:C,3,0),\" \")","v":" "},null," ",null,null,null,null,null,{"$f":"VLOOKUP(D7160,'Group Name'!A:B,2,0)","v":{"$error":"#N/A"}}," "]
[null,null,null,null,null,null,null,null,null,{"$f":"+IFERROR(VLOOKUP(C7161,'Charge Conversion'!A:C,3,0),\" \")","v":" "},null," ",null,null,null,null,null,{"$f":"VLOOKUP(D7161,'Group Name'!A:B,2,0)","v":{"$error":"#N/A"}}," "]
[null,null,null,null,null,null,null,null,null,{"$f":"+IFERROR(VLOOKUP(C7162,'Charge Conversion'!A:C,3,0),\" \")","v":" "},null," ",null,null,null,null,null,{"$f":"VLOOKUP(D7162,'Group Name'!A:B,2,0)","v":{"$error":"#N/A"}}," "]
[null,null,null,null,null,null,null,null,null,{"$f":"+IFERROR(VLOOKUP(C7163,'Charge Conversion'!A:C,3,0),\" \")","v":" "},null," ",null,null,null,null,null,{"$f":"VLOOKUP(D7163,'Group Name'!A:B,2,0)","v":{"$error":"#N/A"}}," "]
[null,null,null,null,null,null,null,null,null,{"$f":"+IFERROR(VLOOKUP(C7164,'Charge Conversion'!A:C,3,0),\" \")","v":" "},null," ",null,null,null,null,null,{"$f":"VLOOKUP(D7164,'Group Name'!A:B,2,0)","v":{"$error":"#N/A"}}," "]
[null,null,null,null,null,null,null,null,null,{"$f":"+IFERROR(VLOOKUP(C7165,'Charge Conversion'!A:C,3,0),\" \")","v":" "},null," ",null,null,null,null,null,{"$f":"VLOOKUP(D7165,'Group Name'!A:B,2,0)","v":{"$error":"#N/A"}}," "]
[null,null,null,null,null,null,null,null,null,{"$f":"+IFERROR(VLOOKUP(C7166,'Charge Conversion'!A:C,3,0),\" \")","v":" "},null," ",null,null,null,null,null,{"$f":"VLOOKUP(D7166,'Group Name'!A:B,2,0)","v":{"$error":"#N/A"}}," "]
[null,null,null,null,null,null,null,null,null,{"$f":"+IFERROR(VLOOKUP(C7167,'Charge Conversion'!A:C,3,0),\" \")","v":" "},null," ",null,null,null,null,null,{"$f":"VLOOKUP(D7167,'Group Name'!A:B,2,0)","v":{"$error":"#N/A"}}," "]
[null,null,null,null,null,null,null,null,null,{"$f":"+IFERROR(VLOOKUP(C7168,'Charge Conversion'!A:C,3,0),\" \")","v":" "},null," ",null,null,null,null,null,{"$f":"VLOOKUP(D7168,'Group Name'!A:B,2,0)","v":{"$error":"#N/A"}}," "]
[null,null,null,null,null,null,null,null,null,{"$f":"+IFERROR(VLOOKUP(C7169,'Charge Conversion'!A:C,3,0),\" \")","v":" "},null," ",null,null,null,null,null,{"$f":"VLOOKUP(D7169,'Group Name'!A:B,2,0)","v":{"$error":"#N/A"}}," "]
[null,null,null,null,null,null,null,null,null,{"$f":"+IFERROR(VLOOKUP(C7170,'Charge Conversion'!A:C,3,0),\" \")","v":" "},null," ",null,null,null,null,null,{"$f":"VLOOKUP(D7170,'Group Name'!A:B,2,0)","v":{"$error":"#N/A"}}," "]
[null,null,null,null,null,null,null,null,null,{"$f":"+IFERROR(VLOOKUP(C7171,'Charge Conversion'!A:C,3,0),\" \")","v":" "},null," ",null,null,null,null,null,{"$f":"VLOOKUP(D7171,'Group Name'!A:B,2,0)","v":{"$error":"#N/A"}}," "]
[null,null,null,null,null,null,null,null,null,{"$f":"+IFERROR(VLOOKUP(C7172,'Charge Conversion'!A:C,3,0),\" \")","v":" "},null," ",null,null,null,null,null,{"$f":"VLOOKUP(D7172,'Group Name'!A:B,2,0)","v":{"$error":"#N/A"}}," "]
[null,null,null,null,null,null,null,null,null,{"$f":"+IFERROR(VLOOKUP(C7173,'Charge Conversion'!A:C,3,0),\" \")","v":" "},null,{"$f":"S7173","v":" "},null,null,null,null,null,{"$f":"VLOOKUP(D7173,'Group Name'!A:B,2,0)","v":{"$error":"#N/A"}},{"$f":"IFERROR((IF(A7173=\" \",\" \",R7173)),\" \")","v":" "}]
[null,null,null,null,null,null,null,null,null,{"$f":"+IFERROR(VLOOKUP(C7174,'Charge Conversion'!A:C,3,0),\" \")","v":" "},null," ",null,null,null,null,null,{"$f":"VLOOKUP(D7174,'Group Name'!A:B,2,0)","v":{"$error":"#N/A"}}," "]
[null,null,null,null,null,null,null,null,null,{"$f":"+IFERROR(VLOOKUP(C7175,'Charge Conversion'!A:C,3,0),\" \")","v":" "},null," ",null,null,null,null,null,{"$f":"VLOOKUP(D7175,'Group Name'!A:B,2,0)","v":{"$error":"#N/A"}}," "]
[null,null,null,null,null,null,null,null,null,{"$f":"+IFERROR(VLOOKUP(C7176,'Charge Conversion'!A:C,3,0),\" \")","v":" "},null," ",null,null,null,null,null,{"$f":"VLOOKUP(D7176,'Group Name'!A:B,2,0)","v":{"$error":"#N/A"}}," "]
[null,null,null,null,null,null,null,null,null,{"$f":"+IFERROR(VLOOKUP(C7177,'Charge Conversion'!A:C,3,0),\" \")","v":" "},null," ",null,null,null,null,null,{"$f":"VLOOKUP(D7177,'Group Name'!A:B,2,0)","v":{"$error":"#N/A"}}," "]
[null,null,null,null,null,null,null,null,null,{"$f":"+IFERROR(VLOOKUP(C7178,'Charge Conversion'!A:C,3,0),\" \")","v":" "},null," ",null,null,null,null,null,{"$f":"VLOOKUP(D7178,'Group Name'!A:B,2,0)","v":{"$error":"#N/A"}}," "]
[null,null,null,null,null,null,null,null,null,{"$f":"+IFERROR(VLOOKUP(C7179,'Charge Conversion'!A:C,3,0),\" \")","v":" "},null," ",null,null,null,null,null,{"$f":"VLOOKUP(D7179,'Group Name'!A:B,2,0)","v":{"$error":"#N/A"}}," "]
[null,null,null,null,null,null,null,null,null,{"$f":"+IFERROR(VLOOKUP(C7180,'Charge Conversion'!A:C,3,0),\" \")","v":" "},null," ",null,null,null,null,null,{"$f":"VLOOKUP(D7180,'Group Name'!A:B,2,0)","v":{"$error":"#N/A"}}," "]
[null,null,null,null,null,null,null,null,null,{"$f":"+IFERROR(VLOOKUP(C7181,'Charge Conversion'!A:C,3,0),\" \")","v":" "},null," ",null,null,null,null,null,{"$f":"VLOOKUP(D7181,'Group Name'!A:B,2,0)","v":{"$error":"#N/A"}}," "]
[null,null,null,null,null,null,null,null,null,{"$f":"+IFERROR(VLOOKUP(C7182,'Charge Conversion'!A:C,3,0),\" \")","v":" "},null," ",null,null,null,null,null,{"$f":"VLOOKUP(D7182,'Group Name'!A:B,2,0)","v":{"$error":"#N/A"}}," "]
[null,null,null,null,null,null,null,null,null,{"$f":"+IFERROR(VLOOKUP(C7183,'Charge Conversion'!A:C,3,0),\" \")","v":" "},null," ",null,null,null,null,null,{"$f":"VLOOKUP(D7183,'Group Name'!A:B,2,0)","v":{"$error":"#N/A"}}," "]
[null,null,null,null,null,null,null,null,null,{"$f":"+IFERROR(VLOOKUP(C7184,'Charge Conversion'!A:C,3,0),\" \")","v":" "},null," ",null,null,null,null,null,{"$f":"VLOOKUP(D7184,'Group Name'!A:B,2,0)","v":{"$error":"#N/A"}}," "]
[null,null,null,null,null,null,null,null,null,{"$f":"+IFERROR(VLOOKUP(C7185,'Charge Conversion'!A:C,3,0),\" \")","v":" "},null," ",null,null,null,null,null,{"$f":"VLOOKUP(D7185,'Group Name'!A:B,2,0)","v":{"$error":"#N/A"}}," "]
[null,null,null,null,null,null,null,null,null,{"$f":"+IFERROR(VLOOKUP(C7186,'Charge Conversion'!A:C,3,0),\" \")","v":" "},null," ",null,null,null,null,null,{"$f":"VLOOKUP(D7186,'Group Name'!A:B,2,0)","v":{"$error":"#N/A"}}," "]
[null,null,null,null,null,null,null,null,null,{"$f":"+IFERROR(VLOOKUP(C7187,'Charge Conversion'!A:C,3,0),\" \")","v":" "},null," ",null,null,null,null,null,{"$f":"VLOOKUP(D7187,'Group Name'!A:B,2,0)","v":{"$error":"#N/A"}}," "]
[null,null,null,null,null,null,null,null,null,{"$f":"+IFERROR(VLOOKUP(C7188,'Charge Conversion'!A:C,3,0),\" \")","v":" "},null," ",null,null,null,null,null,{"$f":"VLOOKUP(D7188,'Group Name'!A:B,2,0)","v":{"$error":"#N/A"}}," "]
[null,null,null,null,null,null,null,null,null,{"$f":"+IFERROR(VLOOKUP(C7189,'Charge Conversion'!A:C,3,0),\" \")","v":" "},null," ",null,null,null,null,null,{"$f":"VLOOKUP(D7189,'Group Name'!A:B,2,0)","v":{"$error":"#N/A"}}," "]
[null,null,null,null,null,null,null,null,null,{"$f":"+IFERROR(VLOOKUP(C7190,'Charge Conversion'!A:C,3,0),\" \")","v":" "},null," ",null,null,null,null,null,{"$f":"VLOOKUP(D7190,'Group Name'!A:B,2,0)","v":{"$error":"#N/A"}}," "]
[null,null,null,null,null,null,null,null,null,{"$f":"+IFERROR(VLOOKUP(C7191,'Charge Conversion'!A:C,3,0),\" \")","v":" "},null," ",null,null,null,null,null,{"$f":"VLOOKUP(D7191,'Group Name'!A:B,2,0)","v":{"$error":"#N/A"}}," "]
[null,null,null,null,null,null,null,null,null,{"$f":"+IFERROR(VLOOKUP(C7192,'Charge Conversion'!A:C,3,0),\" \")","v":" "},null," ",null,null,null,null,null,{"$f":"VLOOKUP(D7192,'Group Name'!A:B,2,0)","v":{"$error":"#N/A"}}," "]
[null,null,null,null,null,null,null,null,null,{"$f":"+IFERROR(VLOOKUP(C7193,'Charge Conversion'!A:C,3,0),\" \")","v":" "},null," ",null,null,null,null,null,{"$f":"VLOOKUP(D7193,'Group Name'!A:B,2,0)","v":{"$error":"#N/A"}}," "]
[null,null,null,null,null,null,null,null,null,{"$f":"+IFERROR(VLOOKUP(C7194,'Charge Conversion'!A:C,3,0),\" \")","v":" "},null," ",null,null,null,null,null,{"$f":"VLOOKUP(D7194,'Group Name'!A:B,2,0)","v":{"$error":"#N/A"}}," "]
[null,null,null,null,null,null,null,null,null,{"$f":"+IFERROR(VLOOKUP(C7195,'Charge Conversion'!A:C,3,0),\" \")","v":" "},null," ",null,null,null,null,null,{"$f":"VLOOKUP(D7195,'Group Name'!A:B,2,0)","v":{"$error":"#N/A"}}," "]
[null,null,null,null,null,null,null,null,null,{"$f":"+IFERROR(VLOOKUP(C7196,'Charge Conversion'!A:C,3,0),\" \")","v":" "},null," ",null,null,null,null,null,{"$f":"VLOOKUP(D7196,'Group Name'!A:B,2,0)","v":{"$error":"#N/A"}}," "]
[null,null,null,null,null,null,null,null,null,{"$f":"+IFERROR(VLOOKUP(C7197,'Charge Conversion'!A:C,3,0),\" \")","v":" "},null," ",null,null,null,null,null,{"$f":"VLOOKUP(D7197,'Group Name'!A:B,2,0)","v":{"$error":"#N/A"}}," "]
[null,null,null,null,null,null,null,null,null,{"$f":"+IFERROR(VLOOKUP(C7198,'Charge Conversion'!A:C,3,0),\" \")","v":" "},null," ",null,null,null,null,null,{"$f":"VLOOKUP(D7198,'Group Name'!A:B,2,0)","v":{"$error":"#N/A"}}," "]
[null,null,null,null,null,null,null,null,null,{"$f":"+IFERROR(VLOOKUP(C7199,'Charge Conversion'!A:C,3,0),\" \")","v":" "},null," ",null,null,null,null,null,{"$f":"VLOOKUP(D7199,'Group Name'!A:B,2,0)","v":{"$error":"#N/A"}}," "]
[null,null,null,null,null,null,null,null,null,{"$f":"+IFERROR(VLOOKUP(C7200,'Charge Conversion'!A:C,3,0),\" \")","v":" "},null," ",null,null,null,null,null,{"$f":"VLOOKUP(D7200,'Group Name'!A:B,2,0)","v":{"$error":"#N/A"}}," "]
[null,null,null,null,null,null,null,null,null,{"$f":"+IFERROR(VLOOKUP(C7201,'Charge Conversion'!A:C,3,0),\" \")","v":" "},null," ",null,null,null,null,null,{"$f":"VLOOKUP(D7201,'Group Name'!A:B,2,0)","v":{"$error":"#N/A"}}," "]
[null,null,null,null,null,null,null,null,null,{"$f":"+IFERROR(VLOOKUP(C7202,'Charge Conversion'!A:C,3,0),\" \")","v":" "},null," ",null,null,null,null,null,{"$f":"VLOOKUP(D7202,'Group Name'!A:B,2,0)","v":{"$error":"#N/A"}}," "]
[null,null,null,null,null,null,null,null,null,{"$f":"+IFERROR(VLOOKUP(C7203,'Charge Conversion'!A:C,3,0),\" \")","v":" "},null," ",null,null,null,null,null,{"$f":"VLOOKUP(D7203,'Group Name'!A:B,2,0)","v":{"$error":"#N/A"}}," "]
[null,null,null,null,null,null,null,null,null,{"$f":"+IFERROR(VLOOKUP(C7204,'Charge Conversion'!A:C,3,0),\" \")","v":" "},null," ",null,null,null,null,null,{"$f":"VLOOKUP(D7204,'Group Name'!A:B,2,0)","v":{"$error":"#N/A"}}," "]
[null,null,null,null,null,null,null,null,null,{"$f":"+IFERROR(VLOOKUP(C7205,'Charge Conversion'!A:C,3,0),\" \")","v":" "},null," ",null,null,null,null,null,{"$f":"VLOOKUP(D7205,'Group Name'!A:B,2,0)","v":{"$error":"#N/A"}}," "]
[null,null,null,null,null,null,null,null,null,{"$f":"+IFERROR(VLOOKUP(C7206,'Charge Conversion'!A:C,3,0),\" \")","v":" "},null," ",null,null,null,null,null,{"$f":"VLOOKUP(D7206,'Group Name'!A:B,2,0)","v":{"$error":"#N/A"}}," "]
[null,null,null,null,null,null,null,null,null,{"$f":"+IFERROR(VLOOKUP(C7207,'Charge Conversion'!A:C,3,0),\" \")","v":" "},null," ",null,null,null,null,null,{"$f":"VLOOKUP(D7207,'Group Name'!A:B,2,0)","v":{"$error":"#N/A"}}," "]
[null,null,null,null,null,null,null,null,null,{"$f":"+IFERROR(VLOOKUP(C7208,'Charge Conversion'!A:C,3,0),\" \")","v":" "},null," ",null,null,null,null,null,{"$f":"VLOOKUP(D7208,'Group Name'!A:B,2,0)","v":{"$error":"#N/A"}}," "]
[null,null,null,null,null,null,null,null,null,{"$f":"+IFERROR(VLOOKUP(C7209,'Charge Conversion'!A:C,3,0),\" \")","v":" "},null," ",null,null,null,null,null,{"$f":"VLOOKUP(D7209,'Group Name'!A:B,2,0)","v":{"$error":"#N/A"}}," "]
[null,null,null,null,null,null,null,null,null,{"$f":"+IFERROR(VLOOKUP(C7210,'Charge Conversion'!A:C,3,0),\" \")","v":" "},null," ",null,null,null,null,null,{"$f":"VLOOKUP(D7210,'Group Name'!A:B,2,0)","v":{"$error":"#N/A"}}," "]
[null,null,null,null,null,null,null,null,null,{"$f":"+IFERROR(VLOOKUP(C7211,'Charge Conversion'!A:C,3,0),\" \")","v":" "},null," ",null,null,null,null,null,{"$f":"VLOOKUP(D7211,'Group Name'!A:B,2,0)","v":{"$error":"#N/A"}}," "]
[null,null,null,null,null,null,null,null,null,{"$f":"+IFERROR(VLOOKUP(C7212,'Charge Conversion'!A:C,3,0),\" \")","v":" "},null," ",null,null,null,null,null,{"$f":"VLOOKUP(D7212,'Group Name'!A:B,2,0)","v":{"$error":"#N/A"}}," "]
[null,null,null,null,null,null,null,null,null,{"$f":"+IFERROR(VLOOKUP(C7213,'Charge Conversion'!A:C,3,0),\" \")","v":" "},null," ",null,null,null,null,null,{"$f":"VLOOKUP(D7213,'Group Name'!A:B,2,0)","v":{"$error":"#N/A"}}," "]
[null,null,null,null,null,null,null,null,null,{"$f":"+IFERROR(VLOOKUP(C7214,'Charge Conversion'!A:C,3,0),\" \")","v":" "},null," ",null,null,null,null,null,{"$f":"VLOOKUP(D7214,'Group Name'!A:B,2,0)","v":{"$error":"#N/A"}}," "]
[null,null,null,null,null,null,null,null,null,{"$f":"+IFERROR(VLOOKUP(C7215,'Charge Conversion'!A:C,3,0),\" \")","v":" "},null," ",null,null,null,null,null,{"$f":"VLOOKUP(D7215,'Group Name'!A:B,2,0)","v":{"$error":"#N/A"}}," "]
[null,null,null,null,null,null,null,null,null,{"$f":"+IFERROR(VLOOKUP(C7216,'Charge Conversion'!A:C,3,0),\" \")","v":" "},null," ",null,null,null,null,null,{"$f":"VLOOKUP(D7216,'Group Name'!A:B,2,0)","v":{"$error":"#N/A"}}," "]
[null,null,null,null,null,null,null,null,null,{"$f":"+IFERROR(VLOOKUP(C7217,'Charge Conversion'!A:C,3,0),\" \")","v":" "},null," ",null,null,null,null,null,{"$f":"VLOOKUP(D7217,'Group Name'!A:B,2,0)","v":{"$error":"#N/A"}}," "]
[null,null,null,null,null,null,null,null,null,{"$f":"+IFERROR(VLOOKUP(C7218,'Charge Conversion'!A:C,3,0),\" \")","v":" "},null," ",null,null,null,null,null,{"$f":"VLOOKUP(D7218,'Group Name'!A:B,2,0)","v":{"$error":"#N/A"}}," "]
[null,null,null,null,null,null,null,null,null,{"$f":"+IFERROR(VLOOKUP(C7219,'Charge Conversion'!A:C,3,0),\" \")","v":" "},null," ",null,null,null,null,null,{"$f":"VLOOKUP(D7219,'Group Name'!A:B,2,0)","v":{"$error":"#N/A"}}," "]
[null,null,null,null,null,null,null,null,null,{"$f":"+IFERROR(VLOOKUP(C7220,'Charge Conversion'!A:C,3,0),\" \")","v":" "},null," ",null,null,null,null,null,{"$f":"VLOOKUP(D7220,'Group Name'!A:B,2,0)","v":{"$error":"#N/A"}}," "]
[null,null,null,null,null,null,null,null,null,{"$f":"+IFERROR(VLOOKUP(C7221,'Charge Conversion'!A:C,3,0),\" \")","v":" "},null," ",null,null,null,null,null,{"$f":"VLOOKUP(D7221,'Group Name'!A:B,2,0)","v":{"$error":"#N/A"}}," "]
[null,null,null,null,null,null,null,null,null,{"$f":"+IFERROR(VLOOKUP(C7222,'Charge Conversion'!A:C,3,0),\" \")","v":" "},null," ",null,null,null,null,null,{"$f":"VLOOKUP(D7222,'Group Name'!A:B,2,0)","v":{"$error":"#N/A"}}," "]
[null,null,null,null,null,null,null,null,null,{"$f":"+IFERROR(VLOOKUP(C7223,'Charge Conversion'!A:C,3,0),\" \")","v":" "},null," ",null,null,null,null,null,{"$f":"VLOOKUP(D7223,'Group Name'!A:B,2,0)","v":{"$error":"#N/A"}}," "]
[null,null,null,null,null,null,null,null,null,{"$f":"+IFERROR(VLOOKUP(C7224,'Charge Conversion'!A:C,3,0),\" \")","v":" "},null," ",null,null,null,null,null,{"$f":"VLOOKUP(D7224,'Group Name'!A:B,2,0)","v":{"$error":"#N/A"}}," "]
[null,null,null,null,null,null,null,null,null,{"$f":"+IFERROR(VLOOKUP(C7225,'Charge Conversion'!A:C,3,0),\" \")","v":" "},null," ",null,null,null,null,null,{"$f":"VLOOKUP(D7225,'Group Name'!A:B,2,0)","v":{"$error":"#N/A"}}," "]
[null,null,null,null,null,null,null,null,null,{"$f":"+IFERROR(VLOOKUP(C7226,'Charge Conversion'!A:C,3,0),\" \")","v":" "},null," ",null,null,null,null,null,{"$f":"VLOOKUP(D7226,'Group Name'!A:B,2,0)","v":{"$error":"#N/A"}}," "]
[null,null,null,null,null,null,null,null,null,{"$f":"+IFERROR(VLOOKUP(C7227,'Charge Conversion'!A:C,3,0),\" \")","v":" "},null," ",null,null,null,null,null,{"$f":"VLOOKUP(D7227,'Group Name'!A:B,2,0)","v":{"$error":"#N/A"}}," "]
[null,null,null,null,null,null,null,null,null,{"$f":"+IFERROR(VLOOKUP(C7228,'Charge Conversion'!A:C,3,0),\" \")","v":" "},null," ",null,null,null,null,null,{"$f":"VLOOKUP(D7228,'Group Name'!A:B,2,0)","v":{"$error":"#N/A"}}," "]
[null,null,null,null,null,null,null,null,null,{"$f":"+IFERROR(VLOOKUP(C7229,'Charge Conversion'!A:C,3,0),\" \")","v":" "},null," ",null,null,null,null,null,{"$f":"VLOOKUP(D7229,'Group Name'!A:B,2,0)","v":{"$error":"#N/A"}}," "]
[null,null,null,null,null,null,null,null,null,{"$f":"+IFERROR(VLOOKUP(C7230,'Charge Conversion'!A:C,3,0),\" \")","v":" "},null," ",null,null,null,null,null,{"$f":"VLOOKUP(D7230,'Group Name'!A:B,2,0)","v":{"$error":"#N/A"}}," "]
[null,null,null,null,null,null,null,null,null,{"$f":"+IFERROR(VLOOKUP(C7231,'Charge Conversion'!A:C,3,0),\" \")","v":" "},null," ",null,null,null,null,null,{"$f":"VLOOKUP(D7231,'Group Name'!A:B,2,0)","v":{"$error":"#N/A"}}," "]
[null,null,null,null,null,null,null,null,null,{"$f":"+IFERROR(VLOOKUP(C7232,'Charge Conversion'!A:C,3,0),\" \")","v":" "},null," ",null,null,null,null,null,{"$f":"VLOOKUP(D7232,'Group Name'!A:B,2,0)","v":{"$error":"#N/A"}}," "]
[null,null,null,null,null,null,null,null,null,{"$f":"+IFERROR(VLOOKUP(C7233,'Charge Conversion'!A:C,3,0),\" \")","v":" "},null," ",null,null,null,null,null,{"$f":"VLOOKUP(D7233,'Group Name'!A:B,2,0)","v":{"$error":"#N/A"}}," "]
[null,null,null,null,null,null,null,null,null,{"$f":"+IFERROR(VLOOKUP(C7234,'Charge Conversion'!A:C,3,0),\" \")","v":" "},null," ",null,null,null,null,null,{"$f":"VLOOKUP(D7234,'Group Name'!A:B,2,0)","v":{"$error":"#N/A"}}," "]
[null,null,null,null,null,null,null,null,null,{"$f":"+IFERROR(VLOOKUP(C7235,'Charge Conversion'!A:C,3,0),\" \")","v":" "},null," ",null,null,null,null,null,{"$f":"VLOOKUP(D7235,'Group Name'!A:B,2,0)","v":{"$error":"#N/A"}}," "]
[null,null,null,null,null,null,null,null,null,{"$f":"+IFERROR(VLOOKUP(C7236,'Charge Conversion'!A:C,3,0),\" \")","v":" "},null," ",null,null,null,null,null,{"$f":"VLOOKUP(D7236,'Group Name'!A:B,2,0)","v":{"$error":"#N/A"}}," "]
[null,null,null,null,null,null,null,null,null,{"$f":"+IFERROR(VLOOKUP(C7237,'Charge Conversion'!A:C,3,0),\" \")","v":" "},null,{"$f":"S7237","v":" "},null,null,null,null,null,{"$f":"VLOOKUP(D7237,'Group Name'!A:B,2,0)","v":{"$error":"#N/A"}},{"$f":"IFERROR((IF(A7237=\" \",\" \",R7237)),\" \")","v":" "}]
[null,null,null,null,null,null,null,null,null,{"$f":"+IFERROR(VLOOKUP(C7238,'Charge Conversion'!A:C,3,0),\" \")","v":" "},null," ",null,null,null,null,null,{"$f":"VLOOKUP(D7238,'Group Name'!A:B,2,0)","v":{"$error":"#N/A"}}," "]
[null,null,null,null,null,null,null,null,null,{"$f":"+IFERROR(VLOOKUP(C7239,'Charge Conversion'!A:C,3,0),\" \")","v":" "},null," ",null,null,null,null,null,{"$f":"VLOOKUP(D7239,'Group Name'!A:B,2,0)","v":{"$error":"#N/A"}}," "]
[null,null,null,null,null,null,null,null,null,{"$f":"+IFERROR(VLOOKUP(C7240,'Charge Conversion'!A:C,3,0),\" \")","v":" "},null," ",null,null,null,null,null,{"$f":"VLOOKUP(D7240,'Group Name'!A:B,2,0)","v":{"$error":"#N/A"}}," "]
[null,null,null,null,null,null,null,null,null,{"$f":"+IFERROR(VLOOKUP(C7241,'Charge Conversion'!A:C,3,0),\" \")","v":" "},null," ",null,null,null,null,null,{"$f":"VLOOKUP(D7241,'Group Name'!A:B,2,0)","v":{"$error":"#N/A"}}," "]
[null,null,null,null,null,null,null,null,null,{"$f":"+IFERROR(VLOOKUP(C7242,'Charge Conversion'!A:C,3,0),\" \")","v":" "},null," ",null,null,null,null,null,{"$f":"VLOOKUP(D7242,'Group Name'!A:B,2,0)","v":{"$error":"#N/A"}}," "]
[null,null,null,null,null,null,null,null,null,{"$f":"+IFERROR(VLOOKUP(C7243,'Charge Conversion'!A:C,3,0),\" \")","v":" "},null," ",null,null,null,null,null,{"$f":"VLOOKUP(D7243,'Group Name'!A:B,2,0)","v":{"$error":"#N/A"}}," "]
[null,null,null,null,null,null,null,null,null,{"$f":"+IFERROR(VLOOKUP(C7244,'Charge Conversion'!A:C,3,0),\" \")","v":" "},null," ",null,null,null,null,null,{"$f":"VLOOKUP(D7244,'Group Name'!A:B,2,0)","v":{"$error":"#N/A"}}," "]
[null,null,null,null,null,null,null,null,null,{"$f":"+IFERROR(VLOOKUP(C7245,'Charge Conversion'!A:C,3,0),\" \")","v":" "},null," ",null,null,null,null,null,{"$f":"VLOOKUP(D7245,'Group Name'!A:B,2,0)","v":{"$error":"#N/A"}}," "]
[null,null,null,null,null,null,null,null,null,{"$f":"+IFERROR(VLOOKUP(C7246,'Charge Conversion'!A:C,3,0),\" \")","v":" "},null," ",null,null,null,null,null,{"$f":"VLOOKUP(D7246,'Group Name'!A:B,2,0)","v":{"$error":"#N/A"}}," "]
[null,null,null,null,null,null,null,null,null,{"$f":"+IFERROR(VLOOKUP(C7247,'Charge Conversion'!A:C,3,0),\" \")","v":" "},null," ",null,null,null,null,null,{"$f":"VLOOKUP(D7247,'Group Name'!A:B,2,0)","v":{"$error":"#N/A"}}," "]
[null,null,null,null,null,null,null,null,null,{"$f":"+IFERROR(VLOOKUP(C7248,'Charge Conversion'!A:C,3,0),\" \")","v":" "},null," ",null,null,null,null,null,{"$f":"VLOOKUP(D7248,'Group Name'!A:B,2,0)","v":{"$error":"#N/A"}}," "]
[null,null,null,null,null,null,null,null,null,{"$f":"+IFERROR(VLOOKUP(C7249,'Charge Conversion'!A:C,3,0),\" \")","v":" "},null," ",null,null,null,null,null,{"$f":"VLOOKUP(D7249,'Group Name'!A:B,2,0)","v":{"$error":"#N/A"}}," "]
[null,null,null,null,null,null,null,null,null,{"$f":"+IFERROR(VLOOKUP(C7250,'Charge Conversion'!A:C,3,0),\" \")","v":" "},null," ",null,null,null,null,null,{"$f":"VLOOKUP(D7250,'Group Name'!A:B,2,0)","v":{"$error":"#N/A"}}," "]
[null,null,null,null,null,null,null,null,null,{"$f":"+IFERROR(VLOOKUP(C7251,'Charge Conversion'!A:C,3,0),\" \")","v":" "},null," ",null,null,null,null,null,{"$f":"VLOOKUP(D7251,'Group Name'!A:B,2,0)","v":{"$error":"#N/A"}}," "]
[null,null,null,null,null,null,null,null,null,{"$f":"+IFERROR(VLOOKUP(C7252,'Charge Conversion'!A:C,3,0),\" \")","v":" "},null," ",null,null,null,null,null,{"$f":"VLOOKUP(D7252,'Group Name'!A:B,2,0)","v":{"$error":"#N/A"}}," "]
[null,null,null,null,null,null,null,null,null,{"$f":"+IFERROR(VLOOKUP(C7253,'Charge Conversion'!A:C,3,0),\" \")","v":" "},null," ",null,null,null,null,null,{"$f":"VLOOKUP(D7253,'Group Name'!A:B,2,0)","v":{"$error":"#N/A"}}," "]
[null,null,null,null,null,null,null,null,null,{"$f":"+IFERROR(VLOOKUP(C7254,'Charge Conversion'!A:C,3,0),\" \")","v":" "},null," ",null,null,null,null,null,{"$f":"VLOOKUP(D7254,'Group Name'!A:B,2,0)","v":{"$error":"#N/A"}}," "]
[null,null,null,null,null,null,null,null,null,{"$f":"+IFERROR(VLOOKUP(C7255,'Charge Conversion'!A:C,3,0),\" \")","v":" "},null," ",null,null,null,null,null,{"$f":"VLOOKUP(D7255,'Group Name'!A:B,2,0)","v":{"$error":"#N/A"}}," "]
[null,null,null,null,null,null,null,null,null,{"$f":"+IFERROR(VLOOKUP(C7256,'Charge Conversion'!A:C,3,0),\" \")","v":" "},null," ",null,null,null,null,null,{"$f":"VLOOKUP(D7256,'Group Name'!A:B,2,0)","v":{"$error":"#N/A"}}," "]
[null,null,null,null,null,null,null,null,null,{"$f":"+IFERROR(VLOOKUP(C7257,'Charge Conversion'!A:C,3,0),\" \")","v":" "},null," ",null,null,null,null,null,{"$f":"VLOOKUP(D7257,'Group Name'!A:B,2,0)","v":{"$error":"#N/A"}}," "]
[null,null,null,null,null,null,null,null,null,{"$f":"+IFERROR(VLOOKUP(C7258,'Charge Conversion'!A:C,3,0),\" \")","v":" "},null," ",null,null,null,null,null,{"$f":"VLOOKUP(D7258,'Group Name'!A:B,2,0)","v":{"$error":"#N/A"}}," "]
[null,null,null,null,null,null,null,null,null,{"$f":"+IFERROR(VLOOKUP(C7259,'Charge Conversion'!A:C,3,0),\" \")","v":" "},null," ",null,null,null,null,null,{"$f":"VLOOKUP(D7259,'Group Name'!A:B,2,0)","v":{"$error":"#N/A"}}," "]
[null,null,null,null,null,null,null,null,null,{"$f":"+IFERROR(VLOOKUP(C7260,'Charge Conversion'!A:C,3,0),\" \")","v":" "},null," ",null,null,null,null,null,{"$f":"VLOOKUP(D7260,'Group Name'!A:B,2,0)","v":{"$error":"#N/A"}}," "]
[null,null,null,null,null,null,null,null,null,{"$f":"+IFERROR(VLOOKUP(C7261,'Charge Conversion'!A:C,3,0),\" \")","v":" "},null," ",null,null,null,null,null,{"$f":"VLOOKUP(D7261,'Group Name'!A:B,2,0)","v":{"$error":"#N/A"}}," "]
[null,null,null,null,null,null,null,null,null,{"$f":"+IFERROR(VLOOKUP(C7262,'Charge Conversion'!A:C,3,0),\" \")","v":" "},null," ",null,null,null,null,null,{"$f":"VLOOKUP(D7262,'Group Name'!A:B,2,0)","v":{"$error":"#N/A"}}," "]
[null,null,null,null,null,null,null,null,null,{"$f":"+IFERROR(VLOOKUP(C7263,'Charge Conversion'!A:C,3,0),\" \")","v":" "},null," ",null,null,null,null,null,{"$f":"VLOOKUP(D7263,'Group Name'!A:B,2,0)","v":{"$error":"#N/A"}}," "]
[null,null,null,null,null,null,null,null,null,{"$f":"+IFERROR(VLOOKUP(C7264,'Charge Conversion'!A:C,3,0),\" \")","v":" "},null," ",null,null,null,null,null,{"$f":"VLOOKUP(D7264,'Group Name'!A:B,2,0)","v":{"$error":"#N/A"}}," "]
[null,null,null,null,null,null,null,null,null,{"$f":"+IFERROR(VLOOKUP(C7265,'Charge Conversion'!A:C,3,0),\" \")","v":" "},null," ",null,null,null,null,null,{"$f":"VLOOKUP(D7265,'Group Name'!A:B,2,0)","v":{"$error":"#N/A"}}," "]
[null,null,null,null,null,null,null,null,null,{"$f":"+IFERROR(VLOOKUP(C7266,'Charge Conversion'!A:C,3,0),\" \")","v":" "},null," ",null,null,null,null,null,{"$f":"VLOOKUP(D7266,'Group Name'!A:B,2,0)","v":{"$error":"#N/A"}}," "]
[null,null,null,null,null,null,null,null,null,{"$f":"+IFERROR(VLOOKUP(C7267,'Charge Conversion'!A:C,3,0),\" \")","v":" "},null," ",null,null,null,null,null,{"$f":"VLOOKUP(D7267,'Group Name'!A:B,2,0)","v":{"$error":"#N/A"}}," "]
[null,null,null,null,null,null,null,null,null,{"$f":"+IFERROR(VLOOKUP(C7268,'Charge Conversion'!A:C,3,0),\" \")","v":" "},null," ",null,null,null,null,null,{"$f":"VLOOKUP(D7268,'Group Name'!A:B,2,0)","v":{"$error":"#N/A"}}," "]
[null,null,null,null,null,null,null,null,null,{"$f":"+IFERROR(VLOOKUP(C7269,'Charge Conversion'!A:C,3,0),\" \")","v":" "},null," ",null,null,null,null,null,{"$f":"VLOOKUP(D7269,'Group Name'!A:B,2,0)","v":{"$error":"#N/A"}}," "]
[null,null,null,null,null,null,null,null,null,{"$f":"+IFERROR(VLOOKUP(C7270,'Charge Conversion'!A:C,3,0),\" \")","v":" "},null," ",null,null,null,null,null,{"$f":"VLOOKUP(D7270,'Group Name'!A:B,2,0)","v":{"$error":"#N/A"}}," "]
[null,null,null,null,null,null,null,null,null,{"$f":"+IFERROR(VLOOKUP(C7271,'Charge Conversion'!A:C,3,0),\" \")","v":" "},null," ",null,null,null,null,null,{"$f":"VLOOKUP(D7271,'Group Name'!A:B,2,0)","v":{"$error":"#N/A"}}," "]
[null,null,null,null,null,null,null,null,null,{"$f":"+IFERROR(VLOOKUP(C7272,'Charge Conversion'!A:C,3,0),\" \")","v":" "},null," ",null,null,null,null,null,{"$f":"VLOOKUP(D7272,'Group Name'!A:B,2,0)","v":{"$error":"#N/A"}}," "]
[null,null,null,null,null,null,null,null,null,{"$f":"+IFERROR(VLOOKUP(C7273,'Charge Conversion'!A:C,3,0),\" \")","v":" "},null," ",null,null,null,null,null,{"$f":"VLOOKUP(D7273,'Group Name'!A:B,2,0)","v":{"$error":"#N/A"}}," "]
[null,null,null,null,null,null,null,null,null,{"$f":"+IFERROR(VLOOKUP(C7274,'Charge Conversion'!A:C,3,0),\" \")","v":" "},null," ",null,null,null,null,null,{"$f":"VLOOKUP(D7274,'Group Name'!A:B,2,0)","v":{"$error":"#N/A"}}," "]
[null,null,null,null,null,null,null,null,null,{"$f":"+IFERROR(VLOOKUP(C7275,'Charge Conversion'!A:C,3,0),\" \")","v":" "},null," ",null,null,null,null,null,{"$f":"VLOOKUP(D7275,'Group Name'!A:B,2,0)","v":{"$error":"#N/A"}}," "]
[null,null,null,null,null,null,null,null,null,{"$f":"+IFERROR(VLOOKUP(C7276,'Charge Conversion'!A:C,3,0),\" \")","v":" "},null," ",null,null,null,null,null,{"$f":"VLOOKUP(D7276,'Group Name'!A:B,2,0)","v":{"$error":"#N/A"}}," "]
[null,null,null,null,null,null,null,null,null,{"$f":"+IFERROR(VLOOKUP(C7277,'Charge Conversion'!A:C,3,0),\" \")","v":" "},null," ",null,null,null,null,null,{"$f":"VLOOKUP(D7277,'Group Name'!A:B,2,0)","v":{"$error":"#N/A"}}," "]
[null,null,null,null,null,null,null,null,null,{"$f":"+IFERROR(VLOOKUP(C7278,'Charge Conversion'!A:C,3,0),\" \")","v":" "},null," ",null,null,null,null,null,{"$f":"VLOOKUP(D7278,'Group Name'!A:B,2,0)","v":{"$error":"#N/A"}}," "]
[null,null,null,null,null,null,null,null,null,{"$f":"+IFERROR(VLOOKUP(C7279,'Charge Conversion'!A:C,3,0),\" \")","v":" "},null," ",null,null,null,null,null,{"$f":"VLOOKUP(D7279,'Group Name'!A:B,2,0)","v":{"$error":"#N/A"}}," "]
[null,null,null,null,null,null,null,null,null,{"$f":"+IFERROR(VLOOKUP(C7280,'Charge Conversion'!A:C,3,0),\" \")","v":" "},null," ",null,null,null,null,null,{"$f":"VLOOKUP(D7280,'Group Name'!A:B,2,0)","v":{"$error":"#N/A"}}," "]
[null,null,null,null,null,null,null,null,null,{"$f":"+IFERROR(VLOOKUP(C7281,'Charge Conversion'!A:C,3,0),\" \")","v":" "},null," ",null,null,null,null,null,{"$f":"VLOOKUP(D7281,'Group Name'!A:B,2,0)","v":{"$error":"#N/A"}}," "]
[null,null,null,null,null,null,null,null,null,{"$f":"+IFERROR(VLOOKUP(C7282,'Charge Conversion'!A:C,3,0),\" \")","v":" "},null," ",null,null,null,null,null,{"$f":"VLOOKUP(D7282,'Group Name'!A:B,2,0)","v":{"$error":"#N/A"}}," "]
[null,null,null,null,null,null,null,null,null,{"$f":"+IFERROR(VLOOKUP(C7283,'Charge Conversion'!A:C,3,0),\" \")","v":" "},null," ",null,null,null,null,null,{"$f":"VLOOKUP(D7283,'Group Name'!A:B,2,0)","v":{"$error":"#N/A"}}," "]
[null,null,null,null,null,null,null,null,null,{"$f":"+IFERROR(VLOOKUP(C7284,'Charge Conversion'!A:C,3,0),\" \")","v":" "},null," ",null,null,null,null,null,{"$f":"VLOOKUP(D7284,'Group Name'!A:B,2,0)","v":{"$error":"#N/A"}}," "]
[null,null,null,null,null,null,null,null,null,{"$f":"+IFERROR(VLOOKUP(C7285,'Charge Conversion'!A:C,3,0),\" \")","v":" "},null," ",null,null,null,null,null,{"$f":"VLOOKUP(D7285,'Group Name'!A:B,2,0)","v":{"$error":"#N/A"}}," "]
[null,null,null,null,null,null,null,null,null,{"$f":"+IFERROR(VLOOKUP(C7286,'Charge Conversion'!A:C,3,0),\" \")","v":" "},null," ",null,null,null,null,null,{"$f":"VLOOKUP(D7286,'Group Name'!A:B,2,0)","v":{"$error":"#N/A"}}," "]
[null,null,null,null,null,null,null,null,null,{"$f":"+IFERROR(VLOOKUP(C7287,'Charge Conversion'!A:C,3,0),\" \")","v":" "},null," ",null,null,null,null,null,{"$f":"VLOOKUP(D7287,'Group Name'!A:B,2,0)","v":{"$error":"#N/A"}}," "]
[null,null,null,null,null,null,null,null,null,{"$f":"+IFERROR(VLOOKUP(C7288,'Charge Conversion'!A:C,3,0),\" \")","v":" "},null," ",null,null,null,null,null,{"$f":"VLOOKUP(D7288,'Group Name'!A:B,2,0)","v":{"$error":"#N/A"}}," "]
[null,null,null,null,null,null,null,null,null,{"$f":"+IFERROR(VLOOKUP(C7289,'Charge Conversion'!A:C,3,0),\" \")","v":" "},null," ",null,null,null,null,null,{"$f":"VLOOKUP(D7289,'Group Name'!A:B,2,0)","v":{"$error":"#N/A"}}," "]
[null,null,null,null,null,null,null,null,null,{"$f":"+IFERROR(VLOOKUP(C7290,'Charge Conversion'!A:C,3,0),\" \")","v":" "},null," ",null,null,null,null,null,{"$f":"VLOOKUP(D7290,'Group Name'!A:B,2,0)","v":{"$error":"#N/A"}}," "]
[null,null,null,null,null,null,null,null,null,{"$f":"+IFERROR(VLOOKUP(C7291,'Charge Conversion'!A:C,3,0),\" \")","v":" "},null," ",null,null,null,null,null,{"$f":"VLOOKUP(D7291,'Group Name'!A:B,2,0)","v":{"$error":"#N/A"}}," "]
[null,null,null,null,null,null,null,null,null,{"$f":"+IFERROR(VLOOKUP(C7292,'Charge Conversion'!A:C,3,0),\" \")","v":" "},null," ",null,null,null,null,null,{"$f":"VLOOKUP(D7292,'Group Name'!A:B,2,0)","v":{"$error":"#N/A"}}," "]
[null,null,null,null,null,null,null,null,null,{"$f":"+IFERROR(VLOOKUP(C7293,'Charge Conversion'!A:C,3,0),\" \")","v":" "},null," ",null,null,null,null,null,{"$f":"VLOOKUP(D7293,'Group Name'!A:B,2,0)","v":{"$error":"#N/A"}}," "]
[null,null,null,null,null,null,null,null,null,{"$f":"+IFERROR(VLOOKUP(C7294,'Charge Conversion'!A:C,3,0),\" \")","v":" "},null," ",null,null,null,null,null,{"$f":"VLOOKUP(D7294,'Group Name'!A:B,2,0)","v":{"$error":"#N/A"}}," "]
[null,null,null,null,null,null,null,null,null,{"$f":"+IFERROR(VLOOKUP(C7295,'Charge Conversion'!A:C,3,0),\" \")","v":" "},null," ",null,null,null,null,null,{"$f":"VLOOKUP(D7295,'Group Name'!A:B,2,0)","v":{"$error":"#N/A"}}," "]
[null,null,null,null,null,null,null,null,null,{"$f":"+IFERROR(VLOOKUP(C7296,'Charge Conversion'!A:C,3,0),\" \")","v":" "},null," ",null,null,null,null,null,{"$f":"VLOOKUP(D7296,'Group Name'!A:B,2,0)","v":{"$error":"#N/A"}}," "]
[null,null,null,null,null,null,null,null,null,{"$f":"+IFERROR(VLOOKUP(C7297,'Charge Conversion'!A:C,3,0),\" \")","v":" "},null," ",null,null,null,null,null,{"$f":"VLOOKUP(D7297,'Group Name'!A:B,2,0)","v":{"$error":"#N/A"}}," "]
[null,null,null,null,null,null,null,null,null,{"$f":"+IFERROR(VLOOKUP(C7298,'Charge Conversion'!A:C,3,0),\" \")","v":" "},null," ",null,null,null,null,null,{"$f":"VLOOKUP(D7298,'Group Name'!A:B,2,0)","v":{"$error":"#N/A"}}," "]
[null,null,null,null,null,null,null,null,null,{"$f":"+IFERROR(VLOOKUP(C7299,'Charge Conversion'!A:C,3,0),\" \")","v":" "},null," ",null,null,null,null,null,{"$f":"VLOOKUP(D7299,'Group Name'!A:B,2,0)","v":{"$error":"#N/A"}}," "]
[null,null,null,null,null,null,null,null,null,{"$f":"+IFERROR(VLOOKUP(C7300,'Charge Conversion'!A:C,3,0),\" \")","v":" "},null," ",null,null,null,null,null,{"$f":"VLOOKUP(D7300,'Group Name'!A:B,2,0)","v":{"$error":"#N/A"}}," "]
[null,null,null,null,null,null,null,null,null,{"$f":"+IFERROR(VLOOKUP(C7301,'Charge Conversion'!A:C,3,0),\" \")","v":" "},null,{"$f":"S7301","v":" "},null,null,null,null,null,{"$f":"VLOOKUP(D7301,'Group Name'!A:B,2,0)","v":{"$error":"#N/A"}},{"$f":"IFERROR((IF(A7301=\" \",\" \",R7301)),\" \")","v":" "}]
[null,null,null,null,null,null,null,null,null,{"$f":"+IFERROR(VLOOKUP(C7302,'Charge Conversion'!A:C,3,0),\" \")","v":" "},null," ",null,null,null,null,null,{"$f":"VLOOKUP(D7302,'Group Name'!A:B,2,0)","v":{"$error":"#N/A"}}," "]
[null,null,null,null,null,null,null,null,null,{"$f":"+IFERROR(VLOOKUP(C7303,'Charge Conversion'!A:C,3,0),\" \")","v":" "},null," ",null,null,null,null,null,{"$f":"VLOOKUP(D7303,'Group Name'!A:B,2,0)","v":{"$error":"#N/A"}}," "]
[null,null,null,null,null,null,null,null,null,{"$f":"+IFERROR(VLOOKUP(C7304,'Charge Conversion'!A:C,3,0),\" \")","v":" "},null," ",null,null,null,null,null,{"$f":"VLOOKUP(D7304,'Group Name'!A:B,2,0)","v":{"$error":"#N/A"}}," "]
[null,null,null,null,null,null,null,null,null,{"$f":"+IFERROR(VLOOKUP(C7305,'Charge Conversion'!A:C,3,0),\" \")","v":" "},null," ",null,null,null,null,null,{"$f":"VLOOKUP(D7305,'Group Name'!A:B,2,0)","v":{"$error":"#N/A"}}," "]
[null,null,null,null,null,null,null,null,null,{"$f":"+IFERROR(VLOOKUP(C7306,'Charge Conversion'!A:C,3,0),\" \")","v":" "},null," ",null,null,null,null,null,{"$f":"VLOOKUP(D7306,'Group Name'!A:B,2,0)","v":{"$error":"#N/A"}}," "]
[null,null,null,null,null,null,null,null,null,{"$f":"+IFERROR(VLOOKUP(C7307,'Charge Conversion'!A:C,3,0),\" \")","v":" "},null," ",null,null,null,null,null,{"$f":"VLOOKUP(D7307,'Group Name'!A:B,2,0)","v":{"$error":"#N/A"}}," "]
[null,null,null,null,null,null,null,null,null,{"$f":"+IFERROR(VLOOKUP(C7308,'Charge Conversion'!A:C,3,0),\" \")","v":" "},null," ",null,null,null,null,null,{"$f":"VLOOKUP(D7308,'Group Name'!A:B,2,0)","v":{"$error":"#N/A"}}," "]
[null,null,null,null,null,null,null,null,null,{"$f":"+IFERROR(VLOOKUP(C7309,'Charge Conversion'!A:C,3,0),\" \")","v":" "},null," ",null,null,null,null,null,{"$f":"VLOOKUP(D7309,'Group Name'!A:B,2,0)","v":{"$error":"#N/A"}}," "]
[null,null,null,null,null,null,null,null,null,{"$f":"+IFERROR(VLOOKUP(C7310,'Charge Conversion'!A:C,3,0),\" \")","v":" "},null," ",null,null,null,null,null,{"$f":"VLOOKUP(D7310,'Group Name'!A:B,2,0)","v":{"$error":"#N/A"}}," "]
[null,null,null,null,null,null,null,null,null,{"$f":"+IFERROR(VLOOKUP(C7311,'Charge Conversion'!A:C,3,0),\" \")","v":" "},null," ",null,null,null,null,null,{"$f":"VLOOKUP(D7311,'Group Name'!A:B,2,0)","v":{"$error":"#N/A"}}," "]
[null,null,null,null,null,null,null,null,null,{"$f":"+IFERROR(VLOOKUP(C7312,'Charge Conversion'!A:C,3,0),\" \")","v":" "},null," ",null,null,null,null,null,{"$f":"VLOOKUP(D7312,'Group Name'!A:B,2,0)","v":{"$error":"#N/A"}}," "]
[null,null,null,null,null,null,null,null,null,{"$f":"+IFERROR(VLOOKUP(C7313,'Charge Conversion'!A:C,3,0),\" \")","v":" "},null," ",null,null,null,null,null,{"$f":"VLOOKUP(D7313,'Group Name'!A:B,2,0)","v":{"$error":"#N/A"}}," "]
[null,null,null,null,null,null,null,null,null,{"$f":"+IFERROR(VLOOKUP(C7314,'Charge Conversion'!A:C,3,0),\" \")","v":" "},null," ",null,null,null,null,null,{"$f":"VLOOKUP(D7314,'Group Name'!A:B,2,0)","v":{"$error":"#N/A"}}," "]
[null,null,null,null,null,null,null,null,null,{"$f":"+IFERROR(VLOOKUP(C7315,'Charge Conversion'!A:C,3,0),\" \")","v":" "},null," ",null,null,null,null,null,{"$f":"VLOOKUP(D7315,'Group Name'!A:B,2,0)","v":{"$error":"#N/A"}}," "]
[null,null,null,null,null,null,null,null,null,{"$f":"+IFERROR(VLOOKUP(C7316,'Charge Conversion'!A:C,3,0),\" \")","v":" "},null," ",null,null,null,null,null,{"$f":"VLOOKUP(D7316,'Group Name'!A:B,2,0)","v":{"$error":"#N/A"}}," "]
[null,null,null,null,null,null,null,null,null,{"$f":"+IFERROR(VLOOKUP(C7317,'Charge Conversion'!A:C,3,0),\" \")","v":" "},null," ",null,null,null,null,null,{"$f":"VLOOKUP(D7317,'Group Name'!A:B,2,0)","v":{"$error":"#N/A"}}," "]
[null,null,null,null,null,null,null,null,null,{"$f":"+IFERROR(VLOOKUP(C7318,'Charge Conversion'!A:C,3,0),\" \")","v":" "},null," ",null,null,null,null,null,{"$f":"VLOOKUP(D7318,'Group Name'!A:B,2,0)","v":{"$error":"#N/A"}}," "]
[null,null,null,null,null,null,null,null,null,{"$f":"+IFERROR(VLOOKUP(C7319,'Charge Conversion'!A:C,3,0),\" \")","v":" "},null," ",null,null,null,null,null,{"$f":"VLOOKUP(D7319,'Group Name'!A:B,2,0)","v":{"$error":"#N/A"}}," "]
[null,null,null,null,null,null,null,null,null,{"$f":"+IFERROR(VLOOKUP(C7320,'Charge Conversion'!A:C,3,0),\" \")","v":" "},null," ",null,null,null,null,null,{"$f":"VLOOKUP(D7320,'Group Name'!A:B,2,0)","v":{"$error":"#N/A"}}," "]
[null,null,null,null,null,null,null,null,null,{"$f":"+IFERROR(VLOOKUP(C7321,'Charge Conversion'!A:C,3,0),\" \")","v":" "},null," ",null,null,null,null,null,{"$f":"VLOOKUP(D7321,'Group Name'!A:B,2,0)","v":{"$error":"#N/A"}}," "]
[null,null,null,null,null,null,null,null,null,{"$f":"+IFERROR(VLOOKUP(C7322,'Charge Conversion'!A:C,3,0),\" \")","v":" "},null," ",null,null,null,null,null,{"$f":"VLOOKUP(D7322,'Group Name'!A:B,2,0)","v":{"$error":"#N/A"}}," "]
[null,null,null,null,null,null,null,null,null,{"$f":"+IFERROR(VLOOKUP(C7323,'Charge Conversion'!A:C,3,0),\" \")","v":" "},null," ",null,null,null,null,null,{"$f":"VLOOKUP(D7323,'Group Name'!A:B,2,0)","v":{"$error":"#N/A"}}," "]
[null,null,null,null,null,null,null,null,null,{"$f":"+IFERROR(VLOOKUP(C7324,'Charge Conversion'!A:C,3,0),\" \")","v":" "},null," ",null,null,null,null,null,{"$f":"VLOOKUP(D7324,'Group Name'!A:B,2,0)","v":{"$error":"#N/A"}}," "]
[null,null,null,null,null,null,null,null,null,{"$f":"+IFERROR(VLOOKUP(C7325,'Charge Conversion'!A:C,3,0),\" \")","v":" "},null," ",null,null,null,null,null,{"$f":"VLOOKUP(D7325,'Group Name'!A:B,2,0)","v":{"$error":"#N/A"}}," "]
[null,null,null,null,null,null,null,null,null,{"$f":"+IFERROR(VLOOKUP(C7326,'Charge Conversion'!A:C,3,0),\" \")","v":" "},null," ",null,null,null,null,null,{"$f":"VLOOKUP(D7326,'Group Name'!A:B,2,0)","v":{"$error":"#N/A"}}," "]
[null,null,null,null,null,null,null,null,null,{"$f":"+IFERROR(VLOOKUP(C7327,'Charge Conversion'!A:C,3,0),\" \")","v":" "},null," ",null,null,null,null,null,{"$f":"VLOOKUP(D7327,'Group Name'!A:B,2,0)","v":{"$error":"#N/A"}}," "]
[null,null,null,null,null,null,null,null,null,{"$f":"+IFERROR(VLOOKUP(C7328,'Charge Conversion'!A:C,3,0),\" \")","v":" "},null," ",null,null,null,null,null,{"$f":"VLOOKUP(D7328,'Group Name'!A:B,2,0)","v":{"$error":"#N/A"}}," "]
[null,null,null,null,null,null,null,null,null,{"$f":"+IFERROR(VLOOKUP(C7329,'Charge Conversion'!A:C,3,0),\" \")","v":" "},null," ",null,null,null,null,null,{"$f":"VLOOKUP(D7329,'Group Name'!A:B,2,0)","v":{"$error":"#N/A"}}," "]
[null,null,null,null,null,null,null,null,null,{"$f":"+IFERROR(VLOOKUP(C7330,'Charge Conversion'!A:C,3,0),\" \")","v":" "},null," ",null,null,null,null,null,{"$f":"VLOOKUP(D7330,'Group Name'!A:B,2,0)","v":{"$error":"#N/A"}}," "]
[null,null,null,null,null,null,null,null,null,{"$f":"+IFERROR(VLOOKUP(C7331,'Charge Conversion'!A:C,3,0),\" \")","v":" "},null," ",null,null,null,null,null,{"$f":"VLOOKUP(D7331,'Group Name'!A:B,2,0)","v":{"$error":"#N/A"}}," "]
[null,null,null,null,null,null,null,null,null,{"$f":"+IFERROR(VLOOKUP(C7332,'Charge Conversion'!A:C,3,0),\" \")","v":" "},null," ",null,null,null,null,null,{"$f":"VLOOKUP(D7332,'Group Name'!A:B,2,0)","v":{"$error":"#N/A"}}," "]
[null,null,null,null,null,null,null,null,null,{"$f":"+IFERROR(VLOOKUP(C7333,'Charge Conversion'!A:C,3,0),\" \")","v":" "},null," ",null,null,null,null,null,{"$f":"VLOOKUP(D7333,'Group Name'!A:B,2,0)","v":{"$error":"#N/A"}}," "]
[null,null,null,null,null,null,null,null,null,{"$f":"+IFERROR(VLOOKUP(C7334,'Charge Conversion'!A:C,3,0),\" \")","v":" "},null," ",null,null,null,null,null,{"$f":"VLOOKUP(D7334,'Group Name'!A:B,2,0)","v":{"$error":"#N/A"}}," "]
[null,null,null,null,null,null,null,null,null,{"$f":"+IFERROR(VLOOKUP(C7335,'Charge Conversion'!A:C,3,0),\" \")","v":" "},null," ",null,null,null,null,null,{"$f":"VLOOKUP(D7335,'Group Name'!A:B,2,0)","v":{"$error":"#N/A"}}," "]
[null,null,null,null,null,null,null,null,null,{"$f":"+IFERROR(VLOOKUP(C7336,'Charge Conversion'!A:C,3,0),\" \")","v":" "},null," ",null,null,null,null,null,{"$f":"VLOOKUP(D7336,'Group Name'!A:B,2,0)","v":{"$error":"#N/A"}}," "]
[null,null,null,null,null,null,null,null,null,{"$f":"+IFERROR(VLOOKUP(C7337,'Charge Conversion'!A:C,3,0),\" \")","v":" "},null," ",null,null,null,null,null,{"$f":"VLOOKUP(D7337,'Group Name'!A:B,2,0)","v":{"$error":"#N/A"}}," "]
[null,null,null,null,null,null,null,null,null,{"$f":"+IFERROR(VLOOKUP(C7338,'Charge Conversion'!A:C,3,0),\" \")","v":" "},null," ",null,null,null,null,null,{"$f":"VLOOKUP(D7338,'Group Name'!A:B,2,0)","v":{"$error":"#N/A"}}," "]
[null,null,null,null,null,null,null,null,null,{"$f":"+IFERROR(VLOOKUP(C7339,'Charge Conversion'!A:C,3,0),\" \")","v":" "},null," ",null,null,null,null,null,{"$f":"VLOOKUP(D7339,'Group Name'!A:B,2,0)","v":{"$error":"#N/A"}}," "]
[null,null,null,null,null,null,null,null,null,{"$f":"+IFERROR(VLOOKUP(C7340,'Charge Conversion'!A:C,3,0),\" \")","v":" "},null," ",null,null,null,null,null,{"$f":"VLOOKUP(D7340,'Group Name'!A:B,2,0)","v":{"$error":"#N/A"}}," "]
[null,null,null,null,null,null,null,null,null,{"$f":"+IFERROR(VLOOKUP(C7341,'Charge Conversion'!A:C,3,0),\" \")","v":" "},null," ",null,null,null,null,null,{"$f":"VLOOKUP(D7341,'Group Name'!A:B,2,0)","v":{"$error":"#N/A"}}," "]
[null,null,null,null,null,null,null,null,null,{"$f":"+IFERROR(VLOOKUP(C7342,'Charge Conversion'!A:C,3,0),\" \")","v":" "},null," ",null,null,null,null,null,{"$f":"VLOOKUP(D7342,'Group Name'!A:B,2,0)","v":{"$error":"#N/A"}}," "]
[null,null,null,null,null,null,null,null,null,{"$f":"+IFERROR(VLOOKUP(C7343,'Charge Conversion'!A:C,3,0),\" \")","v":" "},null," ",null,null,null,null,null,{"$f":"VLOOKUP(D7343,'Group Name'!A:B,2,0)","v":{"$error":"#N/A"}}," "]
[null,null,null,null,null,null,null,null,null,{"$f":"+IFERROR(VLOOKUP(C7344,'Charge Conversion'!A:C,3,0),\" \")","v":" "},null," ",null,null,null,null,null,{"$f":"VLOOKUP(D7344,'Group Name'!A:B,2,0)","v":{"$error":"#N/A"}}," "]
[null,null,null,null,null,null,null,null,null,{"$f":"+IFERROR(VLOOKUP(C7345,'Charge Conversion'!A:C,3,0),\" \")","v":" "},null," ",null,null,null,null,null,{"$f":"VLOOKUP(D7345,'Group Name'!A:B,2,0)","v":{"$error":"#N/A"}}," "]
[null,null,null,null,null,null,null,null,null,{"$f":"+IFERROR(VLOOKUP(C7346,'Charge Conversion'!A:C,3,0),\" \")","v":" "},null," ",null,null,null,null,null,{"$f":"VLOOKUP(D7346,'Group Name'!A:B,2,0)","v":{"$error":"#N/A"}}," "]
[null,null,null,null,null,null,null,null,null,{"$f":"+IFERROR(VLOOKUP(C7347,'Charge Conversion'!A:C,3,0),\" \")","v":" "},null," ",null,null,null,null,null,{"$f":"VLOOKUP(D7347,'Group Name'!A:B,2,0)","v":{"$error":"#N/A"}}," "]
[null,null,null,null,null,null,null,null,null,{"$f":"+IFERROR(VLOOKUP(C7348,'Charge Conversion'!A:C,3,0),\" \")","v":" "},null," ",null,null,null,null,null,{"$f":"VLOOKUP(D7348,'Group Name'!A:B,2,0)","v":{"$error":"#N/A"}}," "]
[null,null,null,null,null,null,null,null,null,{"$f":"+IFERROR(VLOOKUP(C7349,'Charge Conversion'!A:C,3,0),\" \")","v":" "},null," ",null,null,null,null,null,{"$f":"VLOOKUP(D7349,'Group Name'!A:B,2,0)","v":{"$error":"#N/A"}}," "]
[null,null,null,null,null,null,null,null,null,{"$f":"+IFERROR(VLOOKUP(C7350,'Charge Conversion'!A:C,3,0),\" \")","v":" "},null," ",null,null,null,null,null,{"$f":"VLOOKUP(D7350,'Group Name'!A:B,2,0)","v":{"$error":"#N/A"}}," "]
[null,null,null,null,null,null,null,null,null,{"$f":"+IFERROR(VLOOKUP(C7351,'Charge Conversion'!A:C,3,0),\" \")","v":" "},null," ",null,null,null,null,null,{"$f":"VLOOKUP(D7351,'Group Name'!A:B,2,0)","v":{"$error":"#N/A"}}," "]
[null,null,null,null,null,null,null,null,null,{"$f":"+IFERROR(VLOOKUP(C7352,'Charge Conversion'!A:C,3,0),\" \")","v":" "},null," ",null,null,null,null,null,{"$f":"VLOOKUP(D7352,'Group Name'!A:B,2,0)","v":{"$error":"#N/A"}}," "]
[null,null,null,null,null,null,null,null,null,{"$f":"+IFERROR(VLOOKUP(C7353,'Charge Conversion'!A:C,3,0),\" \")","v":" "},null," ",null,null,null,null,null,{"$f":"VLOOKUP(D7353,'Group Name'!A:B,2,0)","v":{"$error":"#N/A"}}," "]
[null,null,null,null,null,null,null,null,null,{"$f":"+IFERROR(VLOOKUP(C7354,'Charge Conversion'!A:C,3,0),\" \")","v":" "},null," ",null,null,null,null,null,{"$f":"VLOOKUP(D7354,'Group Name'!A:B,2,0)","v":{"$error":"#N/A"}}," "]
[null,null,null,null,null,null,null,null,null,{"$f":"+IFERROR(VLOOKUP(C7355,'Charge Conversion'!A:C,3,0),\" \")","v":" "},null," ",null,null,null,null,null,{"$f":"VLOOKUP(D7355,'Group Name'!A:B,2,0)","v":{"$error":"#N/A"}}," "]
[null,null,null,null,null,null,null,null,null,{"$f":"+IFERROR(VLOOKUP(C7356,'Charge Conversion'!A:C,3,0),\" \")","v":" "},null," ",null,null,null,null,null,{"$f":"VLOOKUP(D7356,'Group Name'!A:B,2,0)","v":{"$error":"#N/A"}}," "]
[null,null,null,null,null,null,null,null,null,{"$f":"+IFERROR(VLOOKUP(C7357,'Charge Conversion'!A:C,3,0),\" \")","v":" "},null," ",null,null,null,null,null,{"$f":"VLOOKUP(D7357,'Group Name'!A:B,2,0)","v":{"$error":"#N/A"}}," "]
[null,null,null,null,null,null,null,null,null,{"$f":"+IFERROR(VLOOKUP(C7358,'Charge Conversion'!A:C,3,0),\" \")","v":" "},null," ",null,null,null,null,null,{"$f":"VLOOKUP(D7358,'Group Name'!A:B,2,0)","v":{"$error":"#N/A"}}," "]
[null,null,null,null,null,null,null,null,null,{"$f":"+IFERROR(VLOOKUP(C7359,'Charge Conversion'!A:C,3,0),\" \")","v":" "},null," ",null,null,null,null,null,{"$f":"VLOOKUP(D7359,'Group Name'!A:B,2,0)","v":{"$error":"#N/A"}}," "]
[null,null,null,null,null,null,null,null,null,{"$f":"+IFERROR(VLOOKUP(C7360,'Charge Conversion'!A:C,3,0),\" \")","v":" "},null," ",null,null,null,null,null,{"$f":"VLOOKUP(D7360,'Group Name'!A:B,2,0)","v":{"$error":"#N/A"}}," "]
[null,null,null,null,null,null,null,null,null,{"$f":"+IFERROR(VLOOKUP(C7361,'Charge Conversion'!A:C,3,0),\" \")","v":" "},null," ",null,null,null,null,null,{"$f":"VLOOKUP(D7361,'Group Name'!A:B,2,0)","v":{"$error":"#N/A"}}," "]
[null,null,null,null,null,null,null,null,null,{"$f":"+IFERROR(VLOOKUP(C7362,'Charge Conversion'!A:C,3,0),\" \")","v":" "},null," ",null,null,null,null,null,{"$f":"VLOOKUP(D7362,'Group Name'!A:B,2,0)","v":{"$error":"#N/A"}}," "]
[null,null,null,null,null,null,null,null,null,{"$f":"+IFERROR(VLOOKUP(C7363,'Charge Conversion'!A:C,3,0),\" \")","v":" "},null," ",null,null,null,null,null,{"$f":"VLOOKUP(D7363,'Group Name'!A:B,2,0)","v":{"$error":"#N/A"}}," "]
[null,null,null,null,null,null,null,null,null,{"$f":"+IFERROR(VLOOKUP(C7364,'Charge Conversion'!A:C,3,0),\" \")","v":" "},null," ",null,null,null,null,null,{"$f":"VLOOKUP(D7364,'Group Name'!A:B,2,0)","v":{"$error":"#N/A"}}," "]
[null,null,null,null,null,null,null,null,null,{"$f":"+IFERROR(VLOOKUP(C7365,'Charge Conversion'!A:C,3,0),\" \")","v":" "},null,{"$f":"S7365","v":" "},null,null,null,null,null,{"$f":"VLOOKUP(D7365,'Group Name'!A:B,2,0)","v":{"$error":"#N/A"}},{"$f":"IFERROR((IF(A7365=\" \",\" \",R7365)),\" \")","v":" "}]
[null,null,null,null,null,null,null,null,null,{"$f":"+IFERROR(VLOOKUP(C7366,'Charge Conversion'!A:C,3,0),\" \")","v":" "},null," ",null,null,null,null,null,{"$f":"VLOOKUP(D7366,'Group Name'!A:B,2,0)","v":{"$error":"#N/A"}}," "]
[null,null,null,null,null,null,null,null,null,{"$f":"+IFERROR(VLOOKUP(C7367,'Charge Conversion'!A:C,3,0),\" \")","v":" "},null," ",null,null,null,null,null,{"$f":"VLOOKUP(D7367,'Group Name'!A:B,2,0)","v":{"$error":"#N/A"}}," "]
[null,null,null,null,null,null,null,null,null,{"$f":"+IFERROR(VLOOKUP(C7368,'Charge Conversion'!A:C,3,0),\" \")","v":" "},null," ",null,null,null,null,null,{"$f":"VLOOKUP(D7368,'Group Name'!A:B,2,0)","v":{"$error":"#N/A"}}," "]
[null,null,null,null,null,null,null,null,null,{"$f":"+IFERROR(VLOOKUP(C7369,'Charge Conversion'!A:C,3,0),\" \")","v":" "},null," ",null,null,null,null,null,{"$f":"VLOOKUP(D7369,'Group Name'!A:B,2,0)","v":{"$error":"#N/A"}}," "]
[null,null,null,null,null,null,null,null,null,{"$f":"+IFERROR(VLOOKUP(C7370,'Charge Conversion'!A:C,3,0),\" \")","v":" "},null," ",null,null,null,null,null,{"$f":"VLOOKUP(D7370,'Group Name'!A:B,2,0)","v":{"$error":"#N/A"}}," "]
[null,null,null,null,null,null,null,null,null,{"$f":"+IFERROR(VLOOKUP(C7371,'Charge Conversion'!A:C,3,0),\" \")","v":" "},null," ",null,null,null,null,null,{"$f":"VLOOKUP(D7371,'Group Name'!A:B,2,0)","v":{"$error":"#N/A"}}," "]
[null,null,null,null,null,null,null,null,null,{"$f":"+IFERROR(VLOOKUP(C7372,'Charge Conversion'!A:C,3,0),\" \")","v":" "},null," ",null,null,null,null,null,{"$f":"VLOOKUP(D7372,'Group Name'!A:B,2,0)","v":{"$error":"#N/A"}}," "]
[null,null,null,null,null,null,null,null,null,{"$f":"+IFERROR(VLOOKUP(C7373,'Charge Conversion'!A:C,3,0),\" \")","v":" "},null," ",null,null,null,null,null,{"$f":"VLOOKUP(D7373,'Group Name'!A:B,2,0)","v":{"$error":"#N/A"}}," "]
[null,null,null,null,null,null,null,null,null,{"$f":"+IFERROR(VLOOKUP(C7374,'Charge Conversion'!A:C,3,0),\" \")","v":" "},null," ",null,null,null,null,null,{"$f":"VLOOKUP(D7374,'Group Name'!A:B,2,0)","v":{"$error":"#N/A"}}," "]
[null,null,null,null,null,null,null,null,null,{"$f":"+IFERROR(VLOOKUP(C7375,'Charge Conversion'!A:C,3,0),\" \")","v":" "},null," ",null,null,null,null,null,{"$f":"VLOOKUP(D7375,'Group Name'!A:B,2,0)","v":{"$error":"#N/A"}}," "]
[null,null,null,null,null,null,null,null,null,{"$f":"+IFERROR(VLOOKUP(C7376,'Charge Conversion'!A:C,3,0),\" \")","v":" "},null," ",null,null,null,null,null,{"$f":"VLOOKUP(D7376,'Group Name'!A:B,2,0)","v":{"$error":"#N/A"}}," "]
[null,null,null,null,null,null,null,null,null,{"$f":"+IFERROR(VLOOKUP(C7377,'Charge Conversion'!A:C,3,0),\" \")","v":" "},null," ",null,null,null,null,null,{"$f":"VLOOKUP(D7377,'Group Name'!A:B,2,0)","v":{"$error":"#N/A"}}," "]
[null,null,null,null,null,null,null,null,null,{"$f":"+IFERROR(VLOOKUP(C7378,'Charge Conversion'!A:C,3,0),\" \")","v":" "},null," ",null,null,null,null,null,{"$f":"VLOOKUP(D7378,'Group Name'!A:B,2,0)","v":{"$error":"#N/A"}}," "]
[null,null,null,null,null,null,null,null,null,{"$f":"+IFERROR(VLOOKUP(C7379,'Charge Conversion'!A:C,3,0),\" \")","v":" "},null," ",null,null,null,null,null,{"$f":"VLOOKUP(D7379,'Group Name'!A:B,2,0)","v":{"$error":"#N/A"}}," "]
[null,null,null,null,null,null,null,null,null,{"$f":"+IFERROR(VLOOKUP(C7380,'Charge Conversion'!A:C,3,0),\" \")","v":" "},null," ",null,null,null,null,null,{"$f":"VLOOKUP(D7380,'Group Name'!A:B,2,0)","v":{"$error":"#N/A"}}," "]
[null,null,null,null,null,null,null,null,null,{"$f":"+IFERROR(VLOOKUP(C7381,'Charge Conversion'!A:C,3,0),\" \")","v":" "},null," ",null,null,null,null,null,{"$f":"VLOOKUP(D7381,'Group Name'!A:B,2,0)","v":{"$error":"#N/A"}}," "]
[null,null,null,null,null,null,null,null,null,{"$f":"+IFERROR(VLOOKUP(C7382,'Charge Conversion'!A:C,3,0),\" \")","v":" "},null," ",null,null,null,null,null,{"$f":"VLOOKUP(D7382,'Group Name'!A:B,2,0)","v":{"$error":"#N/A"}}," "]
[null,null,null,null,null,null,null,null,null,{"$f":"+IFERROR(VLOOKUP(C7383,'Charge Conversion'!A:C,3,0),\" \")","v":" "},null," ",null,null,null,null,null,{"$f":"VLOOKUP(D7383,'Group Name'!A:B,2,0)","v":{"$error":"#N/A"}}," "]
[null,null,null,null,null,null,null,null,null,{"$f":"+IFERROR(VLOOKUP(C7384,'Charge Conversion'!A:C,3,0),\" \")","v":" "},null," ",null,null,null,null,null,{"$f":"VLOOKUP(D7384,'Group Name'!A:B,2,0)","v":{"$error":"#N/A"}}," "]
[null,null,null,null,null,null,null,null,null,{"$f":"+IFERROR(VLOOKUP(C7385,'Charge Conversion'!A:C,3,0),\" \")","v":" "},null," ",null,null,null,null,null,{"$f":"VLOOKUP(D7385,'Group Name'!A:B,2,0)","v":{"$error":"#N/A"}}," "]
[null,null,null,null,null,null,null,null,null,{"$f":"+IFERROR(VLOOKUP(C7386,'Charge Conversion'!A:C,3,0),\" \")","v":" "},null," ",null,null,null,null,null,{"$f":"VLOOKUP(D7386,'Group Name'!A:B,2,0)","v":{"$error":"#N/A"}}," "]
[null,null,null,null,null,null,null,null,null,{"$f":"+IFERROR(VLOOKUP(C7387,'Charge Conversion'!A:C,3,0),\" \")","v":" "},null," ",null,null,null,null,null,{"$f":"VLOOKUP(D7387,'Group Name'!A:B,2,0)","v":{"$error":"#N/A"}}," "]
[null,null,null,null,null,null,null,null,null,{"$f":"+IFERROR(VLOOKUP(C7388,'Charge Conversion'!A:C,3,0),\" \")","v":" "},null," ",null,null,null,null,null,{"$f":"VLOOKUP(D7388,'Group Name'!A:B,2,0)","v":{"$error":"#N/A"}}," "]
[null,null,null,null,null,null,null,null,null,{"$f":"+IFERROR(VLOOKUP(C7389,'Charge Conversion'!A:C,3,0),\" \")","v":" "},null," ",null,null,null,null,null,{"$f":"VLOOKUP(D7389,'Group Name'!A:B,2,0)","v":{"$error":"#N/A"}}," "]
[null,null,null,null,null,null,null,null,null,{"$f":"+IFERROR(VLOOKUP(C7390,'Charge Conversion'!A:C,3,0),\" \")","v":" "},null," ",null,null,null,null,null,{"$f":"VLOOKUP(D7390,'Group Name'!A:B,2,0)","v":{"$error":"#N/A"}}," "]
[null,null,null,null,null,null,null,null,null,{"$f":"+IFERROR(VLOOKUP(C7391,'Charge Conversion'!A:C,3,0),\" \")","v":" "},null," ",null,null,null,null,null,{"$f":"VLOOKUP(D7391,'Group Name'!A:B,2,0)","v":{"$error":"#N/A"}}," "]
[null,null,null,null,null,null,null,null,null,{"$f":"+IFERROR(VLOOKUP(C7392,'Charge Conversion'!A:C,3,0),\" \")","v":" "},null," ",null,null,null,null,null,{"$f":"VLOOKUP(D7392,'Group Name'!A:B,2,0)","v":{"$error":"#N/A"}}," "]
[null,null,null,null,null,null,null,null,null,{"$f":"+IFERROR(VLOOKUP(C7393,'Charge Conversion'!A:C,3,0),\" \")","v":" "},null," ",null,null,null,null,null,{"$f":"VLOOKUP(D7393,'Group Name'!A:B,2,0)","v":{"$error":"#N/A"}}," "]
[null,null,null,null,null,null,null,null,null,{"$f":"+IFERROR(VLOOKUP(C7394,'Charge Conversion'!A:C,3,0),\" \")","v":" "},null," ",null,null,null,null,null,{"$f":"VLOOKUP(D7394,'Group Name'!A:B,2,0)","v":{"$error":"#N/A"}}," "]
[null,null,null,null,null,null,null,null,null,{"$f":"+IFERROR(VLOOKUP(C7395,'Charge Conversion'!A:C,3,0),\" \")","v":" "},null," ",null,null,null,null,null,{"$f":"VLOOKUP(D7395,'Group Name'!A:B,2,0)","v":{"$error":"#N/A"}}," "]
[null,null,null,null,null,null,null,null,null,{"$f":"+IFERROR(VLOOKUP(C7396,'Charge Conversion'!A:C,3,0),\" \")","v":" "},null," ",null,null,null,null,null,{"$f":"VLOOKUP(D7396,'Group Name'!A:B,2,0)","v":{"$error":"#N/A"}}," "]
[null,null,null,null,null,null,null,null,null,{"$f":"+IFERROR(VLOOKUP(C7397,'Charge Conversion'!A:C,3,0),\" \")","v":" "},null," ",null,null,null,null,null,{"$f":"VLOOKUP(D7397,'Group Name'!A:B,2,0)","v":{"$error":"#N/A"}}," "]
[null,null,null,null,null,null,null,null,null,{"$f":"+IFERROR(VLOOKUP(C7398,'Charge Conversion'!A:C,3,0),\" \")","v":" "},null," ",null,null,null,null,null,{"$f":"VLOOKUP(D7398,'Group Name'!A:B,2,0)","v":{"$error":"#N/A"}}," "]
[null,null,null,null,null,null,null,null,null,{"$f":"+IFERROR(VLOOKUP(C7399,'Charge Conversion'!A:C,3,0),\" \")","v":" "},null," ",null,null,null,null,null,{"$f":"VLOOKUP(D7399,'Group Name'!A:B,2,0)","v":{"$error":"#N/A"}}," "]
[null,null,null,null,null,null,null,null,null,{"$f":"+IFERROR(VLOOKUP(C7400,'Charge Conversion'!A:C,3,0),\" \")","v":" "},null," ",null,null,null,null,null,{"$f":"VLOOKUP(D7400,'Group Name'!A:B,2,0)","v":{"$error":"#N/A"}}," "]
[null,null,null,null,null,null,null,null,null,{"$f":"+IFERROR(VLOOKUP(C7401,'Charge Conversion'!A:C,3,0),\" \")","v":" "},null," ",null,null,null,null,null,{"$f":"VLOOKUP(D7401,'Group Name'!A:B,2,0)","v":{"$error":"#N/A"}}," "]
[null,null,null,null,null,null,null,null,null,{"$f":"+IFERROR(VLOOKUP(C7402,'Charge Conversion'!A:C,3,0),\" \")","v":" "},null," ",null,null,null,null,null,{"$f":"VLOOKUP(D7402,'Group Name'!A:B,2,0)","v":{"$error":"#N/A"}}," "]
[null,null,null,null,null,null,null,null,null,{"$f":"+IFERROR(VLOOKUP(C7403,'Charge Conversion'!A:C,3,0),\" \")","v":" "},null," ",null,null,null,null,null,{"$f":"VLOOKUP(D7403,'Group Name'!A:B,2,0)","v":{"$error":"#N/A"}}," "]
[null,null,null,null,null,null,null,null,null,{"$f":"+IFERROR(VLOOKUP(C7404,'Charge Conversion'!A:C,3,0),\" \")","v":" "},null," ",null,null,null,null,null,{"$f":"VLOOKUP(D7404,'Group Name'!A:B,2,0)","v":{"$error":"#N/A"}}," "]
[null,null,null,null,null,null,null,null,null,{"$f":"+IFERROR(VLOOKUP(C7405,'Charge Conversion'!A:C,3,0),\" \")","v":" "},null," ",null,null,null,null,null,{"$f":"VLOOKUP(D7405,'Group Name'!A:B,2,0)","v":{"$error":"#N/A"}}," "]
[null,null,null,null,null,null,null,null,null,{"$f":"+IFERROR(VLOOKUP(C7406,'Charge Conversion'!A:C,3,0),\" \")","v":" "},null," ",null,null,null,null,null,{"$f":"VLOOKUP(D7406,'Group Name'!A:B,2,0)","v":{"$error":"#N/A"}}," "]
[null,null,null,null,null,null,null,null,null,{"$f":"+IFERROR(VLOOKUP(C7407,'Charge Conversion'!A:C,3,0),\" \")","v":" "},null," ",null,null,null,null,null,{"$f":"VLOOKUP(D7407,'Group Name'!A:B,2,0)","v":{"$error":"#N/A"}}," "]
[null,null,null,null,null,null,null,null,null,{"$f":"+IFERROR(VLOOKUP(C7408,'Charge Conversion'!A:C,3,0),\" \")","v":" "},null," ",null,null,null,null,null,{"$f":"VLOOKUP(D7408,'Group Name'!A:B,2,0)","v":{"$error":"#N/A"}}," "]
[null,null,null,null,null,null,null,null,null,{"$f":"+IFERROR(VLOOKUP(C7409,'Charge Conversion'!A:C,3,0),\" \")","v":" "},null," ",null,null,null,null,null,{"$f":"VLOOKUP(D7409,'Group Name'!A:B,2,0)","v":{"$error":"#N/A"}}," "]
[null,null,null,null,null,null,null,null,null,{"$f":"+IFERROR(VLOOKUP(C7410,'Charge Conversion'!A:C,3,0),\" \")","v":" "},null," ",null,null,null,null,null,{"$f":"VLOOKUP(D7410,'Group Name'!A:B,2,0)","v":{"$error":"#N/A"}}," "]
[null,null,null,null,null,null,null,null,null,{"$f":"+IFERROR(VLOOKUP(C7411,'Charge Conversion'!A:C,3,0),\" \")","v":" "},null," ",null,null,null,null,null,{"$f":"VLOOKUP(D7411,'Group Name'!A:B,2,0)","v":{"$error":"#N/A"}}," "]
[null,null,null,null,null,null,null,null,null,{"$f":"+IFERROR(VLOOKUP(C7412,'Charge Conversion'!A:C,3,0),\" \")","v":" "},null," ",null,null,null,null,null,{"$f":"VLOOKUP(D7412,'Group Name'!A:B,2,0)","v":{"$error":"#N/A"}}," "]
[null,null,null,null,null,null,null,null,null,{"$f":"+IFERROR(VLOOKUP(C7413,'Charge Conversion'!A:C,3,0),\" \")","v":" "},null," ",null,null,null,null,null,{"$f":"VLOOKUP(D7413,'Group Name'!A:B,2,0)","v":{"$error":"#N/A"}}," "]
[null,null,null,null,null,null,null,null,null,{"$f":"+IFERROR(VLOOKUP(C7414,'Charge Conversion'!A:C,3,0),\" \")","v":" "},null," ",null,null,null,null,null,{"$f":"VLOOKUP(D7414,'Group Name'!A:B,2,0)","v":{"$error":"#N/A"}}," "]
[null,null,null,null,null,null,null,null,null,{"$f":"+IFERROR(VLOOKUP(C7415,'Charge Conversion'!A:C,3,0),\" \")","v":" "},null," ",null,null,null,null,null,{"$f":"VLOOKUP(D7415,'Group Name'!A:B,2,0)","v":{"$error":"#N/A"}}," "]
[null,null,null,null,null,null,null,null,null,{"$f":"+IFERROR(VLOOKUP(C7416,'Charge Conversion'!A:C,3,0),\" \")","v":" "},null," ",null,null,null,null,null,{"$f":"VLOOKUP(D7416,'Group Name'!A:B,2,0)","v":{"$error":"#N/A"}}," "]
[null,null,null,null,null,null,null,null,null,{"$f":"+IFERROR(VLOOKUP(C7417,'Charge Conversion'!A:C,3,0),\" \")","v":" "},null," ",null,null,null,null,null,{"$f":"VLOOKUP(D7417,'Group Name'!A:B,2,0)","v":{"$error":"#N/A"}}," "]
[null,null,null,null,null,null,null,null,null,{"$f":"+IFERROR(VLOOKUP(C7418,'Charge Conversion'!A:C,3,0),\" \")","v":" "},null," ",null,null,null,null,null,{"$f":"VLOOKUP(D7418,'Group Name'!A:B,2,0)","v":{"$error":"#N/A"}}," "]
[null,null,null,null,null,null,null,null,null,{"$f":"+IFERROR(VLOOKUP(C7419,'Charge Conversion'!A:C,3,0),\" \")","v":" "},null," ",null,null,null,null,null,{"$f":"VLOOKUP(D7419,'Group Name'!A:B,2,0)","v":{"$error":"#N/A"}}," "]
[null,null,null,null,null,null,null,null,null,{"$f":"+IFERROR(VLOOKUP(C7420,'Charge Conversion'!A:C,3,0),\" \")","v":" "},null," ",null,null,null,null,null,{"$f":"VLOOKUP(D7420,'Group Name'!A:B,2,0)","v":{"$error":"#N/A"}}," "]
[null,null,null,null,null,null,null,null,null,{"$f":"+IFERROR(VLOOKUP(C7421,'Charge Conversion'!A:C,3,0),\" \")","v":" "},null," ",null,null,null,null,null,{"$f":"VLOOKUP(D7421,'Group Name'!A:B,2,0)","v":{"$error":"#N/A"}}," "]
[null,null,null,null,null,null,null,null,null,{"$f":"+IFERROR(VLOOKUP(C7422,'Charge Conversion'!A:C,3,0),\" \")","v":" "},null," ",null,null,null,null,null,{"$f":"VLOOKUP(D7422,'Group Name'!A:B,2,0)","v":{"$error":"#N/A"}}," "]
[null,null,null,null,null,null,null,null,null,{"$f":"+IFERROR(VLOOKUP(C7423,'Charge Conversion'!A:C,3,0),\" \")","v":" "},null," ",null,null,null,null,null,{"$f":"VLOOKUP(D7423,'Group Name'!A:B,2,0)","v":{"$error":"#N/A"}}," "]
[null,null,null,null,null,null,null,null,null,{"$f":"+IFERROR(VLOOKUP(C7424,'Charge Conversion'!A:C,3,0),\" \")","v":" "},null," ",null,null,null,null,null,{"$f":"VLOOKUP(D7424,'Group Name'!A:B,2,0)","v":{"$error":"#N/A"}}," "]
[null,null,null,null,null,null,null,null,null,{"$f":"+IFERROR(VLOOKUP(C7425,'Charge Conversion'!A:C,3,0),\" \")","v":" "},null," ",null,null,null,null,null,{"$f":"VLOOKUP(D7425,'Group Name'!A:B,2,0)","v":{"$error":"#N/A"}}," "]
[null,null,null,null,null,null,null,null,null,{"$f":"+IFERROR(VLOOKUP(C7426,'Charge Conversion'!A:C,3,0),\" \")","v":" "},null," ",null,null,null,null,null,{"$f":"VLOOKUP(D7426,'Group Name'!A:B,2,0)","v":{"$error":"#N/A"}}," "]
[null,null,null,null,null,null,null,null,null,{"$f":"+IFERROR(VLOOKUP(C7427,'Charge Conversion'!A:C,3,0),\" \")","v":" "},null," ",null,null,null,null,null,{"$f":"VLOOKUP(D7427,'Group Name'!A:B,2,0)","v":{"$error":"#N/A"}}," "]
[null,null,null,null,null,null,null,null,null,{"$f":"+IFERROR(VLOOKUP(C7428,'Charge Conversion'!A:C,3,0),\" \")","v":" "},null," ",null,null,null,null,null,{"$f":"VLOOKUP(D7428,'Group Name'!A:B,2,0)","v":{"$error":"#N/A"}}," "]
[null,null,null,null,null,null,null,null,null,{"$f":"+IFERROR(VLOOKUP(C7429,'Charge Conversion'!A:C,3,0),\" \")","v":" "},null,{"$f":"S7429","v":" "},null,null,null,null,null,{"$f":"VLOOKUP(D7429,'Group Name'!A:B,2,0)","v":{"$error":"#N/A"}},{"$f":"IFERROR((IF(A7429=\" \",\" \",R7429)),\" \")","v":" "}]
[null,null,null,null,null,null,null,null,null,{"$f":"+IFERROR(VLOOKUP(C7430,'Charge Conversion'!A:C,3,0),\" \")","v":" "},null," ",null,null,null,null,null,{"$f":"VLOOKUP(D7430,'Group Name'!A:B,2,0)","v":{"$error":"#N/A"}}," "]
[null,null,null,null,null,null,null,null,null,{"$f":"+IFERROR(VLOOKUP(C7431,'Charge Conversion'!A:C,3,0),\" \")","v":" "},null," ",null,null,null,null,null,{"$f":"VLOOKUP(D7431,'Group Name'!A:B,2,0)","v":{"$error":"#N/A"}}," "]
[null,null,null,null,null,null,null,null,null,{"$f":"+IFERROR(VLOOKUP(C7432,'Charge Conversion'!A:C,3,0),\" \")","v":" "},null," ",null,null,null,null,null,{"$f":"VLOOKUP(D7432,'Group Name'!A:B,2,0)","v":{"$error":"#N/A"}}," "]
[null,null,null,null,null,null,null,null,null,{"$f":"+IFERROR(VLOOKUP(C7433,'Charge Conversion'!A:C,3,0),\" \")","v":" "},null," ",null,null,null,null,null,{"$f":"VLOOKUP(D7433,'Group Name'!A:B,2,0)","v":{"$error":"#N/A"}}," "]
[null,null,null,null,null,null,null,null,null,{"$f":"+IFERROR(VLOOKUP(C7434,'Charge Conversion'!A:C,3,0),\" \")","v":" "},null," ",null,null,null,null,null,{"$f":"VLOOKUP(D7434,'Group Name'!A:B,2,0)","v":{"$error":"#N/A"}}," "]
[null,null,null,null,null,null,null,null,null,{"$f":"+IFERROR(VLOOKUP(C7435,'Charge Conversion'!A:C,3,0),\" \")","v":" "},null," ",null,null,null,null,null,{"$f":"VLOOKUP(D7435,'Group Name'!A:B,2,0)","v":{"$error":"#N/A"}}," "]
[null,null,null,null,null,null,null,null,null,{"$f":"+IFERROR(VLOOKUP(C7436,'Charge Conversion'!A:C,3,0),\" \")","v":" "},null," ",null,null,null,null,null,{"$f":"VLOOKUP(D7436,'Group Name'!A:B,2,0)","v":{"$error":"#N/A"}}," "]
[null,null,null,null,null,null,null,null,null,{"$f":"+IFERROR(VLOOKUP(C7437,'Charge Conversion'!A:C,3,0),\" \")","v":" "},null," ",null,null,null,null,null,{"$f":"VLOOKUP(D7437,'Group Name'!A:B,2,0)","v":{"$error":"#N/A"}}," "]
[null,null,null,null,null,null,null,null,null,{"$f":"+IFERROR(VLOOKUP(C7438,'Charge Conversion'!A:C,3,0),\" \")","v":" "},null," ",null,null,null,null,null,{"$f":"VLOOKUP(D7438,'Group Name'!A:B,2,0)","v":{"$error":"#N/A"}}," "]
[null,null,null,null,null,null,null,null,null,{"$f":"+IFERROR(VLOOKUP(C7439,'Charge Conversion'!A:C,3,0),\" \")","v":" "},null," ",null,null,null,null,null,{"$f":"VLOOKUP(D7439,'Group Name'!A:B,2,0)","v":{"$error":"#N/A"}}," "]
[null,null,null,null,null,null,null,null,null,{"$f":"+IFERROR(VLOOKUP(C7440,'Charge Conversion'!A:C,3,0),\" \")","v":" "},null," ",null,null,null,null,null,{"$f":"VLOOKUP(D7440,'Group Name'!A:B,2,0)","v":{"$error":"#N/A"}}," "]
[null,null,null,null,null,null,null,null,null,{"$f":"+IFERROR(VLOOKUP(C7441,'Charge Conversion'!A:C,3,0),\" \")","v":" "},null," ",null,null,null,null,null,{"$f":"VLOOKUP(D7441,'Group Name'!A:B,2,0)","v":{"$error":"#N/A"}}," "]
[null,null,null,null,null,null,null,null,null,{"$f":"+IFERROR(VLOOKUP(C7442,'Charge Conversion'!A:C,3,0),\" \")","v":" "},null," ",null,null,null,null,null,{"$f":"VLOOKUP(D7442,'Group Name'!A:B,2,0)","v":{"$error":"#N/A"}}," "]
[null,null,null,null,null,null,null,null,null,{"$f":"+IFERROR(VLOOKUP(C7443,'Charge Conversion'!A:C,3,0),\" \")","v":" "},null," ",null,null,null,null,null,{"$f":"VLOOKUP(D7443,'Group Name'!A:B,2,0)","v":{"$error":"#N/A"}}," "]
[null,null,null,null,null,null,null,null,null,{"$f":"+IFERROR(VLOOKUP(C7444,'Charge Conversion'!A:C,3,0),\" \")","v":" "},null," ",null,null,null,null,null,{"$f":"VLOOKUP(D7444,'Group Name'!A:B,2,0)","v":{"$error":"#N/A"}}," "]
[null,null,null,null,null,null,null,null,null,{"$f":"+IFERROR(VLOOKUP(C7445,'Charge Conversion'!A:C,3,0),\" \")","v":" "},null," ",null,null,null,null,null,{"$f":"VLOOKUP(D7445,'Group Name'!A:B,2,0)","v":{"$error":"#N/A"}}," "]
[null,null,null,null,null,null,null,null,null,{"$f":"+IFERROR(VLOOKUP(C7446,'Charge Conversion'!A:C,3,0),\" \")","v":" "},null," ",null,null,null,null,null,{"$f":"VLOOKUP(D7446,'Group Name'!A:B,2,0)","v":{"$error":"#N/A"}}," "]
[null,null,null,null,null,null,null,null,null,{"$f":"+IFERROR(VLOOKUP(C7447,'Charge Conversion'!A:C,3,0),\" \")","v":" "},null," ",null,null,null,null,null,{"$f":"VLOOKUP(D7447,'Group Name'!A:B,2,0)","v":{"$error":"#N/A"}}," "]
[null,null,null,null,null,null,null,null,null,{"$f":"+IFERROR(VLOOKUP(C7448,'Charge Conversion'!A:C,3,0),\" \")","v":" "},null," ",null,null,null,null,null,{"$f":"VLOOKUP(D7448,'Group Name'!A:B,2,0)","v":{"$error":"#N/A"}}," "]
[null,null,null,null,null,null,null,null,null,{"$f":"+IFERROR(VLOOKUP(C7449,'Charge Conversion'!A:C,3,0),\" \")","v":" "},null," ",null,null,null,null,null,{"$f":"VLOOKUP(D7449,'Group Name'!A:B,2,0)","v":{"$error":"#N/A"}}," "]
[null,null,null,null,null,null,null,null,null,{"$f":"+IFERROR(VLOOKUP(C7450,'Charge Conversion'!A:C,3,0),\" \")","v":" "},null," ",null,null,null,null,null,{"$f":"VLOOKUP(D7450,'Group Name'!A:B,2,0)","v":{"$error":"#N/A"}}," "]
[null,null,null,null,null,null,null,null,null,{"$f":"+IFERROR(VLOOKUP(C7451,'Charge Conversion'!A:C,3,0),\" \")","v":" "},null," ",null,null,null,null,null,{"$f":"VLOOKUP(D7451,'Group Name'!A:B,2,0)","v":{"$error":"#N/A"}}," "]
[null,null,null,null,null,null,null,null,null,{"$f":"+IFERROR(VLOOKUP(C7452,'Charge Conversion'!A:C,3,0),\" \")","v":" "},null," ",null,null,null,null,null,{"$f":"VLOOKUP(D7452,'Group Name'!A:B,2,0)","v":{"$error":"#N/A"}}," "]
[null,null,null,null,null,null,null,null,null,{"$f":"+IFERROR(VLOOKUP(C7453,'Charge Conversion'!A:C,3,0),\" \")","v":" "},null," ",null,null,null,null,null,{"$f":"VLOOKUP(D7453,'Group Name'!A:B,2,0)","v":{"$error":"#N/A"}}," "]
[null,null,null,null,null,null,null,null,null,{"$f":"+IFERROR(VLOOKUP(C7454,'Charge Conversion'!A:C,3,0),\" \")","v":" "},null," ",null,null,null,null,null,{"$f":"VLOOKUP(D7454,'Group Name'!A:B,2,0)","v":{"$error":"#N/A"}}," "]
[null,null,null,null,null,null,null,null,null,{"$f":"+IFERROR(VLOOKUP(C7455,'Charge Conversion'!A:C,3,0),\" \")","v":" "},null," ",null,null,null,null,null,{"$f":"VLOOKUP(D7455,'Group Name'!A:B,2,0)","v":{"$error":"#N/A"}}," "]
[null,null,null,null,null,null,null,null,null,{"$f":"+IFERROR(VLOOKUP(C7456,'Charge Conversion'!A:C,3,0),\" \")","v":" "},null," ",null,null,null,null,null,{"$f":"VLOOKUP(D7456,'Group Name'!A:B,2,0)","v":{"$error":"#N/A"}}," "]
[null,null,null,null,null,null,null,null,null,{"$f":"+IFERROR(VLOOKUP(C7457,'Charge Conversion'!A:C,3,0),\" \")","v":" "},null," ",null,null,null,null,null,{"$f":"VLOOKUP(D7457,'Group Name'!A:B,2,0)","v":{"$error":"#N/A"}}," "]
[null,null,null,null,null,null,null,null,null,{"$f":"+IFERROR(VLOOKUP(C7458,'Charge Conversion'!A:C,3,0),\" \")","v":" "},null," ",null,null,null,null,null,{"$f":"VLOOKUP(D7458,'Group Name'!A:B,2,0)","v":{"$error":"#N/A"}}," "]
[null,null,null,null,null,null,null,null,null,{"$f":"+IFERROR(VLOOKUP(C7459,'Charge Conversion'!A:C,3,0),\" \")","v":" "},null," ",null,null,null,null,null,{"$f":"VLOOKUP(D7459,'Group Name'!A:B,2,0)","v":{"$error":"#N/A"}}," "]
[null,null,null,null,null,null,null,null,null,{"$f":"+IFERROR(VLOOKUP(C7460,'Charge Conversion'!A:C,3,0),\" \")","v":" "},null," ",null,null,null,null,null,{"$f":"VLOOKUP(D7460,'Group Name'!A:B,2,0)","v":{"$error":"#N/A"}}," "]
[null,null,null,null,null,null,null,null,null,{"$f":"+IFERROR(VLOOKUP(C7461,'Charge Conversion'!A:C,3,0),\" \")","v":" "},null," ",null,null,null,null,null,{"$f":"VLOOKUP(D7461,'Group Name'!A:B,2,0)","v":{"$error":"#N/A"}}," "]
[null,null,null,null,null,null,null,null,null,{"$f":"+IFERROR(VLOOKUP(C7462,'Charge Conversion'!A:C,3,0),\" \")","v":" "},null," ",null,null,null,null,null,{"$f":"VLOOKUP(D7462,'Group Name'!A:B,2,0)","v":{"$error":"#N/A"}}," "]
[null,null,null,null,null,null,null,null,null,{"$f":"+IFERROR(VLOOKUP(C7463,'Charge Conversion'!A:C,3,0),\" \")","v":" "},null," ",null,null,null,null,null,{"$f":"VLOOKUP(D7463,'Group Name'!A:B,2,0)","v":{"$error":"#N/A"}}," "]
[null,null,null,null,null,null,null,null,null,{"$f":"+IFERROR(VLOOKUP(C7464,'Charge Conversion'!A:C,3,0),\" \")","v":" "},null," ",null,null,null,null,null,{"$f":"VLOOKUP(D7464,'Group Name'!A:B,2,0)","v":{"$error":"#N/A"}}," "]
[null,null,null,null,null,null,null,null,null,{"$f":"+IFERROR(VLOOKUP(C7465,'Charge Conversion'!A:C,3,0),\" \")","v":" "},null," ",null,null,null,null,null,{"$f":"VLOOKUP(D7465,'Group Name'!A:B,2,0)","v":{"$error":"#N/A"}}," "]
[null,null,null,null,null,null,null,null,null,{"$f":"+IFERROR(VLOOKUP(C7466,'Charge Conversion'!A:C,3,0),\" \")","v":" "},null," ",null,null,null,null,null,{"$f":"VLOOKUP(D7466,'Group Name'!A:B,2,0)","v":{"$error":"#N/A"}}," "]
[null,null,null,null,null,null,null,null,null,{"$f":"+IFERROR(VLOOKUP(C7467,'Charge Conversion'!A:C,3,0),\" \")","v":" "},null," ",null,null,null,null,null,{"$f":"VLOOKUP(D7467,'Group Name'!A:B,2,0)","v":{"$error":"#N/A"}}," "]
[null,null,null,null,null,null,null,null,null,{"$f":"+IFERROR(VLOOKUP(C7468,'Charge Conversion'!A:C,3,0),\" \")","v":" "},null," ",null,null,null,null,null,{"$f":"VLOOKUP(D7468,'Group Name'!A:B,2,0)","v":{"$error":"#N/A"}}," "]
[null,null,null,null,null,null,null,null,null,{"$f":"+IFERROR(VLOOKUP(C7469,'Charge Conversion'!A:C,3,0),\" \")","v":" "},null," ",null,null,null,null,null,{"$f":"VLOOKUP(D7469,'Group Name'!A:B,2,0)","v":{"$error":"#N/A"}}," "]
[null,null,null,null,null,null,null,null,null,{"$f":"+IFERROR(VLOOKUP(C7470,'Charge Conversion'!A:C,3,0),\" \")","v":" "},null," ",null,null,null,null,null,{"$f":"VLOOKUP(D7470,'Group Name'!A:B,2,0)","v":{"$error":"#N/A"}}," "]
[null,null,null,null,null,null,null,null,null,{"$f":"+IFERROR(VLOOKUP(C7471,'Charge Conversion'!A:C,3,0),\" \")","v":" "},null," ",null,null,null,null,null,{"$f":"VLOOKUP(D7471,'Group Name'!A:B,2,0)","v":{"$error":"#N/A"}}," "]
[null,null,null,null,null,null,null,null,null,{"$f":"+IFERROR(VLOOKUP(C7472,'Charge Conversion'!A:C,3,0),\" \")","v":" "},null," ",null,null,null,null,null,{"$f":"VLOOKUP(D7472,'Group Name'!A:B,2,0)","v":{"$error":"#N/A"}}," "]
[null,null,null,null,null,null,null,null,null,{"$f":"+IFERROR(VLOOKUP(C7473,'Charge Conversion'!A:C,3,0),\" \")","v":" "},null," ",null,null,null,null,null,{"$f":"VLOOKUP(D7473,'Group Name'!A:B,2,0)","v":{"$error":"#N/A"}}," "]
[null,null,null,null,null,null,null,null,null,{"$f":"+IFERROR(VLOOKUP(C7474,'Charge Conversion'!A:C,3,0),\" \")","v":" "},null," ",null,null,null,null,null,{"$f":"VLOOKUP(D7474,'Group Name'!A:B,2,0)","v":{"$error":"#N/A"}}," "]
[null,null,null,null,null,null,null,null,null,{"$f":"+IFERROR(VLOOKUP(C7475,'Charge Conversion'!A:C,3,0),\" \")","v":" "},null," ",null,null,null,null,null,{"$f":"VLOOKUP(D7475,'Group Name'!A:B,2,0)","v":{"$error":"#N/A"}}," "]
[null,null,null,null,null,null,null,null,null,{"$f":"+IFERROR(VLOOKUP(C7476,'Charge Conversion'!A:C,3,0),\" \")","v":" "},null," ",null,null,null,null,null,{"$f":"VLOOKUP(D7476,'Group Name'!A:B,2,0)","v":{"$error":"#N/A"}}," "]
[null,null,null,null,null,null,null,null,null,{"$f":"+IFERROR(VLOOKUP(C7477,'Charge Conversion'!A:C,3,0),\" \")","v":" "},null," ",null,null,null,null,null,{"$f":"VLOOKUP(D7477,'Group Name'!A:B,2,0)","v":{"$error":"#N/A"}}," "]
[null,null,null,null,null,null,null,null,null,{"$f":"+IFERROR(VLOOKUP(C7478,'Charge Conversion'!A:C,3,0),\" \")","v":" "},null," ",null,null,null,null,null,{"$f":"VLOOKUP(D7478,'Group Name'!A:B,2,0)","v":{"$error":"#N/A"}}," "]
[null,null,null,null,null,null,null,null,null,{"$f":"+IFERROR(VLOOKUP(C7479,'Charge Conversion'!A:C,3,0),\" \")","v":" "},null," ",null,null,null,null,null,{"$f":"VLOOKUP(D7479,'Group Name'!A:B,2,0)","v":{"$error":"#N/A"}}," "]
[null,null,null,null,null,null,null,null,null,{"$f":"+IFERROR(VLOOKUP(C7480,'Charge Conversion'!A:C,3,0),\" \")","v":" "},null," ",null,null,null,null,null,{"$f":"VLOOKUP(D7480,'Group Name'!A:B,2,0)","v":{"$error":"#N/A"}}," "]
[null,null,null,null,null,null,null,null,null,{"$f":"+IFERROR(VLOOKUP(C7481,'Charge Conversion'!A:C,3,0),\" \")","v":" "},null," ",null,null,null,null,null,{"$f":"VLOOKUP(D7481,'Group Name'!A:B,2,0)","v":{"$error":"#N/A"}}," "]
[null,null,null,null,null,null,null,null,null,{"$f":"+IFERROR(VLOOKUP(C7482,'Charge Conversion'!A:C,3,0),\" \")","v":" "},null," ",null,null,null,null,null,{"$f":"VLOOKUP(D7482,'Group Name'!A:B,2,0)","v":{"$error":"#N/A"}}," "]
[null,null,null,null,null,null,null,null,null,{"$f":"+IFERROR(VLOOKUP(C7483,'Charge Conversion'!A:C,3,0),\" \")","v":" "},null," ",null,null,null,null,null,{"$f":"VLOOKUP(D7483,'Group Name'!A:B,2,0)","v":{"$error":"#N/A"}}," "]
[null,null,null,null,null,null,null,null,null,{"$f":"+IFERROR(VLOOKUP(C7484,'Charge Conversion'!A:C,3,0),\" \")","v":" "},null," ",null,null,null,null,null,{"$f":"VLOOKUP(D7484,'Group Name'!A:B,2,0)","v":{"$error":"#N/A"}}," "]
[null,null,null,null,null,null,null,null,null,{"$f":"+IFERROR(VLOOKUP(C7485,'Charge Conversion'!A:C,3,0),\" \")","v":" "},null," ",null,null,null,null,null,{"$f":"VLOOKUP(D7485,'Group Name'!A:B,2,0)","v":{"$error":"#N/A"}}," "]
[null,null,null,null,null,null,null,null,null,{"$f":"+IFERROR(VLOOKUP(C7486,'Charge Conversion'!A:C,3,0),\" \")","v":" "},null," ",null,null,null,null,null,{"$f":"VLOOKUP(D7486,'Group Name'!A:B,2,0)","v":{"$error":"#N/A"}}," "]
[null,null,null,null,null,null,null,null,null,{"$f":"+IFERROR(VLOOKUP(C7487,'Charge Conversion'!A:C,3,0),\" \")","v":" "},null," ",null,null,null,null,null,{"$f":"VLOOKUP(D7487,'Group Name'!A:B,2,0)","v":{"$error":"#N/A"}}," "]
[null,null,null,null,null,null,null,null,null,{"$f":"+IFERROR(VLOOKUP(C7488,'Charge Conversion'!A:C,3,0),\" \")","v":" "},null," ",null,null,null,null,null,{"$f":"VLOOKUP(D7488,'Group Name'!A:B,2,0)","v":{"$error":"#N/A"}}," "]
[null,null,null,null,null,null,null,null,null,{"$f":"+IFERROR(VLOOKUP(C7489,'Charge Conversion'!A:C,3,0),\" \")","v":" "},null," ",null,null,null,null,null,{"$f":"VLOOKUP(D7489,'Group Name'!A:B,2,0)","v":{"$error":"#N/A"}}," "]
[null,null,null,null,null,null,null,null,null,{"$f":"+IFERROR(VLOOKUP(C7490,'Charge Conversion'!A:C,3,0),\" \")","v":" "},null," ",null,null,null,null,null,{"$f":"VLOOKUP(D7490,'Group Name'!A:B,2,0)","v":{"$error":"#N/A"}}," "]
[null,null,null,null,null,null,null,null,null,{"$f":"+IFERROR(VLOOKUP(C7491,'Charge Conversion'!A:C,3,0),\" \")","v":" "},null," ",null,null,null,null,null,{"$f":"VLOOKUP(D7491,'Group Name'!A:B,2,0)","v":{"$error":"#N/A"}}," "]
[null,null,null,null,null,null,null,null,null,{"$f":"+IFERROR(VLOOKUP(C7492,'Charge Conversion'!A:C,3,0),\" \")","v":" "},null," ",null,null,null,null,null,{"$f":"VLOOKUP(D7492,'Group Name'!A:B,2,0)","v":{"$error":"#N/A"}}," "]
[null,null,null,null,null,null,null,null,null,{"$f":"+IFERROR(VLOOKUP(C7493,'Charge Conversion'!A:C,3,0),\" \")","v":" "},null,{"$f":"S7493","v":" "},null,null,null,null,null,{"$f":"VLOOKUP(D7493,'Group Name'!A:B,2,0)","v":{"$error":"#N/A"}},{"$f":"IFERROR((IF(A7493=\" \",\" \",R7493)),\" \")","v":" "}]
[null,null,null,null,null,null,null,null,null,{"$f":"+IFERROR(VLOOKUP(C7494,'Charge Conversion'!A:C,3,0),\" \")","v":" "},null," ",null,null,null,null,null,{"$f":"VLOOKUP(D7494,'Group Name'!A:B,2,0)","v":{"$error":"#N/A"}}," "]
[null,null,null,null,null,null,null,null,null,{"$f":"+IFERROR(VLOOKUP(C7495,'Charge Conversion'!A:C,3,0),\" \")","v":" "},null," ",null,null,null,null,null,{"$f":"VLOOKUP(D7495,'Group Name'!A:B,2,0)","v":{"$error":"#N/A"}}," "]
[null,null,null,null,null,null,null,null,null,{"$f":"+IFERROR(VLOOKUP(C7496,'Charge Conversion'!A:C,3,0),\" \")","v":" "},null," ",null,null,null,null,null,{"$f":"VLOOKUP(D7496,'Group Name'!A:B,2,0)","v":{"$error":"#N/A"}}," "]
[null,null,null,null,null,null,null,null,null,{"$f":"+IFERROR(VLOOKUP(C7497,'Charge Conversion'!A:C,3,0),\" \")","v":" "},null," ",null,null,null,null,null,{"$f":"VLOOKUP(D7497,'Group Name'!A:B,2,0)","v":{"$error":"#N/A"}}," "]
[null,null,null,null,null,null,null,null,null,{"$f":"+IFERROR(VLOOKUP(C7498,'Charge Conversion'!A:C,3,0),\" \")","v":" "},null," ",null,null,null,null,null,{"$f":"VLOOKUP(D7498,'Group Name'!A:B,2,0)","v":{"$error":"#N/A"}}," "]
[null,null,null,null,null,null,null,null,null,{"$f":"+IFERROR(VLOOKUP(C7499,'Charge Conversion'!A:C,3,0),\" \")","v":" "},null," ",null,null,null,null,null,{"$f":"VLOOKUP(D7499,'Group Name'!A:B,2,0)","v":{"$error":"#N/A"}}," "]
[null,null,null,null,null,null,null,null,null,{"$f":"+IFERROR(VLOOKUP(C7500,'Charge Conversion'!A:C,3,0),\" \")","v":" "},null," ",null,null,null,null,null,{"$f":"VLOOKUP(D7500,'Group Name'!A:B,2,0)","v":{"$error":"#N/A"}}," "]
[null,null,null,null,null,null,null,null,null,{"$f":"+IFERROR(VLOOKUP(C7501,'Charge Conversion'!A:C,3,0),\" \")","v":" "},null," ",null,null,null,null,null,{"$f":"VLOOKUP(D7501,'Group Name'!A:B,2,0)","v":{"$error":"#N/A"}}," "]
[null,null,null,null,null,null,null,null,null,{"$f":"+IFERROR(VLOOKUP(C7502,'Charge Conversion'!A:C,3,0),\" \")","v":" "},null," ",null,null,null,null,null,{"$f":"VLOOKUP(D7502,'Group Name'!A:B,2,0)","v":{"$error":"#N/A"}}," "]
[null,null,null,null,null,null,null,null,null,{"$f":"+IFERROR(VLOOKUP(C7503,'Charge Conversion'!A:C,3,0),\" \")","v":" "},null," ",null,null,null,null,null,{"$f":"VLOOKUP(D7503,'Group Name'!A:B,2,0)","v":{"$error":"#N/A"}}," "]
[null,null,null,null,null,null,null,null,null,{"$f":"+IFERROR(VLOOKUP(C7504,'Charge Conversion'!A:C,3,0),\" \")","v":" "},null," ",null,null,null,null,null,{"$f":"VLOOKUP(D7504,'Group Name'!A:B,2,0)","v":{"$error":"#N/A"}}," "]
[null,null,null,null,null,null,null,null,null,{"$f":"+IFERROR(VLOOKUP(C7505,'Charge Conversion'!A:C,3,0),\" \")","v":" "},null," ",null,null,null,null,null,{"$f":"VLOOKUP(D7505,'Group Name'!A:B,2,0)","v":{"$error":"#N/A"}}," "]
[null,null,null,null,null,null,null,null,null,{"$f":"+IFERROR(VLOOKUP(C7506,'Charge Conversion'!A:C,3,0),\" \")","v":" "},null," ",null,null,null,null,null,{"$f":"VLOOKUP(D7506,'Group Name'!A:B,2,0)","v":{"$error":"#N/A"}}," "]
[null,null,null,null,null,null,null,null,null,{"$f":"+IFERROR(VLOOKUP(C7507,'Charge Conversion'!A:C,3,0),\" \")","v":" "},null," ",null,null,null,null,null,{"$f":"VLOOKUP(D7507,'Group Name'!A:B,2,0)","v":{"$error":"#N/A"}}," "]
[null,null,null,null,null,null,null,null,null,{"$f":"+IFERROR(VLOOKUP(C7508,'Charge Conversion'!A:C,3,0),\" \")","v":" "},null," ",null,null,null,null,null,{"$f":"VLOOKUP(D7508,'Group Name'!A:B,2,0)","v":{"$error":"#N/A"}}," "]
[null,null,null,null,null,null,null,null,null,{"$f":"+IFERROR(VLOOKUP(C7509,'Charge Conversion'!A:C,3,0),\" \")","v":" "},null," ",null,null,null,null,null,{"$f":"VLOOKUP(D7509,'Group Name'!A:B,2,0)","v":{"$error":"#N/A"}}," "]
[null,null,null,null,null,null,null,null,null,{"$f":"+IFERROR(VLOOKUP(C7510,'Charge Conversion'!A:C,3,0),\" \")","v":" "},null," ",null,null,null,null,null,{"$f":"VLOOKUP(D7510,'Group Name'!A:B,2,0)","v":{"$error":"#N/A"}}," "]
[null,null,null,null,null,null,null,null,null,{"$f":"+IFERROR(VLOOKUP(C7511,'Charge Conversion'!A:C,3,0),\" \")","v":" "},null," ",null,null,null,null,null,{"$f":"VLOOKUP(D7511,'Group Name'!A:B,2,0)","v":{"$error":"#N/A"}}," "]
[null,null,null,null,null,null,null,null,null,{"$f":"+IFERROR(VLOOKUP(C7512,'Charge Conversion'!A:C,3,0),\" \")","v":" "},null," ",null,null,null,null,null,{"$f":"VLOOKUP(D7512,'Group Name'!A:B,2,0)","v":{"$error":"#N/A"}}," "]
[null,null,null,null,null,null,null,null,null,{"$f":"+IFERROR(VLOOKUP(C7513,'Charge Conversion'!A:C,3,0),\" \")","v":" "},null," ",null,null,null,null,null,{"$f":"VLOOKUP(D7513,'Group Name'!A:B,2,0)","v":{"$error":"#N/A"}}," "]
[null,null,null,null,null,null,null,null,null,{"$f":"+IFERROR(VLOOKUP(C7514,'Charge Conversion'!A:C,3,0),\" \")","v":" "},null," ",null,null,null,null,null,{"$f":"VLOOKUP(D7514,'Group Name'!A:B,2,0)","v":{"$error":"#N/A"}}," "]
[null,null,null,null,null,null,null,null,null,{"$f":"+IFERROR(VLOOKUP(C7515,'Charge Conversion'!A:C,3,0),\" \")","v":" "},null," ",null,null,null,null,null,{"$f":"VLOOKUP(D7515,'Group Name'!A:B,2,0)","v":{"$error":"#N/A"}}," "]
[null,null,null,null,null,null,null,null,null,{"$f":"+IFERROR(VLOOKUP(C7516,'Charge Conversion'!A:C,3,0),\" \")","v":" "},null," ",null,null,null,null,null,{"$f":"VLOOKUP(D7516,'Group Name'!A:B,2,0)","v":{"$error":"#N/A"}}," "]
[null,null,null,null,null,null,null,null,null,{"$f":"+IFERROR(VLOOKUP(C7517,'Charge Conversion'!A:C,3,0),\" \")","v":" "},null," ",null,null,null,null,null,{"$f":"VLOOKUP(D7517,'Group Name'!A:B,2,0)","v":{"$error":"#N/A"}}," "]
[null,null,null,null,null,null,null,null,null,{"$f":"+IFERROR(VLOOKUP(C7518,'Charge Conversion'!A:C,3,0),\" \")","v":" "},null," ",null,null,null,null,null,{"$f":"VLOOKUP(D7518,'Group Name'!A:B,2,0)","v":{"$error":"#N/A"}}," "]
[null,null,null,null,null,null,null,null,null,{"$f":"+IFERROR(VLOOKUP(C7519,'Charge Conversion'!A:C,3,0),\" \")","v":" "},null," ",null,null,null,null,null,{"$f":"VLOOKUP(D7519,'Group Name'!A:B,2,0)","v":{"$error":"#N/A"}}," "]

{"sheet":"TUOS Report","index":5,"n_rows":10003,"n_cols":15,"rows_kept":4500,"cut":true,"hidden":false,"merged":[],"bounds":{"rows_first":2000,"rows_last":500,"rows_between":2000,"halvings":0}}
[null,null,null,null,null,null,null,null,null,null,null,null,null,null,"T1013"]
[]
["Column1","Column2","Column3","Column4","Column5","Column6","Column7","Column8","Column9","Column10","Interpreter Services","Interactive Complexity"]
[null,null,null,null,null,null,null,null,null,null,{"$f":"IF(Table1[[#This Row],[Column3]]=\"T1013\",\"Y\",\"N\")","v":"N"},{"$f":"IF(Table1[[#This Row],[Column3]]=90785,\"Y\",\"N\")","v":"N"}]
[null,null,null,null,null,null,null,null,null,null,{"$f":"IF(Table1[[#This Row],[Column3]]=\"T1013\",\"Y\",\"N\")","v":"N"},{"$f":"IF(Table1[[#This Row],[Column3]]=90785,\"Y\",\"N\")","v":"N"}]
[null,null,null,null,null,null,null,null,null,null,{"$f":"IF(Table1[[#This Row],[Column3]]=\"T1013\",\"Y\",\"N\")","v":"N"},{"$f":"IF(Table1[[#This Row],[Column3]]=90785,\"Y\",\"N\")","v":"N"}]
[null,null,null,null,null,null,null,null,null,null,{"$f":"IF(Table1[[#This Row],[Column3]]=\"T1013\",\"Y\",\"N\")","v":"N"},{"$f":"IF(Table1[[#This Row],[Column3]]=90785,\"Y\",\"N\")","v":"N"}]
[null,null,null,null,null,null,null,null,null,null,{"$f":"IF(Table1[[#This Row],[Column3]]=\"T1013\",\"Y\",\"N\")","v":"N"},{"$f":"IF(Table1[[#This Row],[Column3]]=90785,\"Y\",\"N\")","v":"N"}]
[null,null,null,null,null,null,null,null,null,null,{"$f":"IF(Table1[[#This Row],[Column3]]=\"T1013\",\"Y\",\"N\")","v":"N"},{"$f":"IF(Table1[[#This Row],[Column3]]=90785,\"Y\",\"N\")","v":"N"}]
[null,null,null,null,null,null,null,null,null,null,{"$f":"IF(Table1[[#This Row],[Column3]]=\"T1013\",\"Y\",\"N\")","v":"N"},{"$f":"IF(Table1[[#This Row],[Column3]]=90785,\"Y\",\"N\")","v":"N"}]
[null,null,null,null,null,null,null,null,null,null,{"$f":"IF(Table1[[#This Row],[Column3]]=\"T1013\",\"Y\",\"N\")","v":"N"},{"$f":"IF(Table1[[#This Row],[Column3]]=90785,\"Y\",\"N\")","v":"N"}]
[null,null,null,null,null,null,null,null,null,null,{"$f":"IF(Table1[[#This Row],[Column3]]=\"T1013\",\"Y\",\"N\")","v":"N"},{"$f":"IF(Table1[[#This Row],[Column3]]=90785,\"Y\",\"N\")","v":"N"}]
[null,null,null,null,null,null,null,null,null,null,{"$f":"IF(Table1[[#This Row],[Column3]]=\"T1013\",\"Y\",\"N\")","v":"N"},{"$f":"IF(Table1[[#This Row],[Column3]]=90785,\"Y\",\"N\")","v":"N"}]
[null,null,null,null,null,null,null,null,null,null,{"$f":"IF(Table1[[#This Row],[Column3]]=\"T1013\",\"Y\",\"N\")","v":"N"},{"$f":"IF(Table1[[#This Row],[Column3]]=90785,\"Y\",\"N\")","v":"N"}]
[null,null,null,null,null,null,null,null,null,null,{"$f":"IF(Table1[[#This Row],[Column3]]=\"T1013\",\"Y\",\"N\")","v":"N"},{"$f":"IF(Table1[[#This Row],[Column3]]=90785,\"Y\",\"N\")","v":"N"}]
[null,null,null,null,null,null,null,null,null,null,{"$f":"IF(Table1[[#This Row],[Column3]]=\"T1013\",\"Y\",\"N\")","v":"N"},{"$f":"IF(Table1[[#This Row],[Column3]]=90785,\"Y\",\"N\")","v":"N"}]
[null,null,null,null,null,null,null,null,null,null,{"$f":"IF(Table1[[#This Row],[Column3]]=\"T1013\",\"Y\",\"N\")","v":"N"},{"$f":"IF(Table1[[#This Row],[Column3]]=90785,\"Y\",\"N\")","v":"N"}]
[null,null,null,null,null,null,null,null,null,null,{"$f":"IF(Table1[[#This Row],[Column3]]=\"T1013\",\"Y\",\"N\")","v":"N"},{"$f":"IF(Table1[[#This Row],[Column3]]=90785,\"Y\",\"N\")","v":"N"}]
[null,null,null,null,null,null,null,null,null,null,{"$f":"IF(Table1[[#This Row],[Column3]]=\"T1013\",\"Y\",\"N\")","v":"N"},{"$f":"IF(Table1[[#This Row],[Column3]]=90785,\"Y\",\"N\")","v":"N"}]
[null,null,null,null,null,null,null,null,null,null,{"$f":"IF(Table1[[#This Row],[Column3]]=\"T1013\",\"Y\",\"N\")","v":"N"},{"$f":"IF(Table1[[#This Row],[Column3]]=90785,\"Y\",\"N\")","v":"N"}]
[null,null,null,null,null,null,null,null,null,null,{"$f":"IF(Table1[[#This Row],[Column3]]=\"T1013\",\"Y\",\"N\")","v":"N"},{"$f":"IF(Table1[[#This Row],[Column3]]=90785,\"Y\",\"N\")","v":"N"}]
[null,null,null,null,null,null,null,null,null,null,{"$f":"IF(Table1[[#This Row],[Column3]]=\"T1013\",\"Y\",\"N\")","v":"N"},{"$f":"IF(Table1[[#This Row],[Column3]]=90785,\"Y\",\"N\")","v":"N"}]
[null,null,null,null,null,null,null,null,null,null,{"$f":"IF(Table1[[#This Row],[Column3]]=\"T1013\",\"Y\",\"N\")","v":"N"},{"$f":"IF(Table1[[#This Row],[Column3]]=90785,\"Y\",\"N\")","v":"N"}]
[null,null,null,null,null,null,null,null,null,null,{"$f":"IF(Table1[[#This Row],[Column3]]=\"T1013\",\"Y\",\"N\")","v":"N"},{"$f":"IF(Table1[[#This Row],[Column3]]=90785,\"Y\",\"N\")","v":"N"}]
[null,null,null,null,null,null,null,null,null,null,{"$f":"IF(Table1[[#This Row],[Column3]]=\"T1013\",\"Y\",\"N\")","v":"N"},{"$f":"IF(Table1[[#This Row],[Column3]]=90785,\"Y\",\"N\")","v":"N"}]
[null,null,null,null,null,null,null,null,null,null,{"$f":"IF(Table1[[#This Row],[Column3]]=\"T1013\",\"Y\",\"N\")","v":"N"},{"$f":"IF(Table1[[#This Row],[Column3]]=90785,\"Y\",\"N\")","v":"N"}]
[null,null,null,null,null,null,null,null,null,null,{"$f":"IF(Table1[[#This Row],[Column3]]=\"T1013\",\"Y\",\"N\")","v":"N"},{"$f":"IF(Table1[[#This Row],[Column3]]=90785,\"Y\",\"N\")","v":"N"}]
[null,null,null,null,null,null,null,null,null,null,{"$f":"IF(Table1[[#This Row],[Column3]]=\"T1013\",\"Y\",\"N\")","v":"N"},{"$f":"IF(Table1[[#This Row],[Column3]]=90785,\"Y\",\"N\")","v":"N"}]
[null,null,null,null,null,null,null,null,null,null,{"$f":"IF(Table1[[#This Row],[Column3]]=\"T1013\",\"Y\",\"N\")","v":"N"},{"$f":"IF(Table1[[#This Row],[Column3]]=90785,\"Y\",\"N\")","v":"N"}]
[null,null,null,null,null,null,null,null,null,null,{"$f":"IF(Table1[[#This Row],[Column3]]=\"T1013\",\"Y\",\"N\")","v":"N"},{"$f":"IF(Table1[[#This Row],[Column3]]=90785,\"Y\",\"N\")","v":"N"}]
[null,null,null,null,null,null,null,null,null,null,{"$f":"IF(Table1[[#This Row],[Column3]]=\"T1013\",\"Y\",\"N\")","v":"N"},{"$f":"IF(Table1[[#This Row],[Column3]]=90785,\"Y\",\"N\")","v":"N"}]
[null,null,null,null,null,null,null,null,null,null,{"$f":"IF(Table1[[#This Row],[Column3]]=\"T1013\",\"Y\",\"N\")","v":"N"},{"$f":"IF(Table1[[#This Row],[Column3]]=90785,\"Y\",\"N\")","v":"N"}]
[null,null,null,null,null,null,null,null,null,null,{"$f":"IF(Table1[[#This Row],[Column3]]=\"T1013\",\"Y\",\"N\")","v":"N"},{"$f":"IF(Table1[[#This Row],[Column3]]=90785,\"Y\",\"N\")","v":"N"}]
[null,null,null,null,null,null,null,null,null,null,{"$f":"IF(Table1[[#This Row],[Column3]]=\"T1013\",\"Y\",\"N\")","v":"N"},{"$f":"IF(Table1[[#This Row],[Column3]]=90785,\"Y\",\"N\")","v":"N"}]
[null,null,null,null,null,null,null,null,null,null,{"$f":"IF(Table1[[#This Row],[Column3]]=\"T1013\",\"Y\",\"N\")","v":"N"},{"$f":"IF(Table1[[#This Row],[Column3]]=90785,\"Y\",\"N\")","v":"N"}]
[null,null,null,null,null,null,null,null,null,null,{"$f":"IF(Table1[[#This Row],[Column3]]=\"T1013\",\"Y\",\"N\")","v":"N"},{"$f":"IF(Table1[[#This Row],[Column3]]=90785,\"Y\",\"N\")","v":"N"}]
[null,null,null,null,null,null,null,null,null,null,{"$f":"IF(Table1[[#This Row],[Column3]]=\"T1013\",\"Y\",\"N\")","v":"N"},{"$f":"IF(Table1[[#This Row],[Column3]]=90785,\"Y\",\"N\")","v":"N"}]
[null,null,null,null,null,null,null,null,null,null,{"$f":"IF(Table1[[#This Row],[Column3]]=\"T1013\",\"Y\",\"N\")","v":"N"},{"$f":"IF(Table1[[#This Row],[Column3]]=90785,\"Y\",\"N\")","v":"N"}]
[null,null,null,null,null,null,null,null,null,null,{"$f":"IF(Table1[[#This Row],[Column3]]=\"T1013\",\"Y\",\"N\")","v":"N"},{"$f":"IF(Table1[[#This Row],[Column3]]=90785,\"Y\",\"N\")","v":"N"}]
[null,null,null,null,null,null,null,null,null,null,{"$f":"IF(Table1[[#This Row],[Column3]]=\"T1013\",\"Y\",\"N\")","v":"N"},{"$f":"IF(Table1[[#This Row],[Column3]]=90785,\"Y\",\"N\")","v":"N"}]
[null,null,null,null,null,null,null,null,null,null,{"$f":"IF(Table1[[#This Row],[Column3]]=\"T1013\",\"Y\",\"N\")","v":"N"},{"$f":"IF(Table1[[#This Row],[Column3]]=90785,\"Y\",\"N\")","v":"N"}]
[null,null,null,null,null,null,null,null,null,null,{"$f":"IF(Table1[[#This Row],[Column3]]=\"T1013\",\"Y\",\"N\")","v":"N"},{"$f":"IF(Table1[[#This Row],[Column3]]=90785,\"Y\",\"N\")","v":"N"}]
[null,null,null,null,null,null,null,null,null,null,{"$f":"IF(Table1[[#This Row],[Column3]]=\"T1013\",\"Y\",\"N\")","v":"N"},{"$f":"IF(Table1[[#This Row],[Column3]]=90785,\"Y\",\"N\")","v":"N"}]
[null,null,null,null,null,null,null,null,null,null,{"$f":"IF(Table1[[#This Row],[Column3]]=\"T1013\",\"Y\",\"N\")","v":"N"},{"$f":"IF(Table1[[#This Row],[Column3]]=90785,\"Y\",\"N\")","v":"N"}]
[null,null,null,null,null,null,null,null,null,null,{"$f":"IF(Table1[[#This Row],[Column3]]=\"T1013\",\"Y\",\"N\")","v":"N"},{"$f":"IF(Table1[[#This Row],[Column3]]=90785,\"Y\",\"N\")","v":"N"}]
[null,null,null,null,null,null,null,null,null,null,{"$f":"IF(Table1[[#This Row],[Column3]]=\"T1013\",\"Y\",\"N\")","v":"N"},{"$f":"IF(Table1[[#This Row],[Column3]]=90785,\"Y\",\"N\")","v":"N"}]
[null,null,null,null,null,null,null,null,null,null,{"$f":"IF(Table1[[#This Row],[Column3]]=\"T1013\",\"Y\",\"N\")","v":"N"},{"$f":"IF(Table1[[#This Row],[Column3]]=90785,\"Y\",\"N\")","v":"N"}]
[null,null,null,null,null,null,null,null,null,null,{"$f":"IF(Table1[[#This Row],[Column3]]=\"T1013\",\"Y\",\"N\")","v":"N"},{"$f":"IF(Table1[[#This Row],[Column3]]=90785,\"Y\",\"N\")","v":"N"}]
[null,null,null,null,null,null,null,null,null,null,{"$f":"IF(Table1[[#This Row],[Column3]]=\"T1013\",\"Y\",\"N\")","v":"N"},{"$f":"IF(Table1[[#This Row],[Column3]]=90785,\"Y\",\"N\")","v":"N"}]
[null,null,null,null,null,null,null,null,null,null,{"$f":"IF(Table1[[#This Row],[Column3]]=\"T1013\",\"Y\",\"N\")","v":"N"},{"$f":"IF(Table1[[#This Row],[Column3]]=90785,\"Y\",\"N\")","v":"N"}]
[null,null,null,null,null,null,null,null,null,null,{"$f":"IF(Table1[[#This Row],[Column3]]=\"T1013\",\"Y\",\"N\")","v":"N"},{"$f":"IF(Table1[[#This Row],[Column3]]=90785,\"Y\",\"N\")","v":"N"}]
[null,null,null,null,null,null,null,null,null,null,{"$f":"IF(Table1[[#This Row],[Column3]]=\"T1013\",\"Y\",\"N\")","v":"N"},{"$f":"IF(Table1[[#This Row],[Column3]]=90785,\"Y\",\"N\")","v":"N"}]
[null,null,null,null,null,null,null,null,null,null,{"$f":"IF(Table1[[#This Row],[Column3]]=\"T1013\",\"Y\",\"N\")","v":"N"},{"$f":"IF(Table1[[#This Row],[Column3]]=90785,\"Y\",\"N\")","v":"N"}]
[null,null,null,null,null,null,null,null,null,null,{"$f":"IF(Table1[[#This Row],[Column3]]=\"T1013\",\"Y\",\"N\")","v":"N"},{"$f":"IF(Table1[[#This Row],[Column3]]=90785,\"Y\",\"N\")","v":"N"}]
[null,null,null,null,null,null,null,null,null,null,{"$f":"IF(Table1[[#This Row],[Column3]]=\"T1013\",\"Y\",\"N\")","v":"N"},{"$f":"IF(Table1[[#This Row],[Column3]]=90785,\"Y\",\"N\")","v":"N"}]
[null,null,null,null,null,null,null,null,null,null,{"$f":"IF(Table1[[#This Row],[Column3]]=\"T1013\",\"Y\",\"N\")","v":"N"},{"$f":"IF(Table1[[#This Row],[Column3]]=90785,\"Y\",\"N\")","v":"N"}]
[null,null,null,null,null,null,null,null,null,null,{"$f":"IF(Table1[[#This Row],[Column3]]=\"T1013\",\"Y\",\"N\")","v":"N"},{"$f":"IF(Table1[[#This Row],[Column3]]=90785,\"Y\",\"N\")","v":"N"}]
[null,null,null,null,null,null,null,null,null,null,{"$f":"IF(Table1[[#This Row],[Column3]]=\"T1013\",\"Y\",\"N\")","v":"N"},{"$f":"IF(Table1[[#This Row],[Column3]]=90785,\"Y\",\"N\")","v":"N"}]
[null,null,null,null,null,null,null,null,null,null,{"$f":"IF(Table1[[#This Row],[Column3]]=\"T1013\",\"Y\",\"N\")","v":"N"},{"$f":"IF(Table1[[#This Row],[Column3]]=90785,\"Y\",\"N\")","v":"N"}]
[null,null,null,null,null,null,null,null,null,null,{"$f":"IF(Table1[[#This Row],[Column3]]=\"T1013\",\"Y\",\"N\")","v":"N"},{"$f":"IF(Table1[[#This Row],[Column3]]=90785,\"Y\",\"N\")","v":"N"}]
[null,null,null,null,null,null,null,null,null,null,{"$f":"IF(Table1[[#This Row],[Column3]]=\"T1013\",\"Y\",\"N\")","v":"N"},{"$f":"IF(Table1[[#This Row],[Column3]]=90785,\"Y\",\"N\")","v":"N"}]
[null,null,null,null,null,null,null,null,null,null,{"$f":"IF(Table1[[#This Row],[Column3]]=\"T1013\",\"Y\",\"N\")","v":"N"},{"$f":"IF(Table1[[#This Row],[Column3]]=90785,\"Y\",\"N\")","v":"N"}]
[null,null,null,null,null,null,null,null,null,null,{"$f":"IF(Table1[[#This Row],[Column3]]=\"T1013\",\"Y\",\"N\")","v":"N"},{"$f":"IF(Table1[[#This Row],[Column3]]=90785,\"Y\",\"N\")","v":"N"}]
[null,null,null,null,null,null,null,null,null,null,{"$f":"IF(Table1[[#This Row],[Column3]]=\"T1013\",\"Y\",\"N\")","v":"N"},{"$f":"IF(Table1[[#This Row],[Column3]]=90785,\"Y\",\"N\")","v":"N"}]
[null,null,null,null,null,null,null,null,null,null,{"$f":"IF(Table1[[#This Row],[Column3]]=\"T1013\",\"Y\",\"N\")","v":"N"},{"$f":"IF(Table1[[#This Row],[Column3]]=90785,\"Y\",\"N\")","v":"N"}]
[null,null,null,null,null,null,null,null,null,null,{"$f":"IF(Table1[[#This Row],[Column3]]=\"T1013\",\"Y\",\"N\")","v":"N"},{"$f":"IF(Table1[[#This Row],[Column3]]=90785,\"Y\",\"N\")","v":"N"}]
[null,null,null,null,null,null,null,null,null,null,{"$f":"IF(Table1[[#This Row],[Column3]]=\"T1013\",\"Y\",\"N\")","v":"N"},{"$f":"IF(Table1[[#This Row],[Column3]]=90785,\"Y\",\"N\")","v":"N"}]
[null,null,null,null,null,null,null,null,null,null,{"$f":"IF(Table1[[#This Row],[Column3]]=\"T1013\",\"Y\",\"N\")","v":"N"},{"$f":"IF(Table1[[#This Row],[Column3]]=90785,\"Y\",\"N\")","v":"N"}]
[null,null,null,null,null,null,null,null,null,null,{"$f":"IF(Table1[[#This Row],[Column3]]=\"T1013\",\"Y\",\"N\")","v":"N"},{"$f":"IF(Table1[[#This Row],[Column3]]=90785,\"Y\",\"N\")","v":"N"}]
[null,null,null,null,null,null,null,null,null,null,{"$f":"IF(Table1[[#This Row],[Column3]]=\"T1013\",\"Y\",\"N\")","v":"N"},{"$f":"IF(Table1[[#This Row],[Column3]]=90785,\"Y\",\"N\")","v":"N"}]
[null,null,null,null,null,null,null,null,null,null,{"$f":"IF(Table1[[#This Row],[Column3]]=\"T1013\",\"Y\",\"N\")","v":"N"},{"$f":"IF(Table1[[#This Row],[Column3]]=90785,\"Y\",\"N\")","v":"N"}]
[null,null,null,null,null,null,null,null,null,null,{"$f":"IF(Table1[[#This Row],[Column3]]=\"T1013\",\"Y\",\"N\")","v":"N"},{"$f":"IF(Table1[[#This Row],[Column3]]=90785,\"Y\",\"N\")","v":"N"}]
[null,null,null,null,null,null,null,null,null,null,{"$f":"IF(Table1[[#This Row],[Column3]]=\"T1013\",\"Y\",\"N\")","v":"N"},{"$f":"IF(Table1[[#This Row],[Column3]]=90785,\"Y\",\"N\")","v":"N"}]
[null,null,null,null,null,null,null,null,null,null,{"$f":"IF(Table1[[#This Row],[Column3]]=\"T1013\",\"Y\",\"N\")","v":"N"},{"$f":"IF(Table1[[#This Row],[Column3]]=90785,\"Y\",\"N\")","v":"N"}]
[null,null,null,null,null,null,null,null,null,null,{"$f":"IF(Table1[[#This Row],[Column3]]=\"T1013\",\"Y\",\"N\")","v":"N"},{"$f":"IF(Table1[[#This Row],[Column3]]=90785,\"Y\",\"N\")","v":"N"}]
[null,null,null,null,null,null,null,null,null,null,{"$f":"IF(Table1[[#This Row],[Column3]]=\"T1013\",\"Y\",\"N\")","v":"N"},{"$f":"IF(Table1[[#This Row],[Column3]]=90785,\"Y\",\"N\")","v":"N"}]
[null,null,null,null,null,null,null,null,null,null,{"$f":"IF(Table1[[#This Row],[Column3]]=\"T1013\",\"Y\",\"N\")","v":"N"},{"$f":"IF(Table1[[#This Row],[Column3]]=90785,\"Y\",\"N\")","v":"N"}]
[null,null,null,null,null,null,null,null,null,null,{"$f":"IF(Table1[[#This Row],[Column3]]=\"T1013\",\"Y\",\"N\")","v":"N"},{"$f":"IF(Table1[[#This Row],[Column3]]=90785,\"Y\",\"N\")","v":"N"}]
[null,null,null,null,null,null,null,null,null,null,{"$f":"IF(Table1[[#This Row],[Column3]]=\"T1013\",\"Y\",\"N\")","v":"N"},{"$f":"IF(Table1[[#This Row],[Column3]]=90785,\"Y\",\"N\")","v":"N"}]
[null,null,null,null,null,null,null,null,null,null,{"$f":"IF(Table1[[#This Row],[Column3]]=\"T1013\",\"Y\",\"N\")","v":"N"},{"$f":"IF(Table1[[#This Row],[Column3]]=90785,\"Y\",\"N\")","v":"N"}]
[null,null,null,null,null,null,null,null,null,null,{"$f":"IF(Table1[[#This Row],[Column3]]=\"T1013\",\"Y\",\"N\")","v":"N"},{"$f":"IF(Table1[[#This Row],[Column3]]=90785,\"Y\",\"N\")","v":"N"}]
[null,null,null,null,null,null,null,null,null,null,{"$f":"IF(Table1[[#This Row],[Column3]]=\"T1013\",\"Y\",\"N\")","v":"N"},{"$f":"IF(Table1[[#This Row],[Column3]]=90785,\"Y\",\"N\")","v":"N"}]
[null,null,null,null,null,null,null,null,null,null,{"$f":"IF(Table1[[#This Row],[Column3]]=\"T1013\",\"Y\",\"N\")","v":"N"},{"$f":"IF(Table1[[#This Row],[Column3]]=90785,\"Y\",\"N\")","v":"N"}]
[null,null,null,null,null,null,null,null,null,null,{"$f":"IF(Table1[[#This Row],[Column3]]=\"T1013\",\"Y\",\"N\")","v":"N"},{"$f":"IF(Table1[[#This Row],[Column3]]=90785,\"Y\",\"N\")","v":"N"}]
[null,null,null,null,null,null,null,null,null,null,{"$f":"IF(Table1[[#This Row],[Column3]]=\"T1013\",\"Y\",\"N\")","v":"N"},{"$f":"IF(Table1[[#This Row],[Column3]]=90785,\"Y\",\"N\")","v":"N"}]
[null,null,null,null,null,null,null,null,null,null,{"$f":"IF(Table1[[#This Row],[Column3]]=\"T1013\",\"Y\",\"N\")","v":"N"},{"$f":"IF(Table1[[#This Row],[Column3]]=90785,\"Y\",\"N\")","v":"N"}]
[null,null,null,null,null,null,null,null,null,null,{"$f":"IF(Table1[[#This Row],[Column3]]=\"T1013\",\"Y\",\"N\")","v":"N"},{"$f":"IF(Table1[[#This Row],[Column3]]=90785,\"Y\",\"N\")","v":"N"}]
[null,null,null,null,null,null,null,null,null,null,{"$f":"IF(Table1[[#This Row],[Column3]]=\"T1013\",\"Y\",\"N\")","v":"N"},{"$f":"IF(Table1[[#This Row],[Column3]]=90785,\"Y\",\"N\")","v":"N"}]
[null,null,null,null,null,null,null,null,null,null,{"$f":"IF(Table1[[#This Row],[Column3]]=\"T1013\",\"Y\",\"N\")","v":"N"},{"$f":"IF(Table1[[#This Row],[Column3]]=90785,\"Y\",\"N\")","v":"N"}]
[null,null,null,null,null,null,null,null,null,null,{"$f":"IF(Table1[[#This Row],[Column3]]=\"T1013\",\"Y\",\"N\")","v":"N"},{"$f":"IF(Table1[[#This Row],[Column3]]=90785,\"Y\",\"N\")","v":"N"}]
[null,null,null,null,null,null,null,null,null,null,{"$f":"IF(Table1[[#This Row],[Column3]]=\"T1013\",\"Y\",\"N\")","v":"N"},{"$f":"IF(Table1[[#This Row],[Column3]]=90785,\"Y\",\"N\")","v":"N"}]
[null,null,null,null,null,null,null,null,null,null,{"$f":"IF(Table1[[#This Row],[Column3]]=\"T1013\",\"Y\",\"N\")","v":"N"},{"$f":"IF(Table1[[#This Row],[Column3]]=90785,\"Y\",\"N\")","v":"N"}]
[null,null,null,null,null,null,null,null,null,null,{"$f":"IF(Table1[[#This Row],[Column3]]=\"T1013\",\"Y\",\"N\")","v":"N"},{"$f":"IF(Table1[[#This Row],[Column3]]=90785,\"Y\",\"N\")","v":"N"}]
[null,null,null,null,null,null,null,null,null,null,{"$f":"IF(Table1[[#This Row],[Column3]]=\"T1013\",\"Y\",\"N\")","v":"N"},{"$f":"IF(Table1[[#This Row],[Column3]]=90785,\"Y\",\"N\")","v":"N"}]
[null,null,null,null,null,null,null,null,null,null,{"$f":"IF(Table1[[#This Row],[Column3]]=\"T1013\",\"Y\",\"N\")","v":"N"},{"$f":"IF(Table1[[#This Row],[Column3]]=90785,\"Y\",\"N\")","v":"N"}]
[null,null,null,null,null,null,null,null,null,null,{"$f":"IF(Table1[[#This Row],[Column3]]=\"T1013\",\"Y\",\"N\")","v":"N"},{"$f":"IF(Table1[[#This Row],[Column3]]=90785,\"Y\",\"N\")","v":"N"}]
[null,null,null,null,null,null,null,null,null,null,{"$f":"IF(Table1[[#This Row],[Column3]]=\"T1013\",\"Y\",\"N\")","v":"N"},{"$f":"IF(Table1[[#This Row],[Column3]]=90785,\"Y\",\"N\")","v":"N"}]
[null,null,null,null,null,null,null,null,null,null,{"$f":"IF(Table1[[#This Row],[Column3]]=\"T1013\",\"Y\",\"N\")","v":"N"},{"$f":"IF(Table1[[#This Row],[Column3]]=90785,\"Y\",\"N\")","v":"N"}]
[null,null,null,null,null,null,null,null,null,null,{"$f":"IF(Table1[[#This Row],[Column3]]=\"T1013\",\"Y\",\"N\")","v":"N"},{"$f":"IF(Table1[[#This Row],[Column3]]=90785,\"Y\",\"N\")","v":"N"}]
[null,null,null,null,null,null,null,null,null,null,{"$f":"IF(Table1[[#This Row],[Column3]]=\"T1013\",\"Y\",\"N\")","v":"N"},{"$f":"IF(Table1[[#This Row],[Column3]]=90785,\"Y\",\"N\")","v":"N"}]
[null,null,null,null,null,null,null,null,null,null,{"$f":"IF(Table1[[#This Row],[Column3]]=\"T1013\",\"Y\",\"N\")","v":"N"},{"$f":"IF(Table1[[#This Row],[Column3]]=90785,\"Y\",\"N\")","v":"N"}]
[null,null,null,null,null,null,null,null,null,null,{"$f":"IF(Table1[[#This Row],[Column3]]=\"T1013\",\"Y\",\"N\")","v":"N"},{"$f":"IF(Table1[[#This Row],[Column3]]=90785,\"Y\",\"N\")","v":"N"}]
[null,null,null,null,null,null,null,null,null,null,{"$f":"IF(Table1[[#This Row],[Column3]]=\"T1013\",\"Y\",\"N\")","v":"N"},{"$f":"IF(Table1[[#This Row],[Column3]]=90785,\"Y\",\"N\")","v":"N"}]
[null,null,null,null,null,null,null,null,null,null,{"$f":"IF(Table1[[#This Row],[Column3]]=\"T1013\",\"Y\",\"N\")","v":"N"},{"$f":"IF(Table1[[#This Row],[Column3]]=90785,\"Y\",\"N\")","v":"N"}]
[null,null,null,null,null,null,null,null,null,null,{"$f":"IF(Table1[[#This Row],[Column3]]=\"T1013\",\"Y\",\"N\")","v":"N"},{"$f":"IF(Table1[[#This Row],[Column3]]=90785,\"Y\",\"N\")","v":"N"}]
[null,null,null,null,null,null,null,null,null,null,{"$f":"IF(Table1[[#This Row],[Column3]]=\"T1013\",\"Y\",\"N\")","v":"N"},{"$f":"IF(Table1[[#This Row],[Column3]]=90785,\"Y\",\"N\")","v":"N"}]
[null,null,null,null,null,null,null,null,null,null,{"$f":"IF(Table1[[#This Row],[Column3]]=\"T1013\",\"Y\",\"N\")","v":"N"},{"$f":"IF(Table1[[#This Row],[Column3]]=90785,\"Y\",\"N\")","v":"N"}]
[null,null,null,null,null,null,null,null,null,null,{"$f":"IF(Table1[[#This Row],[Column3]]=\"T1013\",\"Y\",\"N\")","v":"N"},{"$f":"IF(Table1[[#This Row],[Column3]]=90785,\"Y\",\"N\")","v":"N"}]
[null,null,null,null,null,null,null,null,null,null,{"$f":"IF(Table1[[#This Row],[Column3]]=\"T1013\",\"Y\",\"N\")","v":"N"},{"$f":"IF(Table1[[#This Row],[Column3]]=90785,\"Y\",\"N\")","v":"N"}]
[null,null,null,null,null,null,null,null,null,null,{"$f":"IF(Table1[[#This Row],[Column3]]=\"T1013\",\"Y\",\"N\")","v":"N"},{"$f":"IF(Table1[[#This Row],[Column3]]=90785,\"Y\",\"N\")","v":"N"}]
[null,null,null,null,null,null,null,null,null,null,{"$f":"IF(Table1[[#This Row],[Column3]]=\"T1013\",\"Y\",\"N\")","v":"N"},{"$f":"IF(Table1[[#This Row],[Column3]]=90785,\"Y\",\"N\")","v":"N"}]
[null,null,null,null,null,null,null,null,null,null,{"$f":"IF(Table1[[#This Row],[Column3]]=\"T1013\",\"Y\",\"N\")","v":"N"},{"$f":"IF(Table1[[#This Row],[Column3]]=90785,\"Y\",\"N\")","v":"N"}]
[null,null,null,null,null,null,null,null,null,null,{"$f":"IF(Table1[[#This Row],[Column3]]=\"T1013\",\"Y\",\"N\")","v":"N"},{"$f":"IF(Table1[[#This Row],[Column3]]=90785,\"Y\",\"N\")","v":"N"}]
[null,null,null,null,null,null,null,null,null,null,{"$f":"IF(Table1[[#This Row],[Column3]]=\"T1013\",\"Y\",\"N\")","v":"N"},{"$f":"IF(Table1[[#This Row],[Column3]]=90785,\"Y\",\"N\")","v":"N"}]
[null,null,null,null,null,null,null,null,null,null,{"$f":"IF(Table1[[#This Row],[Column3]]=\"T1013\",\"Y\",\"N\")","v":"N"},{"$f":"IF(Table1[[#This Row],[Column3]]=90785,\"Y\",\"N\")","v":"N"}]
[null,null,null,null,null,null,null,null,null,null,{"$f":"IF(Table1[[#This Row],[Column3]]=\"T1013\",\"Y\",\"N\")","v":"N"},{"$f":"IF(Table1[[#This Row],[Column3]]=90785,\"Y\",\"N\")","v":"N"}]
[null,null,null,null,null,null,null,null,null,null,{"$f":"IF(Table1[[#This Row],[Column3]]=\"T1013\",\"Y\",\"N\")","v":"N"},{"$f":"IF(Table1[[#This Row],[Column3]]=90785,\"Y\",\"N\")","v":"N"}]
[null,null,null,null,null,null,null,null,null,null,{"$f":"IF(Table1[[#This Row],[Column3]]=\"T1013\",\"Y\",\"N\")","v":"N"},{"$f":"IF(Table1[[#This Row],[Column3]]=90785,\"Y\",\"N\")","v":"N"}]
[null,null,null,null,null,null,null,null,null,null,{"$f":"IF(Table1[[#This Row],[Column3]]=\"T1013\",\"Y\",\"N\")","v":"N"},{"$f":"IF(Table1[[#This Row],[Column3]]=90785,\"Y\",\"N\")","v":"N"}]
[null,null,null,null,null,null,null,null,null,null,{"$f":"IF(Table1[[#This Row],[Column3]]=\"T1013\",\"Y\",\"N\")","v":"N"},{"$f":"IF(Table1[[#This Row],[Column3]]=90785,\"Y\",\"N\")","v":"N"}]
[null,null,null,null,null,null,null,null,null,null,{"$f":"IF(Table1[[#This Row],[Column3]]=\"T1013\",\"Y\",\"N\")","v":"N"},{"$f":"IF(Table1[[#This Row],[Column3]]=90785,\"Y\",\"N\")","v":"N"}]
[null,null,null,null,null,null,null,null,null,null,{"$f":"IF(Table1[[#This Row],[Column3]]=\"T1013\",\"Y\",\"N\")","v":"N"},{"$f":"IF(Table1[[#This Row],[Column3]]=90785,\"Y\",\"N\")","v":"N"}]
[null,null,null,null,null,null,null,null,null,null,{"$f":"IF(Table1[[#This Row],[Column3]]=\"T1013\",\"Y\",\"N\")","v":"N"},{"$f":"IF(Table1[[#This Row],[Column3]]=90785,\"Y\",\"N\")","v":"N"}]
[null,null,null,null,null,null,null,null,null,null,{"$f":"IF(Table1[[#This Row],[Column3]]=\"T1013\",\"Y\",\"N\")","v":"N"},{"$f":"IF(Table1[[#This Row],[Column3]]=90785,\"Y\",\"N\")","v":"N"}]
[null,null,null,null,null,null,null,null,null,null,{"$f":"IF(Table1[[#This Row],[Column3]]=\"T1013\",\"Y\",\"N\")","v":"N"},{"$f":"IF(Table1[[#This Row],[Column3]]=90785,\"Y\",\"N\")","v":"N"}]
[null,null,null,null,null,null,null,null,null,null,{"$f":"IF(Table1[[#This Row],[Column3]]=\"T1013\",\"Y\",\"N\")","v":"N"},{"$f":"IF(Table1[[#This Row],[Column3]]=90785,\"Y\",\"N\")","v":"N"}]
[null,null,null,null,null,null,null,null,null,null,{"$f":"IF(Table1[[#This Row],[Column3]]=\"T1013\",\"Y\",\"N\")","v":"N"},{"$f":"IF(Table1[[#This Row],[Column3]]=90785,\"Y\",\"N\")","v":"N"}]
[null,null,null,null,null,null,null,null,null,null,{"$f":"IF(Table1[[#This Row],[Column3]]=\"T1013\",\"Y\",\"N\")","v":"N"},{"$f":"IF(Table1[[#This Row],[Column3]]=90785,\"Y\",\"N\")","v":"N"}]
[null,null,null,null,null,null,null,null,null,null,{"$f":"IF(Table1[[#This Row],[Column3]]=\"T1013\",\"Y\",\"N\")","v":"N"},{"$f":"IF(Table1[[#This Row],[Column3]]=90785,\"Y\",\"N\")","v":"N"}]
[null,null,null,null,null,null,null,null,null,null,{"$f":"IF(Table1[[#This Row],[Column3]]=\"T1013\",\"Y\",\"N\")","v":"N"},{"$f":"IF(Table1[[#This Row],[Column3]]=90785,\"Y\",\"N\")","v":"N"}]
[null,null,null,null,null,null,null,null,null,null,{"$f":"IF(Table1[[#This Row],[Column3]]=\"T1013\",\"Y\",\"N\")","v":"N"},{"$f":"IF(Table1[[#This Row],[Column3]]=90785,\"Y\",\"N\")","v":"N"}]
[null,null,null,null,null,null,null,null,null,null,{"$f":"IF(Table1[[#This Row],[Column3]]=\"T1013\",\"Y\",\"N\")","v":"N"},{"$f":"IF(Table1[[#This Row],[Column3]]=90785,\"Y\",\"N\")","v":"N"}]
[null,null,null,null,null,null,null,null,null,null,{"$f":"IF(Table1[[#This Row],[Column3]]=\"T1013\",\"Y\",\"N\")","v":"N"},{"$f":"IF(Table1[[#This Row],[Column3]]=90785,\"Y\",\"N\")","v":"N"}]
[null,null,null,null,null,null,null,null,null,null,{"$f":"IF(Table1[[#This Row],[Column3]]=\"T1013\",\"Y\",\"N\")","v":"N"},{"$f":"IF(Table1[[#This Row],[Column3]]=90785,\"Y\",\"N\")","v":"N"}]
[null,null,null,null,null,null,null,null,null,null,{"$f":"IF(Table1[[#This Row],[Column3]]=\"T1013\",\"Y\",\"N\")","v":"N"},{"$f":"IF(Table1[[#This Row],[Column3]]=90785,\"Y\",\"N\")","v":"N"}]
[null,null,null,null,null,null,null,null,null,null,{"$f":"IF(Table1[[#This Row],[Column3]]=\"T1013\",\"Y\",\"N\")","v":"N"},{"$f":"IF(Table1[[#This Row],[Column3]]=90785,\"Y\",\"N\")","v":"N"}]
[null,null,null,null,null,null,null,null,null,null,{"$f":"IF(Table1[[#This Row],[Column3]]=\"T1013\",\"Y\",\"N\")","v":"N"},{"$f":"IF(Table1[[#This Row],[Column3]]=90785,\"Y\",\"N\")","v":"N"}]
[null,null,null,null,null,null,null,null,null,null,{"$f":"IF(Table1[[#This Row],[Column3]]=\"T1013\",\"Y\",\"N\")","v":"N"},{"$f":"IF(Table1[[#This Row],[Column3]]=90785,\"Y\",\"N\")","v":"N"}]
[null,null,null,null,null,null,null,null,null,null,{"$f":"IF(Table1[[#This Row],[Column3]]=\"T1013\",\"Y\",\"N\")","v":"N"},{"$f":"IF(Table1[[#This Row],[Column3]]=90785,\"Y\",\"N\")","v":"N"}]
[null,null,null,null,null,null,null,null,null,null,{"$f":"IF(Table1[[#This Row],[Column3]]=\"T1013\",\"Y\",\"N\")","v":"N"},{"$f":"IF(Table1[[#This Row],[Column3]]=90785,\"Y\",\"N\")","v":"N"}]
[null,null,null,null,null,null,null,null,null,null,{"$f":"IF(Table1[[#This Row],[Column3]]=\"T1013\",\"Y\",\"N\")","v":"N"},{"$f":"IF(Table1[[#This Row],[Column3]]=90785,\"Y\",\"N\")","v":"N"}]
[null,null,null,null,null,null,null,null,null,null,{"$f":"IF(Table1[[#This Row],[Column3]]=\"T1013\",\"Y\",\"N\")","v":"N"},{"$f":"IF(Table1[[#This Row],[Column3]]=90785,\"Y\",\"N\")","v":"N"}]
[null,null,null,null,null,null,null,null,null,null,{"$f":"IF(Table1[[#This Row],[Column3]]=\"T1013\",\"Y\",\"N\")","v":"N"},{"$f":"IF(Table1[[#This Row],[Column3]]=90785,\"Y\",\"N\")","v":"N"}]
[null,null,null,null,null,null,null,null,null,null,{"$f":"IF(Table1[[#This Row],[Column3]]=\"T1013\",\"Y\",\"N\")","v":"N"},{"$f":"IF(Table1[[#This Row],[Column3]]=90785,\"Y\",\"N\")","v":"N"}]
[null,null,null,null,null,null,null,null,null,null,{"$f":"IF(Table1[[#This Row],[Column3]]=\"T1013\",\"Y\",\"N\")","v":"N"},{"$f":"IF(Table1[[#This Row],[Column3]]=90785,\"Y\",\"N\")","v":"N"}]
[null,null,null,null,null,null,null,null,null,null,{"$f":"IF(Table1[[#This Row],[Column3]]=\"T1013\",\"Y\",\"N\")","v":"N"},{"$f":"IF(Table1[[#This Row],[Column3]]=90785,\"Y\",\"N\")","v":"N"}]
[null,null,null,null,null,null,null,null,null,null,{"$f":"IF(Table1[[#This Row],[Column3]]=\"T1013\",\"Y\",\"N\")","v":"N"},{"$f":"IF(Table1[[#This Row],[Column3]]=90785,\"Y\",\"N\")","v":"N"}]
[null,null,null,null,null,null,null,null,null,null,{"$f":"IF(Table1[[#This Row],[Column3]]=\"T1013\",\"Y\",\"N\")","v":"N"},{"$f":"IF(Table1[[#This Row],[Column3]]=90785,\"Y\",\"N\")","v":"N"}]
[null,null,null,null,null,null,null,null,null,null,{"$f":"IF(Table1[[#This Row],[Column3]]=\"T1013\",\"Y\",\"N\")","v":"N"},{"$f":"IF(Table1[[#This Row],[Column3]]=90785,\"Y\",\"N\")","v":"N"}]
[null,null,null,null,null,null,null,null,null,null,{"$f":"IF(Table1[[#This Row],[Column3]]=\"T1013\",\"Y\",\"N\")","v":"N"},{"$f":"IF(Table1[[#This Row],[Column3]]=90785,\"Y\",\"N\")","v":"N"}]
[null,null,null,null,null,null,null,null,null,null,{"$f":"IF(Table1[[#This Row],[Column3]]=\"T1013\",\"Y\",\"N\")","v":"N"},{"$f":"IF(Table1[[#This Row],[Column3]]=90785,\"Y\",\"N\")","v":"N"}]
[null,null,null,null,null,null,null,null,null,null,{"$f":"IF(Table1[[#This Row],[Column3]]=\"T1013\",\"Y\",\"N\")","v":"N"},{"$f":"IF(Table1[[#This Row],[Column3]]=90785,\"Y\",\"N\")","v":"N"}]
[null,null,null,null,null,null,null,null,null,null,{"$f":"IF(Table1[[#This Row],[Column3]]=\"T1013\",\"Y\",\"N\")","v":"N"},{"$f":"IF(Table1[[#This Row],[Column3]]=90785,\"Y\",\"N\")","v":"N"}]
[null,null,null,null,null,null,null,null,null,null,{"$f":"IF(Table1[[#This Row],[Column3]]=\"T1013\",\"Y\",\"N\")","v":"N"},{"$f":"IF(Table1[[#This Row],[Column3]]=90785,\"Y\",\"N\")","v":"N"}]
[null,null,null,null,null,null,null,null,null,null,{"$f":"IF(Table1[[#This Row],[Column3]]=\"T1013\",\"Y\",\"N\")","v":"N"},{"$f":"IF(Table1[[#This Row],[Column3]]=90785,\"Y\",\"N\")","v":"N"}]
[null,null,null,null,null,null,null,null,null,null,{"$f":"IF(Table1[[#This Row],[Column3]]=\"T1013\",\"Y\",\"N\")","v":"N"},{"$f":"IF(Table1[[#This Row],[Column3]]=90785,\"Y\",\"N\")","v":"N"}]
[null,null,null,null,null,null,null,null,null,null,{"$f":"IF(Table1[[#This Row],[Column3]]=\"T1013\",\"Y\",\"N\")","v":"N"},{"$f":"IF(Table1[[#This Row],[Column3]]=90785,\"Y\",\"N\")","v":"N"}]
[null,null,null,null,null,null,null,null,null,null,{"$f":"IF(Table1[[#This Row],[Column3]]=\"T1013\",\"Y\",\"N\")","v":"N"},{"$f":"IF(Table1[[#This Row],[Column3]]=90785,\"Y\",\"N\")","v":"N"}]
[null,null,null,null,null,null,null,null,null,null,{"$f":"IF(Table1[[#This Row],[Column3]]=\"T1013\",\"Y\",\"N\")","v":"N"},{"$f":"IF(Table1[[#This Row],[Column3]]=90785,\"Y\",\"N\")","v":"N"}]
[null,null,null,null,null,null,null,null,null,null,{"$f":"IF(Table1[[#This Row],[Column3]]=\"T1013\",\"Y\",\"N\")","v":"N"},{"$f":"IF(Table1[[#This Row],[Column3]]=90785,\"Y\",\"N\")","v":"N"}]
[null,null,null,null,null,null,null,null,null,null,{"$f":"IF(Table1[[#This Row],[Column3]]=\"T1013\",\"Y\",\"N\")","v":"N"},{"$f":"IF(Table1[[#This Row],[Column3]]=90785,\"Y\",\"N\")","v":"N"}]
[null,null,null,null,null,null,null,null,null,null,{"$f":"IF(Table1[[#This Row],[Column3]]=\"T1013\",\"Y\",\"N\")","v":"N"},{"$f":"IF(Table1[[#This Row],[Column3]]=90785,\"Y\",\"N\")","v":"N"}]
[null,null,null,null,null,null,null,null,null,null,{"$f":"IF(Table1[[#This Row],[Column3]]=\"T1013\",\"Y\",\"N\")","v":"N"},{"$f":"IF(Table1[[#This Row],[Column3]]=90785,\"Y\",\"N\")","v":"N"}]
[null,null,null,null,null,null,null,null,null,null,{"$f":"IF(Table1[[#This Row],[Column3]]=\"T1013\",\"Y\",\"N\")","v":"N"},{"$f":"IF(Table1[[#This Row],[Column3]]=90785,\"Y\",\"N\")","v":"N"}]
[null,null,null,null,null,null,null,null,null,null,{"$f":"IF(Table1[[#This Row],[Column3]]=\"T1013\",\"Y\",\"N\")","v":"N"},{"$f":"IF(Table1[[#This Row],[Column3]]=90785,\"Y\",\"N\")","v":"N"}]
[null,null,null,null,null,null,null,null,null,null,{"$f":"IF(Table1[[#This Row],[Column3]]=\"T1013\",\"Y\",\"N\")","v":"N"},{"$f":"IF(Table1[[#This Row],[Column3]]=90785,\"Y\",\"N\")","v":"N"}]
[null,null,null,null,null,null,null,null,null,null,{"$f":"IF(Table1[[#This Row],[Column3]]=\"T1013\",\"Y\",\"N\")","v":"N"},{"$f":"IF(Table1[[#This Row],[Column3]]=90785,\"Y\",\"N\")","v":"N"}]
[null,null,null,null,null,null,null,null,null,null,{"$f":"IF(Table1[[#This Row],[Column3]]=\"T1013\",\"Y\",\"N\")","v":"N"},{"$f":"IF(Table1[[#This Row],[Column3]]=90785,\"Y\",\"N\")","v":"N"}]
[null,null,null,null,null,null,null,null,null,null,{"$f":"IF(Table1[[#This Row],[Column3]]=\"T1013\",\"Y\",\"N\")","v":"N"},{"$f":"IF(Table1[[#This Row],[Column3]]=90785,\"Y\",\"N\")","v":"N"}]
[null,null,null,null,null,null,null,null,null,null,{"$f":"IF(Table1[[#This Row],[Column3]]=\"T1013\",\"Y\",\"N\")","v":"N"},{"$f":"IF(Table1[[#This Row],[Column3]]=90785,\"Y\",\"N\")","v":"N"}]
[null,null,null,null,null,null,null,null,null,null,{"$f":"IF(Table1[[#This Row],[Column3]]=\"T1013\",\"Y\",\"N\")","v":"N"},{"$f":"IF(Table1[[#This Row],[Column3]]=90785,\"Y\",\"N\")","v":"N"}]
[null,null,null,null,null,null,null,null,null,null,{"$f":"IF(Table1[[#This Row],[Column3]]=\"T1013\",\"Y\",\"N\")","v":"N"},{"$f":"IF(Table1[[#This Row],[Column3]]=90785,\"Y\",\"N\")","v":"N"}]
[null,null,null,null,null,null,null,null,null,null,{"$f":"IF(Table1[[#This Row],[Column3]]=\"T1013\",\"Y\",\"N\")","v":"N"},{"$f":"IF(Table1[[#This Row],[Column3]]=90785,\"Y\",\"N\")","v":"N"}]
[null,null,null,null,null,null,null,null,null,null,{"$f":"IF(Table1[[#This Row],[Column3]]=\"T1013\",\"Y\",\"N\")","v":"N"},{"$f":"IF(Table1[[#This Row],[Column3]]=90785,\"Y\",\"N\")","v":"N"}]
[null,null,null,null,null,null,null,null,null,null,{"$f":"IF(Table1[[#This Row],[Column3]]=\"T1013\",\"Y\",\"N\")","v":"N"},{"$f":"IF(Table1[[#This Row],[Column3]]=90785,\"Y\",\"N\")","v":"N"}]
[null,null,null,null,null,null,null,null,null,null,{"$f":"IF(Table1[[#This Row],[Column3]]=\"T1013\",\"Y\",\"N\")","v":"N"},{"$f":"IF(Table1[[#This Row],[Column3]]=90785,\"Y\",\"N\")","v":"N"}]
[null,null,null,null,null,null,null,null,null,null,{"$f":"IF(Table1[[#This Row],[Column3]]=\"T1013\",\"Y\",\"N\")","v":"N"},{"$f":"IF(Table1[[#This Row],[Column3]]=90785,\"Y\",\"N\")","v":"N"}]
[null,null,null,null,null,null,null,null,null,null,{"$f":"IF(Table1[[#This Row],[Column3]]=\"T1013\",\"Y\",\"N\")","v":"N"},{"$f":"IF(Table1[[#This Row],[Column3]]=90785,\"Y\",\"N\")","v":"N"}]
[null,null,null,null,null,null,null,null,null,null,{"$f":"IF(Table1[[#This Row],[Column3]]=\"T1013\",\"Y\",\"N\")","v":"N"},{"$f":"IF(Table1[[#This Row],[Column3]]=90785,\"Y\",\"N\")","v":"N"}]
[null,null,null,null,null,null,null,null,null,null,{"$f":"IF(Table1[[#This Row],[Column3]]=\"T1013\",\"Y\",\"N\")","v":"N"},{"$f":"IF(Table1[[#This Row],[Column3]]=90785,\"Y\",\"N\")","v":"N"}]
[null,null,null,null,null,null,null,null,null,null,{"$f":"IF(Table1[[#This Row],[Column3]]=\"T1013\",\"Y\",\"N\")","v":"N"},{"$f":"IF(Table1[[#This Row],[Column3]]=90785,\"Y\",\"N\")","v":"N"}]
[null,null,null,null,null,null,null,null,null,null,{"$f":"IF(Table1[[#This Row],[Column3]]=\"T1013\",\"Y\",\"N\")","v":"N"},{"$f":"IF(Table1[[#This Row],[Column3]]=90785,\"Y\",\"N\")","v":"N"}]
[null,null,null,null,null,null,null,null,null,null,{"$f":"IF(Table1[[#This Row],[Column3]]=\"T1013\",\"Y\",\"N\")","v":"N"},{"$f":"IF(Table1[[#This Row],[Column3]]=90785,\"Y\",\"N\")","v":"N"}]
[null,null,null,null,null,null,null,null,null,null,{"$f":"IF(Table1[[#This Row],[Column3]]=\"T1013\",\"Y\",\"N\")","v":"N"},{"$f":"IF(Table1[[#This Row],[Column3]]=90785,\"Y\",\"N\")","v":"N"}]
[null,null,null,null,null,null,null,null,null,null,{"$f":"IF(Table1[[#This Row],[Column3]]=\"T1013\",\"Y\",\"N\")","v":"N"},{"$f":"IF(Table1[[#This Row],[Column3]]=90785,\"Y\",\"N\")","v":"N"}]
[null,null,null,null,null,null,null,null,null,null,{"$f":"IF(Table1[[#This Row],[Column3]]=\"T1013\",\"Y\",\"N\")","v":"N"},{"$f":"IF(Table1[[#This Row],[Column3]]=90785,\"Y\",\"N\")","v":"N"}]
[null,null,null,null,null,null,null,null,null,null,{"$f":"IF(Table1[[#This Row],[Column3]]=\"T1013\",\"Y\",\"N\")","v":"N"},{"$f":"IF(Table1[[#This Row],[Column3]]=90785,\"Y\",\"N\")","v":"N"}]
[null,null,null,null,null,null,null,null,null,null,{"$f":"IF(Table1[[#This Row],[Column3]]=\"T1013\",\"Y\",\"N\")","v":"N"},{"$f":"IF(Table1[[#This Row],[Column3]]=90785,\"Y\",\"N\")","v":"N"}]
[null,null,null,null,null,null,null,null,null,null,{"$f":"IF(Table1[[#This Row],[Column3]]=\"T1013\",\"Y\",\"N\")","v":"N"},{"$f":"IF(Table1[[#This Row],[Column3]]=90785,\"Y\",\"N\")","v":"N"}]
[null,null,null,null,null,null,null,null,null,null,{"$f":"IF(Table1[[#This Row],[Column3]]=\"T1013\",\"Y\",\"N\")","v":"N"},{"$f":"IF(Table1[[#This Row],[Column3]]=90785,\"Y\",\"N\")","v":"N"}]
[null,null,null,null,null,null,null,null,null,null,{"$f":"IF(Table1[[#This Row],[Column3]]=\"T1013\",\"Y\",\"N\")","v":"N"},{"$f":"IF(Table1[[#This Row],[Column3]]=90785,\"Y\",\"N\")","v":"N"}]
[null,null,null,null,null,null,null,null,null,null,{"$f":"IF(Table1[[#This Row],[Column3]]=\"T1013\",\"Y\",\"N\")","v":"N"},{"$f":"IF(Table1[[#This Row],[Column3]]=90785,\"Y\",\"N\")","v":"N"}]
[null,null,null,null,null,null,null,null,null,null,{"$f":"IF(Table1[[#This Row],[Column3]]=\"T1013\",\"Y\",\"N\")","v":"N"},{"$f":"IF(Table1[[#This Row],[Column3]]=90785,\"Y\",\"N\")","v":"N"}]
[null,null,null,null,null,null,null,null,null,null,{"$f":"IF(Table1[[#This Row],[Column3]]=\"T1013\",\"Y\",\"N\")","v":"N"},{"$f":"IF(Table1[[#This Row],[Column3]]=90785,\"Y\",\"N\")","v":"N"}]
[null,null,null,null,null,null,null,null,null,null,{"$f":"IF(Table1[[#This Row],[Column3]]=\"T1013\",\"Y\",\"N\")","v":"N"},{"$f":"IF(Table1[[#This Row],[Column3]]=90785,\"Y\",\"N\")","v":"N"}]
[null,null,null,null,null,null,null,null,null,null,{"$f":"IF(Table1[[#This Row],[Column3]]=\"T1013\",\"Y\",\"N\")","v":"N"},{"$f":"IF(Table1[[#This Row],[Column3]]=90785,\"Y\",\"N\")","v":"N"}]
[null,null,null,null,null,null,null,null,null,null,{"$f":"IF(Table1[[#This Row],[Column3]]=\"T1013\",\"Y\",\"N\")","v":"N"},{"$f":"IF(Table1[[#This Row],[Column3]]=90785,\"Y\",\"N\")","v":"N"}]
[null,null,null,null,null,null,null,null,null,null,{"$f":"IF(Table1[[#This Row],[Column3]]=\"T1013\",\"Y\",\"N\")","v":"N"},{"$f":"IF(Table1[[#This Row],[Column3]]=90785,\"Y\",\"N\")","v":"N"}]
[null,null,null,null,null,null,null,null,null,null,{"$f":"IF(Table1[[#This Row],[Column3]]=\"T1013\",\"Y\",\"N\")","v":"N"},{"$f":"IF(Table1[[#This Row],[Column3]]=90785,\"Y\",\"N\")","v":"N"}]
[null,null,null,null,null,null,null,null,null,null,{"$f":"IF(Table1[[#This Row],[Column3]]=\"T1013\",\"Y\",\"N\")","v":"N"},{"$f":"IF(Table1[[#This Row],[Column3]]=90785,\"Y\",\"N\")","v":"N"}]
[null,null,null,null,null,null,null,null,null,null,{"$f":"IF(Table1[[#This Row],[Column3]]=\"T1013\",\"Y\",\"N\")","v":"N"},{"$f":"IF(Table1[[#This Row],[Column3]]=90785,\"Y\",\"N\")","v":"N"}]
[null,null,null,null,null,null,null,null,null,null,{"$f":"IF(Table1[[#This Row],[Column3]]=\"T1013\",\"Y\",\"N\")","v":"N"},{"$f":"IF(Table1[[#This Row],[Column3]]=90785,\"Y\",\"N\")","v":"N"}]
[null,null,null,null,null,null,null,null,null,null,{"$f":"IF(Table1[[#This Row],[Column3]]=\"T1013\",\"Y\",\"N\")","v":"N"},{"$f":"IF(Table1[[#This Row],[Column3]]=90785,\"Y\",\"N\")","v":"N"}]
[null,null,null,null,null,null,null,null,null,null,{"$f":"IF(Table1[[#This Row],[Column3]]=\"T1013\",\"Y\",\"N\")","v":"N"},{"$f":"IF(Table1[[#This Row],[Column3]]=90785,\"Y\",\"N\")","v":"N"}]
[null,null,null,null,null,null,null,null,null,null,{"$f":"IF(Table1[[#This Row],[Column3]]=\"T1013\",\"Y\",\"N\")","v":"N"},{"$f":"IF(Table1[[#This Row],[Column3]]=90785,\"Y\",\"N\")","v":"N"}]
[null,null,null,null,null,null,null,null,null,null,{"$f":"IF(Table1[[#This Row],[Column3]]=\"T1013\",\"Y\",\"N\")","v":"N"},{"$f":"IF(Table1[[#This Row],[Column3]]=90785,\"Y\",\"N\")","v":"N"}]
[null,null,null,null,null,null,null,null,null,null,{"$f":"IF(Table1[[#This Row],[Column3]]=\"T1013\",\"Y\",\"N\")","v":"N"},{"$f":"IF(Table1[[#This Row],[Column3]]=90785,\"Y\",\"N\")","v":"N"}]
[null,null,null,null,null,null,null,null,null,null,{"$f":"IF(Table1[[#This Row],[Column3]]=\"T1013\",\"Y\",\"N\")","v":"N"},{"$f":"IF(Table1[[#This Row],[Column3]]=90785,\"Y\",\"N\")","v":"N"}]
[null,null,null,null,null,null,null,null,null,null,{"$f":"IF(Table1[[#This Row],[Column3]]=\"T1013\",\"Y\",\"N\")","v":"N"},{"$f":"IF(Table1[[#This Row],[Column3]]=90785,\"Y\",\"N\")","v":"N"}]
[null,null,null,null,null,null,null,null,null,null,{"$f":"IF(Table1[[#This Row],[Column3]]=\"T1013\",\"Y\",\"N\")","v":"N"},{"$f":"IF(Table1[[#This Row],[Column3]]=90785,\"Y\",\"N\")","v":"N"}]
[null,null,null,null,null,null,null,null,null,null,{"$f":"IF(Table1[[#This Row],[Column3]]=\"T1013\",\"Y\",\"N\")","v":"N"},{"$f":"IF(Table1[[#This Row],[Column3]]=90785,\"Y\",\"N\")","v":"N"}]
[null,null,null,null,null,null,null,null,null,null,{"$f":"IF(Table1[[#This Row],[Column3]]=\"T1013\",\"Y\",\"N\")","v":"N"},{"$f":"IF(Table1[[#This Row],[Column3]]=90785,\"Y\",\"N\")","v":"N"}]
[null,null,null,null,null,null,null,null,null,null,{"$f":"IF(Table1[[#This Row],[Column3]]=\"T1013\",\"Y\",\"N\")","v":"N"},{"$f":"IF(Table1[[#This Row],[Column3]]=90785,\"Y\",\"N\")","v":"N"}]
[null,null,null,null,null,null,null,null,null,null,{"$f":"IF(Table1[[#This Row],[Column3]]=\"T1013\",\"Y\",\"N\")","v":"N"},{"$f":"IF(Table1[[#This Row],[Column3]]=90785,\"Y\",\"N\")","v":"N"}]
[null,null,null,null,null,null,null,null,null,null,{"$f":"IF(Table1[[#This Row],[Column3]]=\"T1013\",\"Y\",\"N\")","v":"N"},{"$f":"IF(Table1[[#This Row],[Column3]]=90785,\"Y\",\"N\")","v":"N"}]
[null,null,null,null,null,null,null,null,null,null,{"$f":"IF(Table1[[#This Row],[Column3]]=\"T1013\",\"Y\",\"N\")","v":"N"},{"$f":"IF(Table1[[#This Row],[Column3]]=90785,\"Y\",\"N\")","v":"N"}]
[null,null,null,null,null,null,null,null,null,null,{"$f":"IF(Table1[[#This Row],[Column3]]=\"T1013\",\"Y\",\"N\")","v":"N"},{"$f":"IF(Table1[[#This Row],[Column3]]=90785,\"Y\",\"N\")","v":"N"}]
[null,null,null,null,null,null,null,null,null,null,{"$f":"IF(Table1[[#This Row],[Column3]]=\"T1013\",\"Y\",\"N\")","v":"N"},{"$f":"IF(Table1[[#This Row],[Column3]]=90785,\"Y\",\"N\")","v":"N"}]
[null,null,null,null,null,null,null,null,null,null,{"$f":"IF(Table1[[#This Row],[Column3]]=\"T1013\",\"Y\",\"N\")","v":"N"},{"$f":"IF(Table1[[#This Row],[Column3]]=90785,\"Y\",\"N\")","v":"N"}]
[null,null,null,null,null,null,null,null,null,null,{"$f":"IF(Table1[[#This Row],[Column3]]=\"T1013\",\"Y\",\"N\")","v":"N"},{"$f":"IF(Table1[[#This Row],[Column3]]=90785,\"Y\",\"N\")","v":"N"}]
[null,null,null,null,null,null,null,null,null,null,{"$f":"IF(Table1[[#This Row],[Column3]]=\"T1013\",\"Y\",\"N\")","v":"N"},{"$f":"IF(Table1[[#This Row],[Column3]]=90785,\"Y\",\"N\")","v":"N"}]
[null,null,null,null,null,null,null,null,null,null,{"$f":"IF(Table1[[#This Row],[Column3]]=\"T1013\",\"Y\",\"N\")","v":"N"},{"$f":"IF(Table1[[#This Row],[Column3]]=90785,\"Y\",\"N\")","v":"N"}]
[null,null,null,null,null,null,null,null,null,null,{"$f":"IF(Table1[[#This Row],[Column3]]=\"T1013\",\"Y\",\"N\")","v":"N"},{"$f":"IF(Table1[[#This Row],[Column3]]=90785,\"Y\",\"N\")","v":"N"}]
[null,null,null,null,null,null,null,null,null,null,{"$f":"IF(Table1[[#This Row],[Column3]]=\"T1013\",\"Y\",\"N\")","v":"N"},{"$f":"IF(Table1[[#This Row],[Column3]]=90785,\"Y\",\"N\")","v":"N"}]
[null,null,null,null,null,null,null,null,null,null,{"$f":"IF(Table1[[#This Row],[Column3]]=\"T1013\",\"Y\",\"N\")","v":"N"},{"$f":"IF(Table1[[#This Row],[Column3]]=90785,\"Y\",\"N\")","v":"N"}]
[null,null,null,null,null,null,null,null,null,null,{"$f":"IF(Table1[[#This Row],[Column3]]=\"T1013\",\"Y\",\"N\")","v":"N"},{"$f":"IF(Table1[[#This Row],[Column3]]=90785,\"Y\",\"N\")","v":"N"}]
[null,null,null,null,null,null,null,null,null,null,{"$f":"IF(Table1[[#This Row],[Column3]]=\"T1013\",\"Y\",\"N\")","v":"N"},{"$f":"IF(Table1[[#This Row],[Column3]]=90785,\"Y\",\"N\")","v":"N"}]
[null,null,null,null,null,null,null,null,null,null,{"$f":"IF(Table1[[#This Row],[Column3]]=\"T1013\",\"Y\",\"N\")","v":"N"},{"$f":"IF(Table1[[#This Row],[Column3]]=90785,\"Y\",\"N\")","v":"N"}]
[null,null,null,null,null,null,null,null,null,null,{"$f":"IF(Table1[[#This Row],[Column3]]=\"T1013\",\"Y\",\"N\")","v":"N"},{"$f":"IF(Table1[[#This Row],[Column3]]=90785,\"Y\",\"N\")","v":"N"}]
[null,null,null,null,null,null,null,null,null,null,{"$f":"IF(Table1[[#This Row],[Column3]]=\"T1013\",\"Y\",\"N\")","v":"N"},{"$f":"IF(Table1[[#This Row],[Column3]]=90785,\"Y\",\"N\")","v":"N"}]
[null,null,null,null,null,null,null,null,null,null,{"$f":"IF(Table1[[#This Row],[Column3]]=\"T1013\",\"Y\",\"N\")","v":"N"},{"$f":"IF(Table1[[#This Row],[Column3]]=90785,\"Y\",\"N\")","v":"N"}]
[null,null,null,null,null,null,null,null,null,null,{"$f":"IF(Table1[[#This Row],[Column3]]=\"T1013\",\"Y\",\"N\")","v":"N"},{"$f":"IF(Table1[[#This Row],[Column3]]=90785,\"Y\",\"N\")","v":"N"}]
[null,null,null,null,null,null,null,null,null,null,{"$f":"IF(Table1[[#This Row],[Column3]]=\"T1013\",\"Y\",\"N\")","v":"N"},{"$f":"IF(Table1[[#This Row],[Column3]]=90785,\"Y\",\"N\")","v":"N"}]
[null,null,null,null,null,null,null,null,null,null,{"$f":"IF(Table1[[#This Row],[Column3]]=\"T1013\",\"Y\",\"N\")","v":"N"},{"$f":"IF(Table1[[#This Row],[Column3]]=90785,\"Y\",\"N\")","v":"N"}]
[null,null,null,null,null,null,null,null,null,null,{"$f":"IF(Table1[[#This Row],[Column3]]=\"T1013\",\"Y\",\"N\")","v":"N"},{"$f":"IF(Table1[[#This Row],[Column3]]=90785,\"Y\",\"N\")","v":"N"}]
[null,null,null,null,null,null,null,null,null,null,{"$f":"IF(Table1[[#This Row],[Column3]]=\"T1013\",\"Y\",\"N\")","v":"N"},{"$f":"IF(Table1[[#This Row],[Column3]]=90785,\"Y\",\"N\")","v":"N"}]
[null,null,null,null,null,null,null,null,null,null,{"$f":"IF(Table1[[#This Row],[Column3]]=\"T1013\",\"Y\",\"N\")","v":"N"},{"$f":"IF(Table1[[#This Row],[Column3]]=90785,\"Y\",\"N\")","v":"N"}]
[null,null,null,null,null,null,null,null,null,null,{"$f":"IF(Table1[[#This Row],[Column3]]=\"T1013\",\"Y\",\"N\")","v":"N"},{"$f":"IF(Table1[[#This Row],[Column3]]=90785,\"Y\",\"N\")","v":"N"}]
[null,null,null,null,null,null,null,null,null,null,{"$f":"IF(Table1[[#This Row],[Column3]]=\"T1013\",\"Y\",\"N\")","v":"N"},{"$f":"IF(Table1[[#This Row],[Column3]]=90785,\"Y\",\"N\")","v":"N"}]
[null,null,null,null,null,null,null,null,null,null,{"$f":"IF(Table1[[#This Row],[Column3]]=\"T1013\",\"Y\",\"N\")","v":"N"},{"$f":"IF(Table1[[#This Row],[Column3]]=90785,\"Y\",\"N\")","v":"N"}]
[null,null,null,null,null,null,null,null,null,null,{"$f":"IF(Table1[[#This Row],[Column3]]=\"T1013\",\"Y\",\"N\")","v":"N"},{"$f":"IF(Table1[[#This Row],[Column3]]=90785,\"Y\",\"N\")","v":"N"}]
[null,null,null,null,null,null,null,null,null,null,{"$f":"IF(Table1[[#This Row],[Column3]]=\"T1013\",\"Y\",\"N\")","v":"N"},{"$f":"IF(Table1[[#This Row],[Column3]]=90785,\"Y\",\"N\")","v":"N"}]
[null,null,null,null,null,null,null,null,null,null,{"$f":"IF(Table1[[#This Row],[Column3]]=\"T1013\",\"Y\",\"N\")","v":"N"},{"$f":"IF(Table1[[#This Row],[Column3]]=90785,\"Y\",\"N\")","v":"N"}]
[null,null,null,null,null,null,null,null,null,null,{"$f":"IF(Table1[[#This Row],[Column3]]=\"T1013\",\"Y\",\"N\")","v":"N"},{"$f":"IF(Table1[[#This Row],[Column3]]=90785,\"Y\",\"N\")","v":"N"}]
[null,null,null,null,null,null,null,null,null,null,{"$f":"IF(Table1[[#This Row],[Column3]]=\"T1013\",\"Y\",\"N\")","v":"N"},{"$f":"IF(Table1[[#This Row],[Column3]]=90785,\"Y\",\"N\")","v":"N"}]
[null,null,null,null,null,null,null,null,null,null,{"$f":"IF(Table1[[#This Row],[Column3]]=\"T1013\",\"Y\",\"N\")","v":"N"},{"$f":"IF(Table1[[#This Row],[Column3]]=90785,\"Y\",\"N\")","v":"N"}]
[null,null,null,null,null,null,null,null,null,null,{"$f":"IF(Table1[[#This Row],[Column3]]=\"T1013\",\"Y\",\"N\")","v":"N"},{"$f":"IF(Table1[[#This Row],[Column3]]=90785,\"Y\",\"N\")","v":"N"}]
[null,null,null,null,null,null,null,null,null,null,{"$f":"IF(Table1[[#This Row],[Column3]]=\"T1013\",\"Y\",\"N\")","v":"N"},{"$f":"IF(Table1[[#This Row],[Column3]]=90785,\"Y\",\"N\")","v":"N"}]
[null,null,null,null,null,null,null,null,null,null,{"$f":"IF(Table1[[#This Row],[Column3]]=\"T1013\",\"Y\",\"N\")","v":"N"},{"$f":"IF(Table1[[#This Row],[Column3]]=90785,\"Y\",\"N\")","v":"N"}]
[null,null,null,null,null,null,null,null,null,null,{"$f":"IF(Table1[[#This Row],[Column3]]=\"T1013\",\"Y\",\"N\")","v":"N"},{"$f":"IF(Table1[[#This Row],[Column3]]=90785,\"Y\",\"N\")","v":"N"}]
[null,null,null,null,null,null,null,null,null,null,{"$f":"IF(Table1[[#This Row],[Column3]]=\"T1013\",\"Y\",\"N\")","v":"N"},{"$f":"IF(Table1[[#This Row],[Column3]]=90785,\"Y\",\"N\")","v":"N"}]
[null,null,null,null,null,null,null,null,null,null,{"$f":"IF(Table1[[#This Row],[Column3]]=\"T1013\",\"Y\",\"N\")","v":"N"},{"$f":"IF(Table1[[#This Row],[Column3]]=90785,\"Y\",\"N\")","v":"N"}]
[null,null,null,null,null,null,null,null,null,null,{"$f":"IF(Table1[[#This Row],[Column3]]=\"T1013\",\"Y\",\"N\")","v":"N"},{"$f":"IF(Table1[[#This Row],[Column3]]=90785,\"Y\",\"N\")","v":"N"}]
[null,null,null,null,null,null,null,null,null,null,{"$f":"IF(Table1[[#This Row],[Column3]]=\"T1013\",\"Y\",\"N\")","v":"N"},{"$f":"IF(Table1[[#This Row],[Column3]]=90785,\"Y\",\"N\")","v":"N"}]
[null,null,null,null,null,null,null,null,null,null,{"$f":"IF(Table1[[#This Row],[Column3]]=\"T1013\",\"Y\",\"N\")","v":"N"},{"$f":"IF(Table1[[#This Row],[Column3]]=90785,\"Y\",\"N\")","v":"N"}]
[null,null,null,null,null,null,null,null,null,null,{"$f":"IF(Table1[[#This Row],[Column3]]=\"T1013\",\"Y\",\"N\")","v":"N"},{"$f":"IF(Table1[[#This Row],[Column3]]=90785,\"Y\",\"N\")","v":"N"}]
[null,null,null,null,null,null,null,null,null,null,{"$f":"IF(Table1[[#This Row],[Column3]]=\"T1013\",\"Y\",\"N\")","v":"N"},{"$f":"IF(Table1[[#This Row],[Column3]]=90785,\"Y\",\"N\")","v":"N"}]
[null,null,null,null,null,null,null,null,null,null,{"$f":"IF(Table1[[#This Row],[Column3]]=\"T1013\",\"Y\",\"N\")","v":"N"},{"$f":"IF(Table1[[#This Row],[Column3]]=90785,\"Y\",\"N\")","v":"N"}]
[null,null,null,null,null,null,null,null,null,null,{"$f":"IF(Table1[[#This Row],[Column3]]=\"T1013\",\"Y\",\"N\")","v":"N"},{"$f":"IF(Table1[[#This Row],[Column3]]=90785,\"Y\",\"N\")","v":"N"}]
[null,null,null,null,null,null,null,null,null,null,{"$f":"IF(Table1[[#This Row],[Column3]]=\"T1013\",\"Y\",\"N\")","v":"N"},{"$f":"IF(Table1[[#This Row],[Column3]]=90785,\"Y\",\"N\")","v":"N"}]
[null,null,null,null,null,null,null,null,null,null,{"$f":"IF(Table1[[#This Row],[Column3]]=\"T1013\",\"Y\",\"N\")","v":"N"},{"$f":"IF(Table1[[#This Row],[Column3]]=90785,\"Y\",\"N\")","v":"N"}]
[null,null,null,null,null,null,null,null,null,null,{"$f":"IF(Table1[[#This Row],[Column3]]=\"T1013\",\"Y\",\"N\")","v":"N"},{"$f":"IF(Table1[[#This Row],[Column3]]=90785,\"Y\",\"N\")","v":"N"}]
[null,null,null,null,null,null,null,null,null,null,{"$f":"IF(Table1[[#This Row],[Column3]]=\"T1013\",\"Y\",\"N\")","v":"N"},{"$f":"IF(Table1[[#This Row],[Column3]]=90785,\"Y\",\"N\")","v":"N"}]
[null,null,null,null,null,null,null,null,null,null,{"$f":"IF(Table1[[#This Row],[Column3]]=\"T1013\",\"Y\",\"N\")","v":"N"},{"$f":"IF(Table1[[#This Row],[Column3]]=90785,\"Y\",\"N\")","v":"N"}]
[null,null,null,null,null,null,null,null,null,null,{"$f":"IF(Table1[[#This Row],[Column3]]=\"T1013\",\"Y\",\"N\")","v":"N"},{"$f":"IF(Table1[[#This Row],[Column3]]=90785,\"Y\",\"N\")","v":"N"}]
[null,null,null,null,null,null,null,null,null,null,{"$f":"IF(Table1[[#This Row],[Column3]]=\"T1013\",\"Y\",\"N\")","v":"N"},{"$f":"IF(Table1[[#This Row],[Column3]]=90785,\"Y\",\"N\")","v":"N"}]
[null,null,null,null,null,null,null,null,null,null,{"$f":"IF(Table1[[#This Row],[Column3]]=\"T1013\",\"Y\",\"N\")","v":"N"},{"$f":"IF(Table1[[#This Row],[Column3]]=90785,\"Y\",\"N\")","v":"N"}]
[null,null,null,null,null,null,null,null,null,null,{"$f":"IF(Table1[[#This Row],[Column3]]=\"T1013\",\"Y\",\"N\")","v":"N"},{"$f":"IF(Table1[[#This Row],[Column3]]=90785,\"Y\",\"N\")","v":"N"}]
[null,null,null,null,null,null,null,null,null,null,{"$f":"IF(Table1[[#This Row],[Column3]]=\"T1013\",\"Y\",\"N\")","v":"N"},{"$f":"IF(Table1[[#This Row],[Column3]]=90785,\"Y\",\"N\")","v":"N"}]
[null,null,null,null,null,null,null,null,null,null,{"$f":"IF(Table1[[#This Row],[Column3]]=\"T1013\",\"Y\",\"N\")","v":"N"},{"$f":"IF(Table1[[#This Row],[Column3]]=90785,\"Y\",\"N\")","v":"N"}]
[null,null,null,null,null,null,null,null,null,null,{"$f":"IF(Table1[[#This Row],[Column3]]=\"T1013\",\"Y\",\"N\")","v":"N"},{"$f":"IF(Table1[[#This Row],[Column3]]=90785,\"Y\",\"N\")","v":"N"}]
[null,null,null,null,null,null,null,null,null,null,{"$f":"IF(Table1[[#This Row],[Column3]]=\"T1013\",\"Y\",\"N\")","v":"N"},{"$f":"IF(Table1[[#This Row],[Column3]]=90785,\"Y\",\"N\")","v":"N"}]
[null,null,null,null,null,null,null,null,null,null,{"$f":"IF(Table1[[#This Row],[Column3]]=\"T1013\",\"Y\",\"N\")","v":"N"},{"$f":"IF(Table1[[#This Row],[Column3]]=90785,\"Y\",\"N\")","v":"N"}]
[null,null,null,null,null,null,null,null,null,null,{"$f":"IF(Table1[[#This Row],[Column3]]=\"T1013\",\"Y\",\"N\")","v":"N"},{"$f":"IF(Table1[[#This Row],[Column3]]=90785,\"Y\",\"N\")","v":"N"}]
[null,null,null,null,null,null,null,null,null,null,{"$f":"IF(Table1[[#This Row],[Column3]]=\"T1013\",\"Y\",\"N\")","v":"N"},{"$f":"IF(Table1[[#This Row],[Column3]]=90785,\"Y\",\"N\")","v":"N"}]
[null,null,null,null,null,null,null,null,null,null,{"$f":"IF(Table1[[#This Row],[Column3]]=\"T1013\",\"Y\",\"N\")","v":"N"},{"$f":"IF(Table1[[#This Row],[Column3]]=90785,\"Y\",\"N\")","v":"N"}]
[null,null,null,null,null,null,null,null,null,null,{"$f":"IF(Table1[[#This Row],[Column3]]=\"T1013\",\"Y\",\"N\")","v":"N"},{"$f":"IF(Table1[[#This Row],[Column3]]=90785,\"Y\",\"N\")","v":"N"}]
[null,null,null,null,null,null,null,null,null,null,{"$f":"IF(Table1[[#This Row],[Column3]]=\"T1013\",\"Y\",\"N\")","v":"N"},{"$f":"IF(Table1[[#This Row],[Column3]]=90785,\"Y\",\"N\")","v":"N"}]
[null,null,null,null,null,null,null,null,null,null,{"$f":"IF(Table1[[#This Row],[Column3]]=\"T1013\",\"Y\",\"N\")","v":"N"},{"$f":"IF(Table1[[#This Row],[Column3]]=90785,\"Y\",\"N\")","v":"N"}]
[null,null,null,null,null,null,null,null,null,null,{"$f":"IF(Table1[[#This Row],[Column3]]=\"T1013\",\"Y\",\"N\")","v":"N"},{"$f":"IF(Table1[[#This Row],[Column3]]=90785,\"Y\",\"N\")","v":"N"}]
[null,null,null,null,null,null,null,null,null,null,{"$f":"IF(Table1[[#This Row],[Column3]]=\"T1013\",\"Y\",\"N\")","v":"N"},{"$f":"IF(Table1[[#This Row],[Column3]]=90785,\"Y\",\"N\")","v":"N"}]
[null,null,null,null,null,null,null,null,null,null,{"$f":"IF(Table1[[#This Row],[Column3]]=\"T1013\",\"Y\",\"N\")","v":"N"},{"$f":"IF(Table1[[#This Row],[Column3]]=90785,\"Y\",\"N\")","v":"N"}]
[null,null,null,null,null,null,null,null,null,null,{"$f":"IF(Table1[[#This Row],[Column3]]=\"T1013\",\"Y\",\"N\")","v":"N"},{"$f":"IF(Table1[[#This Row],[Column3]]=90785,\"Y\",\"N\")","v":"N"}]
[null,null,null,null,null,null,null,null,null,null,{"$f":"IF(Table1[[#This Row],[Column3]]=\"T1013\",\"Y\",\"N\")","v":"N"},{"$f":"IF(Table1[[#This Row],[Column3]]=90785,\"Y\",\"N\")","v":"N"}]
[null,null,null,null,null,null,null,null,null,null,{"$f":"IF(Table1[[#This Row],[Column3]]=\"T1013\",\"Y\",\"N\")","v":"N"},{"$f":"IF(Table1[[#This Row],[Column3]]=90785,\"Y\",\"N\")","v":"N"}]
[null,null,null,null,null,null,null,null,null,null,{"$f":"IF(Table1[[#This Row],[Column3]]=\"T1013\",\"Y\",\"N\")","v":"N"},{"$f":"IF(Table1[[#This Row],[Column3]]=90785,\"Y\",\"N\")","v":"N"}]
[null,null,null,null,null,null,null,null,null,null,{"$f":"IF(Table1[[#This Row],[Column3]]=\"T1013\",\"Y\",\"N\")","v":"N"},{"$f":"IF(Table1[[#This Row],[Column3]]=90785,\"Y\",\"N\")","v":"N"}]
[null,null,null,null,null,null,null,null,null,null,{"$f":"IF(Table1[[#This Row],[Column3]]=\"T1013\",\"Y\",\"N\")","v":"N"},{"$f":"IF(Table1[[#This Row],[Column3]]=90785,\"Y\",\"N\")","v":"N"}]
[null,null,null,null,null,null,null,null,null,null,{"$f":"IF(Table1[[#This Row],[Column3]]=\"T1013\",\"Y\",\"N\")","v":"N"},{"$f":"IF(Table1[[#This Row],[Column3]]=90785,\"Y\",\"N\")","v":"N"}]
[null,null,null,null,null,null,null,null,null,null,{"$f":"IF(Table1[[#This Row],[Column3]]=\"T1013\",\"Y\",\"N\")","v":"N"},{"$f":"IF(Table1[[#This Row],[Column3]]=90785,\"Y\",\"N\")","v":"N"}]
[null,null,null,null,null,null,null,null,null,null,{"$f":"IF(Table1[[#This Row],[Column3]]=\"T1013\",\"Y\",\"N\")","v":"N"},{"$f":"IF(Table1[[#This Row],[Column3]]=90785,\"Y\",\"N\")","v":"N"}]
[null,null,null,null,null,null,null,null,null,null,{"$f":"IF(Table1[[#This Row],[Column3]]=\"T1013\",\"Y\",\"N\")","v":"N"},{"$f":"IF(Table1[[#This Row],[Column3]]=90785,\"Y\",\"N\")","v":"N"}]
[null,null,null,null,null,null,null,null,null,null,{"$f":"IF(Table1[[#This Row],[Column3]]=\"T1013\",\"Y\",\"N\")","v":"N"},{"$f":"IF(Table1[[#This Row],[Column3]]=90785,\"Y\",\"N\")","v":"N"}]
[null,null,null,null,null,null,null,null,null,null,{"$f":"IF(Table1[[#This Row],[Column3]]=\"T1013\",\"Y\",\"N\")","v":"N"},{"$f":"IF(Table1[[#This Row],[Column3]]=90785,\"Y\",\"N\")","v":"N"}]
[null,null,null,null,null,null,null,null,null,null,{"$f":"IF(Table1[[#This Row],[Column3]]=\"T1013\",\"Y\",\"N\")","v":"N"},{"$f":"IF(Table1[[#This Row],[Column3]]=90785,\"Y\",\"N\")","v":"N"}]
[null,null,null,null,null,null,null,null,null,null,{"$f":"IF(Table1[[#This Row],[Column3]]=\"T1013\",\"Y\",\"N\")","v":"N"},{"$f":"IF(Table1[[#This Row],[Column3]]=90785,\"Y\",\"N\")","v":"N"}]
[null,null,null,null,null,null,null,null,null,null,{"$f":"IF(Table1[[#This Row],[Column3]]=\"T1013\",\"Y\",\"N\")","v":"N"},{"$f":"IF(Table1[[#This Row],[Column3]]=90785,\"Y\",\"N\")","v":"N"}]
[null,null,null,null,null,null,null,null,null,null,{"$f":"IF(Table1[[#This Row],[Column3]]=\"T1013\",\"Y\",\"N\")","v":"N"},{"$f":"IF(Table1[[#This Row],[Column3]]=90785,\"Y\",\"N\")","v":"N"}]
[null,null,null,null,null,null,null,null,null,null,{"$f":"IF(Table1[[#This Row],[Column3]]=\"T1013\",\"Y\",\"N\")","v":"N"},{"$f":"IF(Table1[[#This Row],[Column3]]=90785,\"Y\",\"N\")","v":"N"}]
[null,null,null,null,null,null,null,null,null,null,{"$f":"IF(Table1[[#This Row],[Column3]]=\"T1013\",\"Y\",\"N\")","v":"N"},{"$f":"IF(Table1[[#This Row],[Column3]]=90785,\"Y\",\"N\")","v":"N"}]
[null,null,null,null,null,null,null,null,null,null,{"$f":"IF(Table1[[#This Row],[Column3]]=\"T1013\",\"Y\",\"N\")","v":"N"},{"$f":"IF(Table1[[#This Row],[Column3]]=90785,\"Y\",\"N\")","v":"N"}]
[null,null,null,null,null,null,null,null,null,null,{"$f":"IF(Table1[[#This Row],[Column3]]=\"T1013\",\"Y\",\"N\")","v":"N"},{"$f":"IF(Table1[[#This Row],[Column3]]=90785,\"Y\",\"N\")","v":"N"}]
[null,null,null,null,null,null,null,null,null,null,{"$f":"IF(Table1[[#This Row],[Column3]]=\"T1013\",\"Y\",\"N\")","v":"N"},{"$f":"IF(Table1[[#This Row],[Column3]]=90785,\"Y\",\"N\")","v":"N"}]
[null,null,null,null,null,null,null,null,null,null,{"$f":"IF(Table1[[#This Row],[Column3]]=\"T1013\",\"Y\",\"N\")","v":"N"},{"$f":"IF(Table1[[#This Row],[Column3]]=90785,\"Y\",\"N\")","v":"N"}]
[null,null,null,null,null,null,null,null,null,null,{"$f":"IF(Table1[[#This Row],[Column3]]=\"T1013\",\"Y\",\"N\")","v":"N"},{"$f":"IF(Table1[[#This Row],[Column3]]=90785,\"Y\",\"N\")","v":"N"}]
[null,null,null,null,null,null,null,null,null,null,{"$f":"IF(Table1[[#This Row],[Column3]]=\"T1013\",\"Y\",\"N\")","v":"N"},{"$f":"IF(Table1[[#This Row],[Column3]]=90785,\"Y\",\"N\")","v":"N"}]
[null,null,null,null,null,null,null,null,null,null,{"$f":"IF(Table1[[#This Row],[Column3]]=\"T1013\",\"Y\",\"N\")","v":"N"},{"$f":"IF(Table1[[#This Row],[Column3]]=90785,\"Y\",\"N\")","v":"N"}]
[null,null,null,null,null,null,null,null,null,null,{"$f":"IF(Table1[[#This Row],[Column3]]=\"T1013\",\"Y\",\"N\")","v":"N"},{"$f":"IF(Table1[[#This Row],[Column3]]=90785,\"Y\",\"N\")","v":"N"}]
[null,null,null,null,null,null,null,null,null,null,{"$f":"IF(Table1[[#This Row],[Column3]]=\"T1013\",\"Y\",\"N\")","v":"N"},{"$f":"IF(Table1[[#This Row],[Column3]]=90785,\"Y\",\"N\")","v":"N"}]
[null,null,null,null,null,null,null,null,null,null,{"$f":"IF(Table1[[#This Row],[Column3]]=\"T1013\",\"Y\",\"N\")","v":"N"},{"$f":"IF(Table1[[#This Row],[Column3]]=90785,\"Y\",\"N\")","v":"N"}]
[null,null,null,null,null,null,null,null,null,null,{"$f":"IF(Table1[[#This Row],[Column3]]=\"T1013\",\"Y\",\"N\")","v":"N"},{"$f":"IF(Table1[[#This Row],[Column3]]=90785,\"Y\",\"N\")","v":"N"}]
[null,null,null,null,null,null,null,null,null,null,{"$f":"IF(Table1[[#This Row],[Column3]]=\"T1013\",\"Y\",\"N\")","v":"N"},{"$f":"IF(Table1[[#This Row],[Column3]]=90785,\"Y\",\"N\")","v":"N"}]
[null,null,null,null,null,null,null,null,null,null,{"$f":"IF(Table1[[#This Row],[Column3]]=\"T1013\",\"Y\",\"N\")","v":"N"},{"$f":"IF(Table1[[#This Row],[Column3]]=90785,\"Y\",\"N\")","v":"N"}]
[null,null,null,null,null,null,null,null,null,null,{"$f":"IF(Table1[[#This Row],[Column3]]=\"T1013\",\"Y\",\"N\")","v":"N"},{"$f":"IF(Table1[[#This Row],[Column3]]=90785,\"Y\",\"N\")","v":"N"}]
[null,null,null,null,null,null,null,null,null,null,{"$f":"IF(Table1[[#This Row],[Column3]]=\"T1013\",\"Y\",\"N\")","v":"N"},{"$f":"IF(Table1[[#This Row],[Column3]]=90785,\"Y\",\"N\")","v":"N"}]
[null,null,null,null,null,null,null,null,null,null,{"$f":"IF(Table1[[#This Row],[Column3]]=\"T1013\",\"Y\",\"N\")","v":"N"},{"$f":"IF(Table1[[#This Row],[Column3]]=90785,\"Y\",\"N\")","v":"N"}]
[null,null,null,null,null,null,null,null,null,null,{"$f":"IF(Table1[[#This Row],[Column3]]=\"T1013\",\"Y\",\"N\")","v":"N"},{"$f":"IF(Table1[[#This Row],[Column3]]=90785,\"Y\",\"N\")","v":"N"}]
[null,null,null,null,null,null,null,null,null,null,{"$f":"IF(Table1[[#This Row],[Column3]]=\"T1013\",\"Y\",\"N\")","v":"N"},{"$f":"IF(Table1[[#This Row],[Column3]]=90785,\"Y\",\"N\")","v":"N"}]
[null,null,null,null,null,null,null,null,null,null,{"$f":"IF(Table1[[#This Row],[Column3]]=\"T1013\",\"Y\",\"N\")","v":"N"},{"$f":"IF(Table1[[#This Row],[Column3]]=90785,\"Y\",\"N\")","v":"N"}]
[null,null,null,null,null,null,null,null,null,null,{"$f":"IF(Table1[[#This Row],[Column3]]=\"T1013\",\"Y\",\"N\")","v":"N"},{"$f":"IF(Table1[[#This Row],[Column3]]=90785,\"Y\",\"N\")","v":"N"}]
[null,null,null,null,null,null,null,null,null,null,{"$f":"IF(Table1[[#This Row],[Column3]]=\"T1013\",\"Y\",\"N\")","v":"N"},{"$f":"IF(Table1[[#This Row],[Column3]]=90785,\"Y\",\"N\")","v":"N"}]
[null,null,null,null,null,null,null,null,null,null,{"$f":"IF(Table1[[#This Row],[Column3]]=\"T1013\",\"Y\",\"N\")","v":"N"},{"$f":"IF(Table1[[#This Row],[Column3]]=90785,\"Y\",\"N\")","v":"N"}]
[null,null,null,null,null,null,null,null,null,null,{"$f":"IF(Table1[[#This Row],[Column3]]=\"T1013\",\"Y\",\"N\")","v":"N"},{"$f":"IF(Table1[[#This Row],[Column3]]=90785,\"Y\",\"N\")","v":"N"}]
[null,null,null,null,null,null,null,null,null,null,{"$f":"IF(Table1[[#This Row],[Column3]]=\"T1013\",\"Y\",\"N\")","v":"N"},{"$f":"IF(Table1[[#This Row],[Column3]]=90785,\"Y\",\"N\")","v":"N"}]
[null,null,null,null,null,null,null,null,null,null,{"$f":"IF(Table1[[#This Row],[Column3]]=\"T1013\",\"Y\",\"N\")","v":"N"},{"$f":"IF(Table1[[#This Row],[Column3]]=90785,\"Y\",\"N\")","v":"N"}]
[null,null,null,null,null,null,null,null,null,null,{"$f":"IF(Table1[[#This Row],[Column3]]=\"T1013\",\"Y\",\"N\")","v":"N"},{"$f":"IF(Table1[[#This Row],[Column3]]=90785,\"Y\",\"N\")","v":"N"}]
[null,null,null,null,null,null,null,null,null,null,{"$f":"IF(Table1[[#This Row],[Column3]]=\"T1013\",\"Y\",\"N\")","v":"N"},{"$f":"IF(Table1[[#This Row],[Column3]]=90785,\"Y\",\"N\")","v":"N"}]
[null,null,null,null,null,null,null,null,null,null,{"$f":"IF(Table1[[#This Row],[Column3]]=\"T1013\",\"Y\",\"N\")","v":"N"},{"$f":"IF(Table1[[#This Row],[Column3]]=90785,\"Y\",\"N\")","v":"N"}]
[null,null,null,null,null,null,null,null,null,null,{"$f":"IF(Table1[[#This Row],[Column3]]=\"T1013\",\"Y\",\"N\")","v":"N"},{"$f":"IF(Table1[[#This Row],[Column3]]=90785,\"Y\",\"N\")","v":"N"}]
[null,null,null,null,null,null,null,null,null,null,{"$f":"IF(Table1[[#This Row],[Column3]]=\"T1013\",\"Y\",\"N\")","v":"N"},{"$f":"IF(Table1[[#This Row],[Column3]]=90785,\"Y\",\"N\")","v":"N"}]
[null,null,null,null,null,null,null,null,null,null,{"$f":"IF(Table1[[#This Row],[Column3]]=\"T1013\",\"Y\",\"N\")","v":"N"},{"$f":"IF(Table1[[#This Row],[Column3]]=90785,\"Y\",\"N\")","v":"N"}]
[null,null,null,null,null,null,null,null,null,null,{"$f":"IF(Table1[[#This Row],[Column3]]=\"T1013\",\"Y\",\"N\")","v":"N"},{"$f":"IF(Table1[[#This Row],[Column3]]=90785,\"Y\",\"N\")","v":"N"}]
[null,null,null,null,null,null,null,null,null,null,{"$f":"IF(Table1[[#This Row],[Column3]]=\"T1013\",\"Y\",\"N\")","v":"N"},{"$f":"IF(Table1[[#This Row],[Column3]]=90785,\"Y\",\"N\")","v":"N"}]
[null,null,null,null,null,null,null,null,null,null,{"$f":"IF(Table1[[#This Row],[Column3]]=\"T1013\",\"Y\",\"N\")","v":"N"},{"$f":"IF(Table1[[#This Row],[Column3]]=90785,\"Y\",\"N\")","v":"N"}]
[null,null,null,null,null,null,null,null,null,null,{"$f":"IF(Table1[[#This Row],[Column3]]=\"T1013\",\"Y\",\"N\")","v":"N"},{"$f":"IF(Table1[[#This Row],[Column3]]=90785,\"Y\",\"N\")","v":"N"}]
[null,null,null,null,null,null,null,null,null,null,{"$f":"IF(Table1[[#This Row],[Column3]]=\"T1013\",\"Y\",\"N\")","v":"N"},{"$f":"IF(Table1[[#This Row],[Column3]]=90785,\"Y\",\"N\")","v":"N"}]
[null,null,null,null,null,null,null,null,null,null,{"$f":"IF(Table1[[#This Row],[Column3]]=\"T1013\",\"Y\",\"N\")","v":"N"},{"$f":"IF(Table1[[#This Row],[Column3]]=90785,\"Y\",\"N\")","v":"N"}]
[null,null,null,null,null,null,null,null,null,null,{"$f":"IF(Table1[[#This Row],[Column3]]=\"T1013\",\"Y\",\"N\")","v":"N"},{"$f":"IF(Table1[[#This Row],[Column3]]=90785,\"Y\",\"N\")","v":"N"}]
[null,null,null,null,null,null,null,null,null,null,{"$f":"IF(Table1[[#This Row],[Column3]]=\"T1013\",\"Y\",\"N\")","v":"N"},{"$f":"IF(Table1[[#This Row],[Column3]]=90785,\"Y\",\"N\")","v":"N"}]
[null,null,null,null,null,null,null,null,null,null,{"$f":"IF(Table1[[#This Row],[Column3]]=\"T1013\",\"Y\",\"N\")","v":"N"},{"$f":"IF(Table1[[#This Row],[Column3]]=90785,\"Y\",\"N\")","v":"N"}]
[null,null,null,null,null,null,null,null,null,null,{"$f":"IF(Table1[[#This Row],[Column3]]=\"T1013\",\"Y\",\"N\")","v":"N"},{"$f":"IF(Table1[[#This Row],[Column3]]=90785,\"Y\",\"N\")","v":"N"}]
[null,null,null,null,null,null,null,null,null,null,{"$f":"IF(Table1[[#This Row],[Column3]]=\"T1013\",\"Y\",\"N\")","v":"N"},{"$f":"IF(Table1[[#This Row],[Column3]]=90785,\"Y\",\"N\")","v":"N"}]
[null,null,null,null,null,null,null,null,null,null,{"$f":"IF(Table1[[#This Row],[Column3]]=\"T1013\",\"Y\",\"N\")","v":"N"},{"$f":"IF(Table1[[#This Row],[Column3]]=90785,\"Y\",\"N\")","v":"N"}]
[null,null,null,null,null,null,null,null,null,null,{"$f":"IF(Table1[[#This Row],[Column3]]=\"T1013\",\"Y\",\"N\")","v":"N"},{"$f":"IF(Table1[[#This Row],[Column3]]=90785,\"Y\",\"N\")","v":"N"}]
[null,null,null,null,null,null,null,null,null,null,{"$f":"IF(Table1[[#This Row],[Column3]]=\"T1013\",\"Y\",\"N\")","v":"N"},{"$f":"IF(Table1[[#This Row],[Column3]]=90785,\"Y\",\"N\")","v":"N"}]
[null,null,null,null,null,null,null,null,null,null,{"$f":"IF(Table1[[#This Row],[Column3]]=\"T1013\",\"Y\",\"N\")","v":"N"},{"$f":"IF(Table1[[#This Row],[Column3]]=90785,\"Y\",\"N\")","v":"N"}]
[null,null,null,null,null,null,null,null,null,null,{"$f":"IF(Table1[[#This Row],[Column3]]=\"T1013\",\"Y\",\"N\")","v":"N"},{"$f":"IF(Table1[[#This Row],[Column3]]=90785,\"Y\",\"N\")","v":"N"}]
[null,null,null,null,null,null,null,null,null,null,{"$f":"IF(Table1[[#This Row],[Column3]]=\"T1013\",\"Y\",\"N\")","v":"N"},{"$f":"IF(Table1[[#This Row],[Column3]]=90785,\"Y\",\"N\")","v":"N"}]
[null,null,null,null,null,null,null,null,null,null,{"$f":"IF(Table1[[#This Row],[Column3]]=\"T1013\",\"Y\",\"N\")","v":"N"},{"$f":"IF(Table1[[#This Row],[Column3]]=90785,\"Y\",\"N\")","v":"N"}]
[null,null,null,null,null,null,null,null,null,null,{"$f":"IF(Table1[[#This Row],[Column3]]=\"T1013\",\"Y\",\"N\")","v":"N"},{"$f":"IF(Table1[[#This Row],[Column3]]=90785,\"Y\",\"N\")","v":"N"}]
[null,null,null,null,null,null,null,null,null,null,{"$f":"IF(Table1[[#This Row],[Column3]]=\"T1013\",\"Y\",\"N\")","v":"N"},{"$f":"IF(Table1[[#This Row],[Column3]]=90785,\"Y\",\"N\")","v":"N"}]
[null,null,null,null,null,null,null,null,null,null,{"$f":"IF(Table1[[#This Row],[Column3]]=\"T1013\",\"Y\",\"N\")","v":"N"},{"$f":"IF(Table1[[#This Row],[Column3]]=90785,\"Y\",\"N\")","v":"N"}]
[null,null,null,null,null,null,null,null,null,null,{"$f":"IF(Table1[[#This Row],[Column3]]=\"T1013\",\"Y\",\"N\")","v":"N"},{"$f":"IF(Table1[[#This Row],[Column3]]=90785,\"Y\",\"N\")","v":"N"}]
[null,null,null,null,null,null,null,null,null,null,{"$f":"IF(Table1[[#This Row],[Column3]]=\"T1013\",\"Y\",\"N\")","v":"N"},{"$f":"IF(Table1[[#This Row],[Column3]]=90785,\"Y\",\"N\")","v":"N"}]
[null,null,null,null,null,null,null,null,null,null,{"$f":"IF(Table1[[#This Row],[Column3]]=\"T1013\",\"Y\",\"N\")","v":"N"},{"$f":"IF(Table1[[#This Row],[Column3]]=90785,\"Y\",\"N\")","v":"N"}]
[null,null,null,null,null,null,null,null,null,null,{"$f":"IF(Table1[[#This Row],[Column3]]=\"T1013\",\"Y\",\"N\")","v":"N"},{"$f":"IF(Table1[[#This Row],[Column3]]=90785,\"Y\",\"N\")","v":"N"}]
[null,null,null,null,null,null,null,null,null,null,{"$f":"IF(Table1[[#This Row],[Column3]]=\"T1013\",\"Y\",\"N\")","v":"N"},{"$f":"IF(Table1[[#This Row],[Column3]]=90785,\"Y\",\"N\")","v":"N"}]
[null,null,null,null,null,null,null,null,null,null,{"$f":"IF(Table1[[#This Row],[Column3]]=\"T1013\",\"Y\",\"N\")","v":"N"},{"$f":"IF(Table1[[#This Row],[Column3]]=90785,\"Y\",\"N\")","v":"N"}]
[null,null,null,null,null,null,null,null,null,null,{"$f":"IF(Table1[[#This Row],[Column3]]=\"T1013\",\"Y\",\"N\")","v":"N"},{"$f":"IF(Table1[[#This Row],[Column3]]=90785,\"Y\",\"N\")","v":"N"}]
[null,null,null,null,null,null,null,null,null,null,{"$f":"IF(Table1[[#This Row],[Column3]]=\"T1013\",\"Y\",\"N\")","v":"N"},{"$f":"IF(Table1[[#This Row],[Column3]]=90785,\"Y\",\"N\")","v":"N"}]
[null,null,null,null,null,null,null,null,null,null,{"$f":"IF(Table1[[#This Row],[Column3]]=\"T1013\",\"Y\",\"N\")","v":"N"},{"$f":"IF(Table1[[#This Row],[Column3]]=90785,\"Y\",\"N\")","v":"N"}]
[null,null,null,null,null,null,null,null,null,null,{"$f":"IF(Table1[[#This Row],[Column3]]=\"T1013\",\"Y\",\"N\")","v":"N"},{"$f":"IF(Table1[[#This Row],[Column3]]=90785,\"Y\",\"N\")","v":"N"}]
[null,null,null,null,null,null,null,null,null,null,{"$f":"IF(Table1[[#This Row],[Column3]]=\"T1013\",\"Y\",\"N\")","v":"N"},{"$f":"IF(Table1[[#This Row],[Column3]]=90785,\"Y\",\"N\")","v":"N"}]
[null,null,null,null,null,null,null,null,null,null,{"$f":"IF(Table1[[#This Row],[Column3]]=\"T1013\",\"Y\",\"N\")","v":"N"},{"$f":"IF(Table1[[#This Row],[Column3]]=90785,\"Y\",\"N\")","v":"N"}]
[null,null,null,null,null,null,null,null,null,null,{"$f":"IF(Table1[[#This Row],[Column3]]=\"T1013\",\"Y\",\"N\")","v":"N"},{"$f":"IF(Table1[[#This Row],[Column3]]=90785,\"Y\",\"N\")","v":"N"}]
[null,null,null,null,null,null,null,null,null,null,{"$f":"IF(Table1[[#This Row],[Column3]]=\"T1013\",\"Y\",\"N\")","v":"N"},{"$f":"IF(Table1[[#This Row],[Column3]]=90785,\"Y\",\"N\")","v":"N"}]
[null,null,null,null,null,null,null,null,null,null,{"$f":"IF(Table1[[#This Row],[Column3]]=\"T1013\",\"Y\",\"N\")","v":"N"},{"$f":"IF(Table1[[#This Row],[Column3]]=90785,\"Y\",\"N\")","v":"N"}]
[null,null,null,null,null,null,null,null,null,null,{"$f":"IF(Table1[[#This Row],[Column3]]=\"T1013\",\"Y\",\"N\")","v":"N"},{"$f":"IF(Table1[[#This Row],[Column3]]=90785,\"Y\",\"N\")","v":"N"}]
[null,null,null,null,null,null,null,null,null,null,{"$f":"IF(Table1[[#This Row],[Column3]]=\"T1013\",\"Y\",\"N\")","v":"N"},{"$f":"IF(Table1[[#This Row],[Column3]]=90785,\"Y\",\"N\")","v":"N"}]
[null,null,null,null,null,null,null,null,null,null,{"$f":"IF(Table1[[#This Row],[Column3]]=\"T1013\",\"Y\",\"N\")","v":"N"},{"$f":"IF(Table1[[#This Row],[Column3]]=90785,\"Y\",\"N\")","v":"N"}]
[null,null,null,null,null,null,null,null,null,null,{"$f":"IF(Table1[[#This Row],[Column3]]=\"T1013\",\"Y\",\"N\")","v":"N"},{"$f":"IF(Table1[[#This Row],[Column3]]=90785,\"Y\",\"N\")","v":"N"}]
[null,null,null,null,null,null,null,null,null,null,{"$f":"IF(Table1[[#This Row],[Column3]]=\"T1013\",\"Y\",\"N\")","v":"N"},{"$f":"IF(Table1[[#This Row],[Column3]]=90785,\"Y\",\"N\")","v":"N"}]
[null,null,null,null,null,null,null,null,null,null,{"$f":"IF(Table1[[#This Row],[Column3]]=\"T1013\",\"Y\",\"N\")","v":"N"},{"$f":"IF(Table1[[#This Row],[Column3]]=90785,\"Y\",\"N\")","v":"N"}]
[null,null,null,null,null,null,null,null,null,null,{"$f":"IF(Table1[[#This Row],[Column3]]=\"T1013\",\"Y\",\"N\")","v":"N"},{"$f":"IF(Table1[[#This Row],[Column3]]=90785,\"Y\",\"N\")","v":"N"}]
[null,null,null,null,null,null,null,null,null,null,{"$f":"IF(Table1[[#This Row],[Column3]]=\"T1013\",\"Y\",\"N\")","v":"N"},{"$f":"IF(Table1[[#This Row],[Column3]]=90785,\"Y\",\"N\")","v":"N"}]
[null,null,null,null,null,null,null,null,null,null,{"$f":"IF(Table1[[#This Row],[Column3]]=\"T1013\",\"Y\",\"N\")","v":"N"},{"$f":"IF(Table1[[#This Row],[Column3]]=90785,\"Y\",\"N\")","v":"N"}]
[null,null,null,null,null,null,null,null,null,null,{"$f":"IF(Table1[[#This Row],[Column3]]=\"T1013\",\"Y\",\"N\")","v":"N"},{"$f":"IF(Table1[[#This Row],[Column3]]=90785,\"Y\",\"N\")","v":"N"}]
[null,null,null,null,null,null,null,null,null,null,{"$f":"IF(Table1[[#This Row],[Column3]]=\"T1013\",\"Y\",\"N\")","v":"N"},{"$f":"IF(Table1[[#This Row],[Column3]]=90785,\"Y\",\"N\")","v":"N"}]
[null,null,null,null,null,null,null,null,null,null,{"$f":"IF(Table1[[#This Row],[Column3]]=\"T1013\",\"Y\",\"N\")","v":"N"},{"$f":"IF(Table1[[#This Row],[Column3]]=90785,\"Y\",\"N\")","v":"N"}]
[null,null,null,null,null,null,null,null,null,null,{"$f":"IF(Table1[[#This Row],[Column3]]=\"T1013\",\"Y\",\"N\")","v":"N"},{"$f":"IF(Table1[[#This Row],[Column3]]=90785,\"Y\",\"N\")","v":"N"}]
[null,null,null,null,null,null,null,null,null,null,{"$f":"IF(Table1[[#This Row],[Column3]]=\"T1013\",\"Y\",\"N\")","v":"N"},{"$f":"IF(Table1[[#This Row],[Column3]]=90785,\"Y\",\"N\")","v":"N"}]
[null,null,null,null,null,null,null,null,null,null,{"$f":"IF(Table1[[#This Row],[Column3]]=\"T1013\",\"Y\",\"N\")","v":"N"},{"$f":"IF(Table1[[#This Row],[Column3]]=90785,\"Y\",\"N\")","v":"N"}]
[null,null,null,null,null,null,null,null,null,null,{"$f":"IF(Table1[[#This Row],[Column3]]=\"T1013\",\"Y\",\"N\")","v":"N"},{"$f":"IF(Table1[[#This Row],[Column3]]=90785,\"Y\",\"N\")","v":"N"}]
[null,null,null,null,null,null,null,null,null,null,{"$f":"IF(Table1[[#This Row],[Column3]]=\"T1013\",\"Y\",\"N\")","v":"N"},{"$f":"IF(Table1[[#This Row],[Column3]]=90785,\"Y\",\"N\")","v":"N"}]
[null,null,null,null,null,null,null,null,null,null,{"$f":"IF(Table1[[#This Row],[Column3]]=\"T1013\",\"Y\",\"N\")","v":"N"},{"$f":"IF(Table1[[#This Row],[Column3]]=90785,\"Y\",\"N\")","v":"N"}]
[null,null,null,null,null,null,null,null,null,null,{"$f":"IF(Table1[[#This Row],[Column3]]=\"T1013\",\"Y\",\"N\")","v":"N"},{"$f":"IF(Table1[[#This Row],[Column3]]=90785,\"Y\",\"N\")","v":"N"}]
[null,null,null,null,null,null,null,null,null,null,{"$f":"IF(Table1[[#This Row],[Column3]]=\"T1013\",\"Y\",\"N\")","v":"N"},{"$f":"IF(Table1[[#This Row],[Column3]]=90785,\"Y\",\"N\")","v":"N"}]
[null,null,null,null,null,null,null,null,null,null,{"$f":"IF(Table1[[#This Row],[Column3]]=\"T1013\",\"Y\",\"N\")","v":"N"},{"$f":"IF(Table1[[#This Row],[Column3]]=90785,\"Y\",\"N\")","v":"N"}]
[null,null,null,null,null,null,null,null,null,null,{"$f":"IF(Table1[[#This Row],[Column3]]=\"T1013\",\"Y\",\"N\")","v":"N"},{"$f":"IF(Table1[[#This Row],[Column3]]=90785,\"Y\",\"N\")","v":"N"}]
[null,null,null,null,null,null,null,null,null,null,{"$f":"IF(Table1[[#This Row],[Column3]]=\"T1013\",\"Y\",\"N\")","v":"N"},{"$f":"IF(Table1[[#This Row],[Column3]]=90785,\"Y\",\"N\")","v":"N"}]
[null,null,null,null,null,null,null,null,null,null,{"$f":"IF(Table1[[#This Row],[Column3]]=\"T1013\",\"Y\",\"N\")","v":"N"},{"$f":"IF(Table1[[#This Row],[Column3]]=90785,\"Y\",\"N\")","v":"N"}]
[null,null,null,null,null,null,null,null,null,null,{"$f":"IF(Table1[[#This Row],[Column3]]=\"T1013\",\"Y\",\"N\")","v":"N"},{"$f":"IF(Table1[[#This Row],[Column3]]=90785,\"Y\",\"N\")","v":"N"}]
[null,null,null,null,null,null,null,null,null,null,{"$f":"IF(Table1[[#This Row],[Column3]]=\"T1013\",\"Y\",\"N\")","v":"N"},{"$f":"IF(Table1[[#This Row],[Column3]]=90785,\"Y\",\"N\")","v":"N"}]
[null,null,null,null,null,null,null,null,null,null,{"$f":"IF(Table1[[#This Row],[Column3]]=\"T1013\",\"Y\",\"N\")","v":"N"},{"$f":"IF(Table1[[#This Row],[Column3]]=90785,\"Y\",\"N\")","v":"N"}]
[null,null,null,null,null,null,null,null,null,null,{"$f":"IF(Table1[[#This Row],[Column3]]=\"T1013\",\"Y\",\"N\")","v":"N"},{"$f":"IF(Table1[[#This Row],[Column3]]=90785,\"Y\",\"N\")","v":"N"}]
[null,null,null,null,null,null,null,null,null,null,{"$f":"IF(Table1[[#This Row],[Column3]]=\"T1013\",\"Y\",\"N\")","v":"N"},{"$f":"IF(Table1[[#This Row],[Column3]]=90785,\"Y\",\"N\")","v":"N"}]
[null,null,null,null,null,null,null,null,null,null,{"$f":"IF(Table1[[#This Row],[Column3]]=\"T1013\",\"Y\",\"N\")","v":"N"},{"$f":"IF(Table1[[#This Row],[Column3]]=90785,\"Y\",\"N\")","v":"N"}]
[null,null,null,null,null,null,null,null,null,null,{"$f":"IF(Table1[[#This Row],[Column3]]=\"T1013\",\"Y\",\"N\")","v":"N"},{"$f":"IF(Table1[[#This Row],[Column3]]=90785,\"Y\",\"N\")","v":"N"}]
[null,null,null,null,null,null,null,null,null,null,{"$f":"IF(Table1[[#This Row],[Column3]]=\"T1013\",\"Y\",\"N\")","v":"N"},{"$f":"IF(Table1[[#This Row],[Column3]]=90785,\"Y\",\"N\")","v":"N"}]
[null,null,null,null,null,null,null,null,null,null,{"$f":"IF(Table1[[#This Row],[Column3]]=\"T1013\",\"Y\",\"N\")","v":"N"},{"$f":"IF(Table1[[#This Row],[Column3]]=90785,\"Y\",\"N\")","v":"N"}]
[null,null,null,null,null,null,null,null,null,null,{"$f":"IF(Table1[[#This Row],[Column3]]=\"T1013\",\"Y\",\"N\")","v":"N"},{"$f":"IF(Table1[[#This Row],[Column3]]=90785,\"Y\",\"N\")","v":"N"}]
[null,null,null,null,null,null,null,null,null,null,{"$f":"IF(Table1[[#This Row],[Column3]]=\"T1013\",\"Y\",\"N\")","v":"N"},{"$f":"IF(Table1[[#This Row],[Column3]]=90785,\"Y\",\"N\")","v":"N"}]
[null,null,null,null,null,null,null,null,null,null,{"$f":"IF(Table1[[#This Row],[Column3]]=\"T1013\",\"Y\",\"N\")","v":"N"},{"$f":"IF(Table1[[#This Row],[Column3]]=90785,\"Y\",\"N\")","v":"N"}]
[null,null,null,null,null,null,null,null,null,null,{"$f":"IF(Table1[[#This Row],[Column3]]=\"T1013\",\"Y\",\"N\")","v":"N"},{"$f":"IF(Table1[[#This Row],[Column3]]=90785,\"Y\",\"N\")","v":"N"}]
[null,null,null,null,null,null,null,null,null,null,{"$f":"IF(Table1[[#This Row],[Column3]]=\"T1013\",\"Y\",\"N\")","v":"N"},{"$f":"IF(Table1[[#This Row],[Column3]]=90785,\"Y\",\"N\")","v":"N"}]
[null,null,null,null,null,null,null,null,null,null,{"$f":"IF(Table1[[#This Row],[Column3]]=\"T1013\",\"Y\",\"N\")","v":"N"},{"$f":"IF(Table1[[#This Row],[Column3]]=90785,\"Y\",\"N\")","v":"N"}]
[null,null,null,null,null,null,null,null,null,null,{"$f":"IF(Table1[[#This Row],[Column3]]=\"T1013\",\"Y\",\"N\")","v":"N"},{"$f":"IF(Table1[[#This Row],[Column3]]=90785,\"Y\",\"N\")","v":"N"}]
[null,null,null,null,null,null,null,null,null,null,{"$f":"IF(Table1[[#This Row],[Column3]]=\"T1013\",\"Y\",\"N\")","v":"N"},{"$f":"IF(Table1[[#This Row],[Column3]]=90785,\"Y\",\"N\")","v":"N"}]
[null,null,null,null,null,null,null,null,null,null,{"$f":"IF(Table1[[#This Row],[Column3]]=\"T1013\",\"Y\",\"N\")","v":"N"},{"$f":"IF(Table1[[#This Row],[Column3]]=90785,\"Y\",\"N\")","v":"N"}]
[null,null,null,null,null,null,null,null,null,null,{"$f":"IF(Table1[[#This Row],[Column3]]=\"T1013\",\"Y\",\"N\")","v":"N"},{"$f":"IF(Table1[[#This Row],[Column3]]=90785,\"Y\",\"N\")","v":"N"}]
[null,null,null,null,null,null,null,null,null,null,{"$f":"IF(Table1[[#This Row],[Column3]]=\"T1013\",\"Y\",\"N\")","v":"N"},{"$f":"IF(Table1[[#This Row],[Column3]]=90785,\"Y\",\"N\")","v":"N"}]
[null,null,null,null,null,null,null,null,null,null,{"$f":"IF(Table1[[#This Row],[Column3]]=\"T1013\",\"Y\",\"N\")","v":"N"},{"$f":"IF(Table1[[#This Row],[Column3]]=90785,\"Y\",\"N\")","v":"N"}]
[null,null,null,null,null,null,null,null,null,null,{"$f":"IF(Table1[[#This Row],[Column3]]=\"T1013\",\"Y\",\"N\")","v":"N"},{"$f":"IF(Table1[[#This Row],[Column3]]=90785,\"Y\",\"N\")","v":"N"}]
[null,null,null,null,null,null,null,null,null,null,{"$f":"IF(Table1[[#This Row],[Column3]]=\"T1013\",\"Y\",\"N\")","v":"N"},{"$f":"IF(Table1[[#This Row],[Column3]]=90785,\"Y\",\"N\")","v":"N"}]
[null,null,null,null,null,null,null,null,null,null,{"$f":"IF(Table1[[#This Row],[Column3]]=\"T1013\",\"Y\",\"N\")","v":"N"},{"$f":"IF(Table1[[#This Row],[Column3]]=90785,\"Y\",\"N\")","v":"N"}]
[null,null,null,null,null,null,null,null,null,null,{"$f":"IF(Table1[[#This Row],[Column3]]=\"T1013\",\"Y\",\"N\")","v":"N"},{"$f":"IF(Table1[[#This Row],[Column3]]=90785,\"Y\",\"N\")","v":"N"}]
[null,null,null,null,null,null,null,null,null,null,{"$f":"IF(Table1[[#This Row],[Column3]]=\"T1013\",\"Y\",\"N\")","v":"N"},{"$f":"IF(Table1[[#This Row],[Column3]]=90785,\"Y\",\"N\")","v":"N"}]
[null,null,null,null,null,null,null,null,null,null,{"$f":"IF(Table1[[#This Row],[Column3]]=\"T1013\",\"Y\",\"N\")","v":"N"},{"$f":"IF(Table1[[#This Row],[Column3]]=90785,\"Y\",\"N\")","v":"N"}]
[null,null,null,null,null,null,null,null,null,null,{"$f":"IF(Table1[[#This Row],[Column3]]=\"T1013\",\"Y\",\"N\")","v":"N"},{"$f":"IF(Table1[[#This Row],[Column3]]=90785,\"Y\",\"N\")","v":"N"}]
[null,null,null,null,null,null,null,null,null,null,{"$f":"IF(Table1[[#This Row],[Column3]]=\"T1013\",\"Y\",\"N\")","v":"N"},{"$f":"IF(Table1[[#This Row],[Column3]]=90785,\"Y\",\"N\")","v":"N"}]
[null,null,null,null,null,null,null,null,null,null,{"$f":"IF(Table1[[#This Row],[Column3]]=\"T1013\",\"Y\",\"N\")","v":"N"},{"$f":"IF(Table1[[#This Row],[Column3]]=90785,\"Y\",\"N\")","v":"N"}]
[null,null,null,null,null,null,null,null,null,null,{"$f":"IF(Table1[[#This Row],[Column3]]=\"T1013\",\"Y\",\"N\")","v":"N"},{"$f":"IF(Table1[[#This Row],[Column3]]=90785,\"Y\",\"N\")","v":"N"}]
[null,null,null,null,null,null,null,null,null,null,{"$f":"IF(Table1[[#This Row],[Column3]]=\"T1013\",\"Y\",\"N\")","v":"N"},{"$f":"IF(Table1[[#This Row],[Column3]]=90785,\"Y\",\"N\")","v":"N"}]
[null,null,null,null,null,null,null,null,null,null,{"$f":"IF(Table1[[#This Row],[Column3]]=\"T1013\",\"Y\",\"N\")","v":"N"},{"$f":"IF(Table1[[#This Row],[Column3]]=90785,\"Y\",\"N\")","v":"N"}]
[null,null,null,null,null,null,null,null,null,null,{"$f":"IF(Table1[[#This Row],[Column3]]=\"T1013\",\"Y\",\"N\")","v":"N"},{"$f":"IF(Table1[[#This Row],[Column3]]=90785,\"Y\",\"N\")","v":"N"}]
[null,null,null,null,null,null,null,null,null,null,{"$f":"IF(Table1[[#This Row],[Column3]]=\"T1013\",\"Y\",\"N\")","v":"N"},{"$f":"IF(Table1[[#This Row],[Column3]]=90785,\"Y\",\"N\")","v":"N"}]
[null,null,null,null,null,null,null,null,null,null,{"$f":"IF(Table1[[#This Row],[Column3]]=\"T1013\",\"Y\",\"N\")","v":"N"},{"$f":"IF(Table1[[#This Row],[Column3]]=90785,\"Y\",\"N\")","v":"N"}]
[null,null,null,null,null,null,null,null,null,null,{"$f":"IF(Table1[[#This Row],[Column3]]=\"T1013\",\"Y\",\"N\")","v":"N"},{"$f":"IF(Table1[[#This Row],[Column3]]=90785,\"Y\",\"N\")","v":"N"}]
[null,null,null,null,null,null,null,null,null,null,{"$f":"IF(Table1[[#This Row],[Column3]]=\"T1013\",\"Y\",\"N\")","v":"N"},{"$f":"IF(Table1[[#This Row],[Column3]]=90785,\"Y\",\"N\")","v":"N"}]
[null,null,null,null,null,null,null,null,null,null,{"$f":"IF(Table1[[#This Row],[Column3]]=\"T1013\",\"Y\",\"N\")","v":"N"},{"$f":"IF(Table1[[#This Row],[Column3]]=90785,\"Y\",\"N\")","v":"N"}]
[null,null,null,null,null,null,null,null,null,null,{"$f":"IF(Table1[[#This Row],[Column3]]=\"T1013\",\"Y\",\"N\")","v":"N"},{"$f":"IF(Table1[[#This Row],[Column3]]=90785,\"Y\",\"N\")","v":"N"}]
[null,null,null,null,null,null,null,null,null,null,{"$f":"IF(Table1[[#This Row],[Column3]]=\"T1013\",\"Y\",\"N\")","v":"N"},{"$f":"IF(Table1[[#This Row],[Column3]]=90785,\"Y\",\"N\")","v":"N"}]
[null,null,null,null,null,null,null,null,null,null,{"$f":"IF(Table1[[#This Row],[Column3]]=\"T1013\",\"Y\",\"N\")","v":"N"},{"$f":"IF(Table1[[#This Row],[Column3]]=90785,\"Y\",\"N\")","v":"N"}]
[null,null,null,null,null,null,null,null,null,null,{"$f":"IF(Table1[[#This Row],[Column3]]=\"T1013\",\"Y\",\"N\")","v":"N"},{"$f":"IF(Table1[[#This Row],[Column3]]=90785,\"Y\",\"N\")","v":"N"}]
[null,null,null,null,null,null,null,null,null,null,{"$f":"IF(Table1[[#This Row],[Column3]]=\"T1013\",\"Y\",\"N\")","v":"N"},{"$f":"IF(Table1[[#This Row],[Column3]]=90785,\"Y\",\"N\")","v":"N"}]
[null,null,null,null,null,null,null,null,null,null,{"$f":"IF(Table1[[#This Row],[Column3]]=\"T1013\",\"Y\",\"N\")","v":"N"},{"$f":"IF(Table1[[#This Row],[Column3]]=90785,\"Y\",\"N\")","v":"N"}]
[null,null,null,null,null,null,null,null,null,null,{"$f":"IF(Table1[[#This Row],[Column3]]=\"T1013\",\"Y\",\"N\")","v":"N"},{"$f":"IF(Table1[[#This Row],[Column3]]=90785,\"Y\",\"N\")","v":"N"}]
[null,null,null,null,null,null,null,null,null,null,{"$f":"IF(Table1[[#This Row],[Column3]]=\"T1013\",\"Y\",\"N\")","v":"N"},{"$f":"IF(Table1[[#This Row],[Column3]]=90785,\"Y\",\"N\")","v":"N"}]
[null,null,null,null,null,null,null,null,null,null,{"$f":"IF(Table1[[#This Row],[Column3]]=\"T1013\",\"Y\",\"N\")","v":"N"},{"$f":"IF(Table1[[#This Row],[Column3]]=90785,\"Y\",\"N\")","v":"N"}]
[null,null,null,null,null,null,null,null,null,null,{"$f":"IF(Table1[[#This Row],[Column3]]=\"T1013\",\"Y\",\"N\")","v":"N"},{"$f":"IF(Table1[[#This Row],[Column3]]=90785,\"Y\",\"N\")","v":"N"}]
[null,null,null,null,null,null,null,null,null,null,{"$f":"IF(Table1[[#This Row],[Column3]]=\"T1013\",\"Y\",\"N\")","v":"N"},{"$f":"IF(Table1[[#This Row],[Column3]]=90785,\"Y\",\"N\")","v":"N"}]
[null,null,null,null,null,null,null,null,null,null,{"$f":"IF(Table1[[#This Row],[Column3]]=\"T1013\",\"Y\",\"N\")","v":"N"},{"$f":"IF(Table1[[#This Row],[Column3]]=90785,\"Y\",\"N\")","v":"N"}]
[null,null,null,null,null,null,null,null,null,null,{"$f":"IF(Table1[[#This Row],[Column3]]=\"T1013\",\"Y\",\"N\")","v":"N"},{"$f":"IF(Table1[[#This Row],[Column3]]=90785,\"Y\",\"N\")","v":"N"}]
[null,null,null,null,null,null,null,null,null,null,{"$f":"IF(Table1[[#This Row],[Column3]]=\"T1013\",\"Y\",\"N\")","v":"N"},{"$f":"IF(Table1[[#This Row],[Column3]]=90785,\"Y\",\"N\")","v":"N"}]
[null,null,null,null,null,null,null,null,null,null,{"$f":"IF(Table1[[#This Row],[Column3]]=\"T1013\",\"Y\",\"N\")","v":"N"},{"$f":"IF(Table1[[#This Row],[Column3]]=90785,\"Y\",\"N\")","v":"N"}]
[null,null,null,null,null,null,null,null,null,null,{"$f":"IF(Table1[[#This Row],[Column3]]=\"T1013\",\"Y\",\"N\")","v":"N"},{"$f":"IF(Table1[[#This Row],[Column3]]=90785,\"Y\",\"N\")","v":"N"}]
[null,null,null,null,null,null,null,null,null,null,{"$f":"IF(Table1[[#This Row],[Column3]]=\"T1013\",\"Y\",\"N\")","v":"N"},{"$f":"IF(Table1[[#This Row],[Column3]]=90785,\"Y\",\"N\")","v":"N"}]
[null,null,null,null,null,null,null,null,null,null,{"$f":"IF(Table1[[#This Row],[Column3]]=\"T1013\",\"Y\",\"N\")","v":"N"},{"$f":"IF(Table1[[#This Row],[Column3]]=90785,\"Y\",\"N\")","v":"N"}]
[null,null,null,null,null,null,null,null,null,null,{"$f":"IF(Table1[[#This Row],[Column3]]=\"T1013\",\"Y\",\"N\")","v":"N"},{"$f":"IF(Table1[[#This Row],[Column3]]=90785,\"Y\",\"N\")","v":"N"}]
[null,null,null,null,null,null,null,null,null,null,{"$f":"IF(Table1[[#This Row],[Column3]]=\"T1013\",\"Y\",\"N\")","v":"N"},{"$f":"IF(Table1[[#This Row],[Column3]]=90785,\"Y\",\"N\")","v":"N"}]
[null,null,null,null,null,null,null,null,null,null,{"$f":"IF(Table1[[#This Row],[Column3]]=\"T1013\",\"Y\",\"N\")","v":"N"},{"$f":"IF(Table1[[#This Row],[Column3]]=90785,\"Y\",\"N\")","v":"N"}]
[null,null,null,null,null,null,null,null,null,null,{"$f":"IF(Table1[[#This Row],[Column3]]=\"T1013\",\"Y\",\"N\")","v":"N"},{"$f":"IF(Table1[[#This Row],[Column3]]=90785,\"Y\",\"N\")","v":"N"}]
[null,null,null,null,null,null,null,null,null,null,{"$f":"IF(Table1[[#This Row],[Column3]]=\"T1013\",\"Y\",\"N\")","v":"N"},{"$f":"IF(Table1[[#This Row],[Column3]]=90785,\"Y\",\"N\")","v":"N"}]
[null,null,null,null,null,null,null,null,null,null,{"$f":"IF(Table1[[#This Row],[Column3]]=\"T1013\",\"Y\",\"N\")","v":"N"},{"$f":"IF(Table1[[#This Row],[Column3]]=90785,\"Y\",\"N\")","v":"N"}]
[null,null,null,null,null,null,null,null,null,null,{"$f":"IF(Table1[[#This Row],[Column3]]=\"T1013\",\"Y\",\"N\")","v":"N"},{"$f":"IF(Table1[[#This Row],[Column3]]=90785,\"Y\",\"N\")","v":"N"}]
[null,null,null,null,null,null,null,null,null,null,{"$f":"IF(Table1[[#This Row],[Column3]]=\"T1013\",\"Y\",\"N\")","v":"N"},{"$f":"IF(Table1[[#This Row],[Column3]]=90785,\"Y\",\"N\")","v":"N"}]
[null,null,null,null,null,null,null,null,null,null,{"$f":"IF(Table1[[#This Row],[Column3]]=\"T1013\",\"Y\",\"N\")","v":"N"},{"$f":"IF(Table1[[#This Row],[Column3]]=90785,\"Y\",\"N\")","v":"N"}]
[null,null,null,null,null,null,null,null,null,null,{"$f":"IF(Table1[[#This Row],[Column3]]=\"T1013\",\"Y\",\"N\")","v":"N"},{"$f":"IF(Table1[[#This Row],[Column3]]=90785,\"Y\",\"N\")","v":"N"}]
[null,null,null,null,null,null,null,null,null,null,{"$f":"IF(Table1[[#This Row],[Column3]]=\"T1013\",\"Y\",\"N\")","v":"N"},{"$f":"IF(Table1[[#This Row],[Column3]]=90785,\"Y\",\"N\")","v":"N"}]
[null,null,null,null,null,null,null,null,null,null,{"$f":"IF(Table1[[#This Row],[Column3]]=\"T1013\",\"Y\",\"N\")","v":"N"},{"$f":"IF(Table1[[#This Row],[Column3]]=90785,\"Y\",\"N\")","v":"N"}]
[null,null,null,null,null,null,null,null,null,null,{"$f":"IF(Table1[[#This Row],[Column3]]=\"T1013\",\"Y\",\"N\")","v":"N"},{"$f":"IF(Table1[[#This Row],[Column3]]=90785,\"Y\",\"N\")","v":"N"}]
[null,null,null,null,null,null,null,null,null,null,{"$f":"IF(Table1[[#This Row],[Column3]]=\"T1013\",\"Y\",\"N\")","v":"N"},{"$f":"IF(Table1[[#This Row],[Column3]]=90785,\"Y\",\"N\")","v":"N"}]
[null,null,null,null,null,null,null,null,null,null,{"$f":"IF(Table1[[#This Row],[Column3]]=\"T1013\",\"Y\",\"N\")","v":"N"},{"$f":"IF(Table1[[#This Row],[Column3]]=90785,\"Y\",\"N\")","v":"N"}]
[null,null,null,null,null,null,null,null,null,null,{"$f":"IF(Table1[[#This Row],[Column3]]=\"T1013\",\"Y\",\"N\")","v":"N"},{"$f":"IF(Table1[[#This Row],[Column3]]=90785,\"Y\",\"N\")","v":"N"}]
[null,null,null,null,null,null,null,null,null,null,{"$f":"IF(Table1[[#This Row],[Column3]]=\"T1013\",\"Y\",\"N\")","v":"N"},{"$f":"IF(Table1[[#This Row],[Column3]]=90785,\"Y\",\"N\")","v":"N"}]
[null,null,null,null,null,null,null,null,null,null,{"$f":"IF(Table1[[#This Row],[Column3]]=\"T1013\",\"Y\",\"N\")","v":"N"},{"$f":"IF(Table1[[#This Row],[Column3]]=90785,\"Y\",\"N\")","v":"N"}]
[null,null,null,null,null,null,null,null,null,null,{"$f":"IF(Table1[[#This Row],[Column3]]=\"T1013\",\"Y\",\"N\")","v":"N"},{"$f":"IF(Table1[[#This Row],[Column3]]=90785,\"Y\",\"N\")","v":"N"}]
[null,null,null,null,null,null,null,null,null,null,{"$f":"IF(Table1[[#This Row],[Column3]]=\"T1013\",\"Y\",\"N\")","v":"N"},{"$f":"IF(Table1[[#This Row],[Column3]]=90785,\"Y\",\"N\")","v":"N"}]
[null,null,null,null,null,null,null,null,null,null,{"$f":"IF(Table1[[#This Row],[Column3]]=\"T1013\",\"Y\",\"N\")","v":"N"},{"$f":"IF(Table1[[#This Row],[Column3]]=90785,\"Y\",\"N\")","v":"N"}]
[null,null,null,null,null,null,null,null,null,null,{"$f":"IF(Table1[[#This Row],[Column3]]=\"T1013\",\"Y\",\"N\")","v":"N"},{"$f":"IF(Table1[[#This Row],[Column3]]=90785,\"Y\",\"N\")","v":"N"}]
[null,null,null,null,null,null,null,null,null,null,{"$f":"IF(Table1[[#This Row],[Column3]]=\"T1013\",\"Y\",\"N\")","v":"N"},{"$f":"IF(Table1[[#This Row],[Column3]]=90785,\"Y\",\"N\")","v":"N"}]
[null,null,null,null,null,null,null,null,null,null,{"$f":"IF(Table1[[#This Row],[Column3]]=\"T1013\",\"Y\",\"N\")","v":"N"},{"$f":"IF(Table1[[#This Row],[Column3]]=90785,\"Y\",\"N\")","v":"N"}]
[null,null,null,null,null,null,null,null,null,null,{"$f":"IF(Table1[[#This Row],[Column3]]=\"T1013\",\"Y\",\"N\")","v":"N"},{"$f":"IF(Table1[[#This Row],[Column3]]=90785,\"Y\",\"N\")","v":"N"}]
[null,null,null,null,null,null,null,null,null,null,{"$f":"IF(Table1[[#This Row],[Column3]]=\"T1013\",\"Y\",\"N\")","v":"N"},{"$f":"IF(Table1[[#This Row],[Column3]]=90785,\"Y\",\"N\")","v":"N"}]
[null,null,null,null,null,null,null,null,null,null,{"$f":"IF(Table1[[#This Row],[Column3]]=\"T1013\",\"Y\",\"N\")","v":"N"},{"$f":"IF(Table1[[#This Row],[Column3]]=90785,\"Y\",\"N\")","v":"N"}]
[null,null,null,null,null,null,null,null,null,null,{"$f":"IF(Table1[[#This Row],[Column3]]=\"T1013\",\"Y\",\"N\")","v":"N"},{"$f":"IF(Table1[[#This Row],[Column3]]=90785,\"Y\",\"N\")","v":"N"}]
[null,null,null,null,null,null,null,null,null,null,{"$f":"IF(Table1[[#This Row],[Column3]]=\"T1013\",\"Y\",\"N\")","v":"N"},{"$f":"IF(Table1[[#This Row],[Column3]]=90785,\"Y\",\"N\")","v":"N"}]
[null,null,null,null,null,null,null,null,null,null,{"$f":"IF(Table1[[#This Row],[Column3]]=\"T1013\",\"Y\",\"N\")","v":"N"},{"$f":"IF(Table1[[#This Row],[Column3]]=90785,\"Y\",\"N\")","v":"N"}]
[null,null,null,null,null,null,null,null,null,null,{"$f":"IF(Table1[[#This Row],[Column3]]=\"T1013\",\"Y\",\"N\")","v":"N"},{"$f":"IF(Table1[[#This Row],[Column3]]=90785,\"Y\",\"N\")","v":"N"}]
[null,null,null,null,null,null,null,null,null,null,{"$f":"IF(Table1[[#This Row],[Column3]]=\"T1013\",\"Y\",\"N\")","v":"N"},{"$f":"IF(Table1[[#This Row],[Column3]]=90785,\"Y\",\"N\")","v":"N"}]
[null,null,null,null,null,null,null,null,null,null,{"$f":"IF(Table1[[#This Row],[Column3]]=\"T1013\",\"Y\",\"N\")","v":"N"},{"$f":"IF(Table1[[#This Row],[Column3]]=90785,\"Y\",\"N\")","v":"N"}]
[null,null,null,null,null,null,null,null,null,null,{"$f":"IF(Table1[[#This Row],[Column3]]=\"T1013\",\"Y\",\"N\")","v":"N"},{"$f":"IF(Table1[[#This Row],[Column3]]=90785,\"Y\",\"N\")","v":"N"}]
[null,null,null,null,null,null,null,null,null,null,{"$f":"IF(Table1[[#This Row],[Column3]]=\"T1013\",\"Y\",\"N\")","v":"N"},{"$f":"IF(Table1[[#This Row],[Column3]]=90785,\"Y\",\"N\")","v":"N"}]
[null,null,null,null,null,null,null,null,null,null,{"$f":"IF(Table1[[#This Row],[Column3]]=\"T1013\",\"Y\",\"N\")","v":"N"},{"$f":"IF(Table1[[#This Row],[Column3]]=90785,\"Y\",\"N\")","v":"N"}]
[null,null,null,null,null,null,null,null,null,null,{"$f":"IF(Table1[[#This Row],[Column3]]=\"T1013\",\"Y\",\"N\")","v":"N"},{"$f":"IF(Table1[[#This Row],[Column3]]=90785,\"Y\",\"N\")","v":"N"}]
[null,null,null,null,null,null,null,null,null,null,{"$f":"IF(Table1[[#This Row],[Column3]]=\"T1013\",\"Y\",\"N\")","v":"N"},{"$f":"IF(Table1[[#This Row],[Column3]]=90785,\"Y\",\"N\")","v":"N"}]
[null,null,null,null,null,null,null,null,null,null,{"$f":"IF(Table1[[#This Row],[Column3]]=\"T1013\",\"Y\",\"N\")","v":"N"},{"$f":"IF(Table1[[#This Row],[Column3]]=90785,\"Y\",\"N\")","v":"N"}]
[null,null,null,null,null,null,null,null,null,null,{"$f":"IF(Table1[[#This Row],[Column3]]=\"T1013\",\"Y\",\"N\")","v":"N"},{"$f":"IF(Table1[[#This Row],[Column3]]=90785,\"Y\",\"N\")","v":"N"}]
[null,null,null,null,null,null,null,null,null,null,{"$f":"IF(Table1[[#This Row],[Column3]]=\"T1013\",\"Y\",\"N\")","v":"N"},{"$f":"IF(Table1[[#This Row],[Column3]]=90785,\"Y\",\"N\")","v":"N"}]
[null,null,null,null,null,null,null,null,null,null,{"$f":"IF(Table1[[#This Row],[Column3]]=\"T1013\",\"Y\",\"N\")","v":"N"},{"$f":"IF(Table1[[#This Row],[Column3]]=90785,\"Y\",\"N\")","v":"N"}]
[null,null,null,null,null,null,null,null,null,null,{"$f":"IF(Table1[[#This Row],[Column3]]=\"T1013\",\"Y\",\"N\")","v":"N"},{"$f":"IF(Table1[[#This Row],[Column3]]=90785,\"Y\",\"N\")","v":"N"}]
[null,null,null,null,null,null,null,null,null,null,{"$f":"IF(Table1[[#This Row],[Column3]]=\"T1013\",\"Y\",\"N\")","v":"N"},{"$f":"IF(Table1[[#This Row],[Column3]]=90785,\"Y\",\"N\")","v":"N"}]
[null,null,null,null,null,null,null,null,null,null,{"$f":"IF(Table1[[#This Row],[Column3]]=\"T1013\",\"Y\",\"N\")","v":"N"},{"$f":"IF(Table1[[#This Row],[Column3]]=90785,\"Y\",\"N\")","v":"N"}]
[null,null,null,null,null,null,null,null,null,null,{"$f":"IF(Table1[[#This Row],[Column3]]=\"T1013\",\"Y\",\"N\")","v":"N"},{"$f":"IF(Table1[[#This Row],[Column3]]=90785,\"Y\",\"N\")","v":"N"}]
[null,null,null,null,null,null,null,null,null,null,{"$f":"IF(Table1[[#This Row],[Column3]]=\"T1013\",\"Y\",\"N\")","v":"N"},{"$f":"IF(Table1[[#This Row],[Column3]]=90785,\"Y\",\"N\")","v":"N"}]
[null,null,null,null,null,null,null,null,null,null,{"$f":"IF(Table1[[#This Row],[Column3]]=\"T1013\",\"Y\",\"N\")","v":"N"},{"$f":"IF(Table1[[#This Row],[Column3]]=90785,\"Y\",\"N\")","v":"N"}]
[null,null,null,null,null,null,null,null,null,null,{"$f":"IF(Table1[[#This Row],[Column3]]=\"T1013\",\"Y\",\"N\")","v":"N"},{"$f":"IF(Table1[[#This Row],[Column3]]=90785,\"Y\",\"N\")","v":"N"}]
[null,null,null,null,null,null,null,null,null,null,{"$f":"IF(Table1[[#This Row],[Column3]]=\"T1013\",\"Y\",\"N\")","v":"N"},{"$f":"IF(Table1[[#This Row],[Column3]]=90785,\"Y\",\"N\")","v":"N"}]
[null,null,null,null,null,null,null,null,null,null,{"$f":"IF(Table1[[#This Row],[Column3]]=\"T1013\",\"Y\",\"N\")","v":"N"},{"$f":"IF(Table1[[#This Row],[Column3]]=90785,\"Y\",\"N\")","v":"N"}]
[null,null,null,null,null,null,null,null,null,null,{"$f":"IF(Table1[[#This Row],[Column3]]=\"T1013\",\"Y\",\"N\")","v":"N"},{"$f":"IF(Table1[[#This Row],[Column3]]=90785,\"Y\",\"N\")","v":"N"}]
[null,null,null,null,null,null,null,null,null,null,{"$f":"IF(Table1[[#This Row],[Column3]]=\"T1013\",\"Y\",\"N\")","v":"N"},{"$f":"IF(Table1[[#This Row],[Column3]]=90785,\"Y\",\"N\")","v":"N"}]
[null,null,null,null,null,null,null,null,null,null,{"$f":"IF(Table1[[#This Row],[Column3]]=\"T1013\",\"Y\",\"N\")","v":"N"},{"$f":"IF(Table1[[#This Row],[Column3]]=90785,\"Y\",\"N\")","v":"N"}]
[null,null,null,null,null,null,null,null,null,null,{"$f":"IF(Table1[[#This Row],[Column3]]=\"T1013\",\"Y\",\"N\")","v":"N"},{"$f":"IF(Table1[[#This Row],[Column3]]=90785,\"Y\",\"N\")","v":"N"}]
[null,null,null,null,null,null,null,null,null,null,{"$f":"IF(Table1[[#This Row],[Column3]]=\"T1013\",\"Y\",\"N\")","v":"N"},{"$f":"IF(Table1[[#This Row],[Column3]]=90785,\"Y\",\"N\")","v":"N"}]
[null,null,null,null,null,null,null,null,null,null,{"$f":"IF(Table1[[#This Row],[Column3]]=\"T1013\",\"Y\",\"N\")","v":"N"},{"$f":"IF(Table1[[#This Row],[Column3]]=90785,\"Y\",\"N\")","v":"N"}]
[null,null,null,null,null,null,null,null,null,null,{"$f":"IF(Table1[[#This Row],[Column3]]=\"T1013\",\"Y\",\"N\")","v":"N"},{"$f":"IF(Table1[[#This Row],[Column3]]=90785,\"Y\",\"N\")","v":"N"}]
[null,null,null,null,null,null,null,null,null,null,{"$f":"IF(Table1[[#This Row],[Column3]]=\"T1013\",\"Y\",\"N\")","v":"N"},{"$f":"IF(Table1[[#This Row],[Column3]]=90785,\"Y\",\"N\")","v":"N"}]
[null,null,null,null,null,null,null,null,null,null,{"$f":"IF(Table1[[#This Row],[Column3]]=\"T1013\",\"Y\",\"N\")","v":"N"},{"$f":"IF(Table1[[#This Row],[Column3]]=90785,\"Y\",\"N\")","v":"N"}]
[null,null,null,null,null,null,null,null,null,null,{"$f":"IF(Table1[[#This Row],[Column3]]=\"T1013\",\"Y\",\"N\")","v":"N"},{"$f":"IF(Table1[[#This Row],[Column3]]=90785,\"Y\",\"N\")","v":"N"}]
[null,null,null,null,null,null,null,null,null,null,{"$f":"IF(Table1[[#This Row],[Column3]]=\"T1013\",\"Y\",\"N\")","v":"N"},{"$f":"IF(Table1[[#This Row],[Column3]]=90785,\"Y\",\"N\")","v":"N"}]
[null,null,null,null,null,null,null,null,null,null,{"$f":"IF(Table1[[#This Row],[Column3]]=\"T1013\",\"Y\",\"N\")","v":"N"},{"$f":"IF(Table1[[#This Row],[Column3]]=90785,\"Y\",\"N\")","v":"N"}]
[null,null,null,null,null,null,null,null,null,null,{"$f":"IF(Table1[[#This Row],[Column3]]=\"T1013\",\"Y\",\"N\")","v":"N"},{"$f":"IF(Table1[[#This Row],[Column3]]=90785,\"Y\",\"N\")","v":"N"}]
[null,null,null,null,null,null,null,null,null,null,{"$f":"IF(Table1[[#This Row],[Column3]]=\"T1013\",\"Y\",\"N\")","v":"N"},{"$f":"IF(Table1[[#This Row],[Column3]]=90785,\"Y\",\"N\")","v":"N"}]
[null,null,null,null,null,null,null,null,null,null,{"$f":"IF(Table1[[#This Row],[Column3]]=\"T1013\",\"Y\",\"N\")","v":"N"},{"$f":"IF(Table1[[#This Row],[Column3]]=90785,\"Y\",\"N\")","v":"N"}]
[null,null,null,null,null,null,null,null,null,null,{"$f":"IF(Table1[[#This Row],[Column3]]=\"T1013\",\"Y\",\"N\")","v":"N"},{"$f":"IF(Table1[[#This Row],[Column3]]=90785,\"Y\",\"N\")","v":"N"}]
[null,null,null,null,null,null,null,null,null,null,{"$f":"IF(Table1[[#This Row],[Column3]]=\"T1013\",\"Y\",\"N\")","v":"N"},{"$f":"IF(Table1[[#This Row],[Column3]]=90785,\"Y\",\"N\")","v":"N"}]
[null,null,null,null,null,null,null,null,null,null,{"$f":"IF(Table1[[#This Row],[Column3]]=\"T1013\",\"Y\",\"N\")","v":"N"},{"$f":"IF(Table1[[#This Row],[Column3]]=90785,\"Y\",\"N\")","v":"N"}]
[null,null,null,null,null,null,null,null,null,null,{"$f":"IF(Table1[[#This Row],[Column3]]=\"T1013\",\"Y\",\"N\")","v":"N"},{"$f":"IF(Table1[[#This Row],[Column3]]=90785,\"Y\",\"N\")","v":"N"}]
[null,null,null,null,null,null,null,null,null,null,{"$f":"IF(Table1[[#This Row],[Column3]]=\"T1013\",\"Y\",\"N\")","v":"N"},{"$f":"IF(Table1[[#This Row],[Column3]]=90785,\"Y\",\"N\")","v":"N"}]
[null,null,null,null,null,null,null,null,null,null,{"$f":"IF(Table1[[#This Row],[Column3]]=\"T1013\",\"Y\",\"N\")","v":"N"},{"$f":"IF(Table1[[#This Row],[Column3]]=90785,\"Y\",\"N\")","v":"N"}]
[null,null,null,null,null,null,null,null,null,null,{"$f":"IF(Table1[[#This Row],[Column3]]=\"T1013\",\"Y\",\"N\")","v":"N"},{"$f":"IF(Table1[[#This Row],[Column3]]=90785,\"Y\",\"N\")","v":"N"}]
[null,null,null,null,null,null,null,null,null,null,{"$f":"IF(Table1[[#This Row],[Column3]]=\"T1013\",\"Y\",\"N\")","v":"N"},{"$f":"IF(Table1[[#This Row],[Column3]]=90785,\"Y\",\"N\")","v":"N"}]
[null,null,null,null,null,null,null,null,null,null,{"$f":"IF(Table1[[#This Row],[Column3]]=\"T1013\",\"Y\",\"N\")","v":"N"},{"$f":"IF(Table1[[#This Row],[Column3]]=90785,\"Y\",\"N\")","v":"N"}]
[null,null,null,null,null,null,null,null,null,null,{"$f":"IF(Table1[[#This Row],[Column3]]=\"T1013\",\"Y\",\"N\")","v":"N"},{"$f":"IF(Table1[[#This Row],[Column3]]=90785,\"Y\",\"N\")","v":"N"}]
[null,null,null,null,null,null,null,null,null,null,{"$f":"IF(Table1[[#This Row],[Column3]]=\"T1013\",\"Y\",\"N\")","v":"N"},{"$f":"IF(Table1[[#This Row],[Column3]]=90785,\"Y\",\"N\")","v":"N"}]
[null,null,null,null,null,null,null,null,null,null,{"$f":"IF(Table1[[#This Row],[Column3]]=\"T1013\",\"Y\",\"N\")","v":"N"},{"$f":"IF(Table1[[#This Row],[Column3]]=90785,\"Y\",\"N\")","v":"N"}]
[null,null,null,null,null,null,null,null,null,null,{"$f":"IF(Table1[[#This Row],[Column3]]=\"T1013\",\"Y\",\"N\")","v":"N"},{"$f":"IF(Table1[[#This Row],[Column3]]=90785,\"Y\",\"N\")","v":"N"}]
[null,null,null,null,null,null,null,null,null,null,{"$f":"IF(Table1[[#This Row],[Column3]]=\"T1013\",\"Y\",\"N\")","v":"N"},{"$f":"IF(Table1[[#This Row],[Column3]]=90785,\"Y\",\"N\")","v":"N"}]
[null,null,null,null,null,null,null,null,null,null,{"$f":"IF(Table1[[#This Row],[Column3]]=\"T1013\",\"Y\",\"N\")","v":"N"},{"$f":"IF(Table1[[#This Row],[Column3]]=90785,\"Y\",\"N\")","v":"N"}]
[null,null,null,null,null,null,null,null,null,null,{"$f":"IF(Table1[[#This Row],[Column3]]=\"T1013\",\"Y\",\"N\")","v":"N"},{"$f":"IF(Table1[[#This Row],[Column3]]=90785,\"Y\",\"N\")","v":"N"}]
[null,null,null,null,null,null,null,null,null,null,{"$f":"IF(Table1[[#This Row],[Column3]]=\"T1013\",\"Y\",\"N\")","v":"N"},{"$f":"IF(Table1[[#This Row],[Column3]]=90785,\"Y\",\"N\")","v":"N"}]
[null,null,null,null,null,null,null,null,null,null,{"$f":"IF(Table1[[#This Row],[Column3]]=\"T1013\",\"Y\",\"N\")","v":"N"},{"$f":"IF(Table1[[#This Row],[Column3]]=90785,\"Y\",\"N\")","v":"N"}]
[null,null,null,null,null,null,null,null,null,null,{"$f":"IF(Table1[[#This Row],[Column3]]=\"T1013\",\"Y\",\"N\")","v":"N"},{"$f":"IF(Table1[[#This Row],[Column3]]=90785,\"Y\",\"N\")","v":"N"}]
[null,null,null,null,null,null,null,null,null,null,{"$f":"IF(Table1[[#This Row],[Column3]]=\"T1013\",\"Y\",\"N\")","v":"N"},{"$f":"IF(Table1[[#This Row],[Column3]]=90785,\"Y\",\"N\")","v":"N"}]
[null,null,null,null,null,null,null,null,null,null,{"$f":"IF(Table1[[#This Row],[Column3]]=\"T1013\",\"Y\",\"N\")","v":"N"},{"$f":"IF(Table1[[#This Row],[Column3]]=90785,\"Y\",\"N\")","v":"N"}]
[null,null,null,null,null,null,null,null,null,null,{"$f":"IF(Table1[[#This Row],[Column3]]=\"T1013\",\"Y\",\"N\")","v":"N"},{"$f":"IF(Table1[[#This Row],[Column3]]=90785,\"Y\",\"N\")","v":"N"}]
[null,null,null,null,null,null,null,null,null,null,{"$f":"IF(Table1[[#This Row],[Column3]]=\"T1013\",\"Y\",\"N\")","v":"N"},{"$f":"IF(Table1[[#This Row],[Column3]]=90785,\"Y\",\"N\")","v":"N"}]
[null,null,null,null,null,null,null,null,null,null,{"$f":"IF(Table1[[#This Row],[Column3]]=\"T1013\",\"Y\",\"N\")","v":"N"},{"$f":"IF(Table1[[#This Row],[Column3]]=90785,\"Y\",\"N\")","v":"N"}]
[null,null,null,null,null,null,null,null,null,null,{"$f":"IF(Table1[[#This Row],[Column3]]=\"T1013\",\"Y\",\"N\")","v":"N"},{"$f":"IF(Table1[[#This Row],[Column3]]=90785,\"Y\",\"N\")","v":"N"}]
[null,null,null,null,null,null,null,null,null,null,{"$f":"IF(Table1[[#This Row],[Column3]]=\"T1013\",\"Y\",\"N\")","v":"N"},{"$f":"IF(Table1[[#This Row],[Column3]]=90785,\"Y\",\"N\")","v":"N"}]
[null,null,null,null,null,null,null,null,null,null,{"$f":"IF(Table1[[#This Row],[Column3]]=\"T1013\",\"Y\",\"N\")","v":"N"},{"$f":"IF(Table1[[#This Row],[Column3]]=90785,\"Y\",\"N\")","v":"N"}]
[null,null,null,null,null,null,null,null,null,null,{"$f":"IF(Table1[[#This Row],[Column3]]=\"T1013\",\"Y\",\"N\")","v":"N"},{"$f":"IF(Table1[[#This Row],[Column3]]=90785,\"Y\",\"N\")","v":"N"}]
[null,null,null,null,null,null,null,null,null,null,{"$f":"IF(Table1[[#This Row],[Column3]]=\"T1013\",\"Y\",\"N\")","v":"N"},{"$f":"IF(Table1[[#This Row],[Column3]]=90785,\"Y\",\"N\")","v":"N"}]
[null,null,null,null,null,null,null,null,null,null,{"$f":"IF(Table1[[#This Row],[Column3]]=\"T1013\",\"Y\",\"N\")","v":"N"},{"$f":"IF(Table1[[#This Row],[Column3]]=90785,\"Y\",\"N\")","v":"N"}]
[null,null,null,null,null,null,null,null,null,null,{"$f":"IF(Table1[[#This Row],[Column3]]=\"T1013\",\"Y\",\"N\")","v":"N"},{"$f":"IF(Table1[[#This Row],[Column3]]=90785,\"Y\",\"N\")","v":"N"}]
[null,null,null,null,null,null,null,null,null,null,{"$f":"IF(Table1[[#This Row],[Column3]]=\"T1013\",\"Y\",\"N\")","v":"N"},{"$f":"IF(Table1[[#This Row],[Column3]]=90785,\"Y\",\"N\")","v":"N"}]
[null,null,null,null,null,null,null,null,null,null,{"$f":"IF(Table1[[#This Row],[Column3]]=\"T1013\",\"Y\",\"N\")","v":"N"},{"$f":"IF(Table1[[#This Row],[Column3]]=90785,\"Y\",\"N\")","v":"N"}]
[null,null,null,null,null,null,null,null,null,null,{"$f":"IF(Table1[[#This Row],[Column3]]=\"T1013\",\"Y\",\"N\")","v":"N"},{"$f":"IF(Table1[[#This Row],[Column3]]=90785,\"Y\",\"N\")","v":"N"}]
[null,null,null,null,null,null,null,null,null,null,{"$f":"IF(Table1[[#This Row],[Column3]]=\"T1013\",\"Y\",\"N\")","v":"N"},{"$f":"IF(Table1[[#This Row],[Column3]]=90785,\"Y\",\"N\")","v":"N"}]
[null,null,null,null,null,null,null,null,null,null,{"$f":"IF(Table1[[#This Row],[Column3]]=\"T1013\",\"Y\",\"N\")","v":"N"},{"$f":"IF(Table1[[#This Row],[Column3]]=90785,\"Y\",\"N\")","v":"N"}]
[null,null,null,null,null,null,null,null,null,null,{"$f":"IF(Table1[[#This Row],[Column3]]=\"T1013\",\"Y\",\"N\")","v":"N"},{"$f":"IF(Table1[[#This Row],[Column3]]=90785,\"Y\",\"N\")","v":"N"}]
[null,null,null,null,null,null,null,null,null,null,{"$f":"IF(Table1[[#This Row],[Column3]]=\"T1013\",\"Y\",\"N\")","v":"N"},{"$f":"IF(Table1[[#This Row],[Column3]]=90785,\"Y\",\"N\")","v":"N"}]
[null,null,null,null,null,null,null,null,null,null,{"$f":"IF(Table1[[#This Row],[Column3]]=\"T1013\",\"Y\",\"N\")","v":"N"},{"$f":"IF(Table1[[#This Row],[Column3]]=90785,\"Y\",\"N\")","v":"N"}]
[null,null,null,null,null,null,null,null,null,null,{"$f":"IF(Table1[[#This Row],[Column3]]=\"T1013\",\"Y\",\"N\")","v":"N"},{"$f":"IF(Table1[[#This Row],[Column3]]=90785,\"Y\",\"N\")","v":"N"}]
[null,null,null,null,null,null,null,null,null,null,{"$f":"IF(Table1[[#This Row],[Column3]]=\"T1013\",\"Y\",\"N\")","v":"N"},{"$f":"IF(Table1[[#This Row],[Column3]]=90785,\"Y\",\"N\")","v":"N"}]
[null,null,null,null,null,null,null,null,null,null,{"$f":"IF(Table1[[#This Row],[Column3]]=\"T1013\",\"Y\",\"N\")","v":"N"},{"$f":"IF(Table1[[#This Row],[Column3]]=90785,\"Y\",\"N\")","v":"N"}]
[null,null,null,null,null,null,null,null,null,null,{"$f":"IF(Table1[[#This Row],[Column3]]=\"T1013\",\"Y\",\"N\")","v":"N"},{"$f":"IF(Table1[[#This Row],[Column3]]=90785,\"Y\",\"N\")","v":"N"}]
[null,null,null,null,null,null,null,null,null,null,{"$f":"IF(Table1[[#This Row],[Column3]]=\"T1013\",\"Y\",\"N\")","v":"N"},{"$f":"IF(Table1[[#This Row],[Column3]]=90785,\"Y\",\"N\")","v":"N"}]
[null,null,null,null,null,null,null,null,null,null,{"$f":"IF(Table1[[#This Row],[Column3]]=\"T1013\",\"Y\",\"N\")","v":"N"},{"$f":"IF(Table1[[#This Row],[Column3]]=90785,\"Y\",\"N\")","v":"N"}]
[null,null,null,null,null,null,null,null,null,null,{"$f":"IF(Table1[[#This Row],[Column3]]=\"T1013\",\"Y\",\"N\")","v":"N"},{"$f":"IF(Table1[[#This Row],[Column3]]=90785,\"Y\",\"N\")","v":"N"}]
[null,null,null,null,null,null,null,null,null,null,{"$f":"IF(Table1[[#This Row],[Column3]]=\"T1013\",\"Y\",\"N\")","v":"N"},{"$f":"IF(Table1[[#This Row],[Column3]]=90785,\"Y\",\"N\")","v":"N"}]
[null,null,null,null,null,null,null,null,null,null,{"$f":"IF(Table1[[#This Row],[Column3]]=\"T1013\",\"Y\",\"N\")","v":"N"},{"$f":"IF(Table1[[#This Row],[Column3]]=90785,\"Y\",\"N\")","v":"N"}]
[null,null,null,null,null,null,null,null,null,null,{"$f":"IF(Table1[[#This Row],[Column3]]=\"T1013\",\"Y\",\"N\")","v":"N"},{"$f":"IF(Table1[[#This Row],[Column3]]=90785,\"Y\",\"N\")","v":"N"}]
[null,null,null,null,null,null,null,null,null,null,{"$f":"IF(Table1[[#This Row],[Column3]]=\"T1013\",\"Y\",\"N\")","v":"N"},{"$f":"IF(Table1[[#This Row],[Column3]]=90785,\"Y\",\"N\")","v":"N"}]
[null,null,null,null,null,null,null,null,null,null,{"$f":"IF(Table1[[#This Row],[Column3]]=\"T1013\",\"Y\",\"N\")","v":"N"},{"$f":"IF(Table1[[#This Row],[Column3]]=90785,\"Y\",\"N\")","v":"N"}]
[null,null,null,null,null,null,null,null,null,null,{"$f":"IF(Table1[[#This Row],[Column3]]=\"T1013\",\"Y\",\"N\")","v":"N"},{"$f":"IF(Table1[[#This Row],[Column3]]=90785,\"Y\",\"N\")","v":"N"}]
[null,null,null,null,null,null,null,null,null,null,{"$f":"IF(Table1[[#This Row],[Column3]]=\"T1013\",\"Y\",\"N\")","v":"N"},{"$f":"IF(Table1[[#This Row],[Column3]]=90785,\"Y\",\"N\")","v":"N"}]
[null,null,null,null,null,null,null,null,null,null,{"$f":"IF(Table1[[#This Row],[Column3]]=\"T1013\",\"Y\",\"N\")","v":"N"},{"$f":"IF(Table1[[#This Row],[Column3]]=90785,\"Y\",\"N\")","v":"N"}]
[null,null,null,null,null,null,null,null,null,null,{"$f":"IF(Table1[[#This Row],[Column3]]=\"T1013\",\"Y\",\"N\")","v":"N"},{"$f":"IF(Table1[[#This Row],[Column3]]=90785,\"Y\",\"N\")","v":"N"}]
[null,null,null,null,null,null,null,null,null,null,{"$f":"IF(Table1[[#This Row],[Column3]]=\"T1013\",\"Y\",\"N\")","v":"N"},{"$f":"IF(Table1[[#This Row],[Column3]]=90785,\"Y\",\"N\")","v":"N"}]
[null,null,null,null,null,null,null,null,null,null,{"$f":"IF(Table1[[#This Row],[Column3]]=\"T1013\",\"Y\",\"N\")","v":"N"},{"$f":"IF(Table1[[#This Row],[Column3]]=90785,\"Y\",\"N\")","v":"N"}]
[null,null,null,null,null,null,null,null,null,null,{"$f":"IF(Table1[[#This Row],[Column3]]=\"T1013\",\"Y\",\"N\")","v":"N"},{"$f":"IF(Table1[[#This Row],[Column3]]=90785,\"Y\",\"N\")","v":"N"}]
[null,null,null,null,null,null,null,null,null,null,{"$f":"IF(Table1[[#This Row],[Column3]]=\"T1013\",\"Y\",\"N\")","v":"N"},{"$f":"IF(Table1[[#This Row],[Column3]]=90785,\"Y\",\"N\")","v":"N"}]
[null,null,null,null,null,null,null,null,null,null,{"$f":"IF(Table1[[#This Row],[Column3]]=\"T1013\",\"Y\",\"N\")","v":"N"},{"$f":"IF(Table1[[#This Row],[Column3]]=90785,\"Y\",\"N\")","v":"N"}]
[null,null,null,null,null,null,null,null,null,null,{"$f":"IF(Table1[[#This Row],[Column3]]=\"T1013\",\"Y\",\"N\")","v":"N"},{"$f":"IF(Table1[[#This Row],[Column3]]=90785,\"Y\",\"N\")","v":"N"}]
[null,null,null,null,null,null,null,null,null,null,{"$f":"IF(Table1[[#This Row],[Column3]]=\"T1013\",\"Y\",\"N\")","v":"N"},{"$f":"IF(Table1[[#This Row],[Column3]]=90785,\"Y\",\"N\")","v":"N"}]
[null,null,null,null,null,null,null,null,null,null,{"$f":"IF(Table1[[#This Row],[Column3]]=\"T1013\",\"Y\",\"N\")","v":"N"},{"$f":"IF(Table1[[#This Row],[Column3]]=90785,\"Y\",\"N\")","v":"N"}]
[null,null,null,null,null,null,null,null,null,null,{"$f":"IF(Table1[[#This Row],[Column3]]=\"T1013\",\"Y\",\"N\")","v":"N"},{"$f":"IF(Table1[[#This Row],[Column3]]=90785,\"Y\",\"N\")","v":"N"}]
[null,null,null,null,null,null,null,null,null,null,{"$f":"IF(Table1[[#This Row],[Column3]]=\"T1013\",\"Y\",\"N\")","v":"N"},{"$f":"IF(Table1[[#This Row],[Column3]]=90785,\"Y\",\"N\")","v":"N"}]
[null,null,null,null,null,null,null,null,null,null,{"$f":"IF(Table1[[#This Row],[Column3]]=\"T1013\",\"Y\",\"N\")","v":"N"},{"$f":"IF(Table1[[#This Row],[Column3]]=90785,\"Y\",\"N\")","v":"N"}]
[null,null,null,null,null,null,null,null,null,null,{"$f":"IF(Table1[[#This Row],[Column3]]=\"T1013\",\"Y\",\"N\")","v":"N"},{"$f":"IF(Table1[[#This Row],[Column3]]=90785,\"Y\",\"N\")","v":"N"}]
[null,null,null,null,null,null,null,null,null,null,{"$f":"IF(Table1[[#This Row],[Column3]]=\"T1013\",\"Y\",\"N\")","v":"N"},{"$f":"IF(Table1[[#This Row],[Column3]]=90785,\"Y\",\"N\")","v":"N"}]
[null,null,null,null,null,null,null,null,null,null,{"$f":"IF(Table1[[#This Row],[Column3]]=\"T1013\",\"Y\",\"N\")","v":"N"},{"$f":"IF(Table1[[#This Row],[Column3]]=90785,\"Y\",\"N\")","v":"N"}]
[null,null,null,null,null,null,null,null,null,null,{"$f":"IF(Table1[[#This Row],[Column3]]=\"T1013\",\"Y\",\"N\")","v":"N"},{"$f":"IF(Table1[[#This Row],[Column3]]=90785,\"Y\",\"N\")","v":"N"}]
[null,null,null,null,null,null,null,null,null,null,{"$f":"IF(Table1[[#This Row],[Column3]]=\"T1013\",\"Y\",\"N\")","v":"N"},{"$f":"IF(Table1[[#This Row],[Column3]]=90785,\"Y\",\"N\")","v":"N"}]
[null,null,null,null,null,null,null,null,null,null,{"$f":"IF(Table1[[#This Row],[Column3]]=\"T1013\",\"Y\",\"N\")","v":"N"},{"$f":"IF(Table1[[#This Row],[Column3]]=90785,\"Y\",\"N\")","v":"N"}]
[null,null,null,null,null,null,null,null,null,null,{"$f":"IF(Table1[[#This Row],[Column3]]=\"T1013\",\"Y\",\"N\")","v":"N"},{"$f":"IF(Table1[[#This Row],[Column3]]=90785,\"Y\",\"N\")","v":"N"}]
[null,null,null,null,null,null,null,null,null,null,{"$f":"IF(Table1[[#This Row],[Column3]]=\"T1013\",\"Y\",\"N\")","v":"N"},{"$f":"IF(Table1[[#This Row],[Column3]]=90785,\"Y\",\"N\")","v":"N"}]
[null,null,null,null,null,null,null,null,null,null,{"$f":"IF(Table1[[#This Row],[Column3]]=\"T1013\",\"Y\",\"N\")","v":"N"},{"$f":"IF(Table1[[#This Row],[Column3]]=90785,\"Y\",\"N\")","v":"N"}]
[null,null,null,null,null,null,null,null,null,null,{"$f":"IF(Table1[[#This Row],[Column3]]=\"T1013\",\"Y\",\"N\")","v":"N"},{"$f":"IF(Table1[[#This Row],[Column3]]=90785,\"Y\",\"N\")","v":"N"}]
[null,null,null,null,null,null,null,null,null,null,{"$f":"IF(Table1[[#This Row],[Column3]]=\"T1013\",\"Y\",\"N\")","v":"N"},{"$f":"IF(Table1[[#This Row],[Column3]]=90785,\"Y\",\"N\")","v":"N"}]
[null,null,null,null,null,null,null,null,null,null,{"$f":"IF(Table1[[#This Row],[Column3]]=\"T1013\",\"Y\",\"N\")","v":"N"},{"$f":"IF(Table1[[#This Row],[Column3]]=90785,\"Y\",\"N\")","v":"N"}]
[null,null,null,null,null,null,null,null,null,null,{"$f":"IF(Table1[[#This Row],[Column3]]=\"T1013\",\"Y\",\"N\")","v":"N"},{"$f":"IF(Table1[[#This Row],[Column3]]=90785,\"Y\",\"N\")","v":"N"}]
[null,null,null,null,null,null,null,null,null,null,{"$f":"IF(Table1[[#This Row],[Column3]]=\"T1013\",\"Y\",\"N\")","v":"N"},{"$f":"IF(Table1[[#This Row],[Column3]]=90785,\"Y\",\"N\")","v":"N"}]
[null,null,null,null,null,null,null,null,null,null,{"$f":"IF(Table1[[#This Row],[Column3]]=\"T1013\",\"Y\",\"N\")","v":"N"},{"$f":"IF(Table1[[#This Row],[Column3]]=90785,\"Y\",\"N\")","v":"N"}]
[null,null,null,null,null,null,null,null,null,null,{"$f":"IF(Table1[[#This Row],[Column3]]=\"T1013\",\"Y\",\"N\")","v":"N"},{"$f":"IF(Table1[[#This Row],[Column3]]=90785,\"Y\",\"N\")","v":"N"}]
[null,null,null,null,null,null,null,null,null,null,{"$f":"IF(Table1[[#This Row],[Column3]]=\"T1013\",\"Y\",\"N\")","v":"N"},{"$f":"IF(Table1[[#This Row],[Column3]]=90785,\"Y\",\"N\")","v":"N"}]
[null,null,null,null,null,null,null,null,null,null,{"$f":"IF(Table1[[#This Row],[Column3]]=\"T1013\",\"Y\",\"N\")","v":"N"},{"$f":"IF(Table1[[#This Row],[Column3]]=90785,\"Y\",\"N\")","v":"N"}]
[null,null,null,null,null,null,null,null,null,null,{"$f":"IF(Table1[[#This Row],[Column3]]=\"T1013\",\"Y\",\"N\")","v":"N"},{"$f":"IF(Table1[[#This Row],[Column3]]=90785,\"Y\",\"N\")","v":"N"}]
[null,null,null,null,null,null,null,null,null,null,{"$f":"IF(Table1[[#This Row],[Column3]]=\"T1013\",\"Y\",\"N\")","v":"N"},{"$f":"IF(Table1[[#This Row],[Column3]]=90785,\"Y\",\"N\")","v":"N"}]
[null,null,null,null,null,null,null,null,null,null,{"$f":"IF(Table1[[#This Row],[Column3]]=\"T1013\",\"Y\",\"N\")","v":"N"},{"$f":"IF(Table1[[#This Row],[Column3]]=90785,\"Y\",\"N\")","v":"N"}]
[null,null,null,null,null,null,null,null,null,null,{"$f":"IF(Table1[[#This Row],[Column3]]=\"T1013\",\"Y\",\"N\")","v":"N"},{"$f":"IF(Table1[[#This Row],[Column3]]=90785,\"Y\",\"N\")","v":"N"}]
[null,null,null,null,null,null,null,null,null,null,{"$f":"IF(Table1[[#This Row],[Column3]]=\"T1013\",\"Y\",\"N\")","v":"N"},{"$f":"IF(Table1[[#This Row],[Column3]]=90785,\"Y\",\"N\")","v":"N"}]
[null,null,null,null,null,null,null,null,null,null,{"$f":"IF(Table1[[#This Row],[Column3]]=\"T1013\",\"Y\",\"N\")","v":"N"},{"$f":"IF(Table1[[#This Row],[Column3]]=90785,\"Y\",\"N\")","v":"N"}]
[null,null,null,null,null,null,null,null,null,null,{"$f":"IF(Table1[[#This Row],[Column3]]=\"T1013\",\"Y\",\"N\")","v":"N"},{"$f":"IF(Table1[[#This Row],[Column3]]=90785,\"Y\",\"N\")","v":"N"}]
[null,null,null,null,null,null,null,null,null,null,{"$f":"IF(Table1[[#This Row],[Column3]]=\"T1013\",\"Y\",\"N\")","v":"N"},{"$f":"IF(Table1[[#This Row],[Column3]]=90785,\"Y\",\"N\")","v":"N"}]
[null,null,null,null,null,null,null,null,null,null,{"$f":"IF(Table1[[#This Row],[Column3]]=\"T1013\",\"Y\",\"N\")","v":"N"},{"$f":"IF(Table1[[#This Row],[Column3]]=90785,\"Y\",\"N\")","v":"N"}]
[null,null,null,null,null,null,null,null,null,null,{"$f":"IF(Table1[[#This Row],[Column3]]=\"T1013\",\"Y\",\"N\")","v":"N"},{"$f":"IF(Table1[[#This Row],[Column3]]=90785,\"Y\",\"N\")","v":"N"}]
[null,null,null,null,null,null,null,null,null,null,{"$f":"IF(Table1[[#This Row],[Column3]]=\"T1013\",\"Y\",\"N\")","v":"N"},{"$f":"IF(Table1[[#This Row],[Column3]]=90785,\"Y\",\"N\")","v":"N"}]
[null,null,null,null,null,null,null,null,null,null,{"$f":"IF(Table1[[#This Row],[Column3]]=\"T1013\",\"Y\",\"N\")","v":"N"},{"$f":"IF(Table1[[#This Row],[Column3]]=90785,\"Y\",\"N\")","v":"N"}]
[null,null,null,null,null,null,null,null,null,null,{"$f":"IF(Table1[[#This Row],[Column3]]=\"T1013\",\"Y\",\"N\")","v":"N"},{"$f":"IF(Table1[[#This Row],[Column3]]=90785,\"Y\",\"N\")","v":"N"}]
[null,null,null,null,null,null,null,null,null,null,{"$f":"IF(Table1[[#This Row],[Column3]]=\"T1013\",\"Y\",\"N\")","v":"N"},{"$f":"IF(Table1[[#This Row],[Column3]]=90785,\"Y\",\"N\")","v":"N"}]
[null,null,null,null,null,null,null,null,null,null,{"$f":"IF(Table1[[#This Row],[Column3]]=\"T1013\",\"Y\",\"N\")","v":"N"},{"$f":"IF(Table1[[#This Row],[Column3]]=90785,\"Y\",\"N\")","v":"N"}]
[null,null,null,null,null,null,null,null,null,null,{"$f":"IF(Table1[[#This Row],[Column3]]=\"T1013\",\"Y\",\"N\")","v":"N"},{"$f":"IF(Table1[[#This Row],[Column3]]=90785,\"Y\",\"N\")","v":"N"}]
[null,null,null,null,null,null,null,null,null,null,{"$f":"IF(Table1[[#This Row],[Column3]]=\"T1013\",\"Y\",\"N\")","v":"N"},{"$f":"IF(Table1[[#This Row],[Column3]]=90785,\"Y\",\"N\")","v":"N"}]
[null,null,null,null,null,null,null,null,null,null,{"$f":"IF(Table1[[#This Row],[Column3]]=\"T1013\",\"Y\",\"N\")","v":"N"},{"$f":"IF(Table1[[#This Row],[Column3]]=90785,\"Y\",\"N\")","v":"N"}]
[null,null,null,null,null,null,null,null,null,null,{"$f":"IF(Table1[[#This Row],[Column3]]=\"T1013\",\"Y\",\"N\")","v":"N"},{"$f":"IF(Table1[[#This Row],[Column3]]=90785,\"Y\",\"N\")","v":"N"}]
[null,null,null,null,null,null,null,null,null,null,{"$f":"IF(Table1[[#This Row],[Column3]]=\"T1013\",\"Y\",\"N\")","v":"N"},{"$f":"IF(Table1[[#This Row],[Column3]]=90785,\"Y\",\"N\")","v":"N"}]
[null,null,null,null,null,null,null,null,null,null,{"$f":"IF(Table1[[#This Row],[Column3]]=\"T1013\",\"Y\",\"N\")","v":"N"},{"$f":"IF(Table1[[#This Row],[Column3]]=90785,\"Y\",\"N\")","v":"N"}]
[null,null,null,null,null,null,null,null,null,null,{"$f":"IF(Table1[[#This Row],[Column3]]=\"T1013\",\"Y\",\"N\")","v":"N"},{"$f":"IF(Table1[[#This Row],[Column3]]=90785,\"Y\",\"N\")","v":"N"}]
[null,null,null,null,null,null,null,null,null,null,{"$f":"IF(Table1[[#This Row],[Column3]]=\"T1013\",\"Y\",\"N\")","v":"N"},{"$f":"IF(Table1[[#This Row],[Column3]]=90785,\"Y\",\"N\")","v":"N"}]
[null,null,null,null,null,null,null,null,null,null,{"$f":"IF(Table1[[#This Row],[Column3]]=\"T1013\",\"Y\",\"N\")","v":"N"},{"$f":"IF(Table1[[#This Row],[Column3]]=90785,\"Y\",\"N\")","v":"N"}]
[null,null,null,null,null,null,null,null,null,null,{"$f":"IF(Table1[[#This Row],[Column3]]=\"T1013\",\"Y\",\"N\")","v":"N"},{"$f":"IF(Table1[[#This Row],[Column3]]=90785,\"Y\",\"N\")","v":"N"}]
[null,null,null,null,null,null,null,null,null,null,{"$f":"IF(Table1[[#This Row],[Column3]]=\"T1013\",\"Y\",\"N\")","v":"N"},{"$f":"IF(Table1[[#This Row],[Column3]]=90785,\"Y\",\"N\")","v":"N"}]
[null,null,null,null,null,null,null,null,null,null,{"$f":"IF(Table1[[#This Row],[Column3]]=\"T1013\",\"Y\",\"N\")","v":"N"},{"$f":"IF(Table1[[#This Row],[Column3]]=90785,\"Y\",\"N\")","v":"N"}]
[null,null,null,null,null,null,null,null,null,null,{"$f":"IF(Table1[[#This Row],[Column3]]=\"T1013\",\"Y\",\"N\")","v":"N"},{"$f":"IF(Table1[[#This Row],[Column3]]=90785,\"Y\",\"N\")","v":"N"}]
[null,null,null,null,null,null,null,null,null,null,{"$f":"IF(Table1[[#This Row],[Column3]]=\"T1013\",\"Y\",\"N\")","v":"N"},{"$f":"IF(Table1[[#This Row],[Column3]]=90785,\"Y\",\"N\")","v":"N"}]
[null,null,null,null,null,null,null,null,null,null,{"$f":"IF(Table1[[#This Row],[Column3]]=\"T1013\",\"Y\",\"N\")","v":"N"},{"$f":"IF(Table1[[#This Row],[Column3]]=90785,\"Y\",\"N\")","v":"N"}]
[null,null,null,null,null,null,null,null,null,null,{"$f":"IF(Table1[[#This Row],[Column3]]=\"T1013\",\"Y\",\"N\")","v":"N"},{"$f":"IF(Table1[[#This Row],[Column3]]=90785,\"Y\",\"N\")","v":"N"}]
[null,null,null,null,null,null,null,null,null,null,{"$f":"IF(Table1[[#This Row],[Column3]]=\"T1013\",\"Y\",\"N\")","v":"N"},{"$f":"IF(Table1[[#This Row],[Column3]]=90785,\"Y\",\"N\")","v":"N"}]
[null,null,null,null,null,null,null,null,null,null,{"$f":"IF(Table1[[#This Row],[Column3]]=\"T1013\",\"Y\",\"N\")","v":"N"},{"$f":"IF(Table1[[#This Row],[Column3]]=90785,\"Y\",\"N\")","v":"N"}]
[null,null,null,null,null,null,null,null,null,null,{"$f":"IF(Table1[[#This Row],[Column3]]=\"T1013\",\"Y\",\"N\")","v":"N"},{"$f":"IF(Table1[[#This Row],[Column3]]=90785,\"Y\",\"N\")","v":"N"}]
[null,null,null,null,null,null,null,null,null,null,{"$f":"IF(Table1[[#This Row],[Column3]]=\"T1013\",\"Y\",\"N\")","v":"N"},{"$f":"IF(Table1[[#This Row],[Column3]]=90785,\"Y\",\"N\")","v":"N"}]
[null,null,null,null,null,null,null,null,null,null,{"$f":"IF(Table1[[#This Row],[Column3]]=\"T1013\",\"Y\",\"N\")","v":"N"},{"$f":"IF(Table1[[#This Row],[Column3]]=90785,\"Y\",\"N\")","v":"N"}]
[null,null,null,null,null,null,null,null,null,null,{"$f":"IF(Table1[[#This Row],[Column3]]=\"T1013\",\"Y\",\"N\")","v":"N"},{"$f":"IF(Table1[[#This Row],[Column3]]=90785,\"Y\",\"N\")","v":"N"}]
[null,null,null,null,null,null,null,null,null,null,{"$f":"IF(Table1[[#This Row],[Column3]]=\"T1013\",\"Y\",\"N\")","v":"N"},{"$f":"IF(Table1[[#This Row],[Column3]]=90785,\"Y\",\"N\")","v":"N"}]
[null,null,null,null,null,null,null,null,null,null,{"$f":"IF(Table1[[#This Row],[Column3]]=\"T1013\",\"Y\",\"N\")","v":"N"},{"$f":"IF(Table1[[#This Row],[Column3]]=90785,\"Y\",\"N\")","v":"N"}]
[null,null,null,null,null,null,null,null,null,null,{"$f":"IF(Table1[[#This Row],[Column3]]=\"T1013\",\"Y\",\"N\")","v":"N"},{"$f":"IF(Table1[[#This Row],[Column3]]=90785,\"Y\",\"N\")","v":"N"}]
[null,null,null,null,null,null,null,null,null,null,{"$f":"IF(Table1[[#This Row],[Column3]]=\"T1013\",\"Y\",\"N\")","v":"N"},{"$f":"IF(Table1[[#This Row],[Column3]]=90785,\"Y\",\"N\")","v":"N"}]
[null,null,null,null,null,null,null,null,null,null,{"$f":"IF(Table1[[#This Row],[Column3]]=\"T1013\",\"Y\",\"N\")","v":"N"},{"$f":"IF(Table1[[#This Row],[Column3]]=90785,\"Y\",\"N\")","v":"N"}]
[null,null,null,null,null,null,null,null,null,null,{"$f":"IF(Table1[[#This Row],[Column3]]=\"T1013\",\"Y\",\"N\")","v":"N"},{"$f":"IF(Table1[[#This Row],[Column3]]=90785,\"Y\",\"N\")","v":"N"}]
[null,null,null,null,null,null,null,null,null,null,{"$f":"IF(Table1[[#This Row],[Column3]]=\"T1013\",\"Y\",\"N\")","v":"N"},{"$f":"IF(Table1[[#This Row],[Column3]]=90785,\"Y\",\"N\")","v":"N"}]
[null,null,null,null,null,null,null,null,null,null,{"$f":"IF(Table1[[#This Row],[Column3]]=\"T1013\",\"Y\",\"N\")","v":"N"},{"$f":"IF(Table1[[#This Row],[Column3]]=90785,\"Y\",\"N\")","v":"N"}]
[null,null,null,null,null,null,null,null,null,null,{"$f":"IF(Table1[[#This Row],[Column3]]=\"T1013\",\"Y\",\"N\")","v":"N"},{"$f":"IF(Table1[[#This Row],[Column3]]=90785,\"Y\",\"N\")","v":"N"}]
[null,null,null,null,null,null,null,null,null,null,{"$f":"IF(Table1[[#This Row],[Column3]]=\"T1013\",\"Y\",\"N\")","v":"N"},{"$f":"IF(Table1[[#This Row],[Column3]]=90785,\"Y\",\"N\")","v":"N"}]
[null,null,null,null,null,null,null,null,null,null,{"$f":"IF(Table1[[#This Row],[Column3]]=\"T1013\",\"Y\",\"N\")","v":"N"},{"$f":"IF(Table1[[#This Row],[Column3]]=90785,\"Y\",\"N\")","v":"N"}]
[null,null,null,null,null,null,null,null,null,null,{"$f":"IF(Table1[[#This Row],[Column3]]=\"T1013\",\"Y\",\"N\")","v":"N"},{"$f":"IF(Table1[[#This Row],[Column3]]=90785,\"Y\",\"N\")","v":"N"}]
[null,null,null,null,null,null,null,null,null,null,{"$f":"IF(Table1[[#This Row],[Column3]]=\"T1013\",\"Y\",\"N\")","v":"N"},{"$f":"IF(Table1[[#This Row],[Column3]]=90785,\"Y\",\"N\")","v":"N"}]
[null,null,null,null,null,null,null,null,null,null,{"$f":"IF(Table1[[#This Row],[Column3]]=\"T1013\",\"Y\",\"N\")","v":"N"},{"$f":"IF(Table1[[#This Row],[Column3]]=90785,\"Y\",\"N\")","v":"N"}]
[null,null,null,null,null,null,null,null,null,null,{"$f":"IF(Table1[[#This Row],[Column3]]=\"T1013\",\"Y\",\"N\")","v":"N"},{"$f":"IF(Table1[[#This Row],[Column3]]=90785,\"Y\",\"N\")","v":"N"}]
[null,null,null,null,null,null,null,null,null,null,{"$f":"IF(Table1[[#This Row],[Column3]]=\"T1013\",\"Y\",\"N\")","v":"N"},{"$f":"IF(Table1[[#This Row],[Column3]]=90785,\"Y\",\"N\")","v":"N"}]
[null,null,null,null,null,null,null,null,null,null,{"$f":"IF(Table1[[#This Row],[Column3]]=\"T1013\",\"Y\",\"N\")","v":"N"},{"$f":"IF(Table1[[#This Row],[Column3]]=90785,\"Y\",\"N\")","v":"N"}]
[null,null,null,null,null,null,null,null,null,null,{"$f":"IF(Table1[[#This Row],[Column3]]=\"T1013\",\"Y\",\"N\")","v":"N"},{"$f":"IF(Table1[[#This Row],[Column3]]=90785,\"Y\",\"N\")","v":"N"}]
[null,null,null,null,null,null,null,null,null,null,{"$f":"IF(Table1[[#This Row],[Column3]]=\"T1013\",\"Y\",\"N\")","v":"N"},{"$f":"IF(Table1[[#This Row],[Column3]]=90785,\"Y\",\"N\")","v":"N"}]
[null,null,null,null,null,null,null,null,null,null,{"$f":"IF(Table1[[#This Row],[Column3]]=\"T1013\",\"Y\",\"N\")","v":"N"},{"$f":"IF(Table1[[#This Row],[Column3]]=90785,\"Y\",\"N\")","v":"N"}]
[null,null,null,null,null,null,null,null,null,null,{"$f":"IF(Table1[[#This Row],[Column3]]=\"T1013\",\"Y\",\"N\")","v":"N"},{"$f":"IF(Table1[[#This Row],[Column3]]=90785,\"Y\",\"N\")","v":"N"}]
[null,null,null,null,null,null,null,null,null,null,{"$f":"IF(Table1[[#This Row],[Column3]]=\"T1013\",\"Y\",\"N\")","v":"N"},{"$f":"IF(Table1[[#This Row],[Column3]]=90785,\"Y\",\"N\")","v":"N"}]
[null,null,null,null,null,null,null,null,null,null,{"$f":"IF(Table1[[#This Row],[Column3]]=\"T1013\",\"Y\",\"N\")","v":"N"},{"$f":"IF(Table1[[#This Row],[Column3]]=90785,\"Y\",\"N\")","v":"N"}]
[null,null,null,null,null,null,null,null,null,null,{"$f":"IF(Table1[[#This Row],[Column3]]=\"T1013\",\"Y\",\"N\")","v":"N"},{"$f":"IF(Table1[[#This Row],[Column3]]=90785,\"Y\",\"N\")","v":"N"}]
[null,null,null,null,null,null,null,null,null,null,{"$f":"IF(Table1[[#This Row],[Column3]]=\"T1013\",\"Y\",\"N\")","v":"N"},{"$f":"IF(Table1[[#This Row],[Column3]]=90785,\"Y\",\"N\")","v":"N"}]
[null,null,null,null,null,null,null,null,null,null,{"$f":"IF(Table1[[#This Row],[Column3]]=\"T1013\",\"Y\",\"N\")","v":"N"},{"$f":"IF(Table1[[#This Row],[Column3]]=90785,\"Y\",\"N\")","v":"N"}]
[null,null,null,null,null,null,null,null,null,null,{"$f":"IF(Table1[[#This Row],[Column3]]=\"T1013\",\"Y\",\"N\")","v":"N"},{"$f":"IF(Table1[[#This Row],[Column3]]=90785,\"Y\",\"N\")","v":"N"}]
[null,null,null,null,null,null,null,null,null,null,{"$f":"IF(Table1[[#This Row],[Column3]]=\"T1013\",\"Y\",\"N\")","v":"N"},{"$f":"IF(Table1[[#This Row],[Column3]]=90785,\"Y\",\"N\")","v":"N"}]
[null,null,null,null,null,null,null,null,null,null,{"$f":"IF(Table1[[#This Row],[Column3]]=\"T1013\",\"Y\",\"N\")","v":"N"},{"$f":"IF(Table1[[#This Row],[Column3]]=90785,\"Y\",\"N\")","v":"N"}]
[null,null,null,null,null,null,null,null,null,null,{"$f":"IF(Table1[[#This Row],[Column3]]=\"T1013\",\"Y\",\"N\")","v":"N"},{"$f":"IF(Table1[[#This Row],[Column3]]=90785,\"Y\",\"N\")","v":"N"}]
[null,null,null,null,null,null,null,null,null,null,{"$f":"IF(Table1[[#This Row],[Column3]]=\"T1013\",\"Y\",\"N\")","v":"N"},{"$f":"IF(Table1[[#This Row],[Column3]]=90785,\"Y\",\"N\")","v":"N"}]
[null,null,null,null,null,null,null,null,null,null,{"$f":"IF(Table1[[#This Row],[Column3]]=\"T1013\",\"Y\",\"N\")","v":"N"},{"$f":"IF(Table1[[#This Row],[Column3]]=90785,\"Y\",\"N\")","v":"N"}]
[null,null,null,null,null,null,null,null,null,null,{"$f":"IF(Table1[[#This Row],[Column3]]=\"T1013\",\"Y\",\"N\")","v":"N"},{"$f":"IF(Table1[[#This Row],[Column3]]=90785,\"Y\",\"N\")","v":"N"}]
[null,null,null,null,null,null,null,null,null,null,{"$f":"IF(Table1[[#This Row],[Column3]]=\"T1013\",\"Y\",\"N\")","v":"N"},{"$f":"IF(Table1[[#This Row],[Column3]]=90785,\"Y\",\"N\")","v":"N"}]
[null,null,null,null,null,null,null,null,null,null,{"$f":"IF(Table1[[#This Row],[Column3]]=\"T1013\",\"Y\",\"N\")","v":"N"},{"$f":"IF(Table1[[#This Row],[Column3]]=90785,\"Y\",\"N\")","v":"N"}]
[null,null,null,null,null,null,null,null,null,null,{"$f":"IF(Table1[[#This Row],[Column3]]=\"T1013\",\"Y\",\"N\")","v":"N"},{"$f":"IF(Table1[[#This Row],[Column3]]=90785,\"Y\",\"N\")","v":"N"}]
[null,null,null,null,null,null,null,null,null,null,{"$f":"IF(Table1[[#This Row],[Column3]]=\"T1013\",\"Y\",\"N\")","v":"N"},{"$f":"IF(Table1[[#This Row],[Column3]]=90785,\"Y\",\"N\")","v":"N"}]
[null,null,null,null,null,null,null,null,null,null,{"$f":"IF(Table1[[#This Row],[Column3]]=\"T1013\",\"Y\",\"N\")","v":"N"},{"$f":"IF(Table1[[#This Row],[Column3]]=90785,\"Y\",\"N\")","v":"N"}]
[null,null,null,null,null,null,null,null,null,null,{"$f":"IF(Table1[[#This Row],[Column3]]=\"T1013\",\"Y\",\"N\")","v":"N"},{"$f":"IF(Table1[[#This Row],[Column3]]=90785,\"Y\",\"N\")","v":"N"}]
[null,null,null,null,null,null,null,null,null,null,{"$f":"IF(Table1[[#This Row],[Column3]]=\"T1013\",\"Y\",\"N\")","v":"N"},{"$f":"IF(Table1[[#This Row],[Column3]]=90785,\"Y\",\"N\")","v":"N"}]
[null,null,null,null,null,null,null,null,null,null,{"$f":"IF(Table1[[#This Row],[Column3]]=\"T1013\",\"Y\",\"N\")","v":"N"},{"$f":"IF(Table1[[#This Row],[Column3]]=90785,\"Y\",\"N\")","v":"N"}]
[null,null,null,null,null,null,null,null,null,null,{"$f":"IF(Table1[[#This Row],[Column3]]=\"T1013\",\"Y\",\"N\")","v":"N"},{"$f":"IF(Table1[[#This Row],[Column3]]=90785,\"Y\",\"N\")","v":"N"}]
[null,null,null,null,null,null,null,null,null,null,{"$f":"IF(Table1[[#This Row],[Column3]]=\"T1013\",\"Y\",\"N\")","v":"N"},{"$f":"IF(Table1[[#This Row],[Column3]]=90785,\"Y\",\"N\")","v":"N"}]
[null,null,null,null,null,null,null,null,null,null,{"$f":"IF(Table1[[#This Row],[Column3]]=\"T1013\",\"Y\",\"N\")","v":"N"},{"$f":"IF(Table1[[#This Row],[Column3]]=90785,\"Y\",\"N\")","v":"N"}]
[null,null,null,null,null,null,null,null,null,null,{"$f":"IF(Table1[[#This Row],[Column3]]=\"T1013\",\"Y\",\"N\")","v":"N"},{"$f":"IF(Table1[[#This Row],[Column3]]=90785,\"Y\",\"N\")","v":"N"}]
[null,null,null,null,null,null,null,null,null,null,{"$f":"IF(Table1[[#This Row],[Column3]]=\"T1013\",\"Y\",\"N\")","v":"N"},{"$f":"IF(Table1[[#This Row],[Column3]]=90785,\"Y\",\"N\")","v":"N"}]
[null,null,null,null,null,null,null,null,null,null,{"$f":"IF(Table1[[#This Row],[Column3]]=\"T1013\",\"Y\",\"N\")","v":"N"},{"$f":"IF(Table1[[#This Row],[Column3]]=90785,\"Y\",\"N\")","v":"N"}]
[null,null,null,null,null,null,null,null,null,null,{"$f":"IF(Table1[[#This Row],[Column3]]=\"T1013\",\"Y\",\"N\")","v":"N"},{"$f":"IF(Table1[[#This Row],[Column3]]=90785,\"Y\",\"N\")","v":"N"}]
[null,null,null,null,null,null,null,null,null,null,{"$f":"IF(Table1[[#This Row],[Column3]]=\"T1013\",\"Y\",\"N\")","v":"N"},{"$f":"IF(Table1[[#This Row],[Column3]]=90785,\"Y\",\"N\")","v":"N"}]
[null,null,null,null,null,null,null,null,null,null,{"$f":"IF(Table1[[#This Row],[Column3]]=\"T1013\",\"Y\",\"N\")","v":"N"},{"$f":"IF(Table1[[#This Row],[Column3]]=90785,\"Y\",\"N\")","v":"N"}]
[null,null,null,null,null,null,null,null,null,null,{"$f":"IF(Table1[[#This Row],[Column3]]=\"T1013\",\"Y\",\"N\")","v":"N"},{"$f":"IF(Table1[[#This Row],[Column3]]=90785,\"Y\",\"N\")","v":"N"}]
[null,null,null,null,null,null,null,null,null,null,{"$f":"IF(Table1[[#This Row],[Column3]]=\"T1013\",\"Y\",\"N\")","v":"N"},{"$f":"IF(Table1[[#This Row],[Column3]]=90785,\"Y\",\"N\")","v":"N"}]
[null,null,null,null,null,null,null,null,null,null,{"$f":"IF(Table1[[#This Row],[Column3]]=\"T1013\",\"Y\",\"N\")","v":"N"},{"$f":"IF(Table1[[#This Row],[Column3]]=90785,\"Y\",\"N\")","v":"N"}]
[null,null,null,null,null,null,null,null,null,null,{"$f":"IF(Table1[[#This Row],[Column3]]=\"T1013\",\"Y\",\"N\")","v":"N"},{"$f":"IF(Table1[[#This Row],[Column3]]=90785,\"Y\",\"N\")","v":"N"}]
[null,null,null,null,null,null,null,null,null,null,{"$f":"IF(Table1[[#This Row],[Column3]]=\"T1013\",\"Y\",\"N\")","v":"N"},{"$f":"IF(Table1[[#This Row],[Column3]]=90785,\"Y\",\"N\")","v":"N"}]
[null,null,null,null,null,null,null,null,null,null,{"$f":"IF(Table1[[#This Row],[Column3]]=\"T1013\",\"Y\",\"N\")","v":"N"},{"$f":"IF(Table1[[#This Row],[Column3]]=90785,\"Y\",\"N\")","v":"N"}]
[null,null,null,null,null,null,null,null,null,null,{"$f":"IF(Table1[[#This Row],[Column3]]=\"T1013\",\"Y\",\"N\")","v":"N"},{"$f":"IF(Table1[[#This Row],[Column3]]=90785,\"Y\",\"N\")","v":"N"}]
[null,null,null,null,null,null,null,null,null,null,{"$f":"IF(Table1[[#This Row],[Column3]]=\"T1013\",\"Y\",\"N\")","v":"N"},{"$f":"IF(Table1[[#This Row],[Column3]]=90785,\"Y\",\"N\")","v":"N"}]
[null,null,null,null,null,null,null,null,null,null,{"$f":"IF(Table1[[#This Row],[Column3]]=\"T1013\",\"Y\",\"N\")","v":"N"},{"$f":"IF(Table1[[#This Row],[Column3]]=90785,\"Y\",\"N\")","v":"N"}]
[null,null,null,null,null,null,null,null,null,null,{"$f":"IF(Table1[[#This Row],[Column3]]=\"T1013\",\"Y\",\"N\")","v":"N"},{"$f":"IF(Table1[[#This Row],[Column3]]=90785,\"Y\",\"N\")","v":"N"}]
[null,null,null,null,null,null,null,null,null,null,{"$f":"IF(Table1[[#This Row],[Column3]]=\"T1013\",\"Y\",\"N\")","v":"N"},{"$f":"IF(Table1[[#This Row],[Column3]]=90785,\"Y\",\"N\")","v":"N"}]
[null,null,null,null,null,null,null,null,null,null,{"$f":"IF(Table1[[#This Row],[Column3]]=\"T1013\",\"Y\",\"N\")","v":"N"},{"$f":"IF(Table1[[#This Row],[Column3]]=90785,\"Y\",\"N\")","v":"N"}]
[null,null,null,null,null,null,null,null,null,null,{"$f":"IF(Table1[[#This Row],[Column3]]=\"T1013\",\"Y\",\"N\")","v":"N"},{"$f":"IF(Table1[[#This Row],[Column3]]=90785,\"Y\",\"N\")","v":"N"}]
[null,null,null,null,null,null,null,null,null,null,{"$f":"IF(Table1[[#This Row],[Column3]]=\"T1013\",\"Y\",\"N\")","v":"N"},{"$f":"IF(Table1[[#This Row],[Column3]]=90785,\"Y\",\"N\")","v":"N"}]
[null,null,null,null,null,null,null,null,null,null,{"$f":"IF(Table1[[#This Row],[Column3]]=\"T1013\",\"Y\",\"N\")","v":"N"},{"$f":"IF(Table1[[#This Row],[Column3]]=90785,\"Y\",\"N\")","v":"N"}]
[null,null,null,null,null,null,null,null,null,null,{"$f":"IF(Table1[[#This Row],[Column3]]=\"T1013\",\"Y\",\"N\")","v":"N"},{"$f":"IF(Table1[[#This Row],[Column3]]=90785,\"Y\",\"N\")","v":"N"}]
[null,null,null,null,null,null,null,null,null,null,{"$f":"IF(Table1[[#This Row],[Column3]]=\"T1013\",\"Y\",\"N\")","v":"N"},{"$f":"IF(Table1[[#This Row],[Column3]]=90785,\"Y\",\"N\")","v":"N"}]
[null,null,null,null,null,null,null,null,null,null,{"$f":"IF(Table1[[#This Row],[Column3]]=\"T1013\",\"Y\",\"N\")","v":"N"},{"$f":"IF(Table1[[#This Row],[Column3]]=90785,\"Y\",\"N\")","v":"N"}]
[null,null,null,null,null,null,null,null,null,null,{"$f":"IF(Table1[[#This Row],[Column3]]=\"T1013\",\"Y\",\"N\")","v":"N"},{"$f":"IF(Table1[[#This Row],[Column3]]=90785,\"Y\",\"N\")","v":"N"}]
[null,null,null,null,null,null,null,null,null,null,{"$f":"IF(Table1[[#This Row],[Column3]]=\"T1013\",\"Y\",\"N\")","v":"N"},{"$f":"IF(Table1[[#This Row],[Column3]]=90785,\"Y\",\"N\")","v":"N"}]
[null,null,null,null,null,null,null,null,null,null,{"$f":"IF(Table1[[#This Row],[Column3]]=\"T1013\",\"Y\",\"N\")","v":"N"},{"$f":"IF(Table1[[#This Row],[Column3]]=90785,\"Y\",\"N\")","v":"N"}]
[null,null,null,null,null,null,null,null,null,null,{"$f":"IF(Table1[[#This Row],[Column3]]=\"T1013\",\"Y\",\"N\")","v":"N"},{"$f":"IF(Table1[[#This Row],[Column3]]=90785,\"Y\",\"N\")","v":"N"}]
[null,null,null,null,null,null,null,null,null,null,{"$f":"IF(Table1[[#This Row],[Column3]]=\"T1013\",\"Y\",\"N\")","v":"N"},{"$f":"IF(Table1[[#This Row],[Column3]]=90785,\"Y\",\"N\")","v":"N"}]
[null,null,null,null,null,null,null,null,null,null,{"$f":"IF(Table1[[#This Row],[Column3]]=\"T1013\",\"Y\",\"N\")","v":"N"},{"$f":"IF(Table1[[#This Row],[Column3]]=90785,\"Y\",\"N\")","v":"N"}]
[null,null,null,null,null,null,null,null,null,null,{"$f":"IF(Table1[[#This Row],[Column3]]=\"T1013\",\"Y\",\"N\")","v":"N"},{"$f":"IF(Table1[[#This Row],[Column3]]=90785,\"Y\",\"N\")","v":"N"}]
[null,null,null,null,null,null,null,null,null,null,{"$f":"IF(Table1[[#This Row],[Column3]]=\"T1013\",\"Y\",\"N\")","v":"N"},{"$f":"IF(Table1[[#This Row],[Column3]]=90785,\"Y\",\"N\")","v":"N"}]
[null,null,null,null,null,null,null,null,null,null,{"$f":"IF(Table1[[#This Row],[Column3]]=\"T1013\",\"Y\",\"N\")","v":"N"},{"$f":"IF(Table1[[#This Row],[Column3]]=90785,\"Y\",\"N\")","v":"N"}]
[null,null,null,null,null,null,null,null,null,null,{"$f":"IF(Table1[[#This Row],[Column3]]=\"T1013\",\"Y\",\"N\")","v":"N"},{"$f":"IF(Table1[[#This Row],[Column3]]=90785,\"Y\",\"N\")","v":"N"}]
[null,null,null,null,null,null,null,null,null,null,{"$f":"IF(Table1[[#This Row],[Column3]]=\"T1013\",\"Y\",\"N\")","v":"N"},{"$f":"IF(Table1[[#This Row],[Column3]]=90785,\"Y\",\"N\")","v":"N"}]
[null,null,null,null,null,null,null,null,null,null,{"$f":"IF(Table1[[#This Row],[Column3]]=\"T1013\",\"Y\",\"N\")","v":"N"},{"$f":"IF(Table1[[#This Row],[Column3]]=90785,\"Y\",\"N\")","v":"N"}]
[null,null,null,null,null,null,null,null,null,null,{"$f":"IF(Table1[[#This Row],[Column3]]=\"T1013\",\"Y\",\"N\")","v":"N"},{"$f":"IF(Table1[[#This Row],[Column3]]=90785,\"Y\",\"N\")","v":"N"}]
[null,null,null,null,null,null,null,null,null,null,{"$f":"IF(Table1[[#This Row],[Column3]]=\"T1013\",\"Y\",\"N\")","v":"N"},{"$f":"IF(Table1[[#This Row],[Column3]]=90785,\"Y\",\"N\")","v":"N"}]
[null,null,null,null,null,null,null,null,null,null,{"$f":"IF(Table1[[#This Row],[Column3]]=\"T1013\",\"Y\",\"N\")","v":"N"},{"$f":"IF(Table1[[#This Row],[Column3]]=90785,\"Y\",\"N\")","v":"N"}]
[null,null,null,null,null,null,null,null,null,null,{"$f":"IF(Table1[[#This Row],[Column3]]=\"T1013\",\"Y\",\"N\")","v":"N"},{"$f":"IF(Table1[[#This Row],[Column3]]=90785,\"Y\",\"N\")","v":"N"}]
[null,null,null,null,null,null,null,null,null,null,{"$f":"IF(Table1[[#This Row],[Column3]]=\"T1013\",\"Y\",\"N\")","v":"N"},{"$f":"IF(Table1[[#This Row],[Column3]]=90785,\"Y\",\"N\")","v":"N"}]
[null,null,null,null,null,null,null,null,null,null,{"$f":"IF(Table1[[#This Row],[Column3]]=\"T1013\",\"Y\",\"N\")","v":"N"},{"$f":"IF(Table1[[#This Row],[Column3]]=90785,\"Y\",\"N\")","v":"N"}]
[null,null,null,null,null,null,null,null,null,null,{"$f":"IF(Table1[[#This Row],[Column3]]=\"T1013\",\"Y\",\"N\")","v":"N"},{"$f":"IF(Table1[[#This Row],[Column3]]=90785,\"Y\",\"N\")","v":"N"}]
[null,null,null,null,null,null,null,null,null,null,{"$f":"IF(Table1[[#This Row],[Column3]]=\"T1013\",\"Y\",\"N\")","v":"N"},{"$f":"IF(Table1[[#This Row],[Column3]]=90785,\"Y\",\"N\")","v":"N"}]
[null,null,null,null,null,null,null,null,null,null,{"$f":"IF(Table1[[#This Row],[Column3]]=\"T1013\",\"Y\",\"N\")","v":"N"},{"$f":"IF(Table1[[#This Row],[Column3]]=90785,\"Y\",\"N\")","v":"N"}]
[null,null,null,null,null,null,null,null,null,null,{"$f":"IF(Table1[[#This Row],[Column3]]=\"T1013\",\"Y\",\"N\")","v":"N"},{"$f":"IF(Table1[[#This Row],[Column3]]=90785,\"Y\",\"N\")","v":"N"}]
[null,null,null,null,null,null,null,null,null,null,{"$f":"IF(Table1[[#This Row],[Column3]]=\"T1013\",\"Y\",\"N\")","v":"N"},{"$f":"IF(Table1[[#This Row],[Column3]]=90785,\"Y\",\"N\")","v":"N"}]
[null,null,null,null,null,null,null,null,null,null,{"$f":"IF(Table1[[#This Row],[Column3]]=\"T1013\",\"Y\",\"N\")","v":"N"},{"$f":"IF(Table1[[#This Row],[Column3]]=90785,\"Y\",\"N\")","v":"N"}]
[null,null,null,null,null,null,null,null,null,null,{"$f":"IF(Table1[[#This Row],[Column3]]=\"T1013\",\"Y\",\"N\")","v":"N"},{"$f":"IF(Table1[[#This Row],[Column3]]=90785,\"Y\",\"N\")","v":"N"}]
[null,null,null,null,null,null,null,null,null,null,{"$f":"IF(Table1[[#This Row],[Column3]]=\"T1013\",\"Y\",\"N\")","v":"N"},{"$f":"IF(Table1[[#This Row],[Column3]]=90785,\"Y\",\"N\")","v":"N"}]
[null,null,null,null,null,null,null,null,null,null,{"$f":"IF(Table1[[#This Row],[Column3]]=\"T1013\",\"Y\",\"N\")","v":"N"},{"$f":"IF(Table1[[#This Row],[Column3]]=90785,\"Y\",\"N\")","v":"N"}]
[null,null,null,null,null,null,null,null,null,null,{"$f":"IF(Table1[[#This Row],[Column3]]=\"T1013\",\"Y\",\"N\")","v":"N"},{"$f":"IF(Table1[[#This Row],[Column3]]=90785,\"Y\",\"N\")","v":"N"}]
[null,null,null,null,null,null,null,null,null,null,{"$f":"IF(Table1[[#This Row],[Column3]]=\"T1013\",\"Y\",\"N\")","v":"N"},{"$f":"IF(Table1[[#This Row],[Column3]]=90785,\"Y\",\"N\")","v":"N"}]
[null,null,null,null,null,null,null,null,null,null,{"$f":"IF(Table1[[#This Row],[Column3]]=\"T1013\",\"Y\",\"N\")","v":"N"},{"$f":"IF(Table1[[#This Row],[Column3]]=90785,\"Y\",\"N\")","v":"N"}]
[null,null,null,null,null,null,null,null,null,null,{"$f":"IF(Table1[[#This Row],[Column3]]=\"T1013\",\"Y\",\"N\")","v":"N"},{"$f":"IF(Table1[[#This Row],[Column3]]=90785,\"Y\",\"N\")","v":"N"}]
[null,null,null,null,null,null,null,null,null,null,{"$f":"IF(Table1[[#This Row],[Column3]]=\"T1013\",\"Y\",\"N\")","v":"N"},{"$f":"IF(Table1[[#This Row],[Column3]]=90785,\"Y\",\"N\")","v":"N"}]
[null,null,null,null,null,null,null,null,null,null,{"$f":"IF(Table1[[#This Row],[Column3]]=\"T1013\",\"Y\",\"N\")","v":"N"},{"$f":"IF(Table1[[#This Row],[Column3]]=90785,\"Y\",\"N\")","v":"N"}]
[null,null,null,null,null,null,null,null,null,null,{"$f":"IF(Table1[[#This Row],[Column3]]=\"T1013\",\"Y\",\"N\")","v":"N"},{"$f":"IF(Table1[[#This Row],[Column3]]=90785,\"Y\",\"N\")","v":"N"}]
[null,null,null,null,null,null,null,null,null,null,{"$f":"IF(Table1[[#This Row],[Column3]]=\"T1013\",\"Y\",\"N\")","v":"N"},{"$f":"IF(Table1[[#This Row],[Column3]]=90785,\"Y\",\"N\")","v":"N"}]
[null,null,null,null,null,null,null,null,null,null,{"$f":"IF(Table1[[#This Row],[Column3]]=\"T1013\",\"Y\",\"N\")","v":"N"},{"$f":"IF(Table1[[#This Row],[Column3]]=90785,\"Y\",\"N\")","v":"N"}]
[null,null,null,null,null,null,null,null,null,null,{"$f":"IF(Table1[[#This Row],[Column3]]=\"T1013\",\"Y\",\"N\")","v":"N"},{"$f":"IF(Table1[[#This Row],[Column3]]=90785,\"Y\",\"N\")","v":"N"}]
[null,null,null,null,null,null,null,null,null,null,{"$f":"IF(Table1[[#This Row],[Column3]]=\"T1013\",\"Y\",\"N\")","v":"N"},{"$f":"IF(Table1[[#This Row],[Column3]]=90785,\"Y\",\"N\")","v":"N"}]
[null,null,null,null,null,null,null,null,null,null,{"$f":"IF(Table1[[#This Row],[Column3]]=\"T1013\",\"Y\",\"N\")","v":"N"},{"$f":"IF(Table1[[#This Row],[Column3]]=90785,\"Y\",\"N\")","v":"N"}]
[null,null,null,null,null,null,null,null,null,null,{"$f":"IF(Table1[[#This Row],[Column3]]=\"T1013\",\"Y\",\"N\")","v":"N"},{"$f":"IF(Table1[[#This Row],[Column3]]=90785,\"Y\",\"N\")","v":"N"}]
[null,null,null,null,null,null,null,null,null,null,{"$f":"IF(Table1[[#This Row],[Column3]]=\"T1013\",\"Y\",\"N\")","v":"N"},{"$f":"IF(Table1[[#This Row],[Column3]]=90785,\"Y\",\"N\")","v":"N"}]
[null,null,null,null,null,null,null,null,null,null,{"$f":"IF(Table1[[#This Row],[Column3]]=\"T1013\",\"Y\",\"N\")","v":"N"},{"$f":"IF(Table1[[#This Row],[Column3]]=90785,\"Y\",\"N\")","v":"N"}]
[null,null,null,null,null,null,null,null,null,null,{"$f":"IF(Table1[[#This Row],[Column3]]=\"T1013\",\"Y\",\"N\")","v":"N"},{"$f":"IF(Table1[[#This Row],[Column3]]=90785,\"Y\",\"N\")","v":"N"}]
[null,null,null,null,null,null,null,null,null,null,{"$f":"IF(Table1[[#This Row],[Column3]]=\"T1013\",\"Y\",\"N\")","v":"N"},{"$f":"IF(Table1[[#This Row],[Column3]]=90785,\"Y\",\"N\")","v":"N"}]
[null,null,null,null,null,null,null,null,null,null,{"$f":"IF(Table1[[#This Row],[Column3]]=\"T1013\",\"Y\",\"N\")","v":"N"},{"$f":"IF(Table1[[#This Row],[Column3]]=90785,\"Y\",\"N\")","v":"N"}]
[null,null,null,null,null,null,null,null,null,null,{"$f":"IF(Table1[[#This Row],[Column3]]=\"T1013\",\"Y\",\"N\")","v":"N"},{"$f":"IF(Table1[[#This Row],[Column3]]=90785,\"Y\",\"N\")","v":"N"}]
[null,null,null,null,null,null,null,null,null,null,{"$f":"IF(Table1[[#This Row],[Column3]]=\"T1013\",\"Y\",\"N\")","v":"N"},{"$f":"IF(Table1[[#This Row],[Column3]]=90785,\"Y\",\"N\")","v":"N"}]
[null,null,null,null,null,null,null,null,null,null,{"$f":"IF(Table1[[#This Row],[Column3]]=\"T1013\",\"Y\",\"N\")","v":"N"},{"$f":"IF(Table1[[#This Row],[Column3]]=90785,\"Y\",\"N\")","v":"N"}]
[null,null,null,null,null,null,null,null,null,null,{"$f":"IF(Table1[[#This Row],[Column3]]=\"T1013\",\"Y\",\"N\")","v":"N"},{"$f":"IF(Table1[[#This Row],[Column3]]=90785,\"Y\",\"N\")","v":"N"}]
[null,null,null,null,null,null,null,null,null,null,{"$f":"IF(Table1[[#This Row],[Column3]]=\"T1013\",\"Y\",\"N\")","v":"N"},{"$f":"IF(Table1[[#This Row],[Column3]]=90785,\"Y\",\"N\")","v":"N"}]
[null,null,null,null,null,null,null,null,null,null,{"$f":"IF(Table1[[#This Row],[Column3]]=\"T1013\",\"Y\",\"N\")","v":"N"},{"$f":"IF(Table1[[#This Row],[Column3]]=90785,\"Y\",\"N\")","v":"N"}]
[null,null,null,null,null,null,null,null,null,null,{"$f":"IF(Table1[[#This Row],[Column3]]=\"T1013\",\"Y\",\"N\")","v":"N"},{"$f":"IF(Table1[[#This Row],[Column3]]=90785,\"Y\",\"N\")","v":"N"}]
[null,null,null,null,null,null,null,null,null,null,{"$f":"IF(Table1[[#This Row],[Column3]]=\"T1013\",\"Y\",\"N\")","v":"N"},{"$f":"IF(Table1[[#This Row],[Column3]]=90785,\"Y\",\"N\")","v":"N"}]
[null,null,null,null,null,null,null,null,null,null,{"$f":"IF(Table1[[#This Row],[Column3]]=\"T1013\",\"Y\",\"N\")","v":"N"},{"$f":"IF(Table1[[#This Row],[Column3]]=90785,\"Y\",\"N\")","v":"N"}]
[null,null,null,null,null,null,null,null,null,null,{"$f":"IF(Table1[[#This Row],[Column3]]=\"T1013\",\"Y\",\"N\")","v":"N"},{"$f":"IF(Table1[[#This Row],[Column3]]=90785,\"Y\",\"N\")","v":"N"}]
[null,null,null,null,null,null,null,null,null,null,{"$f":"IF(Table1[[#This Row],[Column3]]=\"T1013\",\"Y\",\"N\")","v":"N"},{"$f":"IF(Table1[[#This Row],[Column3]]=90785,\"Y\",\"N\")","v":"N"}]
[null,null,null,null,null,null,null,null,null,null,{"$f":"IF(Table1[[#This Row],[Column3]]=\"T1013\",\"Y\",\"N\")","v":"N"},{"$f":"IF(Table1[[#This Row],[Column3]]=90785,\"Y\",\"N\")","v":"N"}]
[null,null,null,null,null,null,null,null,null,null,{"$f":"IF(Table1[[#This Row],[Column3]]=\"T1013\",\"Y\",\"N\")","v":"N"},{"$f":"IF(Table1[[#This Row],[Column3]]=90785,\"Y\",\"N\")","v":"N"}]
[null,null,null,null,null,null,null,null,null,null,{"$f":"IF(Table1[[#This Row],[Column3]]=\"T1013\",\"Y\",\"N\")","v":"N"},{"$f":"IF(Table1[[#This Row],[Column3]]=90785,\"Y\",\"N\")","v":"N"}]
[null,null,null,null,null,null,null,null,null,null,{"$f":"IF(Table1[[#This Row],[Column3]]=\"T1013\",\"Y\",\"N\")","v":"N"},{"$f":"IF(Table1[[#This Row],[Column3]]=90785,\"Y\",\"N\")","v":"N"}]
[null,null,null,null,null,null,null,null,null,null,{"$f":"IF(Table1[[#This Row],[Column3]]=\"T1013\",\"Y\",\"N\")","v":"N"},{"$f":"IF(Table1[[#This Row],[Column3]]=90785,\"Y\",\"N\")","v":"N"}]
[null,null,null,null,null,null,null,null,null,null,{"$f":"IF(Table1[[#This Row],[Column3]]=\"T1013\",\"Y\",\"N\")","v":"N"},{"$f":"IF(Table1[[#This Row],[Column3]]=90785,\"Y\",\"N\")","v":"N"}]
[null,null,null,null,null,null,null,null,null,null,{"$f":"IF(Table1[[#This Row],[Column3]]=\"T1013\",\"Y\",\"N\")","v":"N"},{"$f":"IF(Table1[[#This Row],[Column3]]=90785,\"Y\",\"N\")","v":"N"}]
[null,null,null,null,null,null,null,null,null,null,{"$f":"IF(Table1[[#This Row],[Column3]]=\"T1013\",\"Y\",\"N\")","v":"N"},{"$f":"IF(Table1[[#This Row],[Column3]]=90785,\"Y\",\"N\")","v":"N"}]
[null,null,null,null,null,null,null,null,null,null,{"$f":"IF(Table1[[#This Row],[Column3]]=\"T1013\",\"Y\",\"N\")","v":"N"},{"$f":"IF(Table1[[#This Row],[Column3]]=90785,\"Y\",\"N\")","v":"N"}]
[null,null,null,null,null,null,null,null,null,null,{"$f":"IF(Table1[[#This Row],[Column3]]=\"T1013\",\"Y\",\"N\")","v":"N"},{"$f":"IF(Table1[[#This Row],[Column3]]=90785,\"Y\",\"N\")","v":"N"}]
[null,null,null,null,null,null,null,null,null,null,{"$f":"IF(Table1[[#This Row],[Column3]]=\"T1013\",\"Y\",\"N\")","v":"N"},{"$f":"IF(Table1[[#This Row],[Column3]]=90785,\"Y\",\"N\")","v":"N"}]
[null,null,null,null,null,null,null,null,null,null,{"$f":"IF(Table1[[#This Row],[Column3]]=\"T1013\",\"Y\",\"N\")","v":"N"},{"$f":"IF(Table1[[#This Row],[Column3]]=90785,\"Y\",\"N\")","v":"N"}]
[null,null,null,null,null,null,null,null,null,null,{"$f":"IF(Table1[[#This Row],[Column3]]=\"T1013\",\"Y\",\"N\")","v":"N"},{"$f":"IF(Table1[[#This Row],[Column3]]=90785,\"Y\",\"N\")","v":"N"}]
[null,null,null,null,null,null,null,null,null,null,{"$f":"IF(Table1[[#This Row],[Column3]]=\"T1013\",\"Y\",\"N\")","v":"N"},{"$f":"IF(Table1[[#This Row],[Column3]]=90785,\"Y\",\"N\")","v":"N"}]
[null,null,null,null,null,null,null,null,null,null,{"$f":"IF(Table1[[#This Row],[Column3]]=\"T1013\",\"Y\",\"N\")","v":"N"},{"$f":"IF(Table1[[#This Row],[Column3]]=90785,\"Y\",\"N\")","v":"N"}]
[null,null,null,null,null,null,null,null,null,null,{"$f":"IF(Table1[[#This Row],[Column3]]=\"T1013\",\"Y\",\"N\")","v":"N"},{"$f":"IF(Table1[[#This Row],[Column3]]=90785,\"Y\",\"N\")","v":"N"}]
[null,null,null,null,null,null,null,null,null,null,{"$f":"IF(Table1[[#This Row],[Column3]]=\"T1013\",\"Y\",\"N\")","v":"N"},{"$f":"IF(Table1[[#This Row],[Column3]]=90785,\"Y\",\"N\")","v":"N"}]
[null,null,null,null,null,null,null,null,null,null,{"$f":"IF(Table1[[#This Row],[Column3]]=\"T1013\",\"Y\",\"N\")","v":"N"},{"$f":"IF(Table1[[#This Row],[Column3]]=90785,\"Y\",\"N\")","v":"N"}]
[null,null,null,null,null,null,null,null,null,null,{"$f":"IF(Table1[[#This Row],[Column3]]=\"T1013\",\"Y\",\"N\")","v":"N"},{"$f":"IF(Table1[[#This Row],[Column3]]=90785,\"Y\",\"N\")","v":"N"}]
[null,null,null,null,null,null,null,null,null,null,{"$f":"IF(Table1[[#This Row],[Column3]]=\"T1013\",\"Y\",\"N\")","v":"N"},{"$f":"IF(Table1[[#This Row],[Column3]]=90785,\"Y\",\"N\")","v":"N"}]
[null,null,null,null,null,null,null,null,null,null,{"$f":"IF(Table1[[#This Row],[Column3]]=\"T1013\",\"Y\",\"N\")","v":"N"},{"$f":"IF(Table1[[#This Row],[Column3]]=90785,\"Y\",\"N\")","v":"N"}]
[null,null,null,null,null,null,null,null,null,null,{"$f":"IF(Table1[[#This Row],[Column3]]=\"T1013\",\"Y\",\"N\")","v":"N"},{"$f":"IF(Table1[[#This Row],[Column3]]=90785,\"Y\",\"N\")","v":"N"}]
[null,null,null,null,null,null,null,null,null,null,{"$f":"IF(Table1[[#This Row],[Column3]]=\"T1013\",\"Y\",\"N\")","v":"N"},{"$f":"IF(Table1[[#This Row],[Column3]]=90785,\"Y\",\"N\")","v":"N"}]
[null,null,null,null,null,null,null,null,null,null,{"$f":"IF(Table1[[#This Row],[Column3]]=\"T1013\",\"Y\",\"N\")","v":"N"},{"$f":"IF(Table1[[#This Row],[Column3]]=90785,\"Y\",\"N\")","v":"N"}]
[null,null,null,null,null,null,null,null,null,null,{"$f":"IF(Table1[[#This Row],[Column3]]=\"T1013\",\"Y\",\"N\")","v":"N"},{"$f":"IF(Table1[[#This Row],[Column3]]=90785,\"Y\",\"N\")","v":"N"}]
[null,null,null,null,null,null,null,null,null,null,{"$f":"IF(Table1[[#This Row],[Column3]]=\"T1013\",\"Y\",\"N\")","v":"N"},{"$f":"IF(Table1[[#This Row],[Column3]]=90785,\"Y\",\"N\")","v":"N"}]
[null,null,null,null,null,null,null,null,null,null,{"$f":"IF(Table1[[#This Row],[Column3]]=\"T1013\",\"Y\",\"N\")","v":"N"},{"$f":"IF(Table1[[#This Row],[Column3]]=90785,\"Y\",\"N\")","v":"N"}]
[null,null,null,null,null,null,null,null,null,null,{"$f":"IF(Table1[[#This Row],[Column3]]=\"T1013\",\"Y\",\"N\")","v":"N"},{"$f":"IF(Table1[[#This Row],[Column3]]=90785,\"Y\",\"N\")","v":"N"}]
[null,null,null,null,null,null,null,null,null,null,{"$f":"IF(Table1[[#This Row],[Column3]]=\"T1013\",\"Y\",\"N\")","v":"N"},{"$f":"IF(Table1[[#This Row],[Column3]]=90785,\"Y\",\"N\")","v":"N"}]
[null,null,null,null,null,null,null,null,null,null,{"$f":"IF(Table1[[#This Row],[Column3]]=\"T1013\",\"Y\",\"N\")","v":"N"},{"$f":"IF(Table1[[#This Row],[Column3]]=90785,\"Y\",\"N\")","v":"N"}]
[null,null,null,null,null,null,null,null,null,null,{"$f":"IF(Table1[[#This Row],[Column3]]=\"T1013\",\"Y\",\"N\")","v":"N"},{"$f":"IF(Table1[[#This Row],[Column3]]=90785,\"Y\",\"N\")","v":"N"}]
[null,null,null,null,null,null,null,null,null,null,{"$f":"IF(Table1[[#This Row],[Column3]]=\"T1013\",\"Y\",\"N\")","v":"N"},{"$f":"IF(Table1[[#This Row],[Column3]]=90785,\"Y\",\"N\")","v":"N"}]
[null,null,null,null,null,null,null,null,null,null,{"$f":"IF(Table1[[#This Row],[Column3]]=\"T1013\",\"Y\",\"N\")","v":"N"},{"$f":"IF(Table1[[#This Row],[Column3]]=90785,\"Y\",\"N\")","v":"N"}]
[null,null,null,null,null,null,null,null,null,null,{"$f":"IF(Table1[[#This Row],[Column3]]=\"T1013\",\"Y\",\"N\")","v":"N"},{"$f":"IF(Table1[[#This Row],[Column3]]=90785,\"Y\",\"N\")","v":"N"}]
[null,null,null,null,null,null,null,null,null,null,{"$f":"IF(Table1[[#This Row],[Column3]]=\"T1013\",\"Y\",\"N\")","v":"N"},{"$f":"IF(Table1[[#This Row],[Column3]]=90785,\"Y\",\"N\")","v":"N"}]
[null,null,null,null,null,null,null,null,null,null,{"$f":"IF(Table1[[#This Row],[Column3]]=\"T1013\",\"Y\",\"N\")","v":"N"},{"$f":"IF(Table1[[#This Row],[Column3]]=90785,\"Y\",\"N\")","v":"N"}]
[null,null,null,null,null,null,null,null,null,null,{"$f":"IF(Table1[[#This Row],[Column3]]=\"T1013\",\"Y\",\"N\")","v":"N"},{"$f":"IF(Table1[[#This Row],[Column3]]=90785,\"Y\",\"N\")","v":"N"}]
[null,null,null,null,null,null,null,null,null,null,{"$f":"IF(Table1[[#This Row],[Column3]]=\"T1013\",\"Y\",\"N\")","v":"N"},{"$f":"IF(Table1[[#This Row],[Column3]]=90785,\"Y\",\"N\")","v":"N"}]
[null,null,null,null,null,null,null,null,null,null,{"$f":"IF(Table1[[#This Row],[Column3]]=\"T1013\",\"Y\",\"N\")","v":"N"},{"$f":"IF(Table1[[#This Row],[Column3]]=90785,\"Y\",\"N\")","v":"N"}]
[null,null,null,null,null,null,null,null,null,null,{"$f":"IF(Table1[[#This Row],[Column3]]=\"T1013\",\"Y\",\"N\")","v":"N"},{"$f":"IF(Table1[[#This Row],[Column3]]=90785,\"Y\",\"N\")","v":"N"}]
[null,null,null,null,null,null,null,null,null,null,{"$f":"IF(Table1[[#This Row],[Column3]]=\"T1013\",\"Y\",\"N\")","v":"N"},{"$f":"IF(Table1[[#This Row],[Column3]]=90785,\"Y\",\"N\")","v":"N"}]
[null,null,null,null,null,null,null,null,null,null,{"$f":"IF(Table1[[#This Row],[Column3]]=\"T1013\",\"Y\",\"N\")","v":"N"},{"$f":"IF(Table1[[#This Row],[Column3]]=90785,\"Y\",\"N\")","v":"N"}]
[null,null,null,null,null,null,null,null,null,null,{"$f":"IF(Table1[[#This Row],[Column3]]=\"T1013\",\"Y\",\"N\")","v":"N"},{"$f":"IF(Table1[[#This Row],[Column3]]=90785,\"Y\",\"N\")","v":"N"}]
[null,null,null,null,null,null,null,null,null,null,{"$f":"IF(Table1[[#This Row],[Column3]]=\"T1013\",\"Y\",\"N\")","v":"N"},{"$f":"IF(Table1[[#This Row],[Column3]]=90785,\"Y\",\"N\")","v":"N"}]
[null,null,null,null,null,null,null,null,null,null,{"$f":"IF(Table1[[#This Row],[Column3]]=\"T1013\",\"Y\",\"N\")","v":"N"},{"$f":"IF(Table1[[#This Row],[Column3]]=90785,\"Y\",\"N\")","v":"N"}]
[null,null,null,null,null,null,null,null,null,null,{"$f":"IF(Table1[[#This Row],[Column3]]=\"T1013\",\"Y\",\"N\")","v":"N"},{"$f":"IF(Table1[[#This Row],[Column3]]=90785,\"Y\",\"N\")","v":"N"}]
[null,null,null,null,null,null,null,null,null,null,{"$f":"IF(Table1[[#This Row],[Column3]]=\"T1013\",\"Y\",\"N\")","v":"N"},{"$f":"IF(Table1[[#This Row],[Column3]]=90785,\"Y\",\"N\")","v":"N"}]
[null,null,null,null,null,null,null,null,null,null,{"$f":"IF(Table1[[#This Row],[Column3]]=\"T1013\",\"Y\",\"N\")","v":"N"},{"$f":"IF(Table1[[#This Row],[Column3]]=90785,\"Y\",\"N\")","v":"N"}]
[null,null,null,null,null,null,null,null,null,null,{"$f":"IF(Table1[[#This Row],[Column3]]=\"T1013\",\"Y\",\"N\")","v":"N"},{"$f":"IF(Table1[[#This Row],[Column3]]=90785,\"Y\",\"N\")","v":"N"}]
[null,null,null,null,null,null,null,null,null,null,{"$f":"IF(Table1[[#This Row],[Column3]]=\"T1013\",\"Y\",\"N\")","v":"N"},{"$f":"IF(Table1[[#This Row],[Column3]]=90785,\"Y\",\"N\")","v":"N"}]
[null,null,null,null,null,null,null,null,null,null,{"$f":"IF(Table1[[#This Row],[Column3]]=\"T1013\",\"Y\",\"N\")","v":"N"},{"$f":"IF(Table1[[#This Row],[Column3]]=90785,\"Y\",\"N\")","v":"N"}]
[null,null,null,null,null,null,null,null,null,null,{"$f":"IF(Table1[[#This Row],[Column3]]=\"T1013\",\"Y\",\"N\")","v":"N"},{"$f":"IF(Table1[[#This Row],[Column3]]=90785,\"Y\",\"N\")","v":"N"}]
[null,null,null,null,null,null,null,null,null,null,{"$f":"IF(Table1[[#This Row],[Column3]]=\"T1013\",\"Y\",\"N\")","v":"N"},{"$f":"IF(Table1[[#This Row],[Column3]]=90785,\"Y\",\"N\")","v":"N"}]
[null,null,null,null,null,null,null,null,null,null,{"$f":"IF(Table1[[#This Row],[Column3]]=\"T1013\",\"Y\",\"N\")","v":"N"},{"$f":"IF(Table1[[#This Row],[Column3]]=90785,\"Y\",\"N\")","v":"N"}]
[null,null,null,null,null,null,null,null,null,null,{"$f":"IF(Table1[[#This Row],[Column3]]=\"T1013\",\"Y\",\"N\")","v":"N"},{"$f":"IF(Table1[[#This Row],[Column3]]=90785,\"Y\",\"N\")","v":"N"}]
[null,null,null,null,null,null,null,null,null,null,{"$f":"IF(Table1[[#This Row],[Column3]]=\"T1013\",\"Y\",\"N\")","v":"N"},{"$f":"IF(Table1[[#This Row],[Column3]]=90785,\"Y\",\"N\")","v":"N"}]
[null,null,null,null,null,null,null,null,null,null,{"$f":"IF(Table1[[#This Row],[Column3]]=\"T1013\",\"Y\",\"N\")","v":"N"},{"$f":"IF(Table1[[#This Row],[Column3]]=90785,\"Y\",\"N\")","v":"N"}]
[null,null,null,null,null,null,null,null,null,null,{"$f":"IF(Table1[[#This Row],[Column3]]=\"T1013\",\"Y\",\"N\")","v":"N"},{"$f":"IF(Table1[[#This Row],[Column3]]=90785,\"Y\",\"N\")","v":"N"}]
[null,null,null,null,null,null,null,null,null,null,{"$f":"IF(Table1[[#This Row],[Column3]]=\"T1013\",\"Y\",\"N\")","v":"N"},{"$f":"IF(Table1[[#This Row],[Column3]]=90785,\"Y\",\"N\")","v":"N"}]
[null,null,null,null,null,null,null,null,null,null,{"$f":"IF(Table1[[#This Row],[Column3]]=\"T1013\",\"Y\",\"N\")","v":"N"},{"$f":"IF(Table1[[#This Row],[Column3]]=90785,\"Y\",\"N\")","v":"N"}]
[null,null,null,null,null,null,null,null,null,null,{"$f":"IF(Table1[[#This Row],[Column3]]=\"T1013\",\"Y\",\"N\")","v":"N"},{"$f":"IF(Table1[[#This Row],[Column3]]=90785,\"Y\",\"N\")","v":"N"}]
[null,null,null,null,null,null,null,null,null,null,{"$f":"IF(Table1[[#This Row],[Column3]]=\"T1013\",\"Y\",\"N\")","v":"N"},{"$f":"IF(Table1[[#This Row],[Column3]]=90785,\"Y\",\"N\")","v":"N"}]
[null,null,null,null,null,null,null,null,null,null,{"$f":"IF(Table1[[#This Row],[Column3]]=\"T1013\",\"Y\",\"N\")","v":"N"},{"$f":"IF(Table1[[#This Row],[Column3]]=90785,\"Y\",\"N\")","v":"N"}]
[null,null,null,null,null,null,null,null,null,null,{"$f":"IF(Table1[[#This Row],[Column3]]=\"T1013\",\"Y\",\"N\")","v":"N"},{"$f":"IF(Table1[[#This Row],[Column3]]=90785,\"Y\",\"N\")","v":"N"}]
[null,null,null,null,null,null,null,null,null,null,{"$f":"IF(Table1[[#This Row],[Column3]]=\"T1013\",\"Y\",\"N\")","v":"N"},{"$f":"IF(Table1[[#This Row],[Column3]]=90785,\"Y\",\"N\")","v":"N"}]
[null,null,null,null,null,null,null,null,null,null,{"$f":"IF(Table1[[#This Row],[Column3]]=\"T1013\",\"Y\",\"N\")","v":"N"},{"$f":"IF(Table1[[#This Row],[Column3]]=90785,\"Y\",\"N\")","v":"N"}]
[null,null,null,null,null,null,null,null,null,null,{"$f":"IF(Table1[[#This Row],[Column3]]=\"T1013\",\"Y\",\"N\")","v":"N"},{"$f":"IF(Table1[[#This Row],[Column3]]=90785,\"Y\",\"N\")","v":"N"}]
[null,null,null,null,null,null,null,null,null,null,{"$f":"IF(Table1[[#This Row],[Column3]]=\"T1013\",\"Y\",\"N\")","v":"N"},{"$f":"IF(Table1[[#This Row],[Column3]]=90785,\"Y\",\"N\")","v":"N"}]
[null,null,null,null,null,null,null,null,null,null,{"$f":"IF(Table1[[#This Row],[Column3]]=\"T1013\",\"Y\",\"N\")","v":"N"},{"$f":"IF(Table1[[#This Row],[Column3]]=90785,\"Y\",\"N\")","v":"N"}]
[null,null,null,null,null,null,null,null,null,null,{"$f":"IF(Table1[[#This Row],[Column3]]=\"T1013\",\"Y\",\"N\")","v":"N"},{"$f":"IF(Table1[[#This Row],[Column3]]=90785,\"Y\",\"N\")","v":"N"}]
[null,null,null,null,null,null,null,null,null,null,{"$f":"IF(Table1[[#This Row],[Column3]]=\"T1013\",\"Y\",\"N\")","v":"N"},{"$f":"IF(Table1[[#This Row],[Column3]]=90785,\"Y\",\"N\")","v":"N"}]
[null,null,null,null,null,null,null,null,null,null,{"$f":"IF(Table1[[#This Row],[Column3]]=\"T1013\",\"Y\",\"N\")","v":"N"},{"$f":"IF(Table1[[#This Row],[Column3]]=90785,\"Y\",\"N\")","v":"N"}]
[null,null,null,null,null,null,null,null,null,null,{"$f":"IF(Table1[[#This Row],[Column3]]=\"T1013\",\"Y\",\"N\")","v":"N"},{"$f":"IF(Table1[[#This Row],[Column3]]=90785,\"Y\",\"N\")","v":"N"}]
[null,null,null,null,null,null,null,null,null,null,{"$f":"IF(Table1[[#This Row],[Column3]]=\"T1013\",\"Y\",\"N\")","v":"N"},{"$f":"IF(Table1[[#This Row],[Column3]]=90785,\"Y\",\"N\")","v":"N"}]
[null,null,null,null,null,null,null,null,null,null,{"$f":"IF(Table1[[#This Row],[Column3]]=\"T1013\",\"Y\",\"N\")","v":"N"},{"$f":"IF(Table1[[#This Row],[Column3]]=90785,\"Y\",\"N\")","v":"N"}]
[null,null,null,null,null,null,null,null,null,null,{"$f":"IF(Table1[[#This Row],[Column3]]=\"T1013\",\"Y\",\"N\")","v":"N"},{"$f":"IF(Table1[[#This Row],[Column3]]=90785,\"Y\",\"N\")","v":"N"}]
[null,null,null,null,null,null,null,null,null,null,{"$f":"IF(Table1[[#This Row],[Column3]]=\"T1013\",\"Y\",\"N\")","v":"N"},{"$f":"IF(Table1[[#This Row],[Column3]]=90785,\"Y\",\"N\")","v":"N"}]
[null,null,null,null,null,null,null,null,null,null,{"$f":"IF(Table1[[#This Row],[Column3]]=\"T1013\",\"Y\",\"N\")","v":"N"},{"$f":"IF(Table1[[#This Row],[Column3]]=90785,\"Y\",\"N\")","v":"N"}]
[null,null,null,null,null,null,null,null,null,null,{"$f":"IF(Table1[[#This Row],[Column3]]=\"T1013\",\"Y\",\"N\")","v":"N"},{"$f":"IF(Table1[[#This Row],[Column3]]=90785,\"Y\",\"N\")","v":"N"}]
[null,null,null,null,null,null,null,null,null,null,{"$f":"IF(Table1[[#This Row],[Column3]]=\"T1013\",\"Y\",\"N\")","v":"N"},{"$f":"IF(Table1[[#This Row],[Column3]]=90785,\"Y\",\"N\")","v":"N"}]
[null,null,null,null,null,null,null,null,null,null,{"$f":"IF(Table1[[#This Row],[Column3]]=\"T1013\",\"Y\",\"N\")","v":"N"},{"$f":"IF(Table1[[#This Row],[Column3]]=90785,\"Y\",\"N\")","v":"N"}]
[null,null,null,null,null,null,null,null,null,null,{"$f":"IF(Table1[[#This Row],[Column3]]=\"T1013\",\"Y\",\"N\")","v":"N"},{"$f":"IF(Table1[[#This Row],[Column3]]=90785,\"Y\",\"N\")","v":"N"}]
[null,null,null,null,null,null,null,null,null,null,{"$f":"IF(Table1[[#This Row],[Column3]]=\"T1013\",\"Y\",\"N\")","v":"N"},{"$f":"IF(Table1[[#This Row],[Column3]]=90785,\"Y\",\"N\")","v":"N"}]
[null,null,null,null,null,null,null,null,null,null,{"$f":"IF(Table1[[#This Row],[Column3]]=\"T1013\",\"Y\",\"N\")","v":"N"},{"$f":"IF(Table1[[#This Row],[Column3]]=90785,\"Y\",\"N\")","v":"N"}]
[null,null,null,null,null,null,null,null,null,null,{"$f":"IF(Table1[[#This Row],[Column3]]=\"T1013\",\"Y\",\"N\")","v":"N"},{"$f":"IF(Table1[[#This Row],[Column3]]=90785,\"Y\",\"N\")","v":"N"}]
[null,null,null,null,null,null,null,null,null,null,{"$f":"IF(Table1[[#This Row],[Column3]]=\"T1013\",\"Y\",\"N\")","v":"N"},{"$f":"IF(Table1[[#This Row],[Column3]]=90785,\"Y\",\"N\")","v":"N"}]
[null,null,null,null,null,null,null,null,null,null,{"$f":"IF(Table1[[#This Row],[Column3]]=\"T1013\",\"Y\",\"N\")","v":"N"},{"$f":"IF(Table1[[#This Row],[Column3]]=90785,\"Y\",\"N\")","v":"N"}]
[null,null,null,null,null,null,null,null,null,null,{"$f":"IF(Table1[[#This Row],[Column3]]=\"T1013\",\"Y\",\"N\")","v":"N"},{"$f":"IF(Table1[[#This Row],[Column3]]=90785,\"Y\",\"N\")","v":"N"}]
[null,null,null,null,null,null,null,null,null,null,{"$f":"IF(Table1[[#This Row],[Column3]]=\"T1013\",\"Y\",\"N\")","v":"N"},{"$f":"IF(Table1[[#This Row],[Column3]]=90785,\"Y\",\"N\")","v":"N"}]
[null,null,null,null,null,null,null,null,null,null,{"$f":"IF(Table1[[#This Row],[Column3]]=\"T1013\",\"Y\",\"N\")","v":"N"},{"$f":"IF(Table1[[#This Row],[Column3]]=90785,\"Y\",\"N\")","v":"N"}]
[null,null,null,null,null,null,null,null,null,null,{"$f":"IF(Table1[[#This Row],[Column3]]=\"T1013\",\"Y\",\"N\")","v":"N"},{"$f":"IF(Table1[[#This Row],[Column3]]=90785,\"Y\",\"N\")","v":"N"}]
[null,null,null,null,null,null,null,null,null,null,{"$f":"IF(Table1[[#This Row],[Column3]]=\"T1013\",\"Y\",\"N\")","v":"N"},{"$f":"IF(Table1[[#This Row],[Column3]]=90785,\"Y\",\"N\")","v":"N"}]
[null,null,null,null,null,null,null,null,null,null,{"$f":"IF(Table1[[#This Row],[Column3]]=\"T1013\",\"Y\",\"N\")","v":"N"},{"$f":"IF(Table1[[#This Row],[Column3]]=90785,\"Y\",\"N\")","v":"N"}]
[null,null,null,null,null,null,null,null,null,null,{"$f":"IF(Table1[[#This Row],[Column3]]=\"T1013\",\"Y\",\"N\")","v":"N"},{"$f":"IF(Table1[[#This Row],[Column3]]=90785,\"Y\",\"N\")","v":"N"}]
[null,null,null,null,null,null,null,null,null,null,{"$f":"IF(Table1[[#This Row],[Column3]]=\"T1013\",\"Y\",\"N\")","v":"N"},{"$f":"IF(Table1[[#This Row],[Column3]]=90785,\"Y\",\"N\")","v":"N"}]
[null,null,null,null,null,null,null,null,null,null,{"$f":"IF(Table1[[#This Row],[Column3]]=\"T1013\",\"Y\",\"N\")","v":"N"},{"$f":"IF(Table1[[#This Row],[Column3]]=90785,\"Y\",\"N\")","v":"N"}]
[null,null,null,null,null,null,null,null,null,null,{"$f":"IF(Table1[[#This Row],[Column3]]=\"T1013\",\"Y\",\"N\")","v":"N"},{"$f":"IF(Table1[[#This Row],[Column3]]=90785,\"Y\",\"N\")","v":"N"}]
[null,null,null,null,null,null,null,null,null,null,{"$f":"IF(Table1[[#This Row],[Column3]]=\"T1013\",\"Y\",\"N\")","v":"N"},{"$f":"IF(Table1[[#This Row],[Column3]]=90785,\"Y\",\"N\")","v":"N"}]
[null,null,null,null,null,null,null,null,null,null,{"$f":"IF(Table1[[#This Row],[Column3]]=\"T1013\",\"Y\",\"N\")","v":"N"},{"$f":"IF(Table1[[#This Row],[Column3]]=90785,\"Y\",\"N\")","v":"N"}]
[null,null,null,null,null,null,null,null,null,null,{"$f":"IF(Table1[[#This Row],[Column3]]=\"T1013\",\"Y\",\"N\")","v":"N"},{"$f":"IF(Table1[[#This Row],[Column3]]=90785,\"Y\",\"N\")","v":"N"}]
[null,null,null,null,null,null,null,null,null,null,{"$f":"IF(Table1[[#This Row],[Column3]]=\"T1013\",\"Y\",\"N\")","v":"N"},{"$f":"IF(Table1[[#This Row],[Column3]]=90785,\"Y\",\"N\")","v":"N"}]
[null,null,null,null,null,null,null,null,null,null,{"$f":"IF(Table1[[#This Row],[Column3]]=\"T1013\",\"Y\",\"N\")","v":"N"},{"$f":"IF(Table1[[#This Row],[Column3]]=90785,\"Y\",\"N\")","v":"N"}]
[null,null,null,null,null,null,null,null,null,null,{"$f":"IF(Table1[[#This Row],[Column3]]=\"T1013\",\"Y\",\"N\")","v":"N"},{"$f":"IF(Table1[[#This Row],[Column3]]=90785,\"Y\",\"N\")","v":"N"}]
[null,null,null,null,null,null,null,null,null,null,{"$f":"IF(Table1[[#This Row],[Column3]]=\"T1013\",\"Y\",\"N\")","v":"N"},{"$f":"IF(Table1[[#This Row],[Column3]]=90785,\"Y\",\"N\")","v":"N"}]
[null,null,null,null,null,null,null,null,null,null,{"$f":"IF(Table1[[#This Row],[Column3]]=\"T1013\",\"Y\",\"N\")","v":"N"},{"$f":"IF(Table1[[#This Row],[Column3]]=90785,\"Y\",\"N\")","v":"N"}]
[null,null,null,null,null,null,null,null,null,null,{"$f":"IF(Table1[[#This Row],[Column3]]=\"T1013\",\"Y\",\"N\")","v":"N"},{"$f":"IF(Table1[[#This Row],[Column3]]=90785,\"Y\",\"N\")","v":"N"}]
[null,null,null,null,null,null,null,null,null,null,{"$f":"IF(Table1[[#This Row],[Column3]]=\"T1013\",\"Y\",\"N\")","v":"N"},{"$f":"IF(Table1[[#This Row],[Column3]]=90785,\"Y\",\"N\")","v":"N"}]
[null,null,null,null,null,null,null,null,null,null,{"$f":"IF(Table1[[#This Row],[Column3]]=\"T1013\",\"Y\",\"N\")","v":"N"},{"$f":"IF(Table1[[#This Row],[Column3]]=90785,\"Y\",\"N\")","v":"N"}]
[null,null,null,null,null,null,null,null,null,null,{"$f":"IF(Table1[[#This Row],[Column3]]=\"T1013\",\"Y\",\"N\")","v":"N"},{"$f":"IF(Table1[[#This Row],[Column3]]=90785,\"Y\",\"N\")","v":"N"}]
[null,null,null,null,null,null,null,null,null,null,{"$f":"IF(Table1[[#This Row],[Column3]]=\"T1013\",\"Y\",\"N\")","v":"N"},{"$f":"IF(Table1[[#This Row],[Column3]]=90785,\"Y\",\"N\")","v":"N"}]
[null,null,null,null,null,null,null,null,null,null,{"$f":"IF(Table1[[#This Row],[Column3]]=\"T1013\",\"Y\",\"N\")","v":"N"},{"$f":"IF(Table1[[#This Row],[Column3]]=90785,\"Y\",\"N\")","v":"N"}]
[null,null,null,null,null,null,null,null,null,null,{"$f":"IF(Table1[[#This Row],[Column3]]=\"T1013\",\"Y\",\"N\")","v":"N"},{"$f":"IF(Table1[[#This Row],[Column3]]=90785,\"Y\",\"N\")","v":"N"}]
[null,null,null,null,null,null,null,null,null,null,{"$f":"IF(Table1[[#This Row],[Column3]]=\"T1013\",\"Y\",\"N\")","v":"N"},{"$f":"IF(Table1[[#This Row],[Column3]]=90785,\"Y\",\"N\")","v":"N"}]
[null,null,null,null,null,null,null,null,null,null,{"$f":"IF(Table1[[#This Row],[Column3]]=\"T1013\",\"Y\",\"N\")","v":"N"},{"$f":"IF(Table1[[#This Row],[Column3]]=90785,\"Y\",\"N\")","v":"N"}]
[null,null,null,null,null,null,null,null,null,null,{"$f":"IF(Table1[[#This Row],[Column3]]=\"T1013\",\"Y\",\"N\")","v":"N"},{"$f":"IF(Table1[[#This Row],[Column3]]=90785,\"Y\",\"N\")","v":"N"}]
[null,null,null,null,null,null,null,null,null,null,{"$f":"IF(Table1[[#This Row],[Column3]]=\"T1013\",\"Y\",\"N\")","v":"N"},{"$f":"IF(Table1[[#This Row],[Column3]]=90785,\"Y\",\"N\")","v":"N"}]
[null,null,null,null,null,null,null,null,null,null,{"$f":"IF(Table1[[#This Row],[Column3]]=\"T1013\",\"Y\",\"N\")","v":"N"},{"$f":"IF(Table1[[#This Row],[Column3]]=90785,\"Y\",\"N\")","v":"N"}]
[null,null,null,null,null,null,null,null,null,null,{"$f":"IF(Table1[[#This Row],[Column3]]=\"T1013\",\"Y\",\"N\")","v":"N"},{"$f":"IF(Table1[[#This Row],[Column3]]=90785,\"Y\",\"N\")","v":"N"}]
[null,null,null,null,null,null,null,null,null,null,{"$f":"IF(Table1[[#This Row],[Column3]]=\"T1013\",\"Y\",\"N\")","v":"N"},{"$f":"IF(Table1[[#This Row],[Column3]]=90785,\"Y\",\"N\")","v":"N"}]
[null,null,null,null,null,null,null,null,null,null,{"$f":"IF(Table1[[#This Row],[Column3]]=\"T1013\",\"Y\",\"N\")","v":"N"},{"$f":"IF(Table1[[#This Row],[Column3]]=90785,\"Y\",\"N\")","v":"N"}]
[null,null,null,null,null,null,null,null,null,null,{"$f":"IF(Table1[[#This Row],[Column3]]=\"T1013\",\"Y\",\"N\")","v":"N"},{"$f":"IF(Table1[[#This Row],[Column3]]=90785,\"Y\",\"N\")","v":"N"}]
[null,null,null,null,null,null,null,null,null,null,{"$f":"IF(Table1[[#This Row],[Column3]]=\"T1013\",\"Y\",\"N\")","v":"N"},{"$f":"IF(Table1[[#This Row],[Column3]]=90785,\"Y\",\"N\")","v":"N"}]
[null,null,null,null,null,null,null,null,null,null,{"$f":"IF(Table1[[#This Row],[Column3]]=\"T1013\",\"Y\",\"N\")","v":"N"},{"$f":"IF(Table1[[#This Row],[Column3]]=90785,\"Y\",\"N\")","v":"N"}]
[null,null,null,null,null,null,null,null,null,null,{"$f":"IF(Table1[[#This Row],[Column3]]=\"T1013\",\"Y\",\"N\")","v":"N"},{"$f":"IF(Table1[[#This Row],[Column3]]=90785,\"Y\",\"N\")","v":"N"}]
[null,null,null,null,null,null,null,null,null,null,{"$f":"IF(Table1[[#This Row],[Column3]]=\"T1013\",\"Y\",\"N\")","v":"N"},{"$f":"IF(Table1[[#This Row],[Column3]]=90785,\"Y\",\"N\")","v":"N"}]
[null,null,null,null,null,null,null,null,null,null,{"$f":"IF(Table1[[#This Row],[Column3]]=\"T1013\",\"Y\",\"N\")","v":"N"},{"$f":"IF(Table1[[#This Row],[Column3]]=90785,\"Y\",\"N\")","v":"N"}]
[null,null,null,null,null,null,null,null,null,null,{"$f":"IF(Table1[[#This Row],[Column3]]=\"T1013\",\"Y\",\"N\")","v":"N"},{"$f":"IF(Table1[[#This Row],[Column3]]=90785,\"Y\",\"N\")","v":"N"}]
[null,null,null,null,null,null,null,null,null,null,{"$f":"IF(Table1[[#This Row],[Column3]]=\"T1013\",\"Y\",\"N\")","v":"N"},{"$f":"IF(Table1[[#This Row],[Column3]]=90785,\"Y\",\"N\")","v":"N"}]
[null,null,null,null,null,null,null,null,null,null,{"$f":"IF(Table1[[#This Row],[Column3]]=\"T1013\",\"Y\",\"N\")","v":"N"},{"$f":"IF(Table1[[#This Row],[Column3]]=90785,\"Y\",\"N\")","v":"N"}]
[null,null,null,null,null,null,null,null,null,null,{"$f":"IF(Table1[[#This Row],[Column3]]=\"T1013\",\"Y\",\"N\")","v":"N"},{"$f":"IF(Table1[[#This Row],[Column3]]=90785,\"Y\",\"N\")","v":"N"}]
[null,null,null,null,null,null,null,null,null,null,{"$f":"IF(Table1[[#This Row],[Column3]]=\"T1013\",\"Y\",\"N\")","v":"N"},{"$f":"IF(Table1[[#This Row],[Column3]]=90785,\"Y\",\"N\")","v":"N"}]
[null,null,null,null,null,null,null,null,null,null,{"$f":"IF(Table1[[#This Row],[Column3]]=\"T1013\",\"Y\",\"N\")","v":"N"},{"$f":"IF(Table1[[#This Row],[Column3]]=90785,\"Y\",\"N\")","v":"N"}]
[null,null,null,null,null,null,null,null,null,null,{"$f":"IF(Table1[[#This Row],[Column3]]=\"T1013\",\"Y\",\"N\")","v":"N"},{"$f":"IF(Table1[[#This Row],[Column3]]=90785,\"Y\",\"N\")","v":"N"}]
[null,null,null,null,null,null,null,null,null,null,{"$f":"IF(Table1[[#This Row],[Column3]]=\"T1013\",\"Y\",\"N\")","v":"N"},{"$f":"IF(Table1[[#This Row],[Column3]]=90785,\"Y\",\"N\")","v":"N"}]
[null,null,null,null,null,null,null,null,null,null,{"$f":"IF(Table1[[#This Row],[Column3]]=\"T1013\",\"Y\",\"N\")","v":"N"},{"$f":"IF(Table1[[#This Row],[Column3]]=90785,\"Y\",\"N\")","v":"N"}]
[null,null,null,null,null,null,null,null,null,null,{"$f":"IF(Table1[[#This Row],[Column3]]=\"T1013\",\"Y\",\"N\")","v":"N"},{"$f":"IF(Table1[[#This Row],[Column3]]=90785,\"Y\",\"N\")","v":"N"}]
[null,null,null,null,null,null,null,null,null,null,{"$f":"IF(Table1[[#This Row],[Column3]]=\"T1013\",\"Y\",\"N\")","v":"N"},{"$f":"IF(Table1[[#This Row],[Column3]]=90785,\"Y\",\"N\")","v":"N"}]
[null,null,null,null,null,null,null,null,null,null,{"$f":"IF(Table1[[#This Row],[Column3]]=\"T1013\",\"Y\",\"N\")","v":"N"},{"$f":"IF(Table1[[#This Row],[Column3]]=90785,\"Y\",\"N\")","v":"N"}]
[null,null,null,null,null,null,null,null,null,null,{"$f":"IF(Table1[[#This Row],[Column3]]=\"T1013\",\"Y\",\"N\")","v":"N"},{"$f":"IF(Table1[[#This Row],[Column3]]=90785,\"Y\",\"N\")","v":"N"}]
[null,null,null,null,null,null,null,null,null,null,{"$f":"IF(Table1[[#This Row],[Column3]]=\"T1013\",\"Y\",\"N\")","v":"N"},{"$f":"IF(Table1[[#This Row],[Column3]]=90785,\"Y\",\"N\")","v":"N"}]
[null,null,null,null,null,null,null,null,null,null,{"$f":"IF(Table1[[#This Row],[Column3]]=\"T1013\",\"Y\",\"N\")","v":"N"},{"$f":"IF(Table1[[#This Row],[Column3]]=90785,\"Y\",\"N\")","v":"N"}]
[null,null,null,null,null,null,null,null,null,null,{"$f":"IF(Table1[[#This Row],[Column3]]=\"T1013\",\"Y\",\"N\")","v":"N"},{"$f":"IF(Table1[[#This Row],[Column3]]=90785,\"Y\",\"N\")","v":"N"}]
[null,null,null,null,null,null,null,null,null,null,{"$f":"IF(Table1[[#This Row],[Column3]]=\"T1013\",\"Y\",\"N\")","v":"N"},{"$f":"IF(Table1[[#This Row],[Column3]]=90785,\"Y\",\"N\")","v":"N"}]
[null,null,null,null,null,null,null,null,null,null,{"$f":"IF(Table1[[#This Row],[Column3]]=\"T1013\",\"Y\",\"N\")","v":"N"},{"$f":"IF(Table1[[#This Row],[Column3]]=90785,\"Y\",\"N\")","v":"N"}]
[null,null,null,null,null,null,null,null,null,null,{"$f":"IF(Table1[[#This Row],[Column3]]=\"T1013\",\"Y\",\"N\")","v":"N"},{"$f":"IF(Table1[[#This Row],[Column3]]=90785,\"Y\",\"N\")","v":"N"}]
[null,null,null,null,null,null,null,null,null,null,{"$f":"IF(Table1[[#This Row],[Column3]]=\"T1013\",\"Y\",\"N\")","v":"N"},{"$f":"IF(Table1[[#This Row],[Column3]]=90785,\"Y\",\"N\")","v":"N"}]
[null,null,null,null,null,null,null,null,null,null,{"$f":"IF(Table1[[#This Row],[Column3]]=\"T1013\",\"Y\",\"N\")","v":"N"},{"$f":"IF(Table1[[#This Row],[Column3]]=90785,\"Y\",\"N\")","v":"N"}]
[null,null,null,null,null,null,null,null,null,null,{"$f":"IF(Table1[[#This Row],[Column3]]=\"T1013\",\"Y\",\"N\")","v":"N"},{"$f":"IF(Table1[[#This Row],[Column3]]=90785,\"Y\",\"N\")","v":"N"}]
[null,null,null,null,null,null,null,null,null,null,{"$f":"IF(Table1[[#This Row],[Column3]]=\"T1013\",\"Y\",\"N\")","v":"N"},{"$f":"IF(Table1[[#This Row],[Column3]]=90785,\"Y\",\"N\")","v":"N"}]
[null,null,null,null,null,null,null,null,null,null,{"$f":"IF(Table1[[#This Row],[Column3]]=\"T1013\",\"Y\",\"N\")","v":"N"},{"$f":"IF(Table1[[#This Row],[Column3]]=90785,\"Y\",\"N\")","v":"N"}]
[null,null,null,null,null,null,null,null,null,null,{"$f":"IF(Table1[[#This Row],[Column3]]=\"T1013\",\"Y\",\"N\")","v":"N"},{"$f":"IF(Table1[[#This Row],[Column3]]=90785,\"Y\",\"N\")","v":"N"}]
[null,null,null,null,null,null,null,null,null,null,{"$f":"IF(Table1[[#This Row],[Column3]]=\"T1013\",\"Y\",\"N\")","v":"N"},{"$f":"IF(Table1[[#This Row],[Column3]]=90785,\"Y\",\"N\")","v":"N"}]
[null,null,null,null,null,null,null,null,null,null,{"$f":"IF(Table1[[#This Row],[Column3]]=\"T1013\",\"Y\",\"N\")","v":"N"},{"$f":"IF(Table1[[#This Row],[Column3]]=90785,\"Y\",\"N\")","v":"N"}]
[null,null,null,null,null,null,null,null,null,null,{"$f":"IF(Table1[[#This Row],[Column3]]=\"T1013\",\"Y\",\"N\")","v":"N"},{"$f":"IF(Table1[[#This Row],[Column3]]=90785,\"Y\",\"N\")","v":"N"}]
[null,null,null,null,null,null,null,null,null,null,{"$f":"IF(Table1[[#This Row],[Column3]]=\"T1013\",\"Y\",\"N\")","v":"N"},{"$f":"IF(Table1[[#This Row],[Column3]]=90785,\"Y\",\"N\")","v":"N"}]
[null,null,null,null,null,null,null,null,null,null,{"$f":"IF(Table1[[#This Row],[Column3]]=\"T1013\",\"Y\",\"N\")","v":"N"},{"$f":"IF(Table1[[#This Row],[Column3]]=90785,\"Y\",\"N\")","v":"N"}]
[null,null,null,null,null,null,null,null,null,null,{"$f":"IF(Table1[[#This Row],[Column3]]=\"T1013\",\"Y\",\"N\")","v":"N"},{"$f":"IF(Table1[[#This Row],[Column3]]=90785,\"Y\",\"N\")","v":"N"}]
[null,null,null,null,null,null,null,null,null,null,{"$f":"IF(Table1[[#This Row],[Column3]]=\"T1013\",\"Y\",\"N\")","v":"N"},{"$f":"IF(Table1[[#This Row],[Column3]]=90785,\"Y\",\"N\")","v":"N"}]
[null,null,null,null,null,null,null,null,null,null,{"$f":"IF(Table1[[#This Row],[Column3]]=\"T1013\",\"Y\",\"N\")","v":"N"},{"$f":"IF(Table1[[#This Row],[Column3]]=90785,\"Y\",\"N\")","v":"N"}]
[null,null,null,null,null,null,null,null,null,null,{"$f":"IF(Table1[[#This Row],[Column3]]=\"T1013\",\"Y\",\"N\")","v":"N"},{"$f":"IF(Table1[[#This Row],[Column3]]=90785,\"Y\",\"N\")","v":"N"}]
[null,null,null,null,null,null,null,null,null,null,{"$f":"IF(Table1[[#This Row],[Column3]]=\"T1013\",\"Y\",\"N\")","v":"N"},{"$f":"IF(Table1[[#This Row],[Column3]]=90785,\"Y\",\"N\")","v":"N"}]
[null,null,null,null,null,null,null,null,null,null,{"$f":"IF(Table1[[#This Row],[Column3]]=\"T1013\",\"Y\",\"N\")","v":"N"},{"$f":"IF(Table1[[#This Row],[Column3]]=90785,\"Y\",\"N\")","v":"N"}]
[null,null,null,null,null,null,null,null,null,null,{"$f":"IF(Table1[[#This Row],[Column3]]=\"T1013\",\"Y\",\"N\")","v":"N"},{"$f":"IF(Table1[[#This Row],[Column3]]=90785,\"Y\",\"N\")","v":"N"}]
[null,null,null,null,null,null,null,null,null,null,{"$f":"IF(Table1[[#This Row],[Column3]]=\"T1013\",\"Y\",\"N\")","v":"N"},{"$f":"IF(Table1[[#This Row],[Column3]]=90785,\"Y\",\"N\")","v":"N"}]
[null,null,null,null,null,null,null,null,null,null,{"$f":"IF(Table1[[#This Row],[Column3]]=\"T1013\",\"Y\",\"N\")","v":"N"},{"$f":"IF(Table1[[#This Row],[Column3]]=90785,\"Y\",\"N\")","v":"N"}]
[null,null,null,null,null,null,null,null,null,null,{"$f":"IF(Table1[[#This Row],[Column3]]=\"T1013\",\"Y\",\"N\")","v":"N"},{"$f":"IF(Table1[[#This Row],[Column3]]=90785,\"Y\",\"N\")","v":"N"}]
[null,null,null,null,null,null,null,null,null,null,{"$f":"IF(Table1[[#This Row],[Column3]]=\"T1013\",\"Y\",\"N\")","v":"N"},{"$f":"IF(Table1[[#This Row],[Column3]]=90785,\"Y\",\"N\")","v":"N"}]
[null,null,null,null,null,null,null,null,null,null,{"$f":"IF(Table1[[#This Row],[Column3]]=\"T1013\",\"Y\",\"N\")","v":"N"},{"$f":"IF(Table1[[#This Row],[Column3]]=90785,\"Y\",\"N\")","v":"N"}]
[null,null,null,null,null,null,null,null,null,null,{"$f":"IF(Table1[[#This Row],[Column3]]=\"T1013\",\"Y\",\"N\")","v":"N"},{"$f":"IF(Table1[[#This Row],[Column3]]=90785,\"Y\",\"N\")","v":"N"}]
[null,null,null,null,null,null,null,null,null,null,{"$f":"IF(Table1[[#This Row],[Column3]]=\"T1013\",\"Y\",\"N\")","v":"N"},{"$f":"IF(Table1[[#This Row],[Column3]]=90785,\"Y\",\"N\")","v":"N"}]
[null,null,null,null,null,null,null,null,null,null,{"$f":"IF(Table1[[#This Row],[Column3]]=\"T1013\",\"Y\",\"N\")","v":"N"},{"$f":"IF(Table1[[#This Row],[Column3]]=90785,\"Y\",\"N\")","v":"N"}]
[null,null,null,null,null,null,null,null,null,null,{"$f":"IF(Table1[[#This Row],[Column3]]=\"T1013\",\"Y\",\"N\")","v":"N"},{"$f":"IF(Table1[[#This Row],[Column3]]=90785,\"Y\",\"N\")","v":"N"}]
[null,null,null,null,null,null,null,null,null,null,{"$f":"IF(Table1[[#This Row],[Column3]]=\"T1013\",\"Y\",\"N\")","v":"N"},{"$f":"IF(Table1[[#This Row],[Column3]]=90785,\"Y\",\"N\")","v":"N"}]
[null,null,null,null,null,null,null,null,null,null,{"$f":"IF(Table1[[#This Row],[Column3]]=\"T1013\",\"Y\",\"N\")","v":"N"},{"$f":"IF(Table1[[#This Row],[Column3]]=90785,\"Y\",\"N\")","v":"N"}]
[null,null,null,null,null,null,null,null,null,null,{"$f":"IF(Table1[[#This Row],[Column3]]=\"T1013\",\"Y\",\"N\")","v":"N"},{"$f":"IF(Table1[[#This Row],[Column3]]=90785,\"Y\",\"N\")","v":"N"}]
[null,null,null,null,null,null,null,null,null,null,{"$f":"IF(Table1[[#This Row],[Column3]]=\"T1013\",\"Y\",\"N\")","v":"N"},{"$f":"IF(Table1[[#This Row],[Column3]]=90785,\"Y\",\"N\")","v":"N"}]
[null,null,null,null,null,null,null,null,null,null,{"$f":"IF(Table1[[#This Row],[Column3]]=\"T1013\",\"Y\",\"N\")","v":"N"},{"$f":"IF(Table1[[#This Row],[Column3]]=90785,\"Y\",\"N\")","v":"N"}]
[null,null,null,null,null,null,null,null,null,null,{"$f":"IF(Table1[[#This Row],[Column3]]=\"T1013\",\"Y\",\"N\")","v":"N"},{"$f":"IF(Table1[[#This Row],[Column3]]=90785,\"Y\",\"N\")","v":"N"}]
[null,null,null,null,null,null,null,null,null,null,{"$f":"IF(Table1[[#This Row],[Column3]]=\"T1013\",\"Y\",\"N\")","v":"N"},{"$f":"IF(Table1[[#This Row],[Column3]]=90785,\"Y\",\"N\")","v":"N"}]
[null,null,null,null,null,null,null,null,null,null,{"$f":"IF(Table1[[#This Row],[Column3]]=\"T1013\",\"Y\",\"N\")","v":"N"},{"$f":"IF(Table1[[#This Row],[Column3]]=90785,\"Y\",\"N\")","v":"N"}]
[null,null,null,null,null,null,null,null,null,null,{"$f":"IF(Table1[[#This Row],[Column3]]=\"T1013\",\"Y\",\"N\")","v":"N"},{"$f":"IF(Table1[[#This Row],[Column3]]=90785,\"Y\",\"N\")","v":"N"}]
[null,null,null,null,null,null,null,null,null,null,{"$f":"IF(Table1[[#This Row],[Column3]]=\"T1013\",\"Y\",\"N\")","v":"N"},{"$f":"IF(Table1[[#This Row],[Column3]]=90785,\"Y\",\"N\")","v":"N"}]
[null,null,null,null,null,null,null,null,null,null,{"$f":"IF(Table1[[#This Row],[Column3]]=\"T1013\",\"Y\",\"N\")","v":"N"},{"$f":"IF(Table1[[#This Row],[Column3]]=90785,\"Y\",\"N\")","v":"N"}]
[null,null,null,null,null,null,null,null,null,null,{"$f":"IF(Table1[[#This Row],[Column3]]=\"T1013\",\"Y\",\"N\")","v":"N"},{"$f":"IF(Table1[[#This Row],[Column3]]=90785,\"Y\",\"N\")","v":"N"}]
[null,null,null,null,null,null,null,null,null,null,{"$f":"IF(Table1[[#This Row],[Column3]]=\"T1013\",\"Y\",\"N\")","v":"N"},{"$f":"IF(Table1[[#This Row],[Column3]]=90785,\"Y\",\"N\")","v":"N"}]
[null,null,null,null,null,null,null,null,null,null,{"$f":"IF(Table1[[#This Row],[Column3]]=\"T1013\",\"Y\",\"N\")","v":"N"},{"$f":"IF(Table1[[#This Row],[Column3]]=90785,\"Y\",\"N\")","v":"N"}]
[null,null,null,null,null,null,null,null,null,null,{"$f":"IF(Table1[[#This Row],[Column3]]=\"T1013\",\"Y\",\"N\")","v":"N"},{"$f":"IF(Table1[[#This Row],[Column3]]=90785,\"Y\",\"N\")","v":"N"}]
[null,null,null,null,null,null,null,null,null,null,{"$f":"IF(Table1[[#This Row],[Column3]]=\"T1013\",\"Y\",\"N\")","v":"N"},{"$f":"IF(Table1[[#This Row],[Column3]]=90785,\"Y\",\"N\")","v":"N"}]
[null,null,null,null,null,null,null,null,null,null,{"$f":"IF(Table1[[#This Row],[Column3]]=\"T1013\",\"Y\",\"N\")","v":"N"},{"$f":"IF(Table1[[#This Row],[Column3]]=90785,\"Y\",\"N\")","v":"N"}]
[null,null,null,null,null,null,null,null,null,null,{"$f":"IF(Table1[[#This Row],[Column3]]=\"T1013\",\"Y\",\"N\")","v":"N"},{"$f":"IF(Table1[[#This Row],[Column3]]=90785,\"Y\",\"N\")","v":"N"}]
[null,null,null,null,null,null,null,null,null,null,{"$f":"IF(Table1[[#This Row],[Column3]]=\"T1013\",\"Y\",\"N\")","v":"N"},{"$f":"IF(Table1[[#This Row],[Column3]]=90785,\"Y\",\"N\")","v":"N"}]
[null,null,null,null,null,null,null,null,null,null,{"$f":"IF(Table1[[#This Row],[Column3]]=\"T1013\",\"Y\",\"N\")","v":"N"},{"$f":"IF(Table1[[#This Row],[Column3]]=90785,\"Y\",\"N\")","v":"N"}]
[null,null,null,null,null,null,null,null,null,null,{"$f":"IF(Table1[[#This Row],[Column3]]=\"T1013\",\"Y\",\"N\")","v":"N"},{"$f":"IF(Table1[[#This Row],[Column3]]=90785,\"Y\",\"N\")","v":"N"}]
[null,null,null,null,null,null,null,null,null,null,{"$f":"IF(Table1[[#This Row],[Column3]]=\"T1013\",\"Y\",\"N\")","v":"N"},{"$f":"IF(Table1[[#This Row],[Column3]]=90785,\"Y\",\"N\")","v":"N"}]
[null,null,null,null,null,null,null,null,null,null,{"$f":"IF(Table1[[#This Row],[Column3]]=\"T1013\",\"Y\",\"N\")","v":"N"},{"$f":"IF(Table1[[#This Row],[Column3]]=90785,\"Y\",\"N\")","v":"N"}]
[null,null,null,null,null,null,null,null,null,null,{"$f":"IF(Table1[[#This Row],[Column3]]=\"T1013\",\"Y\",\"N\")","v":"N"},{"$f":"IF(Table1[[#This Row],[Column3]]=90785,\"Y\",\"N\")","v":"N"}]
[null,null,null,null,null,null,null,null,null,null,{"$f":"IF(Table1[[#This Row],[Column3]]=\"T1013\",\"Y\",\"N\")","v":"N"},{"$f":"IF(Table1[[#This Row],[Column3]]=90785,\"Y\",\"N\")","v":"N"}]
[null,null,null,null,null,null,null,null,null,null,{"$f":"IF(Table1[[#This Row],[Column3]]=\"T1013\",\"Y\",\"N\")","v":"N"},{"$f":"IF(Table1[[#This Row],[Column3]]=90785,\"Y\",\"N\")","v":"N"}]
[null,null,null,null,null,null,null,null,null,null,{"$f":"IF(Table1[[#This Row],[Column3]]=\"T1013\",\"Y\",\"N\")","v":"N"},{"$f":"IF(Table1[[#This Row],[Column3]]=90785,\"Y\",\"N\")","v":"N"}]
[null,null,null,null,null,null,null,null,null,null,{"$f":"IF(Table1[[#This Row],[Column3]]=\"T1013\",\"Y\",\"N\")","v":"N"},{"$f":"IF(Table1[[#This Row],[Column3]]=90785,\"Y\",\"N\")","v":"N"}]
[null,null,null,null,null,null,null,null,null,null,{"$f":"IF(Table1[[#This Row],[Column3]]=\"T1013\",\"Y\",\"N\")","v":"N"},{"$f":"IF(Table1[[#This Row],[Column3]]=90785,\"Y\",\"N\")","v":"N"}]
[null,null,null,null,null,null,null,null,null,null,{"$f":"IF(Table1[[#This Row],[Column3]]=\"T1013\",\"Y\",\"N\")","v":"N"},{"$f":"IF(Table1[[#This Row],[Column3]]=90785,\"Y\",\"N\")","v":"N"}]
[null,null,null,null,null,null,null,null,null,null,{"$f":"IF(Table1[[#This Row],[Column3]]=\"T1013\",\"Y\",\"N\")","v":"N"},{"$f":"IF(Table1[[#This Row],[Column3]]=90785,\"Y\",\"N\")","v":"N"}]
[null,null,null,null,null,null,null,null,null,null,{"$f":"IF(Table1[[#This Row],[Column3]]=\"T1013\",\"Y\",\"N\")","v":"N"},{"$f":"IF(Table1[[#This Row],[Column3]]=90785,\"Y\",\"N\")","v":"N"}]
[null,null,null,null,null,null,null,null,null,null,{"$f":"IF(Table1[[#This Row],[Column3]]=\"T1013\",\"Y\",\"N\")","v":"N"},{"$f":"IF(Table1[[#This Row],[Column3]]=90785,\"Y\",\"N\")","v":"N"}]
[null,null,null,null,null,null,null,null,null,null,{"$f":"IF(Table1[[#This Row],[Column3]]=\"T1013\",\"Y\",\"N\")","v":"N"},{"$f":"IF(Table1[[#This Row],[Column3]]=90785,\"Y\",\"N\")","v":"N"}]
[null,null,null,null,null,null,null,null,null,null,{"$f":"IF(Table1[[#This Row],[Column3]]=\"T1013\",\"Y\",\"N\")","v":"N"},{"$f":"IF(Table1[[#This Row],[Column3]]=90785,\"Y\",\"N\")","v":"N"}]
[null,null,null,null,null,null,null,null,null,null,{"$f":"IF(Table1[[#This Row],[Column3]]=\"T1013\",\"Y\",\"N\")","v":"N"},{"$f":"IF(Table1[[#This Row],[Column3]]=90785,\"Y\",\"N\")","v":"N"}]
[null,null,null,null,null,null,null,null,null,null,{"$f":"IF(Table1[[#This Row],[Column3]]=\"T1013\",\"Y\",\"N\")","v":"N"},{"$f":"IF(Table1[[#This Row],[Column3]]=90785,\"Y\",\"N\")","v":"N"}]
[null,null,null,null,null,null,null,null,null,null,{"$f":"IF(Table1[[#This Row],[Column3]]=\"T1013\",\"Y\",\"N\")","v":"N"},{"$f":"IF(Table1[[#This Row],[Column3]]=90785,\"Y\",\"N\")","v":"N"}]
[null,null,null,null,null,null,null,null,null,null,{"$f":"IF(Table1[[#This Row],[Column3]]=\"T1013\",\"Y\",\"N\")","v":"N"},{"$f":"IF(Table1[[#This Row],[Column3]]=90785,\"Y\",\"N\")","v":"N"}]
[null,null,null,null,null,null,null,null,null,null,{"$f":"IF(Table1[[#This Row],[Column3]]=\"T1013\",\"Y\",\"N\")","v":"N"},{"$f":"IF(Table1[[#This Row],[Column3]]=90785,\"Y\",\"N\")","v":"N"}]
[null,null,null,null,null,null,null,null,null,null,{"$f":"IF(Table1[[#This Row],[Column3]]=\"T1013\",\"Y\",\"N\")","v":"N"},{"$f":"IF(Table1[[#This Row],[Column3]]=90785,\"Y\",\"N\")","v":"N"}]
[null,null,null,null,null,null,null,null,null,null,{"$f":"IF(Table1[[#This Row],[Column3]]=\"T1013\",\"Y\",\"N\")","v":"N"},{"$f":"IF(Table1[[#This Row],[Column3]]=90785,\"Y\",\"N\")","v":"N"}]
[null,null,null,null,null,null,null,null,null,null,{"$f":"IF(Table1[[#This Row],[Column3]]=\"T1013\",\"Y\",\"N\")","v":"N"},{"$f":"IF(Table1[[#This Row],[Column3]]=90785,\"Y\",\"N\")","v":"N"}]
[null,null,null,null,null,null,null,null,null,null,{"$f":"IF(Table1[[#This Row],[Column3]]=\"T1013\",\"Y\",\"N\")","v":"N"},{"$f":"IF(Table1[[#This Row],[Column3]]=90785,\"Y\",\"N\")","v":"N"}]
[null,null,null,null,null,null,null,null,null,null,{"$f":"IF(Table1[[#This Row],[Column3]]=\"T1013\",\"Y\",\"N\")","v":"N"},{"$f":"IF(Table1[[#This Row],[Column3]]=90785,\"Y\",\"N\")","v":"N"}]
[null,null,null,null,null,null,null,null,null,null,{"$f":"IF(Table1[[#This Row],[Column3]]=\"T1013\",\"Y\",\"N\")","v":"N"},{"$f":"IF(Table1[[#This Row],[Column3]]=90785,\"Y\",\"N\")","v":"N"}]
[null,null,null,null,null,null,null,null,null,null,{"$f":"IF(Table1[[#This Row],[Column3]]=\"T1013\",\"Y\",\"N\")","v":"N"},{"$f":"IF(Table1[[#This Row],[Column3]]=90785,\"Y\",\"N\")","v":"N"}]
[null,null,null,null,null,null,null,null,null,null,{"$f":"IF(Table1[[#This Row],[Column3]]=\"T1013\",\"Y\",\"N\")","v":"N"},{"$f":"IF(Table1[[#This Row],[Column3]]=90785,\"Y\",\"N\")","v":"N"}]
[null,null,null,null,null,null,null,null,null,null,{"$f":"IF(Table1[[#This Row],[Column3]]=\"T1013\",\"Y\",\"N\")","v":"N"},{"$f":"IF(Table1[[#This Row],[Column3]]=90785,\"Y\",\"N\")","v":"N"}]
[null,null,null,null,null,null,null,null,null,null,{"$f":"IF(Table1[[#This Row],[Column3]]=\"T1013\",\"Y\",\"N\")","v":"N"},{"$f":"IF(Table1[[#This Row],[Column3]]=90785,\"Y\",\"N\")","v":"N"}]
[null,null,null,null,null,null,null,null,null,null,{"$f":"IF(Table1[[#This Row],[Column3]]=\"T1013\",\"Y\",\"N\")","v":"N"},{"$f":"IF(Table1[[#This Row],[Column3]]=90785,\"Y\",\"N\")","v":"N"}]
[null,null,null,null,null,null,null,null,null,null,{"$f":"IF(Table1[[#This Row],[Column3]]=\"T1013\",\"Y\",\"N\")","v":"N"},{"$f":"IF(Table1[[#This Row],[Column3]]=90785,\"Y\",\"N\")","v":"N"}]
[null,null,null,null,null,null,null,null,null,null,{"$f":"IF(Table1[[#This Row],[Column3]]=\"T1013\",\"Y\",\"N\")","v":"N"},{"$f":"IF(Table1[[#This Row],[Column3]]=90785,\"Y\",\"N\")","v":"N"}]
[null,null,null,null,null,null,null,null,null,null,{"$f":"IF(Table1[[#This Row],[Column3]]=\"T1013\",\"Y\",\"N\")","v":"N"},{"$f":"IF(Table1[[#This Row],[Column3]]=90785,\"Y\",\"N\")","v":"N"}]
[null,null,null,null,null,null,null,null,null,null,{"$f":"IF(Table1[[#This Row],[Column3]]=\"T1013\",\"Y\",\"N\")","v":"N"},{"$f":"IF(Table1[[#This Row],[Column3]]=90785,\"Y\",\"N\")","v":"N"}]
[null,null,null,null,null,null,null,null,null,null,{"$f":"IF(Table1[[#This Row],[Column3]]=\"T1013\",\"Y\",\"N\")","v":"N"},{"$f":"IF(Table1[[#This Row],[Column3]]=90785,\"Y\",\"N\")","v":"N"}]
[null,null,null,null,null,null,null,null,null,null,{"$f":"IF(Table1[[#This Row],[Column3]]=\"T1013\",\"Y\",\"N\")","v":"N"},{"$f":"IF(Table1[[#This Row],[Column3]]=90785,\"Y\",\"N\")","v":"N"}]
[null,null,null,null,null,null,null,null,null,null,{"$f":"IF(Table1[[#This Row],[Column3]]=\"T1013\",\"Y\",\"N\")","v":"N"},{"$f":"IF(Table1[[#This Row],[Column3]]=90785,\"Y\",\"N\")","v":"N"}]
[null,null,null,null,null,null,null,null,null,null,{"$f":"IF(Table1[[#This Row],[Column3]]=\"T1013\",\"Y\",\"N\")","v":"N"},{"$f":"IF(Table1[[#This Row],[Column3]]=90785,\"Y\",\"N\")","v":"N"}]
[null,null,null,null,null,null,null,null,null,null,{"$f":"IF(Table1[[#This Row],[Column3]]=\"T1013\",\"Y\",\"N\")","v":"N"},{"$f":"IF(Table1[[#This Row],[Column3]]=90785,\"Y\",\"N\")","v":"N"}]
[null,null,null,null,null,null,null,null,null,null,{"$f":"IF(Table1[[#This Row],[Column3]]=\"T1013\",\"Y\",\"N\")","v":"N"},{"$f":"IF(Table1[[#This Row],[Column3]]=90785,\"Y\",\"N\")","v":"N"}]
[null,null,null,null,null,null,null,null,null,null,{"$f":"IF(Table1[[#This Row],[Column3]]=\"T1013\",\"Y\",\"N\")","v":"N"},{"$f":"IF(Table1[[#This Row],[Column3]]=90785,\"Y\",\"N\")","v":"N"}]
[null,null,null,null,null,null,null,null,null,null,{"$f":"IF(Table1[[#This Row],[Column3]]=\"T1013\",\"Y\",\"N\")","v":"N"},{"$f":"IF(Table1[[#This Row],[Column3]]=90785,\"Y\",\"N\")","v":"N"}]
[null,null,null,null,null,null,null,null,null,null,{"$f":"IF(Table1[[#This Row],[Column3]]=\"T1013\",\"Y\",\"N\")","v":"N"},{"$f":"IF(Table1[[#This Row],[Column3]]=90785,\"Y\",\"N\")","v":"N"}]
[null,null,null,null,null,null,null,null,null,null,{"$f":"IF(Table1[[#This Row],[Column3]]=\"T1013\",\"Y\",\"N\")","v":"N"},{"$f":"IF(Table1[[#This Row],[Column3]]=90785,\"Y\",\"N\")","v":"N"}]
[null,null,null,null,null,null,null,null,null,null,{"$f":"IF(Table1[[#This Row],[Column3]]=\"T1013\",\"Y\",\"N\")","v":"N"},{"$f":"IF(Table1[[#This Row],[Column3]]=90785,\"Y\",\"N\")","v":"N"}]
[null,null,null,null,null,null,null,null,null,null,{"$f":"IF(Table1[[#This Row],[Column3]]=\"T1013\",\"Y\",\"N\")","v":"N"},{"$f":"IF(Table1[[#This Row],[Column3]]=90785,\"Y\",\"N\")","v":"N"}]
[null,null,null,null,null,null,null,null,null,null,{"$f":"IF(Table1[[#This Row],[Column3]]=\"T1013\",\"Y\",\"N\")","v":"N"},{"$f":"IF(Table1[[#This Row],[Column3]]=90785,\"Y\",\"N\")","v":"N"}]
[null,null,null,null,null,null,null,null,null,null,{"$f":"IF(Table1[[#This Row],[Column3]]=\"T1013\",\"Y\",\"N\")","v":"N"},{"$f":"IF(Table1[[#This Row],[Column3]]=90785,\"Y\",\"N\")","v":"N"}]
[null,null,null,null,null,null,null,null,null,null,{"$f":"IF(Table1[[#This Row],[Column3]]=\"T1013\",\"Y\",\"N\")","v":"N"},{"$f":"IF(Table1[[#This Row],[Column3]]=90785,\"Y\",\"N\")","v":"N"}]
[null,null,null,null,null,null,null,null,null,null,{"$f":"IF(Table1[[#This Row],[Column3]]=\"T1013\",\"Y\",\"N\")","v":"N"},{"$f":"IF(Table1[[#This Row],[Column3]]=90785,\"Y\",\"N\")","v":"N"}]
[null,null,null,null,null,null,null,null,null,null,{"$f":"IF(Table1[[#This Row],[Column3]]=\"T1013\",\"Y\",\"N\")","v":"N"},{"$f":"IF(Table1[[#This Row],[Column3]]=90785,\"Y\",\"N\")","v":"N"}]
[null,null,null,null,null,null,null,null,null,null,{"$f":"IF(Table1[[#This Row],[Column3]]=\"T1013\",\"Y\",\"N\")","v":"N"},{"$f":"IF(Table1[[#This Row],[Column3]]=90785,\"Y\",\"N\")","v":"N"}]
[null,null,null,null,null,null,null,null,null,null,{"$f":"IF(Table1[[#This Row],[Column3]]=\"T1013\",\"Y\",\"N\")","v":"N"},{"$f":"IF(Table1[[#This Row],[Column3]]=90785,\"Y\",\"N\")","v":"N"}]
[null,null,null,null,null,null,null,null,null,null,{"$f":"IF(Table1[[#This Row],[Column3]]=\"T1013\",\"Y\",\"N\")","v":"N"},{"$f":"IF(Table1[[#This Row],[Column3]]=90785,\"Y\",\"N\")","v":"N"}]
[null,null,null,null,null,null,null,null,null,null,{"$f":"IF(Table1[[#This Row],[Column3]]=\"T1013\",\"Y\",\"N\")","v":"N"},{"$f":"IF(Table1[[#This Row],[Column3]]=90785,\"Y\",\"N\")","v":"N"}]
[null,null,null,null,null,null,null,null,null,null,{"$f":"IF(Table1[[#This Row],[Column3]]=\"T1013\",\"Y\",\"N\")","v":"N"},{"$f":"IF(Table1[[#This Row],[Column3]]=90785,\"Y\",\"N\")","v":"N"}]
[null,null,null,null,null,null,null,null,null,null,{"$f":"IF(Table1[[#This Row],[Column3]]=\"T1013\",\"Y\",\"N\")","v":"N"},{"$f":"IF(Table1[[#This Row],[Column3]]=90785,\"Y\",\"N\")","v":"N"}]
[null,null,null,null,null,null,null,null,null,null,{"$f":"IF(Table1[[#This Row],[Column3]]=\"T1013\",\"Y\",\"N\")","v":"N"},{"$f":"IF(Table1[[#This Row],[Column3]]=90785,\"Y\",\"N\")","v":"N"}]
[null,null,null,null,null,null,null,null,null,null,{"$f":"IF(Table1[[#This Row],[Column3]]=\"T1013\",\"Y\",\"N\")","v":"N"},{"$f":"IF(Table1[[#This Row],[Column3]]=90785,\"Y\",\"N\")","v":"N"}]
[null,null,null,null,null,null,null,null,null,null,{"$f":"IF(Table1[[#This Row],[Column3]]=\"T1013\",\"Y\",\"N\")","v":"N"},{"$f":"IF(Table1[[#This Row],[Column3]]=90785,\"Y\",\"N\")","v":"N"}]
[null,null,null,null,null,null,null,null,null,null,{"$f":"IF(Table1[[#This Row],[Column3]]=\"T1013\",\"Y\",\"N\")","v":"N"},{"$f":"IF(Table1[[#This Row],[Column3]]=90785,\"Y\",\"N\")","v":"N"}]
[null,null,null,null,null,null,null,null,null,null,{"$f":"IF(Table1[[#This Row],[Column3]]=\"T1013\",\"Y\",\"N\")","v":"N"},{"$f":"IF(Table1[[#This Row],[Column3]]=90785,\"Y\",\"N\")","v":"N"}]
[null,null,null,null,null,null,null,null,null,null,{"$f":"IF(Table1[[#This Row],[Column3]]=\"T1013\",\"Y\",\"N\")","v":"N"},{"$f":"IF(Table1[[#This Row],[Column3]]=90785,\"Y\",\"N\")","v":"N"}]
[null,null,null,null,null,null,null,null,null,null,{"$f":"IF(Table1[[#This Row],[Column3]]=\"T1013\",\"Y\",\"N\")","v":"N"},{"$f":"IF(Table1[[#This Row],[Column3]]=90785,\"Y\",\"N\")","v":"N"}]
[null,null,null,null,null,null,null,null,null,null,{"$f":"IF(Table1[[#This Row],[Column3]]=\"T1013\",\"Y\",\"N\")","v":"N"},{"$f":"IF(Table1[[#This Row],[Column3]]=90785,\"Y\",\"N\")","v":"N"}]
[null,null,null,null,null,null,null,null,null,null,{"$f":"IF(Table1[[#This Row],[Column3]]=\"T1013\",\"Y\",\"N\")","v":"N"},{"$f":"IF(Table1[[#This Row],[Column3]]=90785,\"Y\",\"N\")","v":"N"}]
[null,null,null,null,null,null,null,null,null,null,{"$f":"IF(Table1[[#This Row],[Column3]]=\"T1013\",\"Y\",\"N\")","v":"N"},{"$f":"IF(Table1[[#This Row],[Column3]]=90785,\"Y\",\"N\")","v":"N"}]
[null,null,null,null,null,null,null,null,null,null,{"$f":"IF(Table1[[#This Row],[Column3]]=\"T1013\",\"Y\",\"N\")","v":"N"},{"$f":"IF(Table1[[#This Row],[Column3]]=90785,\"Y\",\"N\")","v":"N"}]
[null,null,null,null,null,null,null,null,null,null,{"$f":"IF(Table1[[#This Row],[Column3]]=\"T1013\",\"Y\",\"N\")","v":"N"},{"$f":"IF(Table1[[#This Row],[Column3]]=90785,\"Y\",\"N\")","v":"N"}]
[null,null,null,null,null,null,null,null,null,null,{"$f":"IF(Table1[[#This Row],[Column3]]=\"T1013\",\"Y\",\"N\")","v":"N"},{"$f":"IF(Table1[[#This Row],[Column3]]=90785,\"Y\",\"N\")","v":"N"}]
[null,null,null,null,null,null,null,null,null,null,{"$f":"IF(Table1[[#This Row],[Column3]]=\"T1013\",\"Y\",\"N\")","v":"N"},{"$f":"IF(Table1[[#This Row],[Column3]]=90785,\"Y\",\"N\")","v":"N"}]
[null,null,null,null,null,null,null,null,null,null,{"$f":"IF(Table1[[#This Row],[Column3]]=\"T1013\",\"Y\",\"N\")","v":"N"},{"$f":"IF(Table1[[#This Row],[Column3]]=90785,\"Y\",\"N\")","v":"N"}]
[null,null,null,null,null,null,null,null,null,null,{"$f":"IF(Table1[[#This Row],[Column3]]=\"T1013\",\"Y\",\"N\")","v":"N"},{"$f":"IF(Table1[[#This Row],[Column3]]=90785,\"Y\",\"N\")","v":"N"}]
[null,null,null,null,null,null,null,null,null,null,{"$f":"IF(Table1[[#This Row],[Column3]]=\"T1013\",\"Y\",\"N\")","v":"N"},{"$f":"IF(Table1[[#This Row],[Column3]]=90785,\"Y\",\"N\")","v":"N"}]
[null,null,null,null,null,null,null,null,null,null,{"$f":"IF(Table1[[#This Row],[Column3]]=\"T1013\",\"Y\",\"N\")","v":"N"},{"$f":"IF(Table1[[#This Row],[Column3]]=90785,\"Y\",\"N\")","v":"N"}]
[null,null,null,null,null,null,null,null,null,null,{"$f":"IF(Table1[[#This Row],[Column3]]=\"T1013\",\"Y\",\"N\")","v":"N"},{"$f":"IF(Table1[[#This Row],[Column3]]=90785,\"Y\",\"N\")","v":"N"}]
[null,null,null,null,null,null,null,null,null,null,{"$f":"IF(Table1[[#This Row],[Column3]]=\"T1013\",\"Y\",\"N\")","v":"N"},{"$f":"IF(Table1[[#This Row],[Column3]]=90785,\"Y\",\"N\")","v":"N"}]
[null,null,null,null,null,null,null,null,null,null,{"$f":"IF(Table1[[#This Row],[Column3]]=\"T1013\",\"Y\",\"N\")","v":"N"},{"$f":"IF(Table1[[#This Row],[Column3]]=90785,\"Y\",\"N\")","v":"N"}]
[null,null,null,null,null,null,null,null,null,null,{"$f":"IF(Table1[[#This Row],[Column3]]=\"T1013\",\"Y\",\"N\")","v":"N"},{"$f":"IF(Table1[[#This Row],[Column3]]=90785,\"Y\",\"N\")","v":"N"}]
[null,null,null,null,null,null,null,null,null,null,{"$f":"IF(Table1[[#This Row],[Column3]]=\"T1013\",\"Y\",\"N\")","v":"N"},{"$f":"IF(Table1[[#This Row],[Column3]]=90785,\"Y\",\"N\")","v":"N"}]
[null,null,null,null,null,null,null,null,null,null,{"$f":"IF(Table1[[#This Row],[Column3]]=\"T1013\",\"Y\",\"N\")","v":"N"},{"$f":"IF(Table1[[#This Row],[Column3]]=90785,\"Y\",\"N\")","v":"N"}]
[null,null,null,null,null,null,null,null,null,null,{"$f":"IF(Table1[[#This Row],[Column3]]=\"T1013\",\"Y\",\"N\")","v":"N"},{"$f":"IF(Table1[[#This Row],[Column3]]=90785,\"Y\",\"N\")","v":"N"}]
[null,null,null,null,null,null,null,null,null,null,{"$f":"IF(Table1[[#This Row],[Column3]]=\"T1013\",\"Y\",\"N\")","v":"N"},{"$f":"IF(Table1[[#This Row],[Column3]]=90785,\"Y\",\"N\")","v":"N"}]
[null,null,null,null,null,null,null,null,null,null,{"$f":"IF(Table1[[#This Row],[Column3]]=\"T1013\",\"Y\",\"N\")","v":"N"},{"$f":"IF(Table1[[#This Row],[Column3]]=90785,\"Y\",\"N\")","v":"N"}]
[null,null,null,null,null,null,null,null,null,null,{"$f":"IF(Table1[[#This Row],[Column3]]=\"T1013\",\"Y\",\"N\")","v":"N"},{"$f":"IF(Table1[[#This Row],[Column3]]=90785,\"Y\",\"N\")","v":"N"}]
[null,null,null,null,null,null,null,null,null,null,{"$f":"IF(Table1[[#This Row],[Column3]]=\"T1013\",\"Y\",\"N\")","v":"N"},{"$f":"IF(Table1[[#This Row],[Column3]]=90785,\"Y\",\"N\")","v":"N"}]
[null,null,null,null,null,null,null,null,null,null,{"$f":"IF(Table1[[#This Row],[Column3]]=\"T1013\",\"Y\",\"N\")","v":"N"},{"$f":"IF(Table1[[#This Row],[Column3]]=90785,\"Y\",\"N\")","v":"N"}]
[null,null,null,null,null,null,null,null,null,null,{"$f":"IF(Table1[[#This Row],[Column3]]=\"T1013\",\"Y\",\"N\")","v":"N"},{"$f":"IF(Table1[[#This Row],[Column3]]=90785,\"Y\",\"N\")","v":"N"}]
[null,null,null,null,null,null,null,null,null,null,{"$f":"IF(Table1[[#This Row],[Column3]]=\"T1013\",\"Y\",\"N\")","v":"N"},{"$f":"IF(Table1[[#This Row],[Column3]]=90785,\"Y\",\"N\")","v":"N"}]
[null,null,null,null,null,null,null,null,null,null,{"$f":"IF(Table1[[#This Row],[Column3]]=\"T1013\",\"Y\",\"N\")","v":"N"},{"$f":"IF(Table1[[#This Row],[Column3]]=90785,\"Y\",\"N\")","v":"N"}]
[null,null,null,null,null,null,null,null,null,null,{"$f":"IF(Table1[[#This Row],[Column3]]=\"T1013\",\"Y\",\"N\")","v":"N"},{"$f":"IF(Table1[[#This Row],[Column3]]=90785,\"Y\",\"N\")","v":"N"}]
[null,null,null,null,null,null,null,null,null,null,{"$f":"IF(Table1[[#This Row],[Column3]]=\"T1013\",\"Y\",\"N\")","v":"N"},{"$f":"IF(Table1[[#This Row],[Column3]]=90785,\"Y\",\"N\")","v":"N"}]
[null,null,null,null,null,null,null,null,null,null,{"$f":"IF(Table1[[#This Row],[Column3]]=\"T1013\",\"Y\",\"N\")","v":"N"},{"$f":"IF(Table1[[#This Row],[Column3]]=90785,\"Y\",\"N\")","v":"N"}]
[null,null,null,null,null,null,null,null,null,null,{"$f":"IF(Table1[[#This Row],[Column3]]=\"T1013\",\"Y\",\"N\")","v":"N"},{"$f":"IF(Table1[[#This Row],[Column3]]=90785,\"Y\",\"N\")","v":"N"}]
[null,null,null,null,null,null,null,null,null,null,{"$f":"IF(Table1[[#This Row],[Column3]]=\"T1013\",\"Y\",\"N\")","v":"N"},{"$f":"IF(Table1[[#This Row],[Column3]]=90785,\"Y\",\"N\")","v":"N"}]
[null,null,null,null,null,null,null,null,null,null,{"$f":"IF(Table1[[#This Row],[Column3]]=\"T1013\",\"Y\",\"N\")","v":"N"},{"$f":"IF(Table1[[#This Row],[Column3]]=90785,\"Y\",\"N\")","v":"N"}]
[null,null,null,null,null,null,null,null,null,null,{"$f":"IF(Table1[[#This Row],[Column3]]=\"T1013\",\"Y\",\"N\")","v":"N"},{"$f":"IF(Table1[[#This Row],[Column3]]=90785,\"Y\",\"N\")","v":"N"}]
[null,null,null,null,null,null,null,null,null,null,{"$f":"IF(Table1[[#This Row],[Column3]]=\"T1013\",\"Y\",\"N\")","v":"N"},{"$f":"IF(Table1[[#This Row],[Column3]]=90785,\"Y\",\"N\")","v":"N"}]
[null,null,null,null,null,null,null,null,null,null,{"$f":"IF(Table1[[#This Row],[Column3]]=\"T1013\",\"Y\",\"N\")","v":"N"},{"$f":"IF(Table1[[#This Row],[Column3]]=90785,\"Y\",\"N\")","v":"N"}]
[null,null,null,null,null,null,null,null,null,null,{"$f":"IF(Table1[[#This Row],[Column3]]=\"T1013\",\"Y\",\"N\")","v":"N"},{"$f":"IF(Table1[[#This Row],[Column3]]=90785,\"Y\",\"N\")","v":"N"}]
[null,null,null,null,null,null,null,null,null,null,{"$f":"IF(Table1[[#This Row],[Column3]]=\"T1013\",\"Y\",\"N\")","v":"N"},{"$f":"IF(Table1[[#This Row],[Column3]]=90785,\"Y\",\"N\")","v":"N"}]
[null,null,null,null,null,null,null,null,null,null,{"$f":"IF(Table1[[#This Row],[Column3]]=\"T1013\",\"Y\",\"N\")","v":"N"},{"$f":"IF(Table1[[#This Row],[Column3]]=90785,\"Y\",\"N\")","v":"N"}]
[null,null,null,null,null,null,null,null,null,null,{"$f":"IF(Table1[[#This Row],[Column3]]=\"T1013\",\"Y\",\"N\")","v":"N"},{"$f":"IF(Table1[[#This Row],[Column3]]=90785,\"Y\",\"N\")","v":"N"}]
[null,null,null,null,null,null,null,null,null,null,{"$f":"IF(Table1[[#This Row],[Column3]]=\"T1013\",\"Y\",\"N\")","v":"N"},{"$f":"IF(Table1[[#This Row],[Column3]]=90785,\"Y\",\"N\")","v":"N"}]
[null,null,null,null,null,null,null,null,null,null,{"$f":"IF(Table1[[#This Row],[Column3]]=\"T1013\",\"Y\",\"N\")","v":"N"},{"$f":"IF(Table1[[#This Row],[Column3]]=90785,\"Y\",\"N\")","v":"N"}]
[null,null,null,null,null,null,null,null,null,null,{"$f":"IF(Table1[[#This Row],[Column3]]=\"T1013\",\"Y\",\"N\")","v":"N"},{"$f":"IF(Table1[[#This Row],[Column3]]=90785,\"Y\",\"N\")","v":"N"}]
[null,null,null,null,null,null,null,null,null,null,{"$f":"IF(Table1[[#This Row],[Column3]]=\"T1013\",\"Y\",\"N\")","v":"N"},{"$f":"IF(Table1[[#This Row],[Column3]]=90785,\"Y\",\"N\")","v":"N"}]
[null,null,null,null,null,null,null,null,null,null,{"$f":"IF(Table1[[#This Row],[Column3]]=\"T1013\",\"Y\",\"N\")","v":"N"},{"$f":"IF(Table1[[#This Row],[Column3]]=90785,\"Y\",\"N\")","v":"N"}]
[null,null,null,null,null,null,null,null,null,null,{"$f":"IF(Table1[[#This Row],[Column3]]=\"T1013\",\"Y\",\"N\")","v":"N"},{"$f":"IF(Table1[[#This Row],[Column3]]=90785,\"Y\",\"N\")","v":"N"}]
[null,null,null,null,null,null,null,null,null,null,{"$f":"IF(Table1[[#This Row],[Column3]]=\"T1013\",\"Y\",\"N\")","v":"N"},{"$f":"IF(Table1[[#This Row],[Column3]]=90785,\"Y\",\"N\")","v":"N"}]
[null,null,null,null,null,null,null,null,null,null,{"$f":"IF(Table1[[#This Row],[Column3]]=\"T1013\",\"Y\",\"N\")","v":"N"},{"$f":"IF(Table1[[#This Row],[Column3]]=90785,\"Y\",\"N\")","v":"N"}]
[null,null,null,null,null,null,null,null,null,null,{"$f":"IF(Table1[[#This Row],[Column3]]=\"T1013\",\"Y\",\"N\")","v":"N"},{"$f":"IF(Table1[[#This Row],[Column3]]=90785,\"Y\",\"N\")","v":"N"}]
[null,null,null,null,null,null,null,null,null,null,{"$f":"IF(Table1[[#This Row],[Column3]]=\"T1013\",\"Y\",\"N\")","v":"N"},{"$f":"IF(Table1[[#This Row],[Column3]]=90785,\"Y\",\"N\")","v":"N"}]
[null,null,null,null,null,null,null,null,null,null,{"$f":"IF(Table1[[#This Row],[Column3]]=\"T1013\",\"Y\",\"N\")","v":"N"},{"$f":"IF(Table1[[#This Row],[Column3]]=90785,\"Y\",\"N\")","v":"N"}]
[null,null,null,null,null,null,null,null,null,null,{"$f":"IF(Table1[[#This Row],[Column3]]=\"T1013\",\"Y\",\"N\")","v":"N"},{"$f":"IF(Table1[[#This Row],[Column3]]=90785,\"Y\",\"N\")","v":"N"}]
[null,null,null,null,null,null,null,null,null,null,{"$f":"IF(Table1[[#This Row],[Column3]]=\"T1013\",\"Y\",\"N\")","v":"N"},{"$f":"IF(Table1[[#This Row],[Column3]]=90785,\"Y\",\"N\")","v":"N"}]
[null,null,null,null,null,null,null,null,null,null,{"$f":"IF(Table1[[#This Row],[Column3]]=\"T1013\",\"Y\",\"N\")","v":"N"},{"$f":"IF(Table1[[#This Row],[Column3]]=90785,\"Y\",\"N\")","v":"N"}]
[null,null,null,null,null,null,null,null,null,null,{"$f":"IF(Table1[[#This Row],[Column3]]=\"T1013\",\"Y\",\"N\")","v":"N"},{"$f":"IF(Table1[[#This Row],[Column3]]=90785,\"Y\",\"N\")","v":"N"}]
[null,null,null,null,null,null,null,null,null,null,{"$f":"IF(Table1[[#This Row],[Column3]]=\"T1013\",\"Y\",\"N\")","v":"N"},{"$f":"IF(Table1[[#This Row],[Column3]]=90785,\"Y\",\"N\")","v":"N"}]
[null,null,null,null,null,null,null,null,null,null,{"$f":"IF(Table1[[#This Row],[Column3]]=\"T1013\",\"Y\",\"N\")","v":"N"},{"$f":"IF(Table1[[#This Row],[Column3]]=90785,\"Y\",\"N\")","v":"N"}]
[null,null,null,null,null,null,null,null,null,null,{"$f":"IF(Table1[[#This Row],[Column3]]=\"T1013\",\"Y\",\"N\")","v":"N"},{"$f":"IF(Table1[[#This Row],[Column3]]=90785,\"Y\",\"N\")","v":"N"}]
[null,null,null,null,null,null,null,null,null,null,{"$f":"IF(Table1[[#This Row],[Column3]]=\"T1013\",\"Y\",\"N\")","v":"N"},{"$f":"IF(Table1[[#This Row],[Column3]]=90785,\"Y\",\"N\")","v":"N"}]
[null,null,null,null,null,null,null,null,null,null,{"$f":"IF(Table1[[#This Row],[Column3]]=\"T1013\",\"Y\",\"N\")","v":"N"},{"$f":"IF(Table1[[#This Row],[Column3]]=90785,\"Y\",\"N\")","v":"N"}]
[null,null,null,null,null,null,null,null,null,null,{"$f":"IF(Table1[[#This Row],[Column3]]=\"T1013\",\"Y\",\"N\")","v":"N"},{"$f":"IF(Table1[[#This Row],[Column3]]=90785,\"Y\",\"N\")","v":"N"}]
[null,null,null,null,null,null,null,null,null,null,{"$f":"IF(Table1[[#This Row],[Column3]]=\"T1013\",\"Y\",\"N\")","v":"N"},{"$f":"IF(Table1[[#This Row],[Column3]]=90785,\"Y\",\"N\")","v":"N"}]
[null,null,null,null,null,null,null,null,null,null,{"$f":"IF(Table1[[#This Row],[Column3]]=\"T1013\",\"Y\",\"N\")","v":"N"},{"$f":"IF(Table1[[#This Row],[Column3]]=90785,\"Y\",\"N\")","v":"N"}]
[null,null,null,null,null,null,null,null,null,null,{"$f":"IF(Table1[[#This Row],[Column3]]=\"T1013\",\"Y\",\"N\")","v":"N"},{"$f":"IF(Table1[[#This Row],[Column3]]=90785,\"Y\",\"N\")","v":"N"}]
[null,null,null,null,null,null,null,null,null,null,{"$f":"IF(Table1[[#This Row],[Column3]]=\"T1013\",\"Y\",\"N\")","v":"N"},{"$f":"IF(Table1[[#This Row],[Column3]]=90785,\"Y\",\"N\")","v":"N"}]
[null,null,null,null,null,null,null,null,null,null,{"$f":"IF(Table1[[#This Row],[Column3]]=\"T1013\",\"Y\",\"N\")","v":"N"},{"$f":"IF(Table1[[#This Row],[Column3]]=90785,\"Y\",\"N\")","v":"N"}]
[null,null,null,null,null,null,null,null,null,null,{"$f":"IF(Table1[[#This Row],[Column3]]=\"T1013\",\"Y\",\"N\")","v":"N"},{"$f":"IF(Table1[[#This Row],[Column3]]=90785,\"Y\",\"N\")","v":"N"}]
[null,null,null,null,null,null,null,null,null,null,{"$f":"IF(Table1[[#This Row],[Column3]]=\"T1013\",\"Y\",\"N\")","v":"N"},{"$f":"IF(Table1[[#This Row],[Column3]]=90785,\"Y\",\"N\")","v":"N"}]
[null,null,null,null,null,null,null,null,null,null,{"$f":"IF(Table1[[#This Row],[Column3]]=\"T1013\",\"Y\",\"N\")","v":"N"},{"$f":"IF(Table1[[#This Row],[Column3]]=90785,\"Y\",\"N\")","v":"N"}]
[null,null,null,null,null,null,null,null,null,null,{"$f":"IF(Table1[[#This Row],[Column3]]=\"T1013\",\"Y\",\"N\")","v":"N"},{"$f":"IF(Table1[[#This Row],[Column3]]=90785,\"Y\",\"N\")","v":"N"}]
[null,null,null,null,null,null,null,null,null,null,{"$f":"IF(Table1[[#This Row],[Column3]]=\"T1013\",\"Y\",\"N\")","v":"N"},{"$f":"IF(Table1[[#This Row],[Column3]]=90785,\"Y\",\"N\")","v":"N"}]
[null,null,null,null,null,null,null,null,null,null,{"$f":"IF(Table1[[#This Row],[Column3]]=\"T1013\",\"Y\",\"N\")","v":"N"},{"$f":"IF(Table1[[#This Row],[Column3]]=90785,\"Y\",\"N\")","v":"N"}]
[null,null,null,null,null,null,null,null,null,null,{"$f":"IF(Table1[[#This Row],[Column3]]=\"T1013\",\"Y\",\"N\")","v":"N"},{"$f":"IF(Table1[[#This Row],[Column3]]=90785,\"Y\",\"N\")","v":"N"}]
[null,null,null,null,null,null,null,null,null,null,{"$f":"IF(Table1[[#This Row],[Column3]]=\"T1013\",\"Y\",\"N\")","v":"N"},{"$f":"IF(Table1[[#This Row],[Column3]]=90785,\"Y\",\"N\")","v":"N"}]
[null,null,null,null,null,null,null,null,null,null,{"$f":"IF(Table1[[#This Row],[Column3]]=\"T1013\",\"Y\",\"N\")","v":"N"},{"$f":"IF(Table1[[#This Row],[Column3]]=90785,\"Y\",\"N\")","v":"N"}]
[null,null,null,null,null,null,null,null,null,null,{"$f":"IF(Table1[[#This Row],[Column3]]=\"T1013\",\"Y\",\"N\")","v":"N"},{"$f":"IF(Table1[[#This Row],[Column3]]=90785,\"Y\",\"N\")","v":"N"}]
[null,null,null,null,null,null,null,null,null,null,{"$f":"IF(Table1[[#This Row],[Column3]]=\"T1013\",\"Y\",\"N\")","v":"N"},{"$f":"IF(Table1[[#This Row],[Column3]]=90785,\"Y\",\"N\")","v":"N"}]
[null,null,null,null,null,null,null,null,null,null,{"$f":"IF(Table1[[#This Row],[Column3]]=\"T1013\",\"Y\",\"N\")","v":"N"},{"$f":"IF(Table1[[#This Row],[Column3]]=90785,\"Y\",\"N\")","v":"N"}]
[null,null,null,null,null,null,null,null,null,null,{"$f":"IF(Table1[[#This Row],[Column3]]=\"T1013\",\"Y\",\"N\")","v":"N"},{"$f":"IF(Table1[[#This Row],[Column3]]=90785,\"Y\",\"N\")","v":"N"}]
[null,null,null,null,null,null,null,null,null,null,{"$f":"IF(Table1[[#This Row],[Column3]]=\"T1013\",\"Y\",\"N\")","v":"N"},{"$f":"IF(Table1[[#This Row],[Column3]]=90785,\"Y\",\"N\")","v":"N"}]
[null,null,null,null,null,null,null,null,null,null,{"$f":"IF(Table1[[#This Row],[Column3]]=\"T1013\",\"Y\",\"N\")","v":"N"},{"$f":"IF(Table1[[#This Row],[Column3]]=90785,\"Y\",\"N\")","v":"N"}]
[null,null,null,null,null,null,null,null,null,null,{"$f":"IF(Table1[[#This Row],[Column3]]=\"T1013\",\"Y\",\"N\")","v":"N"},{"$f":"IF(Table1[[#This Row],[Column3]]=90785,\"Y\",\"N\")","v":"N"}]
[null,null,null,null,null,null,null,null,null,null,{"$f":"IF(Table1[[#This Row],[Column3]]=\"T1013\",\"Y\",\"N\")","v":"N"},{"$f":"IF(Table1[[#This Row],[Column3]]=90785,\"Y\",\"N\")","v":"N"}]
[null,null,null,null,null,null,null,null,null,null,{"$f":"IF(Table1[[#This Row],[Column3]]=\"T1013\",\"Y\",\"N\")","v":"N"},{"$f":"IF(Table1[[#This Row],[Column3]]=90785,\"Y\",\"N\")","v":"N"}]
[null,null,null,null,null,null,null,null,null,null,{"$f":"IF(Table1[[#This Row],[Column3]]=\"T1013\",\"Y\",\"N\")","v":"N"},{"$f":"IF(Table1[[#This Row],[Column3]]=90785,\"Y\",\"N\")","v":"N"}]
[null,null,null,null,null,null,null,null,null,null,{"$f":"IF(Table1[[#This Row],[Column3]]=\"T1013\",\"Y\",\"N\")","v":"N"},{"$f":"IF(Table1[[#This Row],[Column3]]=90785,\"Y\",\"N\")","v":"N"}]
[null,null,null,null,null,null,null,null,null,null,{"$f":"IF(Table1[[#This Row],[Column3]]=\"T1013\",\"Y\",\"N\")","v":"N"},{"$f":"IF(Table1[[#This Row],[Column3]]=90785,\"Y\",\"N\")","v":"N"}]
[null,null,null,null,null,null,null,null,null,null,{"$f":"IF(Table1[[#This Row],[Column3]]=\"T1013\",\"Y\",\"N\")","v":"N"},{"$f":"IF(Table1[[#This Row],[Column3]]=90785,\"Y\",\"N\")","v":"N"}]
[null,null,null,null,null,null,null,null,null,null,{"$f":"IF(Table1[[#This Row],[Column3]]=\"T1013\",\"Y\",\"N\")","v":"N"},{"$f":"IF(Table1[[#This Row],[Column3]]=90785,\"Y\",\"N\")","v":"N"}]
[null,null,null,null,null,null,null,null,null,null,{"$f":"IF(Table1[[#This Row],[Column3]]=\"T1013\",\"Y\",\"N\")","v":"N"},{"$f":"IF(Table1[[#This Row],[Column3]]=90785,\"Y\",\"N\")","v":"N"}]
[null,null,null,null,null,null,null,null,null,null,{"$f":"IF(Table1[[#This Row],[Column3]]=\"T1013\",\"Y\",\"N\")","v":"N"},{"$f":"IF(Table1[[#This Row],[Column3]]=90785,\"Y\",\"N\")","v":"N"}]
[null,null,null,null,null,null,null,null,null,null,{"$f":"IF(Table1[[#This Row],[Column3]]=\"T1013\",\"Y\",\"N\")","v":"N"},{"$f":"IF(Table1[[#This Row],[Column3]]=90785,\"Y\",\"N\")","v":"N"}]
[null,null,null,null,null,null,null,null,null,null,{"$f":"IF(Table1[[#This Row],[Column3]]=\"T1013\",\"Y\",\"N\")","v":"N"},{"$f":"IF(Table1[[#This Row],[Column3]]=90785,\"Y\",\"N\")","v":"N"}]
[null,null,null,null,null,null,null,null,null,null,{"$f":"IF(Table1[[#This Row],[Column3]]=\"T1013\",\"Y\",\"N\")","v":"N"},{"$f":"IF(Table1[[#This Row],[Column3]]=90785,\"Y\",\"N\")","v":"N"}]
[null,null,null,null,null,null,null,null,null,null,{"$f":"IF(Table1[[#This Row],[Column3]]=\"T1013\",\"Y\",\"N\")","v":"N"},{"$f":"IF(Table1[[#This Row],[Column3]]=90785,\"Y\",\"N\")","v":"N"}]
[null,null,null,null,null,null,null,null,null,null,{"$f":"IF(Table1[[#This Row],[Column3]]=\"T1013\",\"Y\",\"N\")","v":"N"},{"$f":"IF(Table1[[#This Row],[Column3]]=90785,\"Y\",\"N\")","v":"N"}]
[null,null,null,null,null,null,null,null,null,null,{"$f":"IF(Table1[[#This Row],[Column3]]=\"T1013\",\"Y\",\"N\")","v":"N"},{"$f":"IF(Table1[[#This Row],[Column3]]=90785,\"Y\",\"N\")","v":"N"}]
[null,null,null,null,null,null,null,null,null,null,{"$f":"IF(Table1[[#This Row],[Column3]]=\"T1013\",\"Y\",\"N\")","v":"N"},{"$f":"IF(Table1[[#This Row],[Column3]]=90785,\"Y\",\"N\")","v":"N"}]
[null,null,null,null,null,null,null,null,null,null,{"$f":"IF(Table1[[#This Row],[Column3]]=\"T1013\",\"Y\",\"N\")","v":"N"},{"$f":"IF(Table1[[#This Row],[Column3]]=90785,\"Y\",\"N\")","v":"N"}]
[null,null,null,null,null,null,null,null,null,null,{"$f":"IF(Table1[[#This Row],[Column3]]=\"T1013\",\"Y\",\"N\")","v":"N"},{"$f":"IF(Table1[[#This Row],[Column3]]=90785,\"Y\",\"N\")","v":"N"}]
[null,null,null,null,null,null,null,null,null,null,{"$f":"IF(Table1[[#This Row],[Column3]]=\"T1013\",\"Y\",\"N\")","v":"N"},{"$f":"IF(Table1[[#This Row],[Column3]]=90785,\"Y\",\"N\")","v":"N"}]
[null,null,null,null,null,null,null,null,null,null,{"$f":"IF(Table1[[#This Row],[Column3]]=\"T1013\",\"Y\",\"N\")","v":"N"},{"$f":"IF(Table1[[#This Row],[Column3]]=90785,\"Y\",\"N\")","v":"N"}]
[null,null,null,null,null,null,null,null,null,null,{"$f":"IF(Table1[[#This Row],[Column3]]=\"T1013\",\"Y\",\"N\")","v":"N"},{"$f":"IF(Table1[[#This Row],[Column3]]=90785,\"Y\",\"N\")","v":"N"}]
[null,null,null,null,null,null,null,null,null,null,{"$f":"IF(Table1[[#This Row],[Column3]]=\"T1013\",\"Y\",\"N\")","v":"N"},{"$f":"IF(Table1[[#This Row],[Column3]]=90785,\"Y\",\"N\")","v":"N"}]
[null,null,null,null,null,null,null,null,null,null,{"$f":"IF(Table1[[#This Row],[Column3]]=\"T1013\",\"Y\",\"N\")","v":"N"},{"$f":"IF(Table1[[#This Row],[Column3]]=90785,\"Y\",\"N\")","v":"N"}]
[null,null,null,null,null,null,null,null,null,null,{"$f":"IF(Table1[[#This Row],[Column3]]=\"T1013\",\"Y\",\"N\")","v":"N"},{"$f":"IF(Table1[[#This Row],[Column3]]=90785,\"Y\",\"N\")","v":"N"}]
[null,null,null,null,null,null,null,null,null,null,{"$f":"IF(Table1[[#This Row],[Column3]]=\"T1013\",\"Y\",\"N\")","v":"N"},{"$f":"IF(Table1[[#This Row],[Column3]]=90785,\"Y\",\"N\")","v":"N"}]
[null,null,null,null,null,null,null,null,null,null,{"$f":"IF(Table1[[#This Row],[Column3]]=\"T1013\",\"Y\",\"N\")","v":"N"},{"$f":"IF(Table1[[#This Row],[Column3]]=90785,\"Y\",\"N\")","v":"N"}]
[null,null,null,null,null,null,null,null,null,null,{"$f":"IF(Table1[[#This Row],[Column3]]=\"T1013\",\"Y\",\"N\")","v":"N"},{"$f":"IF(Table1[[#This Row],[Column3]]=90785,\"Y\",\"N\")","v":"N"}]
[null,null,null,null,null,null,null,null,null,null,{"$f":"IF(Table1[[#This Row],[Column3]]=\"T1013\",\"Y\",\"N\")","v":"N"},{"$f":"IF(Table1[[#This Row],[Column3]]=90785,\"Y\",\"N\")","v":"N"}]
[null,null,null,null,null,null,null,null,null,null,{"$f":"IF(Table1[[#This Row],[Column3]]=\"T1013\",\"Y\",\"N\")","v":"N"},{"$f":"IF(Table1[[#This Row],[Column3]]=90785,\"Y\",\"N\")","v":"N"}]
[null,null,null,null,null,null,null,null,null,null,{"$f":"IF(Table1[[#This Row],[Column3]]=\"T1013\",\"Y\",\"N\")","v":"N"},{"$f":"IF(Table1[[#This Row],[Column3]]=90785,\"Y\",\"N\")","v":"N"}]
[null,null,null,null,null,null,null,null,null,null,{"$f":"IF(Table1[[#This Row],[Column3]]=\"T1013\",\"Y\",\"N\")","v":"N"},{"$f":"IF(Table1[[#This Row],[Column3]]=90785,\"Y\",\"N\")","v":"N"}]
[null,null,null,null,null,null,null,null,null,null,{"$f":"IF(Table1[[#This Row],[Column3]]=\"T1013\",\"Y\",\"N\")","v":"N"},{"$f":"IF(Table1[[#This Row],[Column3]]=90785,\"Y\",\"N\")","v":"N"}]
[null,null,null,null,null,null,null,null,null,null,{"$f":"IF(Table1[[#This Row],[Column3]]=\"T1013\",\"Y\",\"N\")","v":"N"},{"$f":"IF(Table1[[#This Row],[Column3]]=90785,\"Y\",\"N\")","v":"N"}]
[null,null,null,null,null,null,null,null,null,null,{"$f":"IF(Table1[[#This Row],[Column3]]=\"T1013\",\"Y\",\"N\")","v":"N"},{"$f":"IF(Table1[[#This Row],[Column3]]=90785,\"Y\",\"N\")","v":"N"}]
[null,null,null,null,null,null,null,null,null,null,{"$f":"IF(Table1[[#This Row],[Column3]]=\"T1013\",\"Y\",\"N\")","v":"N"},{"$f":"IF(Table1[[#This Row],[Column3]]=90785,\"Y\",\"N\")","v":"N"}]
[null,null,null,null,null,null,null,null,null,null,{"$f":"IF(Table1[[#This Row],[Column3]]=\"T1013\",\"Y\",\"N\")","v":"N"},{"$f":"IF(Table1[[#This Row],[Column3]]=90785,\"Y\",\"N\")","v":"N"}]
[null,null,null,null,null,null,null,null,null,null,{"$f":"IF(Table1[[#This Row],[Column3]]=\"T1013\",\"Y\",\"N\")","v":"N"},{"$f":"IF(Table1[[#This Row],[Column3]]=90785,\"Y\",\"N\")","v":"N"}]
[null,null,null,null,null,null,null,null,null,null,{"$f":"IF(Table1[[#This Row],[Column3]]=\"T1013\",\"Y\",\"N\")","v":"N"},{"$f":"IF(Table1[[#This Row],[Column3]]=90785,\"Y\",\"N\")","v":"N"}]
[null,null,null,null,null,null,null,null,null,null,{"$f":"IF(Table1[[#This Row],[Column3]]=\"T1013\",\"Y\",\"N\")","v":"N"},{"$f":"IF(Table1[[#This Row],[Column3]]=90785,\"Y\",\"N\")","v":"N"}]
[null,null,null,null,null,null,null,null,null,null,{"$f":"IF(Table1[[#This Row],[Column3]]=\"T1013\",\"Y\",\"N\")","v":"N"},{"$f":"IF(Table1[[#This Row],[Column3]]=90785,\"Y\",\"N\")","v":"N"}]
[null,null,null,null,null,null,null,null,null,null,{"$f":"IF(Table1[[#This Row],[Column3]]=\"T1013\",\"Y\",\"N\")","v":"N"},{"$f":"IF(Table1[[#This Row],[Column3]]=90785,\"Y\",\"N\")","v":"N"}]
[null,null,null,null,null,null,null,null,null,null,{"$f":"IF(Table1[[#This Row],[Column3]]=\"T1013\",\"Y\",\"N\")","v":"N"},{"$f":"IF(Table1[[#This Row],[Column3]]=90785,\"Y\",\"N\")","v":"N"}]
[null,null,null,null,null,null,null,null,null,null,{"$f":"IF(Table1[[#This Row],[Column3]]=\"T1013\",\"Y\",\"N\")","v":"N"},{"$f":"IF(Table1[[#This Row],[Column3]]=90785,\"Y\",\"N\")","v":"N"}]
[null,null,null,null,null,null,null,null,null,null,{"$f":"IF(Table1[[#This Row],[Column3]]=\"T1013\",\"Y\",\"N\")","v":"N"},{"$f":"IF(Table1[[#This Row],[Column3]]=90785,\"Y\",\"N\")","v":"N"}]
[null,null,null,null,null,null,null,null,null,null,{"$f":"IF(Table1[[#This Row],[Column3]]=\"T1013\",\"Y\",\"N\")","v":"N"},{"$f":"IF(Table1[[#This Row],[Column3]]=90785,\"Y\",\"N\")","v":"N"}]
[null,null,null,null,null,null,null,null,null,null,{"$f":"IF(Table1[[#This Row],[Column3]]=\"T1013\",\"Y\",\"N\")","v":"N"},{"$f":"IF(Table1[[#This Row],[Column3]]=90785,\"Y\",\"N\")","v":"N"}]
[null,null,null,null,null,null,null,null,null,null,{"$f":"IF(Table1[[#This Row],[Column3]]=\"T1013\",\"Y\",\"N\")","v":"N"},{"$f":"IF(Table1[[#This Row],[Column3]]=90785,\"Y\",\"N\")","v":"N"}]
[null,null,null,null,null,null,null,null,null,null,{"$f":"IF(Table1[[#This Row],[Column3]]=\"T1013\",\"Y\",\"N\")","v":"N"},{"$f":"IF(Table1[[#This Row],[Column3]]=90785,\"Y\",\"N\")","v":"N"}]
[null,null,null,null,null,null,null,null,null,null,{"$f":"IF(Table1[[#This Row],[Column3]]=\"T1013\",\"Y\",\"N\")","v":"N"},{"$f":"IF(Table1[[#This Row],[Column3]]=90785,\"Y\",\"N\")","v":"N"}]
[null,null,null,null,null,null,null,null,null,null,{"$f":"IF(Table1[[#This Row],[Column3]]=\"T1013\",\"Y\",\"N\")","v":"N"},{"$f":"IF(Table1[[#This Row],[Column3]]=90785,\"Y\",\"N\")","v":"N"}]
[null,null,null,null,null,null,null,null,null,null,{"$f":"IF(Table1[[#This Row],[Column3]]=\"T1013\",\"Y\",\"N\")","v":"N"},{"$f":"IF(Table1[[#This Row],[Column3]]=90785,\"Y\",\"N\")","v":"N"}]
[null,null,null,null,null,null,null,null,null,null,{"$f":"IF(Table1[[#This Row],[Column3]]=\"T1013\",\"Y\",\"N\")","v":"N"},{"$f":"IF(Table1[[#This Row],[Column3]]=90785,\"Y\",\"N\")","v":"N"}]
[null,null,null,null,null,null,null,null,null,null,{"$f":"IF(Table1[[#This Row],[Column3]]=\"T1013\",\"Y\",\"N\")","v":"N"},{"$f":"IF(Table1[[#This Row],[Column3]]=90785,\"Y\",\"N\")","v":"N"}]
[null,null,null,null,null,null,null,null,null,null,{"$f":"IF(Table1[[#This Row],[Column3]]=\"T1013\",\"Y\",\"N\")","v":"N"},{"$f":"IF(Table1[[#This Row],[Column3]]=90785,\"Y\",\"N\")","v":"N"}]
[null,null,null,null,null,null,null,null,null,null,{"$f":"IF(Table1[[#This Row],[Column3]]=\"T1013\",\"Y\",\"N\")","v":"N"},{"$f":"IF(Table1[[#This Row],[Column3]]=90785,\"Y\",\"N\")","v":"N"}]
[null,null,null,null,null,null,null,null,null,null,{"$f":"IF(Table1[[#This Row],[Column3]]=\"T1013\",\"Y\",\"N\")","v":"N"},{"$f":"IF(Table1[[#This Row],[Column3]]=90785,\"Y\",\"N\")","v":"N"}]
[null,null,null,null,null,null,null,null,null,null,{"$f":"IF(Table1[[#This Row],[Column3]]=\"T1013\",\"Y\",\"N\")","v":"N"},{"$f":"IF(Table1[[#This Row],[Column3]]=90785,\"Y\",\"N\")","v":"N"}]
[null,null,null,null,null,null,null,null,null,null,{"$f":"IF(Table1[[#This Row],[Column3]]=\"T1013\",\"Y\",\"N\")","v":"N"},{"$f":"IF(Table1[[#This Row],[Column3]]=90785,\"Y\",\"N\")","v":"N"}]
[null,null,null,null,null,null,null,null,null,null,{"$f":"IF(Table1[[#This Row],[Column3]]=\"T1013\",\"Y\",\"N\")","v":"N"},{"$f":"IF(Table1[[#This Row],[Column3]]=90785,\"Y\",\"N\")","v":"N"}]
[null,null,null,null,null,null,null,null,null,null,{"$f":"IF(Table1[[#This Row],[Column3]]=\"T1013\",\"Y\",\"N\")","v":"N"},{"$f":"IF(Table1[[#This Row],[Column3]]=90785,\"Y\",\"N\")","v":"N"}]
[null,null,null,null,null,null,null,null,null,null,{"$f":"IF(Table1[[#This Row],[Column3]]=\"T1013\",\"Y\",\"N\")","v":"N"},{"$f":"IF(Table1[[#This Row],[Column3]]=90785,\"Y\",\"N\")","v":"N"}]
[null,null,null,null,null,null,null,null,null,null,{"$f":"IF(Table1[[#This Row],[Column3]]=\"T1013\",\"Y\",\"N\")","v":"N"},{"$f":"IF(Table1[[#This Row],[Column3]]=90785,\"Y\",\"N\")","v":"N"}]
[null,null,null,null,null,null,null,null,null,null,{"$f":"IF(Table1[[#This Row],[Column3]]=\"T1013\",\"Y\",\"N\")","v":"N"},{"$f":"IF(Table1[[#This Row],[Column3]]=90785,\"Y\",\"N\")","v":"N"}]
[null,null,null,null,null,null,null,null,null,null,{"$f":"IF(Table1[[#This Row],[Column3]]=\"T1013\",\"Y\",\"N\")","v":"N"},{"$f":"IF(Table1[[#This Row],[Column3]]=90785,\"Y\",\"N\")","v":"N"}]
[null,null,null,null,null,null,null,null,null,null,{"$f":"IF(Table1[[#This Row],[Column3]]=\"T1013\",\"Y\",\"N\")","v":"N"},{"$f":"IF(Table1[[#This Row],[Column3]]=90785,\"Y\",\"N\")","v":"N"}]
[null,null,null,null,null,null,null,null,null,null,{"$f":"IF(Table1[[#This Row],[Column3]]=\"T1013\",\"Y\",\"N\")","v":"N"},{"$f":"IF(Table1[[#This Row],[Column3]]=90785,\"Y\",\"N\")","v":"N"}]
[null,null,null,null,null,null,null,null,null,null,{"$f":"IF(Table1[[#This Row],[Column3]]=\"T1013\",\"Y\",\"N\")","v":"N"},{"$f":"IF(Table1[[#This Row],[Column3]]=90785,\"Y\",\"N\")","v":"N"}]
[null,null,null,null,null,null,null,null,null,null,{"$f":"IF(Table1[[#This Row],[Column3]]=\"T1013\",\"Y\",\"N\")","v":"N"},{"$f":"IF(Table1[[#This Row],[Column3]]=90785,\"Y\",\"N\")","v":"N"}]
[null,null,null,null,null,null,null,null,null,null,{"$f":"IF(Table1[[#This Row],[Column3]]=\"T1013\",\"Y\",\"N\")","v":"N"},{"$f":"IF(Table1[[#This Row],[Column3]]=90785,\"Y\",\"N\")","v":"N"}]
[null,null,null,null,null,null,null,null,null,null,{"$f":"IF(Table1[[#This Row],[Column3]]=\"T1013\",\"Y\",\"N\")","v":"N"},{"$f":"IF(Table1[[#This Row],[Column3]]=90785,\"Y\",\"N\")","v":"N"}]
[null,null,null,null,null,null,null,null,null,null,{"$f":"IF(Table1[[#This Row],[Column3]]=\"T1013\",\"Y\",\"N\")","v":"N"},{"$f":"IF(Table1[[#This Row],[Column3]]=90785,\"Y\",\"N\")","v":"N"}]
[null,null,null,null,null,null,null,null,null,null,{"$f":"IF(Table1[[#This Row],[Column3]]=\"T1013\",\"Y\",\"N\")","v":"N"},{"$f":"IF(Table1[[#This Row],[Column3]]=90785,\"Y\",\"N\")","v":"N"}]
[null,null,null,null,null,null,null,null,null,null,{"$f":"IF(Table1[[#This Row],[Column3]]=\"T1013\",\"Y\",\"N\")","v":"N"},{"$f":"IF(Table1[[#This Row],[Column3]]=90785,\"Y\",\"N\")","v":"N"}]
[null,null,null,null,null,null,null,null,null,null,{"$f":"IF(Table1[[#This Row],[Column3]]=\"T1013\",\"Y\",\"N\")","v":"N"},{"$f":"IF(Table1[[#This Row],[Column3]]=90785,\"Y\",\"N\")","v":"N"}]
[null,null,null,null,null,null,null,null,null,null,{"$f":"IF(Table1[[#This Row],[Column3]]=\"T1013\",\"Y\",\"N\")","v":"N"},{"$f":"IF(Table1[[#This Row],[Column3]]=90785,\"Y\",\"N\")","v":"N"}]
[null,null,null,null,null,null,null,null,null,null,{"$f":"IF(Table1[[#This Row],[Column3]]=\"T1013\",\"Y\",\"N\")","v":"N"},{"$f":"IF(Table1[[#This Row],[Column3]]=90785,\"Y\",\"N\")","v":"N"}]
[null,null,null,null,null,null,null,null,null,null,{"$f":"IF(Table1[[#This Row],[Column3]]=\"T1013\",\"Y\",\"N\")","v":"N"},{"$f":"IF(Table1[[#This Row],[Column3]]=90785,\"Y\",\"N\")","v":"N"}]
[null,null,null,null,null,null,null,null,null,null,{"$f":"IF(Table1[[#This Row],[Column3]]=\"T1013\",\"Y\",\"N\")","v":"N"},{"$f":"IF(Table1[[#This Row],[Column3]]=90785,\"Y\",\"N\")","v":"N"}]
[null,null,null,null,null,null,null,null,null,null,{"$f":"IF(Table1[[#This Row],[Column3]]=\"T1013\",\"Y\",\"N\")","v":"N"},{"$f":"IF(Table1[[#This Row],[Column3]]=90785,\"Y\",\"N\")","v":"N"}]
[null,null,null,null,null,null,null,null,null,null,{"$f":"IF(Table1[[#This Row],[Column3]]=\"T1013\",\"Y\",\"N\")","v":"N"},{"$f":"IF(Table1[[#This Row],[Column3]]=90785,\"Y\",\"N\")","v":"N"}]
[null,null,null,null,null,null,null,null,null,null,{"$f":"IF(Table1[[#This Row],[Column3]]=\"T1013\",\"Y\",\"N\")","v":"N"},{"$f":"IF(Table1[[#This Row],[Column3]]=90785,\"Y\",\"N\")","v":"N"}]
[null,null,null,null,null,null,null,null,null,null,{"$f":"IF(Table1[[#This Row],[Column3]]=\"T1013\",\"Y\",\"N\")","v":"N"},{"$f":"IF(Table1[[#This Row],[Column3]]=90785,\"Y\",\"N\")","v":"N"}]
[null,null,null,null,null,null,null,null,null,null,{"$f":"IF(Table1[[#This Row],[Column3]]=\"T1013\",\"Y\",\"N\")","v":"N"},{"$f":"IF(Table1[[#This Row],[Column3]]=90785,\"Y\",\"N\")","v":"N"}]
[null,null,null,null,null,null,null,null,null,null,{"$f":"IF(Table1[[#This Row],[Column3]]=\"T1013\",\"Y\",\"N\")","v":"N"},{"$f":"IF(Table1[[#This Row],[Column3]]=90785,\"Y\",\"N\")","v":"N"}]
[null,null,null,null,null,null,null,null,null,null,{"$f":"IF(Table1[[#This Row],[Column3]]=\"T1013\",\"Y\",\"N\")","v":"N"},{"$f":"IF(Table1[[#This Row],[Column3]]=90785,\"Y\",\"N\")","v":"N"}]
[null,null,null,null,null,null,null,null,null,null,{"$f":"IF(Table1[[#This Row],[Column3]]=\"T1013\",\"Y\",\"N\")","v":"N"},{"$f":"IF(Table1[[#This Row],[Column3]]=90785,\"Y\",\"N\")","v":"N"}]
[null,null,null,null,null,null,null,null,null,null,{"$f":"IF(Table1[[#This Row],[Column3]]=\"T1013\",\"Y\",\"N\")","v":"N"},{"$f":"IF(Table1[[#This Row],[Column3]]=90785,\"Y\",\"N\")","v":"N"}]
[null,null,null,null,null,null,null,null,null,null,{"$f":"IF(Table1[[#This Row],[Column3]]=\"T1013\",\"Y\",\"N\")","v":"N"},{"$f":"IF(Table1[[#This Row],[Column3]]=90785,\"Y\",\"N\")","v":"N"}]
[null,null,null,null,null,null,null,null,null,null,{"$f":"IF(Table1[[#This Row],[Column3]]=\"T1013\",\"Y\",\"N\")","v":"N"},{"$f":"IF(Table1[[#This Row],[Column3]]=90785,\"Y\",\"N\")","v":"N"}]
[null,null,null,null,null,null,null,null,null,null,{"$f":"IF(Table1[[#This Row],[Column3]]=\"T1013\",\"Y\",\"N\")","v":"N"},{"$f":"IF(Table1[[#This Row],[Column3]]=90785,\"Y\",\"N\")","v":"N"}]
[null,null,null,null,null,null,null,null,null,null,{"$f":"IF(Table1[[#This Row],[Column3]]=\"T1013\",\"Y\",\"N\")","v":"N"},{"$f":"IF(Table1[[#This Row],[Column3]]=90785,\"Y\",\"N\")","v":"N"}]
[null,null,null,null,null,null,null,null,null,null,{"$f":"IF(Table1[[#This Row],[Column3]]=\"T1013\",\"Y\",\"N\")","v":"N"},{"$f":"IF(Table1[[#This Row],[Column3]]=90785,\"Y\",\"N\")","v":"N"}]
[null,null,null,null,null,null,null,null,null,null,{"$f":"IF(Table1[[#This Row],[Column3]]=\"T1013\",\"Y\",\"N\")","v":"N"},{"$f":"IF(Table1[[#This Row],[Column3]]=90785,\"Y\",\"N\")","v":"N"}]
[null,null,null,null,null,null,null,null,null,null,{"$f":"IF(Table1[[#This Row],[Column3]]=\"T1013\",\"Y\",\"N\")","v":"N"},{"$f":"IF(Table1[[#This Row],[Column3]]=90785,\"Y\",\"N\")","v":"N"}]
[null,null,null,null,null,null,null,null,null,null,{"$f":"IF(Table1[[#This Row],[Column3]]=\"T1013\",\"Y\",\"N\")","v":"N"},{"$f":"IF(Table1[[#This Row],[Column3]]=90785,\"Y\",\"N\")","v":"N"}]
[null,null,null,null,null,null,null,null,null,null,{"$f":"IF(Table1[[#This Row],[Column3]]=\"T1013\",\"Y\",\"N\")","v":"N"},{"$f":"IF(Table1[[#This Row],[Column3]]=90785,\"Y\",\"N\")","v":"N"}]
[null,null,null,null,null,null,null,null,null,null,{"$f":"IF(Table1[[#This Row],[Column3]]=\"T1013\",\"Y\",\"N\")","v":"N"},{"$f":"IF(Table1[[#This Row],[Column3]]=90785,\"Y\",\"N\")","v":"N"}]
[null,null,null,null,null,null,null,null,null,null,{"$f":"IF(Table1[[#This Row],[Column3]]=\"T1013\",\"Y\",\"N\")","v":"N"},{"$f":"IF(Table1[[#This Row],[Column3]]=90785,\"Y\",\"N\")","v":"N"}]
[null,null,null,null,null,null,null,null,null,null,{"$f":"IF(Table1[[#This Row],[Column3]]=\"T1013\",\"Y\",\"N\")","v":"N"},{"$f":"IF(Table1[[#This Row],[Column3]]=90785,\"Y\",\"N\")","v":"N"}]
[null,null,null,null,null,null,null,null,null,null,{"$f":"IF(Table1[[#This Row],[Column3]]=\"T1013\",\"Y\",\"N\")","v":"N"},{"$f":"IF(Table1[[#This Row],[Column3]]=90785,\"Y\",\"N\")","v":"N"}]
[null,null,null,null,null,null,null,null,null,null,{"$f":"IF(Table1[[#This Row],[Column3]]=\"T1013\",\"Y\",\"N\")","v":"N"},{"$f":"IF(Table1[[#This Row],[Column3]]=90785,\"Y\",\"N\")","v":"N"}]
[null,null,null,null,null,null,null,null,null,null,{"$f":"IF(Table1[[#This Row],[Column3]]=\"T1013\",\"Y\",\"N\")","v":"N"},{"$f":"IF(Table1[[#This Row],[Column3]]=90785,\"Y\",\"N\")","v":"N"}]
[null,null,null,null,null,null,null,null,null,null,{"$f":"IF(Table1[[#This Row],[Column3]]=\"T1013\",\"Y\",\"N\")","v":"N"},{"$f":"IF(Table1[[#This Row],[Column3]]=90785,\"Y\",\"N\")","v":"N"}]
[null,null,null,null,null,null,null,null,null,null,{"$f":"IF(Table1[[#This Row],[Column3]]=\"T1013\",\"Y\",\"N\")","v":"N"},{"$f":"IF(Table1[[#This Row],[Column3]]=90785,\"Y\",\"N\")","v":"N"}]
[null,null,null,null,null,null,null,null,null,null,{"$f":"IF(Table1[[#This Row],[Column3]]=\"T1013\",\"Y\",\"N\")","v":"N"},{"$f":"IF(Table1[[#This Row],[Column3]]=90785,\"Y\",\"N\")","v":"N"}]
[null,null,null,null,null,null,null,null,null,null,{"$f":"IF(Table1[[#This Row],[Column3]]=\"T1013\",\"Y\",\"N\")","v":"N"},{"$f":"IF(Table1[[#This Row],[Column3]]=90785,\"Y\",\"N\")","v":"N"}]
[null,null,null,null,null,null,null,null,null,null,{"$f":"IF(Table1[[#This Row],[Column3]]=\"T1013\",\"Y\",\"N\")","v":"N"},{"$f":"IF(Table1[[#This Row],[Column3]]=90785,\"Y\",\"N\")","v":"N"}]
[null,null,null,null,null,null,null,null,null,null,{"$f":"IF(Table1[[#This Row],[Column3]]=\"T1013\",\"Y\",\"N\")","v":"N"},{"$f":"IF(Table1[[#This Row],[Column3]]=90785,\"Y\",\"N\")","v":"N"}]
[null,null,null,null,null,null,null,null,null,null,{"$f":"IF(Table1[[#This Row],[Column3]]=\"T1013\",\"Y\",\"N\")","v":"N"},{"$f":"IF(Table1[[#This Row],[Column3]]=90785,\"Y\",\"N\")","v":"N"}]
[null,null,null,null,null,null,null,null,null,null,{"$f":"IF(Table1[[#This Row],[Column3]]=\"T1013\",\"Y\",\"N\")","v":"N"},{"$f":"IF(Table1[[#This Row],[Column3]]=90785,\"Y\",\"N\")","v":"N"}]
[null,null,null,null,null,null,null,null,null,null,{"$f":"IF(Table1[[#This Row],[Column3]]=\"T1013\",\"Y\",\"N\")","v":"N"},{"$f":"IF(Table1[[#This Row],[Column3]]=90785,\"Y\",\"N\")","v":"N"}]
[null,null,null,null,null,null,null,null,null,null,{"$f":"IF(Table1[[#This Row],[Column3]]=\"T1013\",\"Y\",\"N\")","v":"N"},{"$f":"IF(Table1[[#This Row],[Column3]]=90785,\"Y\",\"N\")","v":"N"}]
[null,null,null,null,null,null,null,null,null,null,{"$f":"IF(Table1[[#This Row],[Column3]]=\"T1013\",\"Y\",\"N\")","v":"N"},{"$f":"IF(Table1[[#This Row],[Column3]]=90785,\"Y\",\"N\")","v":"N"}]
[null,null,null,null,null,null,null,null,null,null,{"$f":"IF(Table1[[#This Row],[Column3]]=\"T1013\",\"Y\",\"N\")","v":"N"},{"$f":"IF(Table1[[#This Row],[Column3]]=90785,\"Y\",\"N\")","v":"N"}]
[null,null,null,null,null,null,null,null,null,null,{"$f":"IF(Table1[[#This Row],[Column3]]=\"T1013\",\"Y\",\"N\")","v":"N"},{"$f":"IF(Table1[[#This Row],[Column3]]=90785,\"Y\",\"N\")","v":"N"}]
[null,null,null,null,null,null,null,null,null,null,{"$f":"IF(Table1[[#This Row],[Column3]]=\"T1013\",\"Y\",\"N\")","v":"N"},{"$f":"IF(Table1[[#This Row],[Column3]]=90785,\"Y\",\"N\")","v":"N"}]
[null,null,null,null,null,null,null,null,null,null,{"$f":"IF(Table1[[#This Row],[Column3]]=\"T1013\",\"Y\",\"N\")","v":"N"},{"$f":"IF(Table1[[#This Row],[Column3]]=90785,\"Y\",\"N\")","v":"N"}]
[null,null,null,null,null,null,null,null,null,null,{"$f":"IF(Table1[[#This Row],[Column3]]=\"T1013\",\"Y\",\"N\")","v":"N"},{"$f":"IF(Table1[[#This Row],[Column3]]=90785,\"Y\",\"N\")","v":"N"}]
[null,null,null,null,null,null,null,null,null,null,{"$f":"IF(Table1[[#This Row],[Column3]]=\"T1013\",\"Y\",\"N\")","v":"N"},{"$f":"IF(Table1[[#This Row],[Column3]]=90785,\"Y\",\"N\")","v":"N"}]
[null,null,null,null,null,null,null,null,null,null,{"$f":"IF(Table1[[#This Row],[Column3]]=\"T1013\",\"Y\",\"N\")","v":"N"},{"$f":"IF(Table1[[#This Row],[Column3]]=90785,\"Y\",\"N\")","v":"N"}]
[null,null,null,null,null,null,null,null,null,null,{"$f":"IF(Table1[[#This Row],[Column3]]=\"T1013\",\"Y\",\"N\")","v":"N"},{"$f":"IF(Table1[[#This Row],[Column3]]=90785,\"Y\",\"N\")","v":"N"}]
[null,null,null,null,null,null,null,null,null,null,{"$f":"IF(Table1[[#This Row],[Column3]]=\"T1013\",\"Y\",\"N\")","v":"N"},{"$f":"IF(Table1[[#This Row],[Column3]]=90785,\"Y\",\"N\")","v":"N"}]
[null,null,null,null,null,null,null,null,null,null,{"$f":"IF(Table1[[#This Row],[Column3]]=\"T1013\",\"Y\",\"N\")","v":"N"},{"$f":"IF(Table1[[#This Row],[Column3]]=90785,\"Y\",\"N\")","v":"N"}]
[null,null,null,null,null,null,null,null,null,null,{"$f":"IF(Table1[[#This Row],[Column3]]=\"T1013\",\"Y\",\"N\")","v":"N"},{"$f":"IF(Table1[[#This Row],[Column3]]=90785,\"Y\",\"N\")","v":"N"}]
[null,null,null,null,null,null,null,null,null,null,{"$f":"IF(Table1[[#This Row],[Column3]]=\"T1013\",\"Y\",\"N\")","v":"N"},{"$f":"IF(Table1[[#This Row],[Column3]]=90785,\"Y\",\"N\")","v":"N"}]
[null,null,null,null,null,null,null,null,null,null,{"$f":"IF(Table1[[#This Row],[Column3]]=\"T1013\",\"Y\",\"N\")","v":"N"},{"$f":"IF(Table1[[#This Row],[Column3]]=90785,\"Y\",\"N\")","v":"N"}]
[null,null,null,null,null,null,null,null,null,null,{"$f":"IF(Table1[[#This Row],[Column3]]=\"T1013\",\"Y\",\"N\")","v":"N"},{"$f":"IF(Table1[[#This Row],[Column3]]=90785,\"Y\",\"N\")","v":"N"}]
[null,null,null,null,null,null,null,null,null,null,{"$f":"IF(Table1[[#This Row],[Column3]]=\"T1013\",\"Y\",\"N\")","v":"N"},{"$f":"IF(Table1[[#This Row],[Column3]]=90785,\"Y\",\"N\")","v":"N"}]
[null,null,null,null,null,null,null,null,null,null,{"$f":"IF(Table1[[#This Row],[Column3]]=\"T1013\",\"Y\",\"N\")","v":"N"},{"$f":"IF(Table1[[#This Row],[Column3]]=90785,\"Y\",\"N\")","v":"N"}]
[null,null,null,null,null,null,null,null,null,null,{"$f":"IF(Table1[[#This Row],[Column3]]=\"T1013\",\"Y\",\"N\")","v":"N"},{"$f":"IF(Table1[[#This Row],[Column3]]=90785,\"Y\",\"N\")","v":"N"}]
[null,null,null,null,null,null,null,null,null,null,{"$f":"IF(Table1[[#This Row],[Column3]]=\"T1013\",\"Y\",\"N\")","v":"N"},{"$f":"IF(Table1[[#This Row],[Column3]]=90785,\"Y\",\"N\")","v":"N"}]
[null,null,null,null,null,null,null,null,null,null,{"$f":"IF(Table1[[#This Row],[Column3]]=\"T1013\",\"Y\",\"N\")","v":"N"},{"$f":"IF(Table1[[#This Row],[Column3]]=90785,\"Y\",\"N\")","v":"N"}]
[null,null,null,null,null,null,null,null,null,null,{"$f":"IF(Table1[[#This Row],[Column3]]=\"T1013\",\"Y\",\"N\")","v":"N"},{"$f":"IF(Table1[[#This Row],[Column3]]=90785,\"Y\",\"N\")","v":"N"}]
[null,null,null,null,null,null,null,null,null,null,{"$f":"IF(Table1[[#This Row],[Column3]]=\"T1013\",\"Y\",\"N\")","v":"N"},{"$f":"IF(Table1[[#This Row],[Column3]]=90785,\"Y\",\"N\")","v":"N"}]
[null,null,null,null,null,null,null,null,null,null,{"$f":"IF(Table1[[#This Row],[Column3]]=\"T1013\",\"Y\",\"N\")","v":"N"},{"$f":"IF(Table1[[#This Row],[Column3]]=90785,\"Y\",\"N\")","v":"N"}]
[null,null,null,null,null,null,null,null,null,null,{"$f":"IF(Table1[[#This Row],[Column3]]=\"T1013\",\"Y\",\"N\")","v":"N"},{"$f":"IF(Table1[[#This Row],[Column3]]=90785,\"Y\",\"N\")","v":"N"}]
[null,null,null,null,null,null,null,null,null,null,{"$f":"IF(Table1[[#This Row],[Column3]]=\"T1013\",\"Y\",\"N\")","v":"N"},{"$f":"IF(Table1[[#This Row],[Column3]]=90785,\"Y\",\"N\")","v":"N"}]
[null,null,null,null,null,null,null,null,null,null,{"$f":"IF(Table1[[#This Row],[Column3]]=\"T1013\",\"Y\",\"N\")","v":"N"},{"$f":"IF(Table1[[#This Row],[Column3]]=90785,\"Y\",\"N\")","v":"N"}]
[null,null,null,null,null,null,null,null,null,null,{"$f":"IF(Table1[[#This Row],[Column3]]=\"T1013\",\"Y\",\"N\")","v":"N"},{"$f":"IF(Table1[[#This Row],[Column3]]=90785,\"Y\",\"N\")","v":"N"}]
[null,null,null,null,null,null,null,null,null,null,{"$f":"IF(Table1[[#This Row],[Column3]]=\"T1013\",\"Y\",\"N\")","v":"N"},{"$f":"IF(Table1[[#This Row],[Column3]]=90785,\"Y\",\"N\")","v":"N"}]
[null,null,null,null,null,null,null,null,null,null,{"$f":"IF(Table1[[#This Row],[Column3]]=\"T1013\",\"Y\",\"N\")","v":"N"},{"$f":"IF(Table1[[#This Row],[Column3]]=90785,\"Y\",\"N\")","v":"N"}]
[null,null,null,null,null,null,null,null,null,null,{"$f":"IF(Table1[[#This Row],[Column3]]=\"T1013\",\"Y\",\"N\")","v":"N"},{"$f":"IF(Table1[[#This Row],[Column3]]=90785,\"Y\",\"N\")","v":"N"}]
[null,null,null,null,null,null,null,null,null,null,{"$f":"IF(Table1[[#This Row],[Column3]]=\"T1013\",\"Y\",\"N\")","v":"N"},{"$f":"IF(Table1[[#This Row],[Column3]]=90785,\"Y\",\"N\")","v":"N"}]
[null,null,null,null,null,null,null,null,null,null,{"$f":"IF(Table1[[#This Row],[Column3]]=\"T1013\",\"Y\",\"N\")","v":"N"},{"$f":"IF(Table1[[#This Row],[Column3]]=90785,\"Y\",\"N\")","v":"N"}]
[null,null,null,null,null,null,null,null,null,null,{"$f":"IF(Table1[[#This Row],[Column3]]=\"T1013\",\"Y\",\"N\")","v":"N"},{"$f":"IF(Table1[[#This Row],[Column3]]=90785,\"Y\",\"N\")","v":"N"}]
[null,null,null,null,null,null,null,null,null,null,{"$f":"IF(Table1[[#This Row],[Column3]]=\"T1013\",\"Y\",\"N\")","v":"N"},{"$f":"IF(Table1[[#This Row],[Column3]]=90785,\"Y\",\"N\")","v":"N"}]
[null,null,null,null,null,null,null,null,null,null,{"$f":"IF(Table1[[#This Row],[Column3]]=\"T1013\",\"Y\",\"N\")","v":"N"},{"$f":"IF(Table1[[#This Row],[Column3]]=90785,\"Y\",\"N\")","v":"N"}]
[null,null,null,null,null,null,null,null,null,null,{"$f":"IF(Table1[[#This Row],[Column3]]=\"T1013\",\"Y\",\"N\")","v":"N"},{"$f":"IF(Table1[[#This Row],[Column3]]=90785,\"Y\",\"N\")","v":"N"}]
[null,null,null,null,null,null,null,null,null,null,{"$f":"IF(Table1[[#This Row],[Column3]]=\"T1013\",\"Y\",\"N\")","v":"N"},{"$f":"IF(Table1[[#This Row],[Column3]]=90785,\"Y\",\"N\")","v":"N"}]
[null,null,null,null,null,null,null,null,null,null,{"$f":"IF(Table1[[#This Row],[Column3]]=\"T1013\",\"Y\",\"N\")","v":"N"},{"$f":"IF(Table1[[#This Row],[Column3]]=90785,\"Y\",\"N\")","v":"N"}]
[null,null,null,null,null,null,null,null,null,null,{"$f":"IF(Table1[[#This Row],[Column3]]=\"T1013\",\"Y\",\"N\")","v":"N"},{"$f":"IF(Table1[[#This Row],[Column3]]=90785,\"Y\",\"N\")","v":"N"}]
[null,null,null,null,null,null,null,null,null,null,{"$f":"IF(Table1[[#This Row],[Column3]]=\"T1013\",\"Y\",\"N\")","v":"N"},{"$f":"IF(Table1[[#This Row],[Column3]]=90785,\"Y\",\"N\")","v":"N"}]
[null,null,null,null,null,null,null,null,null,null,{"$f":"IF(Table1[[#This Row],[Column3]]=\"T1013\",\"Y\",\"N\")","v":"N"},{"$f":"IF(Table1[[#This Row],[Column3]]=90785,\"Y\",\"N\")","v":"N"}]
[null,null,null,null,null,null,null,null,null,null,{"$f":"IF(Table1[[#This Row],[Column3]]=\"T1013\",\"Y\",\"N\")","v":"N"},{"$f":"IF(Table1[[#This Row],[Column3]]=90785,\"Y\",\"N\")","v":"N"}]
[null,null,null,null,null,null,null,null,null,null,{"$f":"IF(Table1[[#This Row],[Column3]]=\"T1013\",\"Y\",\"N\")","v":"N"},{"$f":"IF(Table1[[#This Row],[Column3]]=90785,\"Y\",\"N\")","v":"N"}]
[null,null,null,null,null,null,null,null,null,null,{"$f":"IF(Table1[[#This Row],[Column3]]=\"T1013\",\"Y\",\"N\")","v":"N"},{"$f":"IF(Table1[[#This Row],[Column3]]=90785,\"Y\",\"N\")","v":"N"}]
[null,null,null,null,null,null,null,null,null,null,{"$f":"IF(Table1[[#This Row],[Column3]]=\"T1013\",\"Y\",\"N\")","v":"N"},{"$f":"IF(Table1[[#This Row],[Column3]]=90785,\"Y\",\"N\")","v":"N"}]
[null,null,null,null,null,null,null,null,null,null,{"$f":"IF(Table1[[#This Row],[Column3]]=\"T1013\",\"Y\",\"N\")","v":"N"},{"$f":"IF(Table1[[#This Row],[Column3]]=90785,\"Y\",\"N\")","v":"N"}]
[null,null,null,null,null,null,null,null,null,null,{"$f":"IF(Table1[[#This Row],[Column3]]=\"T1013\",\"Y\",\"N\")","v":"N"},{"$f":"IF(Table1[[#This Row],[Column3]]=90785,\"Y\",\"N\")","v":"N"}]
[null,null,null,null,null,null,null,null,null,null,{"$f":"IF(Table1[[#This Row],[Column3]]=\"T1013\",\"Y\",\"N\")","v":"N"},{"$f":"IF(Table1[[#This Row],[Column3]]=90785,\"Y\",\"N\")","v":"N"}]
[null,null,null,null,null,null,null,null,null,null,{"$f":"IF(Table1[[#This Row],[Column3]]=\"T1013\",\"Y\",\"N\")","v":"N"},{"$f":"IF(Table1[[#This Row],[Column3]]=90785,\"Y\",\"N\")","v":"N"}]
[null,null,null,null,null,null,null,null,null,null,{"$f":"IF(Table1[[#This Row],[Column3]]=\"T1013\",\"Y\",\"N\")","v":"N"},{"$f":"IF(Table1[[#This Row],[Column3]]=90785,\"Y\",\"N\")","v":"N"}]
[null,null,null,null,null,null,null,null,null,null,{"$f":"IF(Table1[[#This Row],[Column3]]=\"T1013\",\"Y\",\"N\")","v":"N"},{"$f":"IF(Table1[[#This Row],[Column3]]=90785,\"Y\",\"N\")","v":"N"}]
[null,null,null,null,null,null,null,null,null,null,{"$f":"IF(Table1[[#This Row],[Column3]]=\"T1013\",\"Y\",\"N\")","v":"N"},{"$f":"IF(Table1[[#This Row],[Column3]]=90785,\"Y\",\"N\")","v":"N"}]
[null,null,null,null,null,null,null,null,null,null,{"$f":"IF(Table1[[#This Row],[Column3]]=\"T1013\",\"Y\",\"N\")","v":"N"},{"$f":"IF(Table1[[#This Row],[Column3]]=90785,\"Y\",\"N\")","v":"N"}]
[null,null,null,null,null,null,null,null,null,null,{"$f":"IF(Table1[[#This Row],[Column3]]=\"T1013\",\"Y\",\"N\")","v":"N"},{"$f":"IF(Table1[[#This Row],[Column3]]=90785,\"Y\",\"N\")","v":"N"}]
[null,null,null,null,null,null,null,null,null,null,{"$f":"IF(Table1[[#This Row],[Column3]]=\"T1013\",\"Y\",\"N\")","v":"N"},{"$f":"IF(Table1[[#This Row],[Column3]]=90785,\"Y\",\"N\")","v":"N"}]
[null,null,null,null,null,null,null,null,null,null,{"$f":"IF(Table1[[#This Row],[Column3]]=\"T1013\",\"Y\",\"N\")","v":"N"},{"$f":"IF(Table1[[#This Row],[Column3]]=90785,\"Y\",\"N\")","v":"N"}]
[null,null,null,null,null,null,null,null,null,null,{"$f":"IF(Table1[[#This Row],[Column3]]=\"T1013\",\"Y\",\"N\")","v":"N"},{"$f":"IF(Table1[[#This Row],[Column3]]=90785,\"Y\",\"N\")","v":"N"}]
[null,null,null,null,null,null,null,null,null,null,{"$f":"IF(Table1[[#This Row],[Column3]]=\"T1013\",\"Y\",\"N\")","v":"N"},{"$f":"IF(Table1[[#This Row],[Column3]]=90785,\"Y\",\"N\")","v":"N"}]
[null,null,null,null,null,null,null,null,null,null,{"$f":"IF(Table1[[#This Row],[Column3]]=\"T1013\",\"Y\",\"N\")","v":"N"},{"$f":"IF(Table1[[#This Row],[Column3]]=90785,\"Y\",\"N\")","v":"N"}]
[null,null,null,null,null,null,null,null,null,null,{"$f":"IF(Table1[[#This Row],[Column3]]=\"T1013\",\"Y\",\"N\")","v":"N"},{"$f":"IF(Table1[[#This Row],[Column3]]=90785,\"Y\",\"N\")","v":"N"}]
[null,null,null,null,null,null,null,null,null,null,{"$f":"IF(Table1[[#This Row],[Column3]]=\"T1013\",\"Y\",\"N\")","v":"N"},{"$f":"IF(Table1[[#This Row],[Column3]]=90785,\"Y\",\"N\")","v":"N"}]
[null,null,null,null,null,null,null,null,null,null,{"$f":"IF(Table1[[#This Row],[Column3]]=\"T1013\",\"Y\",\"N\")","v":"N"},{"$f":"IF(Table1[[#This Row],[Column3]]=90785,\"Y\",\"N\")","v":"N"}]
[null,null,null,null,null,null,null,null,null,null,{"$f":"IF(Table1[[#This Row],[Column3]]=\"T1013\",\"Y\",\"N\")","v":"N"},{"$f":"IF(Table1[[#This Row],[Column3]]=90785,\"Y\",\"N\")","v":"N"}]
[null,null,null,null,null,null,null,null,null,null,{"$f":"IF(Table1[[#This Row],[Column3]]=\"T1013\",\"Y\",\"N\")","v":"N"},{"$f":"IF(Table1[[#This Row],[Column3]]=90785,\"Y\",\"N\")","v":"N"}]
[null,null,null,null,null,null,null,null,null,null,{"$f":"IF(Table1[[#This Row],[Column3]]=\"T1013\",\"Y\",\"N\")","v":"N"},{"$f":"IF(Table1[[#This Row],[Column3]]=90785,\"Y\",\"N\")","v":"N"}]
[null,null,null,null,null,null,null,null,null,null,{"$f":"IF(Table1[[#This Row],[Column3]]=\"T1013\",\"Y\",\"N\")","v":"N"},{"$f":"IF(Table1[[#This Row],[Column3]]=90785,\"Y\",\"N\")","v":"N"}]
[null,null,null,null,null,null,null,null,null,null,{"$f":"IF(Table1[[#This Row],[Column3]]=\"T1013\",\"Y\",\"N\")","v":"N"},{"$f":"IF(Table1[[#This Row],[Column3]]=90785,\"Y\",\"N\")","v":"N"}]
[null,null,null,null,null,null,null,null,null,null,{"$f":"IF(Table1[[#This Row],[Column3]]=\"T1013\",\"Y\",\"N\")","v":"N"},{"$f":"IF(Table1[[#This Row],[Column3]]=90785,\"Y\",\"N\")","v":"N"}]
[null,null,null,null,null,null,null,null,null,null,{"$f":"IF(Table1[[#This Row],[Column3]]=\"T1013\",\"Y\",\"N\")","v":"N"},{"$f":"IF(Table1[[#This Row],[Column3]]=90785,\"Y\",\"N\")","v":"N"}]
[null,null,null,null,null,null,null,null,null,null,{"$f":"IF(Table1[[#This Row],[Column3]]=\"T1013\",\"Y\",\"N\")","v":"N"},{"$f":"IF(Table1[[#This Row],[Column3]]=90785,\"Y\",\"N\")","v":"N"}]
[null,null,null,null,null,null,null,null,null,null,{"$f":"IF(Table1[[#This Row],[Column3]]=\"T1013\",\"Y\",\"N\")","v":"N"},{"$f":"IF(Table1[[#This Row],[Column3]]=90785,\"Y\",\"N\")","v":"N"}]
[null,null,null,null,null,null,null,null,null,null,{"$f":"IF(Table1[[#This Row],[Column3]]=\"T1013\",\"Y\",\"N\")","v":"N"},{"$f":"IF(Table1[[#This Row],[Column3]]=90785,\"Y\",\"N\")","v":"N"}]
[null,null,null,null,null,null,null,null,null,null,{"$f":"IF(Table1[[#This Row],[Column3]]=\"T1013\",\"Y\",\"N\")","v":"N"},{"$f":"IF(Table1[[#This Row],[Column3]]=90785,\"Y\",\"N\")","v":"N"}]
[null,null,null,null,null,null,null,null,null,null,{"$f":"IF(Table1[[#This Row],[Column3]]=\"T1013\",\"Y\",\"N\")","v":"N"},{"$f":"IF(Table1[[#This Row],[Column3]]=90785,\"Y\",\"N\")","v":"N"}]
[null,null,null,null,null,null,null,null,null,null,{"$f":"IF(Table1[[#This Row],[Column3]]=\"T1013\",\"Y\",\"N\")","v":"N"},{"$f":"IF(Table1[[#This Row],[Column3]]=90785,\"Y\",\"N\")","v":"N"}]
[null,null,null,null,null,null,null,null,null,null,{"$f":"IF(Table1[[#This Row],[Column3]]=\"T1013\",\"Y\",\"N\")","v":"N"},{"$f":"IF(Table1[[#This Row],[Column3]]=90785,\"Y\",\"N\")","v":"N"}]
[null,null,null,null,null,null,null,null,null,null,{"$f":"IF(Table1[[#This Row],[Column3]]=\"T1013\",\"Y\",\"N\")","v":"N"},{"$f":"IF(Table1[[#This Row],[Column3]]=90785,\"Y\",\"N\")","v":"N"}]
[null,null,null,null,null,null,null,null,null,null,{"$f":"IF(Table1[[#This Row],[Column3]]=\"T1013\",\"Y\",\"N\")","v":"N"},{"$f":"IF(Table1[[#This Row],[Column3]]=90785,\"Y\",\"N\")","v":"N"}]
[null,null,null,null,null,null,null,null,null,null,{"$f":"IF(Table1[[#This Row],[Column3]]=\"T1013\",\"Y\",\"N\")","v":"N"},{"$f":"IF(Table1[[#This Row],[Column3]]=90785,\"Y\",\"N\")","v":"N"}]
[null,null,null,null,null,null,null,null,null,null,{"$f":"IF(Table1[[#This Row],[Column3]]=\"T1013\",\"Y\",\"N\")","v":"N"},{"$f":"IF(Table1[[#This Row],[Column3]]=90785,\"Y\",\"N\")","v":"N"}]
[null,null,null,null,null,null,null,null,null,null,{"$f":"IF(Table1[[#This Row],[Column3]]=\"T1013\",\"Y\",\"N\")","v":"N"},{"$f":"IF(Table1[[#This Row],[Column3]]=90785,\"Y\",\"N\")","v":"N"}]
[null,null,null,null,null,null,null,null,null,null,{"$f":"IF(Table1[[#This Row],[Column3]]=\"T1013\",\"Y\",\"N\")","v":"N"},{"$f":"IF(Table1[[#This Row],[Column3]]=90785,\"Y\",\"N\")","v":"N"}]
[null,null,null,null,null,null,null,null,null,null,{"$f":"IF(Table1[[#This Row],[Column3]]=\"T1013\",\"Y\",\"N\")","v":"N"},{"$f":"IF(Table1[[#This Row],[Column3]]=90785,\"Y\",\"N\")","v":"N"}]
[null,null,null,null,null,null,null,null,null,null,{"$f":"IF(Table1[[#This Row],[Column3]]=\"T1013\",\"Y\",\"N\")","v":"N"},{"$f":"IF(Table1[[#This Row],[Column3]]=90785,\"Y\",\"N\")","v":"N"}]
[null,null,null,null,null,null,null,null,null,null,{"$f":"IF(Table1[[#This Row],[Column3]]=\"T1013\",\"Y\",\"N\")","v":"N"},{"$f":"IF(Table1[[#This Row],[Column3]]=90785,\"Y\",\"N\")","v":"N"}]
[null,null,null,null,null,null,null,null,null,null,{"$f":"IF(Table1[[#This Row],[Column3]]=\"T1013\",\"Y\",\"N\")","v":"N"},{"$f":"IF(Table1[[#This Row],[Column3]]=90785,\"Y\",\"N\")","v":"N"}]
[null,null,null,null,null,null,null,null,null,null,{"$f":"IF(Table1[[#This Row],[Column3]]=\"T1013\",\"Y\",\"N\")","v":"N"},{"$f":"IF(Table1[[#This Row],[Column3]]=90785,\"Y\",\"N\")","v":"N"}]
[null,null,null,null,null,null,null,null,null,null,{"$f":"IF(Table1[[#This Row],[Column3]]=\"T1013\",\"Y\",\"N\")","v":"N"},{"$f":"IF(Table1[[#This Row],[Column3]]=90785,\"Y\",\"N\")","v":"N"}]
[null,null,null,null,null,null,null,null,null,null,{"$f":"IF(Table1[[#This Row],[Column3]]=\"T1013\",\"Y\",\"N\")","v":"N"},{"$f":"IF(Table1[[#This Row],[Column3]]=90785,\"Y\",\"N\")","v":"N"}]
[null,null,null,null,null,null,null,null,null,null,{"$f":"IF(Table1[[#This Row],[Column3]]=\"T1013\",\"Y\",\"N\")","v":"N"},{"$f":"IF(Table1[[#This Row],[Column3]]=90785,\"Y\",\"N\")","v":"N"}]
[null,null,null,null,null,null,null,null,null,null,{"$f":"IF(Table1[[#This Row],[Column3]]=\"T1013\",\"Y\",\"N\")","v":"N"},{"$f":"IF(Table1[[#This Row],[Column3]]=90785,\"Y\",\"N\")","v":"N"}]
[null,null,null,null,null,null,null,null,null,null,{"$f":"IF(Table1[[#This Row],[Column3]]=\"T1013\",\"Y\",\"N\")","v":"N"},{"$f":"IF(Table1[[#This Row],[Column3]]=90785,\"Y\",\"N\")","v":"N"}]
[null,null,null,null,null,null,null,null,null,null,{"$f":"IF(Table1[[#This Row],[Column3]]=\"T1013\",\"Y\",\"N\")","v":"N"},{"$f":"IF(Table1[[#This Row],[Column3]]=90785,\"Y\",\"N\")","v":"N"}]
[null,null,null,null,null,null,null,null,null,null,{"$f":"IF(Table1[[#This Row],[Column3]]=\"T1013\",\"Y\",\"N\")","v":"N"},{"$f":"IF(Table1[[#This Row],[Column3]]=90785,\"Y\",\"N\")","v":"N"}]
[null,null,null,null,null,null,null,null,null,null,{"$f":"IF(Table1[[#This Row],[Column3]]=\"T1013\",\"Y\",\"N\")","v":"N"},{"$f":"IF(Table1[[#This Row],[Column3]]=90785,\"Y\",\"N\")","v":"N"}]
[null,null,null,null,null,null,null,null,null,null,{"$f":"IF(Table1[[#This Row],[Column3]]=\"T1013\",\"Y\",\"N\")","v":"N"},{"$f":"IF(Table1[[#This Row],[Column3]]=90785,\"Y\",\"N\")","v":"N"}]
[null,null,null,null,null,null,null,null,null,null,{"$f":"IF(Table1[[#This Row],[Column3]]=\"T1013\",\"Y\",\"N\")","v":"N"},{"$f":"IF(Table1[[#This Row],[Column3]]=90785,\"Y\",\"N\")","v":"N"}]
[null,null,null,null,null,null,null,null,null,null,{"$f":"IF(Table1[[#This Row],[Column3]]=\"T1013\",\"Y\",\"N\")","v":"N"},{"$f":"IF(Table1[[#This Row],[Column3]]=90785,\"Y\",\"N\")","v":"N"}]
[null,null,null,null,null,null,null,null,null,null,{"$f":"IF(Table1[[#This Row],[Column3]]=\"T1013\",\"Y\",\"N\")","v":"N"},{"$f":"IF(Table1[[#This Row],[Column3]]=90785,\"Y\",\"N\")","v":"N"}]
[null,null,null,null,null,null,null,null,null,null,{"$f":"IF(Table1[[#This Row],[Column3]]=\"T1013\",\"Y\",\"N\")","v":"N"},{"$f":"IF(Table1[[#This Row],[Column3]]=90785,\"Y\",\"N\")","v":"N"}]
[null,null,null,null,null,null,null,null,null,null,{"$f":"IF(Table1[[#This Row],[Column3]]=\"T1013\",\"Y\",\"N\")","v":"N"},{"$f":"IF(Table1[[#This Row],[Column3]]=90785,\"Y\",\"N\")","v":"N"}]
[null,null,null,null,null,null,null,null,null,null,{"$f":"IF(Table1[[#This Row],[Column3]]=\"T1013\",\"Y\",\"N\")","v":"N"},{"$f":"IF(Table1[[#This Row],[Column3]]=90785,\"Y\",\"N\")","v":"N"}]
[null,null,null,null,null,null,null,null,null,null,{"$f":"IF(Table1[[#This Row],[Column3]]=\"T1013\",\"Y\",\"N\")","v":"N"},{"$f":"IF(Table1[[#This Row],[Column3]]=90785,\"Y\",\"N\")","v":"N"}]
[null,null,null,null,null,null,null,null,null,null,{"$f":"IF(Table1[[#This Row],[Column3]]=\"T1013\",\"Y\",\"N\")","v":"N"},{"$f":"IF(Table1[[#This Row],[Column3]]=90785,\"Y\",\"N\")","v":"N"}]
[null,null,null,null,null,null,null,null,null,null,{"$f":"IF(Table1[[#This Row],[Column3]]=\"T1013\",\"Y\",\"N\")","v":"N"},{"$f":"IF(Table1[[#This Row],[Column3]]=90785,\"Y\",\"N\")","v":"N"}]
[null,null,null,null,null,null,null,null,null,null,{"$f":"IF(Table1[[#This Row],[Column3]]=\"T1013\",\"Y\",\"N\")","v":"N"},{"$f":"IF(Table1[[#This Row],[Column3]]=90785,\"Y\",\"N\")","v":"N"}]
[null,null,null,null,null,null,null,null,null,null,{"$f":"IF(Table1[[#This Row],[Column3]]=\"T1013\",\"Y\",\"N\")","v":"N"},{"$f":"IF(Table1[[#This Row],[Column3]]=90785,\"Y\",\"N\")","v":"N"}]
[null,null,null,null,null,null,null,null,null,null,{"$f":"IF(Table1[[#This Row],[Column3]]=\"T1013\",\"Y\",\"N\")","v":"N"},{"$f":"IF(Table1[[#This Row],[Column3]]=90785,\"Y\",\"N\")","v":"N"}]
[null,null,null,null,null,null,null,null,null,null,{"$f":"IF(Table1[[#This Row],[Column3]]=\"T1013\",\"Y\",\"N\")","v":"N"},{"$f":"IF(Table1[[#This Row],[Column3]]=90785,\"Y\",\"N\")","v":"N"}]
[null,null,null,null,null,null,null,null,null,null,{"$f":"IF(Table1[[#This Row],[Column3]]=\"T1013\",\"Y\",\"N\")","v":"N"},{"$f":"IF(Table1[[#This Row],[Column3]]=90785,\"Y\",\"N\")","v":"N"}]
[null,null,null,null,null,null,null,null,null,null,{"$f":"IF(Table1[[#This Row],[Column3]]=\"T1013\",\"Y\",\"N\")","v":"N"},{"$f":"IF(Table1[[#This Row],[Column3]]=90785,\"Y\",\"N\")","v":"N"}]
[null,null,null,null,null,null,null,null,null,null,{"$f":"IF(Table1[[#This Row],[Column3]]=\"T1013\",\"Y\",\"N\")","v":"N"},{"$f":"IF(Table1[[#This Row],[Column3]]=90785,\"Y\",\"N\")","v":"N"}]
[null,null,null,null,null,null,null,null,null,null,{"$f":"IF(Table1[[#This Row],[Column3]]=\"T1013\",\"Y\",\"N\")","v":"N"},{"$f":"IF(Table1[[#This Row],[Column3]]=90785,\"Y\",\"N\")","v":"N"}]
[null,null,null,null,null,null,null,null,null,null,{"$f":"IF(Table1[[#This Row],[Column3]]=\"T1013\",\"Y\",\"N\")","v":"N"},{"$f":"IF(Table1[[#This Row],[Column3]]=90785,\"Y\",\"N\")","v":"N"}]
[null,null,null,null,null,null,null,null,null,null,{"$f":"IF(Table1[[#This Row],[Column3]]=\"T1013\",\"Y\",\"N\")","v":"N"},{"$f":"IF(Table1[[#This Row],[Column3]]=90785,\"Y\",\"N\")","v":"N"}]
[null,null,null,null,null,null,null,null,null,null,{"$f":"IF(Table1[[#This Row],[Column3]]=\"T1013\",\"Y\",\"N\")","v":"N"},{"$f":"IF(Table1[[#This Row],[Column3]]=90785,\"Y\",\"N\")","v":"N"}]
[null,null,null,null,null,null,null,null,null,null,{"$f":"IF(Table1[[#This Row],[Column3]]=\"T1013\",\"Y\",\"N\")","v":"N"},{"$f":"IF(Table1[[#This Row],[Column3]]=90785,\"Y\",\"N\")","v":"N"}]
[null,null,null,null,null,null,null,null,null,null,{"$f":"IF(Table1[[#This Row],[Column3]]=\"T1013\",\"Y\",\"N\")","v":"N"},{"$f":"IF(Table1[[#This Row],[Column3]]=90785,\"Y\",\"N\")","v":"N"}]
[null,null,null,null,null,null,null,null,null,null,{"$f":"IF(Table1[[#This Row],[Column3]]=\"T1013\",\"Y\",\"N\")","v":"N"},{"$f":"IF(Table1[[#This Row],[Column3]]=90785,\"Y\",\"N\")","v":"N"}]
[null,null,null,null,null,null,null,null,null,null,{"$f":"IF(Table1[[#This Row],[Column3]]=\"T1013\",\"Y\",\"N\")","v":"N"},{"$f":"IF(Table1[[#This Row],[Column3]]=90785,\"Y\",\"N\")","v":"N"}]
[null,null,null,null,null,null,null,null,null,null,{"$f":"IF(Table1[[#This Row],[Column3]]=\"T1013\",\"Y\",\"N\")","v":"N"},{"$f":"IF(Table1[[#This Row],[Column3]]=90785,\"Y\",\"N\")","v":"N"}]
[null,null,null,null,null,null,null,null,null,null,{"$f":"IF(Table1[[#This Row],[Column3]]=\"T1013\",\"Y\",\"N\")","v":"N"},{"$f":"IF(Table1[[#This Row],[Column3]]=90785,\"Y\",\"N\")","v":"N"}]
[null,null,null,null,null,null,null,null,null,null,{"$f":"IF(Table1[[#This Row],[Column3]]=\"T1013\",\"Y\",\"N\")","v":"N"},{"$f":"IF(Table1[[#This Row],[Column3]]=90785,\"Y\",\"N\")","v":"N"}]
[null,null,null,null,null,null,null,null,null,null,{"$f":"IF(Table1[[#This Row],[Column3]]=\"T1013\",\"Y\",\"N\")","v":"N"},{"$f":"IF(Table1[[#This Row],[Column3]]=90785,\"Y\",\"N\")","v":"N"}]
[null,null,null,null,null,null,null,null,null,null,{"$f":"IF(Table1[[#This Row],[Column3]]=\"T1013\",\"Y\",\"N\")","v":"N"},{"$f":"IF(Table1[[#This Row],[Column3]]=90785,\"Y\",\"N\")","v":"N"}]
[null,null,null,null,null,null,null,null,null,null,{"$f":"IF(Table1[[#This Row],[Column3]]=\"T1013\",\"Y\",\"N\")","v":"N"},{"$f":"IF(Table1[[#This Row],[Column3]]=90785,\"Y\",\"N\")","v":"N"}]
[null,null,null,null,null,null,null,null,null,null,{"$f":"IF(Table1[[#This Row],[Column3]]=\"T1013\",\"Y\",\"N\")","v":"N"},{"$f":"IF(Table1[[#This Row],[Column3]]=90785,\"Y\",\"N\")","v":"N"}]
[null,null,null,null,null,null,null,null,null,null,{"$f":"IF(Table1[[#This Row],[Column3]]=\"T1013\",\"Y\",\"N\")","v":"N"},{"$f":"IF(Table1[[#This Row],[Column3]]=90785,\"Y\",\"N\")","v":"N"}]
[null,null,null,null,null,null,null,null,null,null,{"$f":"IF(Table1[[#This Row],[Column3]]=\"T1013\",\"Y\",\"N\")","v":"N"},{"$f":"IF(Table1[[#This Row],[Column3]]=90785,\"Y\",\"N\")","v":"N"}]
[null,null,null,null,null,null,null,null,null,null,{"$f":"IF(Table1[[#This Row],[Column3]]=\"T1013\",\"Y\",\"N\")","v":"N"},{"$f":"IF(Table1[[#This Row],[Column3]]=90785,\"Y\",\"N\")","v":"N"}]
[null,null,null,null,null,null,null,null,null,null,{"$f":"IF(Table1[[#This Row],[Column3]]=\"T1013\",\"Y\",\"N\")","v":"N"},{"$f":"IF(Table1[[#This Row],[Column3]]=90785,\"Y\",\"N\")","v":"N"}]
[null,null,null,null,null,null,null,null,null,null,{"$f":"IF(Table1[[#This Row],[Column3]]=\"T1013\",\"Y\",\"N\")","v":"N"},{"$f":"IF(Table1[[#This Row],[Column3]]=90785,\"Y\",\"N\")","v":"N"}]
[null,null,null,null,null,null,null,null,null,null,{"$f":"IF(Table1[[#This Row],[Column3]]=\"T1013\",\"Y\",\"N\")","v":"N"},{"$f":"IF(Table1[[#This Row],[Column3]]=90785,\"Y\",\"N\")","v":"N"}]
[null,null,null,null,null,null,null,null,null,null,{"$f":"IF(Table1[[#This Row],[Column3]]=\"T1013\",\"Y\",\"N\")","v":"N"},{"$f":"IF(Table1[[#This Row],[Column3]]=90785,\"Y\",\"N\")","v":"N"}]
[null,null,null,null,null,null,null,null,null,null,{"$f":"IF(Table1[[#This Row],[Column3]]=\"T1013\",\"Y\",\"N\")","v":"N"},{"$f":"IF(Table1[[#This Row],[Column3]]=90785,\"Y\",\"N\")","v":"N"}]
[null,null,null,null,null,null,null,null,null,null,{"$f":"IF(Table1[[#This Row],[Column3]]=\"T1013\",\"Y\",\"N\")","v":"N"},{"$f":"IF(Table1[[#This Row],[Column3]]=90785,\"Y\",\"N\")","v":"N"}]
[null,null,null,null,null,null,null,null,null,null,{"$f":"IF(Table1[[#This Row],[Column3]]=\"T1013\",\"Y\",\"N\")","v":"N"},{"$f":"IF(Table1[[#This Row],[Column3]]=90785,\"Y\",\"N\")","v":"N"}]
[null,null,null,null,null,null,null,null,null,null,{"$f":"IF(Table1[[#This Row],[Column3]]=\"T1013\",\"Y\",\"N\")","v":"N"},{"$f":"IF(Table1[[#This Row],[Column3]]=90785,\"Y\",\"N\")","v":"N"}]
[null,null,null,null,null,null,null,null,null,null,{"$f":"IF(Table1[[#This Row],[Column3]]=\"T1013\",\"Y\",\"N\")","v":"N"},{"$f":"IF(Table1[[#This Row],[Column3]]=90785,\"Y\",\"N\")","v":"N"}]
[null,null,null,null,null,null,null,null,null,null,{"$f":"IF(Table1[[#This Row],[Column3]]=\"T1013\",\"Y\",\"N\")","v":"N"},{"$f":"IF(Table1[[#This Row],[Column3]]=90785,\"Y\",\"N\")","v":"N"}]
[null,null,null,null,null,null,null,null,null,null,{"$f":"IF(Table1[[#This Row],[Column3]]=\"T1013\",\"Y\",\"N\")","v":"N"},{"$f":"IF(Table1[[#This Row],[Column3]]=90785,\"Y\",\"N\")","v":"N"}]
[null,null,null,null,null,null,null,null,null,null,{"$f":"IF(Table1[[#This Row],[Column3]]=\"T1013\",\"Y\",\"N\")","v":"N"},{"$f":"IF(Table1[[#This Row],[Column3]]=90785,\"Y\",\"N\")","v":"N"}]
[null,null,null,null,null,null,null,null,null,null,{"$f":"IF(Table1[[#This Row],[Column3]]=\"T1013\",\"Y\",\"N\")","v":"N"},{"$f":"IF(Table1[[#This Row],[Column3]]=90785,\"Y\",\"N\")","v":"N"}]
[null,null,null,null,null,null,null,null,null,null,{"$f":"IF(Table1[[#This Row],[Column3]]=\"T1013\",\"Y\",\"N\")","v":"N"},{"$f":"IF(Table1[[#This Row],[Column3]]=90785,\"Y\",\"N\")","v":"N"}]
[null,null,null,null,null,null,null,null,null,null,{"$f":"IF(Table1[[#This Row],[Column3]]=\"T1013\",\"Y\",\"N\")","v":"N"},{"$f":"IF(Table1[[#This Row],[Column3]]=90785,\"Y\",\"N\")","v":"N"}]
[null,null,null,null,null,null,null,null,null,null,{"$f":"IF(Table1[[#This Row],[Column3]]=\"T1013\",\"Y\",\"N\")","v":"N"},{"$f":"IF(Table1[[#This Row],[Column3]]=90785,\"Y\",\"N\")","v":"N"}]
[null,null,null,null,null,null,null,null,null,null,{"$f":"IF(Table1[[#This Row],[Column3]]=\"T1013\",\"Y\",\"N\")","v":"N"},{"$f":"IF(Table1[[#This Row],[Column3]]=90785,\"Y\",\"N\")","v":"N"}]
[null,null,null,null,null,null,null,null,null,null,{"$f":"IF(Table1[[#This Row],[Column3]]=\"T1013\",\"Y\",\"N\")","v":"N"},{"$f":"IF(Table1[[#This Row],[Column3]]=90785,\"Y\",\"N\")","v":"N"}]
[null,null,null,null,null,null,null,null,null,null,{"$f":"IF(Table1[[#This Row],[Column3]]=\"T1013\",\"Y\",\"N\")","v":"N"},{"$f":"IF(Table1[[#This Row],[Column3]]=90785,\"Y\",\"N\")","v":"N"}]
[null,null,null,null,null,null,null,null,null,null,{"$f":"IF(Table1[[#This Row],[Column3]]=\"T1013\",\"Y\",\"N\")","v":"N"},{"$f":"IF(Table1[[#This Row],[Column3]]=90785,\"Y\",\"N\")","v":"N"}]
[null,null,null,null,null,null,null,null,null,null,{"$f":"IF(Table1[[#This Row],[Column3]]=\"T1013\",\"Y\",\"N\")","v":"N"},{"$f":"IF(Table1[[#This Row],[Column3]]=90785,\"Y\",\"N\")","v":"N"}]
[null,null,null,null,null,null,null,null,null,null,{"$f":"IF(Table1[[#This Row],[Column3]]=\"T1013\",\"Y\",\"N\")","v":"N"},{"$f":"IF(Table1[[#This Row],[Column3]]=90785,\"Y\",\"N\")","v":"N"}]
[null,null,null,null,null,null,null,null,null,null,{"$f":"IF(Table1[[#This Row],[Column3]]=\"T1013\",\"Y\",\"N\")","v":"N"},{"$f":"IF(Table1[[#This Row],[Column3]]=90785,\"Y\",\"N\")","v":"N"}]
[null,null,null,null,null,null,null,null,null,null,{"$f":"IF(Table1[[#This Row],[Column3]]=\"T1013\",\"Y\",\"N\")","v":"N"},{"$f":"IF(Table1[[#This Row],[Column3]]=90785,\"Y\",\"N\")","v":"N"}]
[null,null,null,null,null,null,null,null,null,null,{"$f":"IF(Table1[[#This Row],[Column3]]=\"T1013\",\"Y\",\"N\")","v":"N"},{"$f":"IF(Table1[[#This Row],[Column3]]=90785,\"Y\",\"N\")","v":"N"}]
[null,null,null,null,null,null,null,null,null,null,{"$f":"IF(Table1[[#This Row],[Column3]]=\"T1013\",\"Y\",\"N\")","v":"N"},{"$f":"IF(Table1[[#This Row],[Column3]]=90785,\"Y\",\"N\")","v":"N"}]
[null,null,null,null,null,null,null,null,null,null,{"$f":"IF(Table1[[#This Row],[Column3]]=\"T1013\",\"Y\",\"N\")","v":"N"},{"$f":"IF(Table1[[#This Row],[Column3]]=90785,\"Y\",\"N\")","v":"N"}]
[null,null,null,null,null,null,null,null,null,null,{"$f":"IF(Table1[[#This Row],[Column3]]=\"T1013\",\"Y\",\"N\")","v":"N"},{"$f":"IF(Table1[[#This Row],[Column3]]=90785,\"Y\",\"N\")","v":"N"}]
[null,null,null,null,null,null,null,null,null,null,{"$f":"IF(Table1[[#This Row],[Column3]]=\"T1013\",\"Y\",\"N\")","v":"N"},{"$f":"IF(Table1[[#This Row],[Column3]]=90785,\"Y\",\"N\")","v":"N"}]
[null,null,null,null,null,null,null,null,null,null,{"$f":"IF(Table1[[#This Row],[Column3]]=\"T1013\",\"Y\",\"N\")","v":"N"},{"$f":"IF(Table1[[#This Row],[Column3]]=90785,\"Y\",\"N\")","v":"N"}]
[null,null,null,null,null,null,null,null,null,null,{"$f":"IF(Table1[[#This Row],[Column3]]=\"T1013\",\"Y\",\"N\")","v":"N"},{"$f":"IF(Table1[[#This Row],[Column3]]=90785,\"Y\",\"N\")","v":"N"}]
[null,null,null,null,null,null,null,null,null,null,{"$f":"IF(Table1[[#This Row],[Column3]]=\"T1013\",\"Y\",\"N\")","v":"N"},{"$f":"IF(Table1[[#This Row],[Column3]]=90785,\"Y\",\"N\")","v":"N"}]
[null,null,null,null,null,null,null,null,null,null,{"$f":"IF(Table1[[#This Row],[Column3]]=\"T1013\",\"Y\",\"N\")","v":"N"},{"$f":"IF(Table1[[#This Row],[Column3]]=90785,\"Y\",\"N\")","v":"N"}]
[null,null,null,null,null,null,null,null,null,null,{"$f":"IF(Table1[[#This Row],[Column3]]=\"T1013\",\"Y\",\"N\")","v":"N"},{"$f":"IF(Table1[[#This Row],[Column3]]=90785,\"Y\",\"N\")","v":"N"}]
[null,null,null,null,null,null,null,null,null,null,{"$f":"IF(Table1[[#This Row],[Column3]]=\"T1013\",\"Y\",\"N\")","v":"N"},{"$f":"IF(Table1[[#This Row],[Column3]]=90785,\"Y\",\"N\")","v":"N"}]
[null,null,null,null,null,null,null,null,null,null,{"$f":"IF(Table1[[#This Row],[Column3]]=\"T1013\",\"Y\",\"N\")","v":"N"},{"$f":"IF(Table1[[#This Row],[Column3]]=90785,\"Y\",\"N\")","v":"N"}]
[null,null,null,null,null,null,null,null,null,null,{"$f":"IF(Table1[[#This Row],[Column3]]=\"T1013\",\"Y\",\"N\")","v":"N"},{"$f":"IF(Table1[[#This Row],[Column3]]=90785,\"Y\",\"N\")","v":"N"}]
[null,null,null,null,null,null,null,null,null,null,{"$f":"IF(Table1[[#This Row],[Column3]]=\"T1013\",\"Y\",\"N\")","v":"N"},{"$f":"IF(Table1[[#This Row],[Column3]]=90785,\"Y\",\"N\")","v":"N"}]
[null,null,null,null,null,null,null,null,null,null,{"$f":"IF(Table1[[#This Row],[Column3]]=\"T1013\",\"Y\",\"N\")","v":"N"},{"$f":"IF(Table1[[#This Row],[Column3]]=90785,\"Y\",\"N\")","v":"N"}]
[null,null,null,null,null,null,null,null,null,null,{"$f":"IF(Table1[[#This Row],[Column3]]=\"T1013\",\"Y\",\"N\")","v":"N"},{"$f":"IF(Table1[[#This Row],[Column3]]=90785,\"Y\",\"N\")","v":"N"}]
[null,null,null,null,null,null,null,null,null,null,{"$f":"IF(Table1[[#This Row],[Column3]]=\"T1013\",\"Y\",\"N\")","v":"N"},{"$f":"IF(Table1[[#This Row],[Column3]]=90785,\"Y\",\"N\")","v":"N"}]
[null,null,null,null,null,null,null,null,null,null,{"$f":"IF(Table1[[#This Row],[Column3]]=\"T1013\",\"Y\",\"N\")","v":"N"},{"$f":"IF(Table1[[#This Row],[Column3]]=90785,\"Y\",\"N\")","v":"N"}]
[null,null,null,null,null,null,null,null,null,null,{"$f":"IF(Table1[[#This Row],[Column3]]=\"T1013\",\"Y\",\"N\")","v":"N"},{"$f":"IF(Table1[[#This Row],[Column3]]=90785,\"Y\",\"N\")","v":"N"}]
[null,null,null,null,null,null,null,null,null,null,{"$f":"IF(Table1[[#This Row],[Column3]]=\"T1013\",\"Y\",\"N\")","v":"N"},{"$f":"IF(Table1[[#This Row],[Column3]]=90785,\"Y\",\"N\")","v":"N"}]
[null,null,null,null,null,null,null,null,null,null,{"$f":"IF(Table1[[#This Row],[Column3]]=\"T1013\",\"Y\",\"N\")","v":"N"},{"$f":"IF(Table1[[#This Row],[Column3]]=90785,\"Y\",\"N\")","v":"N"}]
[null,null,null,null,null,null,null,null,null,null,{"$f":"IF(Table1[[#This Row],[Column3]]=\"T1013\",\"Y\",\"N\")","v":"N"},{"$f":"IF(Table1[[#This Row],[Column3]]=90785,\"Y\",\"N\")","v":"N"}]
[null,null,null,null,null,null,null,null,null,null,{"$f":"IF(Table1[[#This Row],[Column3]]=\"T1013\",\"Y\",\"N\")","v":"N"},{"$f":"IF(Table1[[#This Row],[Column3]]=90785,\"Y\",\"N\")","v":"N"}]
[null,null,null,null,null,null,null,null,null,null,{"$f":"IF(Table1[[#This Row],[Column3]]=\"T1013\",\"Y\",\"N\")","v":"N"},{"$f":"IF(Table1[[#This Row],[Column3]]=90785,\"Y\",\"N\")","v":"N"}]
[null,null,null,null,null,null,null,null,null,null,{"$f":"IF(Table1[[#This Row],[Column3]]=\"T1013\",\"Y\",\"N\")","v":"N"},{"$f":"IF(Table1[[#This Row],[Column3]]=90785,\"Y\",\"N\")","v":"N"}]
[null,null,null,null,null,null,null,null,null,null,{"$f":"IF(Table1[[#This Row],[Column3]]=\"T1013\",\"Y\",\"N\")","v":"N"},{"$f":"IF(Table1[[#This Row],[Column3]]=90785,\"Y\",\"N\")","v":"N"}]
[null,null,null,null,null,null,null,null,null,null,{"$f":"IF(Table1[[#This Row],[Column3]]=\"T1013\",\"Y\",\"N\")","v":"N"},{"$f":"IF(Table1[[#This Row],[Column3]]=90785,\"Y\",\"N\")","v":"N"}]
[null,null,null,null,null,null,null,null,null,null,{"$f":"IF(Table1[[#This Row],[Column3]]=\"T1013\",\"Y\",\"N\")","v":"N"},{"$f":"IF(Table1[[#This Row],[Column3]]=90785,\"Y\",\"N\")","v":"N"}]
[null,null,null,null,null,null,null,null,null,null,{"$f":"IF(Table1[[#This Row],[Column3]]=\"T1013\",\"Y\",\"N\")","v":"N"},{"$f":"IF(Table1[[#This Row],[Column3]]=90785,\"Y\",\"N\")","v":"N"}]
[null,null,null,null,null,null,null,null,null,null,{"$f":"IF(Table1[[#This Row],[Column3]]=\"T1013\",\"Y\",\"N\")","v":"N"},{"$f":"IF(Table1[[#This Row],[Column3]]=90785,\"Y\",\"N\")","v":"N"}]
[null,null,null,null,null,null,null,null,null,null,{"$f":"IF(Table1[[#This Row],[Column3]]=\"T1013\",\"Y\",\"N\")","v":"N"},{"$f":"IF(Table1[[#This Row],[Column3]]=90785,\"Y\",\"N\")","v":"N"}]
[null,null,null,null,null,null,null,null,null,null,{"$f":"IF(Table1[[#This Row],[Column3]]=\"T1013\",\"Y\",\"N\")","v":"N"},{"$f":"IF(Table1[[#This Row],[Column3]]=90785,\"Y\",\"N\")","v":"N"}]
[null,null,null,null,null,null,null,null,null,null,{"$f":"IF(Table1[[#This Row],[Column3]]=\"T1013\",\"Y\",\"N\")","v":"N"},{"$f":"IF(Table1[[#This Row],[Column3]]=90785,\"Y\",\"N\")","v":"N"}]
[null,null,null,null,null,null,null,null,null,null,{"$f":"IF(Table1[[#This Row],[Column3]]=\"T1013\",\"Y\",\"N\")","v":"N"},{"$f":"IF(Table1[[#This Row],[Column3]]=90785,\"Y\",\"N\")","v":"N"}]
[null,null,null,null,null,null,null,null,null,null,{"$f":"IF(Table1[[#This Row],[Column3]]=\"T1013\",\"Y\",\"N\")","v":"N"},{"$f":"IF(Table1[[#This Row],[Column3]]=90785,\"Y\",\"N\")","v":"N"}]
[null,null,null,null,null,null,null,null,null,null,{"$f":"IF(Table1[[#This Row],[Column3]]=\"T1013\",\"Y\",\"N\")","v":"N"},{"$f":"IF(Table1[[#This Row],[Column3]]=90785,\"Y\",\"N\")","v":"N"}]
[null,null,null,null,null,null,null,null,null,null,{"$f":"IF(Table1[[#This Row],[Column3]]=\"T1013\",\"Y\",\"N\")","v":"N"},{"$f":"IF(Table1[[#This Row],[Column3]]=90785,\"Y\",\"N\")","v":"N"}]
[null,null,null,null,null,null,null,null,null,null,{"$f":"IF(Table1[[#This Row],[Column3]]=\"T1013\",\"Y\",\"N\")","v":"N"},{"$f":"IF(Table1[[#This Row],[Column3]]=90785,\"Y\",\"N\")","v":"N"}]
[null,null,null,null,null,null,null,null,null,null,{"$f":"IF(Table1[[#This Row],[Column3]]=\"T1013\",\"Y\",\"N\")","v":"N"},{"$f":"IF(Table1[[#This Row],[Column3]]=90785,\"Y\",\"N\")","v":"N"}]
[null,null,null,null,null,null,null,null,null,null,{"$f":"IF(Table1[[#This Row],[Column3]]=\"T1013\",\"Y\",\"N\")","v":"N"},{"$f":"IF(Table1[[#This Row],[Column3]]=90785,\"Y\",\"N\")","v":"N"}]
[null,null,null,null,null,null,null,null,null,null,{"$f":"IF(Table1[[#This Row],[Column3]]=\"T1013\",\"Y\",\"N\")","v":"N"},{"$f":"IF(Table1[[#This Row],[Column3]]=90785,\"Y\",\"N\")","v":"N"}]
[null,null,null,null,null,null,null,null,null,null,{"$f":"IF(Table1[[#This Row],[Column3]]=\"T1013\",\"Y\",\"N\")","v":"N"},{"$f":"IF(Table1[[#This Row],[Column3]]=90785,\"Y\",\"N\")","v":"N"}]
[null,null,null,null,null,null,null,null,null,null,{"$f":"IF(Table1[[#This Row],[Column3]]=\"T1013\",\"Y\",\"N\")","v":"N"},{"$f":"IF(Table1[[#This Row],[Column3]]=90785,\"Y\",\"N\")","v":"N"}]
[null,null,null,null,null,null,null,null,null,null,{"$f":"IF(Table1[[#This Row],[Column3]]=\"T1013\",\"Y\",\"N\")","v":"N"},{"$f":"IF(Table1[[#This Row],[Column3]]=90785,\"Y\",\"N\")","v":"N"}]
[null,null,null,null,null,null,null,null,null,null,{"$f":"IF(Table1[[#This Row],[Column3]]=\"T1013\",\"Y\",\"N\")","v":"N"},{"$f":"IF(Table1[[#This Row],[Column3]]=90785,\"Y\",\"N\")","v":"N"}]
[null,null,null,null,null,null,null,null,null,null,{"$f":"IF(Table1[[#This Row],[Column3]]=\"T1013\",\"Y\",\"N\")","v":"N"},{"$f":"IF(Table1[[#This Row],[Column3]]=90785,\"Y\",\"N\")","v":"N"}]
[null,null,null,null,null,null,null,null,null,null,{"$f":"IF(Table1[[#This Row],[Column3]]=\"T1013\",\"Y\",\"N\")","v":"N"},{"$f":"IF(Table1[[#This Row],[Column3]]=90785,\"Y\",\"N\")","v":"N"}]
[null,null,null,null,null,null,null,null,null,null,{"$f":"IF(Table1[[#This Row],[Column3]]=\"T1013\",\"Y\",\"N\")","v":"N"},{"$f":"IF(Table1[[#This Row],[Column3]]=90785,\"Y\",\"N\")","v":"N"}]
[null,null,null,null,null,null,null,null,null,null,{"$f":"IF(Table1[[#This Row],[Column3]]=\"T1013\",\"Y\",\"N\")","v":"N"},{"$f":"IF(Table1[[#This Row],[Column3]]=90785,\"Y\",\"N\")","v":"N"}]
[null,null,null,null,null,null,null,null,null,null,{"$f":"IF(Table1[[#This Row],[Column3]]=\"T1013\",\"Y\",\"N\")","v":"N"},{"$f":"IF(Table1[[#This Row],[Column3]]=90785,\"Y\",\"N\")","v":"N"}]
[null,null,null,null,null,null,null,null,null,null,{"$f":"IF(Table1[[#This Row],[Column3]]=\"T1013\",\"Y\",\"N\")","v":"N"},{"$f":"IF(Table1[[#This Row],[Column3]]=90785,\"Y\",\"N\")","v":"N"}]
[null,null,null,null,null,null,null,null,null,null,{"$f":"IF(Table1[[#This Row],[Column3]]=\"T1013\",\"Y\",\"N\")","v":"N"},{"$f":"IF(Table1[[#This Row],[Column3]]=90785,\"Y\",\"N\")","v":"N"}]
[null,null,null,null,null,null,null,null,null,null,{"$f":"IF(Table1[[#This Row],[Column3]]=\"T1013\",\"Y\",\"N\")","v":"N"},{"$f":"IF(Table1[[#This Row],[Column3]]=90785,\"Y\",\"N\")","v":"N"}]
[null,null,null,null,null,null,null,null,null,null,{"$f":"IF(Table1[[#This Row],[Column3]]=\"T1013\",\"Y\",\"N\")","v":"N"},{"$f":"IF(Table1[[#This Row],[Column3]]=90785,\"Y\",\"N\")","v":"N"}]
[null,null,null,null,null,null,null,null,null,null,{"$f":"IF(Table1[[#This Row],[Column3]]=\"T1013\",\"Y\",\"N\")","v":"N"},{"$f":"IF(Table1[[#This Row],[Column3]]=90785,\"Y\",\"N\")","v":"N"}]
[null,null,null,null,null,null,null,null,null,null,{"$f":"IF(Table1[[#This Row],[Column3]]=\"T1013\",\"Y\",\"N\")","v":"N"},{"$f":"IF(Table1[[#This Row],[Column3]]=90785,\"Y\",\"N\")","v":"N"}]
[null,null,null,null,null,null,null,null,null,null,{"$f":"IF(Table1[[#This Row],[Column3]]=\"T1013\",\"Y\",\"N\")","v":"N"},{"$f":"IF(Table1[[#This Row],[Column3]]=90785,\"Y\",\"N\")","v":"N"}]
[null,null,null,null,null,null,null,null,null,null,{"$f":"IF(Table1[[#This Row],[Column3]]=\"T1013\",\"Y\",\"N\")","v":"N"},{"$f":"IF(Table1[[#This Row],[Column3]]=90785,\"Y\",\"N\")","v":"N"}]
[null,null,null,null,null,null,null,null,null,null,{"$f":"IF(Table1[[#This Row],[Column3]]=\"T1013\",\"Y\",\"N\")","v":"N"},{"$f":"IF(Table1[[#This Row],[Column3]]=90785,\"Y\",\"N\")","v":"N"}]
[null,null,null,null,null,null,null,null,null,null,{"$f":"IF(Table1[[#This Row],[Column3]]=\"T1013\",\"Y\",\"N\")","v":"N"},{"$f":"IF(Table1[[#This Row],[Column3]]=90785,\"Y\",\"N\")","v":"N"}]
[null,null,null,null,null,null,null,null,null,null,{"$f":"IF(Table1[[#This Row],[Column3]]=\"T1013\",\"Y\",\"N\")","v":"N"},{"$f":"IF(Table1[[#This Row],[Column3]]=90785,\"Y\",\"N\")","v":"N"}]
[null,null,null,null,null,null,null,null,null,null,{"$f":"IF(Table1[[#This Row],[Column3]]=\"T1013\",\"Y\",\"N\")","v":"N"},{"$f":"IF(Table1[[#This Row],[Column3]]=90785,\"Y\",\"N\")","v":"N"}]
[null,null,null,null,null,null,null,null,null,null,{"$f":"IF(Table1[[#This Row],[Column3]]=\"T1013\",\"Y\",\"N\")","v":"N"},{"$f":"IF(Table1[[#This Row],[Column3]]=90785,\"Y\",\"N\")","v":"N"}]
[null,null,null,null,null,null,null,null,null,null,{"$f":"IF(Table1[[#This Row],[Column3]]=\"T1013\",\"Y\",\"N\")","v":"N"},{"$f":"IF(Table1[[#This Row],[Column3]]=90785,\"Y\",\"N\")","v":"N"}]
[null,null,null,null,null,null,null,null,null,null,{"$f":"IF(Table1[[#This Row],[Column3]]=\"T1013\",\"Y\",\"N\")","v":"N"},{"$f":"IF(Table1[[#This Row],[Column3]]=90785,\"Y\",\"N\")","v":"N"}]
[null,null,null,null,null,null,null,null,null,null,{"$f":"IF(Table1[[#This Row],[Column3]]=\"T1013\",\"Y\",\"N\")","v":"N"},{"$f":"IF(Table1[[#This Row],[Column3]]=90785,\"Y\",\"N\")","v":"N"}]
[null,null,null,null,null,null,null,null,null,null,{"$f":"IF(Table1[[#This Row],[Column3]]=\"T1013\",\"Y\",\"N\")","v":"N"},{"$f":"IF(Table1[[#This Row],[Column3]]=90785,\"Y\",\"N\")","v":"N"}]
[null,null,null,null,null,null,null,null,null,null,{"$f":"IF(Table1[[#This Row],[Column3]]=\"T1013\",\"Y\",\"N\")","v":"N"},{"$f":"IF(Table1[[#This Row],[Column3]]=90785,\"Y\",\"N\")","v":"N"}]
[null,null,null,null,null,null,null,null,null,null,{"$f":"IF(Table1[[#This Row],[Column3]]=\"T1013\",\"Y\",\"N\")","v":"N"},{"$f":"IF(Table1[[#This Row],[Column3]]=90785,\"Y\",\"N\")","v":"N"}]
[null,null,null,null,null,null,null,null,null,null,{"$f":"IF(Table1[[#This Row],[Column3]]=\"T1013\",\"Y\",\"N\")","v":"N"},{"$f":"IF(Table1[[#This Row],[Column3]]=90785,\"Y\",\"N\")","v":"N"}]
[null,null,null,null,null,null,null,null,null,null,{"$f":"IF(Table1[[#This Row],[Column3]]=\"T1013\",\"Y\",\"N\")","v":"N"},{"$f":"IF(Table1[[#This Row],[Column3]]=90785,\"Y\",\"N\")","v":"N"}]
[null,null,null,null,null,null,null,null,null,null,{"$f":"IF(Table1[[#This Row],[Column3]]=\"T1013\",\"Y\",\"N\")","v":"N"},{"$f":"IF(Table1[[#This Row],[Column3]]=90785,\"Y\",\"N\")","v":"N"}]
[null,null,null,null,null,null,null,null,null,null,{"$f":"IF(Table1[[#This Row],[Column3]]=\"T1013\",\"Y\",\"N\")","v":"N"},{"$f":"IF(Table1[[#This Row],[Column3]]=90785,\"Y\",\"N\")","v":"N"}]
[null,null,null,null,null,null,null,null,null,null,{"$f":"IF(Table1[[#This Row],[Column3]]=\"T1013\",\"Y\",\"N\")","v":"N"},{"$f":"IF(Table1[[#This Row],[Column3]]=90785,\"Y\",\"N\")","v":"N"}]
[null,null,null,null,null,null,null,null,null,null,{"$f":"IF(Table1[[#This Row],[Column3]]=\"T1013\",\"Y\",\"N\")","v":"N"},{"$f":"IF(Table1[[#This Row],[Column3]]=90785,\"Y\",\"N\")","v":"N"}]
[null,null,null,null,null,null,null,null,null,null,{"$f":"IF(Table1[[#This Row],[Column3]]=\"T1013\",\"Y\",\"N\")","v":"N"},{"$f":"IF(Table1[[#This Row],[Column3]]=90785,\"Y\",\"N\")","v":"N"}]
[null,null,null,null,null,null,null,null,null,null,{"$f":"IF(Table1[[#This Row],[Column3]]=\"T1013\",\"Y\",\"N\")","v":"N"},{"$f":"IF(Table1[[#This Row],[Column3]]=90785,\"Y\",\"N\")","v":"N"}]
[null,null,null,null,null,null,null,null,null,null,{"$f":"IF(Table1[[#This Row],[Column3]]=\"T1013\",\"Y\",\"N\")","v":"N"},{"$f":"IF(Table1[[#This Row],[Column3]]=90785,\"Y\",\"N\")","v":"N"}]
[null,null,null,null,null,null,null,null,null,null,{"$f":"IF(Table1[[#This Row],[Column3]]=\"T1013\",\"Y\",\"N\")","v":"N"},{"$f":"IF(Table1[[#This Row],[Column3]]=90785,\"Y\",\"N\")","v":"N"}]
[null,null,null,null,null,null,null,null,null,null,{"$f":"IF(Table1[[#This Row],[Column3]]=\"T1013\",\"Y\",\"N\")","v":"N"},{"$f":"IF(Table1[[#This Row],[Column3]]=90785,\"Y\",\"N\")","v":"N"}]
[null,null,null,null,null,null,null,null,null,null,{"$f":"IF(Table1[[#This Row],[Column3]]=\"T1013\",\"Y\",\"N\")","v":"N"},{"$f":"IF(Table1[[#This Row],[Column3]]=90785,\"Y\",\"N\")","v":"N"}]
[null,null,null,null,null,null,null,null,null,null,{"$f":"IF(Table1[[#This Row],[Column3]]=\"T1013\",\"Y\",\"N\")","v":"N"},{"$f":"IF(Table1[[#This Row],[Column3]]=90785,\"Y\",\"N\")","v":"N"}]
[null,null,null,null,null,null,null,null,null,null,{"$f":"IF(Table1[[#This Row],[Column3]]=\"T1013\",\"Y\",\"N\")","v":"N"},{"$f":"IF(Table1[[#This Row],[Column3]]=90785,\"Y\",\"N\")","v":"N"}]
[null,null,null,null,null,null,null,null,null,null,{"$f":"IF(Table1[[#This Row],[Column3]]=\"T1013\",\"Y\",\"N\")","v":"N"},{"$f":"IF(Table1[[#This Row],[Column3]]=90785,\"Y\",\"N\")","v":"N"}]
[null,null,null,null,null,null,null,null,null,null,{"$f":"IF(Table1[[#This Row],[Column3]]=\"T1013\",\"Y\",\"N\")","v":"N"},{"$f":"IF(Table1[[#This Row],[Column3]]=90785,\"Y\",\"N\")","v":"N"}]
[null,null,null,null,null,null,null,null,null,null,{"$f":"IF(Table1[[#This Row],[Column3]]=\"T1013\",\"Y\",\"N\")","v":"N"},{"$f":"IF(Table1[[#This Row],[Column3]]=90785,\"Y\",\"N\")","v":"N"}]
[null,null,null,null,null,null,null,null,null,null,{"$f":"IF(Table1[[#This Row],[Column3]]=\"T1013\",\"Y\",\"N\")","v":"N"},{"$f":"IF(Table1[[#This Row],[Column3]]=90785,\"Y\",\"N\")","v":"N"}]
[null,null,null,null,null,null,null,null,null,null,{"$f":"IF(Table1[[#This Row],[Column3]]=\"T1013\",\"Y\",\"N\")","v":"N"},{"$f":"IF(Table1[[#This Row],[Column3]]=90785,\"Y\",\"N\")","v":"N"}]
[null,null,null,null,null,null,null,null,null,null,{"$f":"IF(Table1[[#This Row],[Column3]]=\"T1013\",\"Y\",\"N\")","v":"N"},{"$f":"IF(Table1[[#This Row],[Column3]]=90785,\"Y\",\"N\")","v":"N"}]
[null,null,null,null,null,null,null,null,null,null,{"$f":"IF(Table1[[#This Row],[Column3]]=\"T1013\",\"Y\",\"N\")","v":"N"},{"$f":"IF(Table1[[#This Row],[Column3]]=90785,\"Y\",\"N\")","v":"N"}]
[null,null,null,null,null,null,null,null,null,null,{"$f":"IF(Table1[[#This Row],[Column3]]=\"T1013\",\"Y\",\"N\")","v":"N"},{"$f":"IF(Table1[[#This Row],[Column3]]=90785,\"Y\",\"N\")","v":"N"}]
[null,null,null,null,null,null,null,null,null,null,{"$f":"IF(Table1[[#This Row],[Column3]]=\"T1013\",\"Y\",\"N\")","v":"N"},{"$f":"IF(Table1[[#This Row],[Column3]]=90785,\"Y\",\"N\")","v":"N"}]
[null,null,null,null,null,null,null,null,null,null,{"$f":"IF(Table1[[#This Row],[Column3]]=\"T1013\",\"Y\",\"N\")","v":"N"},{"$f":"IF(Table1[[#This Row],[Column3]]=90785,\"Y\",\"N\")","v":"N"}]
[null,null,null,null,null,null,null,null,null,null,{"$f":"IF(Table1[[#This Row],[Column3]]=\"T1013\",\"Y\",\"N\")","v":"N"},{"$f":"IF(Table1[[#This Row],[Column3]]=90785,\"Y\",\"N\")","v":"N"}]
[null,null,null,null,null,null,null,null,null,null,{"$f":"IF(Table1[[#This Row],[Column3]]=\"T1013\",\"Y\",\"N\")","v":"N"},{"$f":"IF(Table1[[#This Row],[Column3]]=90785,\"Y\",\"N\")","v":"N"}]
[null,null,null,null,null,null,null,null,null,null,{"$f":"IF(Table1[[#This Row],[Column3]]=\"T1013\",\"Y\",\"N\")","v":"N"},{"$f":"IF(Table1[[#This Row],[Column3]]=90785,\"Y\",\"N\")","v":"N"}]
[null,null,null,null,null,null,null,null,null,null,{"$f":"IF(Table1[[#This Row],[Column3]]=\"T1013\",\"Y\",\"N\")","v":"N"},{"$f":"IF(Table1[[#This Row],[Column3]]=90785,\"Y\",\"N\")","v":"N"}]
[null,null,null,null,null,null,null,null,null,null,{"$f":"IF(Table1[[#This Row],[Column3]]=\"T1013\",\"Y\",\"N\")","v":"N"},{"$f":"IF(Table1[[#This Row],[Column3]]=90785,\"Y\",\"N\")","v":"N"}]
[null,null,null,null,null,null,null,null,null,null,{"$f":"IF(Table1[[#This Row],[Column3]]=\"T1013\",\"Y\",\"N\")","v":"N"},{"$f":"IF(Table1[[#This Row],[Column3]]=90785,\"Y\",\"N\")","v":"N"}]
[null,null,null,null,null,null,null,null,null,null,{"$f":"IF(Table1[[#This Row],[Column3]]=\"T1013\",\"Y\",\"N\")","v":"N"},{"$f":"IF(Table1[[#This Row],[Column3]]=90785,\"Y\",\"N\")","v":"N"}]
[null,null,null,null,null,null,null,null,null,null,{"$f":"IF(Table1[[#This Row],[Column3]]=\"T1013\",\"Y\",\"N\")","v":"N"},{"$f":"IF(Table1[[#This Row],[Column3]]=90785,\"Y\",\"N\")","v":"N"}]
[null,null,null,null,null,null,null,null,null,null,{"$f":"IF(Table1[[#This Row],[Column3]]=\"T1013\",\"Y\",\"N\")","v":"N"},{"$f":"IF(Table1[[#This Row],[Column3]]=90785,\"Y\",\"N\")","v":"N"}]
[null,null,null,null,null,null,null,null,null,null,{"$f":"IF(Table1[[#This Row],[Column3]]=\"T1013\",\"Y\",\"N\")","v":"N"},{"$f":"IF(Table1[[#This Row],[Column3]]=90785,\"Y\",\"N\")","v":"N"}]
[null,null,null,null,null,null,null,null,null,null,{"$f":"IF(Table1[[#This Row],[Column3]]=\"T1013\",\"Y\",\"N\")","v":"N"},{"$f":"IF(Table1[[#This Row],[Column3]]=90785,\"Y\",\"N\")","v":"N"}]
[null,null,null,null,null,null,null,null,null,null,{"$f":"IF(Table1[[#This Row],[Column3]]=\"T1013\",\"Y\",\"N\")","v":"N"},{"$f":"IF(Table1[[#This Row],[Column3]]=90785,\"Y\",\"N\")","v":"N"}]
[null,null,null,null,null,null,null,null,null,null,{"$f":"IF(Table1[[#This Row],[Column3]]=\"T1013\",\"Y\",\"N\")","v":"N"},{"$f":"IF(Table1[[#This Row],[Column3]]=90785,\"Y\",\"N\")","v":"N"}]
[null,null,null,null,null,null,null,null,null,null,{"$f":"IF(Table1[[#This Row],[Column3]]=\"T1013\",\"Y\",\"N\")","v":"N"},{"$f":"IF(Table1[[#This Row],[Column3]]=90785,\"Y\",\"N\")","v":"N"}]
[null,null,null,null,null,null,null,null,null,null,{"$f":"IF(Table1[[#This Row],[Column3]]=\"T1013\",\"Y\",\"N\")","v":"N"},{"$f":"IF(Table1[[#This Row],[Column3]]=90785,\"Y\",\"N\")","v":"N"}]
[null,null,null,null,null,null,null,null,null,null,{"$f":"IF(Table1[[#This Row],[Column3]]=\"T1013\",\"Y\",\"N\")","v":"N"},{"$f":"IF(Table1[[#This Row],[Column3]]=90785,\"Y\",\"N\")","v":"N"}]
[null,null,null,null,null,null,null,null,null,null,{"$f":"IF(Table1[[#This Row],[Column3]]=\"T1013\",\"Y\",\"N\")","v":"N"},{"$f":"IF(Table1[[#This Row],[Column3]]=90785,\"Y\",\"N\")","v":"N"}]
[null,null,null,null,null,null,null,null,null,null,{"$f":"IF(Table1[[#This Row],[Column3]]=\"T1013\",\"Y\",\"N\")","v":"N"},{"$f":"IF(Table1[[#This Row],[Column3]]=90785,\"Y\",\"N\")","v":"N"}]
[null,null,null,null,null,null,null,null,null,null,{"$f":"IF(Table1[[#This Row],[Column3]]=\"T1013\",\"Y\",\"N\")","v":"N"},{"$f":"IF(Table1[[#This Row],[Column3]]=90785,\"Y\",\"N\")","v":"N"}]
[null,null,null,null,null,null,null,null,null,null,{"$f":"IF(Table1[[#This Row],[Column3]]=\"T1013\",\"Y\",\"N\")","v":"N"},{"$f":"IF(Table1[[#This Row],[Column3]]=90785,\"Y\",\"N\")","v":"N"}]
[null,null,null,null,null,null,null,null,null,null,{"$f":"IF(Table1[[#This Row],[Column3]]=\"T1013\",\"Y\",\"N\")","v":"N"},{"$f":"IF(Table1[[#This Row],[Column3]]=90785,\"Y\",\"N\")","v":"N"}]
[null,null,null,null,null,null,null,null,null,null,{"$f":"IF(Table1[[#This Row],[Column3]]=\"T1013\",\"Y\",\"N\")","v":"N"},{"$f":"IF(Table1[[#This Row],[Column3]]=90785,\"Y\",\"N\")","v":"N"}]
[null,null,null,null,null,null,null,null,null,null,{"$f":"IF(Table1[[#This Row],[Column3]]=\"T1013\",\"Y\",\"N\")","v":"N"},{"$f":"IF(Table1[[#This Row],[Column3]]=90785,\"Y\",\"N\")","v":"N"}]
[null,null,null,null,null,null,null,null,null,null,{"$f":"IF(Table1[[#This Row],[Column3]]=\"T1013\",\"Y\",\"N\")","v":"N"},{"$f":"IF(Table1[[#This Row],[Column3]]=90785,\"Y\",\"N\")","v":"N"}]
[null,null,null,null,null,null,null,null,null,null,{"$f":"IF(Table1[[#This Row],[Column3]]=\"T1013\",\"Y\",\"N\")","v":"N"},{"$f":"IF(Table1[[#This Row],[Column3]]=90785,\"Y\",\"N\")","v":"N"}]
[null,null,null,null,null,null,null,null,null,null,{"$f":"IF(Table1[[#This Row],[Column3]]=\"T1013\",\"Y\",\"N\")","v":"N"},{"$f":"IF(Table1[[#This Row],[Column3]]=90785,\"Y\",\"N\")","v":"N"}]
[null,null,null,null,null,null,null,null,null,null,{"$f":"IF(Table1[[#This Row],[Column3]]=\"T1013\",\"Y\",\"N\")","v":"N"},{"$f":"IF(Table1[[#This Row],[Column3]]=90785,\"Y\",\"N\")","v":"N"}]
[null,null,null,null,null,null,null,null,null,null,{"$f":"IF(Table1[[#This Row],[Column3]]=\"T1013\",\"Y\",\"N\")","v":"N"},{"$f":"IF(Table1[[#This Row],[Column3]]=90785,\"Y\",\"N\")","v":"N"}]
[null,null,null,null,null,null,null,null,null,null,{"$f":"IF(Table1[[#This Row],[Column3]]=\"T1013\",\"Y\",\"N\")","v":"N"},{"$f":"IF(Table1[[#This Row],[Column3]]=90785,\"Y\",\"N\")","v":"N"}]
[null,null,null,null,null,null,null,null,null,null,{"$f":"IF(Table1[[#This Row],[Column3]]=\"T1013\",\"Y\",\"N\")","v":"N"},{"$f":"IF(Table1[[#This Row],[Column3]]=90785,\"Y\",\"N\")","v":"N"}]
[null,null,null,null,null,null,null,null,null,null,{"$f":"IF(Table1[[#This Row],[Column3]]=\"T1013\",\"Y\",\"N\")","v":"N"},{"$f":"IF(Table1[[#This Row],[Column3]]=90785,\"Y\",\"N\")","v":"N"}]
[null,null,null,null,null,null,null,null,null,null,{"$f":"IF(Table1[[#This Row],[Column3]]=\"T1013\",\"Y\",\"N\")","v":"N"},{"$f":"IF(Table1[[#This Row],[Column3]]=90785,\"Y\",\"N\")","v":"N"}]
[null,null,null,null,null,null,null,null,null,null,{"$f":"IF(Table1[[#This Row],[Column3]]=\"T1013\",\"Y\",\"N\")","v":"N"},{"$f":"IF(Table1[[#This Row],[Column3]]=90785,\"Y\",\"N\")","v":"N"}]
[null,null,null,null,null,null,null,null,null,null,{"$f":"IF(Table1[[#This Row],[Column3]]=\"T1013\",\"Y\",\"N\")","v":"N"},{"$f":"IF(Table1[[#This Row],[Column3]]=90785,\"Y\",\"N\")","v":"N"}]
[null,null,null,null,null,null,null,null,null,null,{"$f":"IF(Table1[[#This Row],[Column3]]=\"T1013\",\"Y\",\"N\")","v":"N"},{"$f":"IF(Table1[[#This Row],[Column3]]=90785,\"Y\",\"N\")","v":"N"}]
[null,null,null,null,null,null,null,null,null,null,{"$f":"IF(Table1[[#This Row],[Column3]]=\"T1013\",\"Y\",\"N\")","v":"N"},{"$f":"IF(Table1[[#This Row],[Column3]]=90785,\"Y\",\"N\")","v":"N"}]
[null,null,null,null,null,null,null,null,null,null,{"$f":"IF(Table1[[#This Row],[Column3]]=\"T1013\",\"Y\",\"N\")","v":"N"},{"$f":"IF(Table1[[#This Row],[Column3]]=90785,\"Y\",\"N\")","v":"N"}]
[null,null,null,null,null,null,null,null,null,null,{"$f":"IF(Table1[[#This Row],[Column3]]=\"T1013\",\"Y\",\"N\")","v":"N"},{"$f":"IF(Table1[[#This Row],[Column3]]=90785,\"Y\",\"N\")","v":"N"}]
[null,null,null,null,null,null,null,null,null,null,{"$f":"IF(Table1[[#This Row],[Column3]]=\"T1013\",\"Y\",\"N\")","v":"N"},{"$f":"IF(Table1[[#This Row],[Column3]]=90785,\"Y\",\"N\")","v":"N"}]
[null,null,null,null,null,null,null,null,null,null,{"$f":"IF(Table1[[#This Row],[Column3]]=\"T1013\",\"Y\",\"N\")","v":"N"},{"$f":"IF(Table1[[#This Row],[Column3]]=90785,\"Y\",\"N\")","v":"N"}]
[null,null,null,null,null,null,null,null,null,null,{"$f":"IF(Table1[[#This Row],[Column3]]=\"T1013\",\"Y\",\"N\")","v":"N"},{"$f":"IF(Table1[[#This Row],[Column3]]=90785,\"Y\",\"N\")","v":"N"}]
[null,null,null,null,null,null,null,null,null,null,{"$f":"IF(Table1[[#This Row],[Column3]]=\"T1013\",\"Y\",\"N\")","v":"N"},{"$f":"IF(Table1[[#This Row],[Column3]]=90785,\"Y\",\"N\")","v":"N"}]
[null,null,null,null,null,null,null,null,null,null,{"$f":"IF(Table1[[#This Row],[Column3]]=\"T1013\",\"Y\",\"N\")","v":"N"},{"$f":"IF(Table1[[#This Row],[Column3]]=90785,\"Y\",\"N\")","v":"N"}]
[null,null,null,null,null,null,null,null,null,null,{"$f":"IF(Table1[[#This Row],[Column3]]=\"T1013\",\"Y\",\"N\")","v":"N"},{"$f":"IF(Table1[[#This Row],[Column3]]=90785,\"Y\",\"N\")","v":"N"}]
[null,null,null,null,null,null,null,null,null,null,{"$f":"IF(Table1[[#This Row],[Column3]]=\"T1013\",\"Y\",\"N\")","v":"N"},{"$f":"IF(Table1[[#This Row],[Column3]]=90785,\"Y\",\"N\")","v":"N"}]
[null,null,null,null,null,null,null,null,null,null,{"$f":"IF(Table1[[#This Row],[Column3]]=\"T1013\",\"Y\",\"N\")","v":"N"},{"$f":"IF(Table1[[#This Row],[Column3]]=90785,\"Y\",\"N\")","v":"N"}]
[null,null,null,null,null,null,null,null,null,null,{"$f":"IF(Table1[[#This Row],[Column3]]=\"T1013\",\"Y\",\"N\")","v":"N"},{"$f":"IF(Table1[[#This Row],[Column3]]=90785,\"Y\",\"N\")","v":"N"}]
[null,null,null,null,null,null,null,null,null,null,{"$f":"IF(Table1[[#This Row],[Column3]]=\"T1013\",\"Y\",\"N\")","v":"N"},{"$f":"IF(Table1[[#This Row],[Column3]]=90785,\"Y\",\"N\")","v":"N"}]
[null,null,null,null,null,null,null,null,null,null,{"$f":"IF(Table1[[#This Row],[Column3]]=\"T1013\",\"Y\",\"N\")","v":"N"},{"$f":"IF(Table1[[#This Row],[Column3]]=90785,\"Y\",\"N\")","v":"N"}]
[null,null,null,null,null,null,null,null,null,null,{"$f":"IF(Table1[[#This Row],[Column3]]=\"T1013\",\"Y\",\"N\")","v":"N"},{"$f":"IF(Table1[[#This Row],[Column3]]=90785,\"Y\",\"N\")","v":"N"}]
[null,null,null,null,null,null,null,null,null,null,{"$f":"IF(Table1[[#This Row],[Column3]]=\"T1013\",\"Y\",\"N\")","v":"N"},{"$f":"IF(Table1[[#This Row],[Column3]]=90785,\"Y\",\"N\")","v":"N"}]
[null,null,null,null,null,null,null,null,null,null,{"$f":"IF(Table1[[#This Row],[Column3]]=\"T1013\",\"Y\",\"N\")","v":"N"},{"$f":"IF(Table1[[#This Row],[Column3]]=90785,\"Y\",\"N\")","v":"N"}]
[null,null,null,null,null,null,null,null,null,null,{"$f":"IF(Table1[[#This Row],[Column3]]=\"T1013\",\"Y\",\"N\")","v":"N"},{"$f":"IF(Table1[[#This Row],[Column3]]=90785,\"Y\",\"N\")","v":"N"}]
[null,null,null,null,null,null,null,null,null,null,{"$f":"IF(Table1[[#This Row],[Column3]]=\"T1013\",\"Y\",\"N\")","v":"N"},{"$f":"IF(Table1[[#This Row],[Column3]]=90785,\"Y\",\"N\")","v":"N"}]
[null,null,null,null,null,null,null,null,null,null,{"$f":"IF(Table1[[#This Row],[Column3]]=\"T1013\",\"Y\",\"N\")","v":"N"},{"$f":"IF(Table1[[#This Row],[Column3]]=90785,\"Y\",\"N\")","v":"N"}]
[null,null,null,null,null,null,null,null,null,null,{"$f":"IF(Table1[[#This Row],[Column3]]=\"T1013\",\"Y\",\"N\")","v":"N"},{"$f":"IF(Table1[[#This Row],[Column3]]=90785,\"Y\",\"N\")","v":"N"}]
[null,null,null,null,null,null,null,null,null,null,{"$f":"IF(Table1[[#This Row],[Column3]]=\"T1013\",\"Y\",\"N\")","v":"N"},{"$f":"IF(Table1[[#This Row],[Column3]]=90785,\"Y\",\"N\")","v":"N"}]
[null,null,null,null,null,null,null,null,null,null,{"$f":"IF(Table1[[#This Row],[Column3]]=\"T1013\",\"Y\",\"N\")","v":"N"},{"$f":"IF(Table1[[#This Row],[Column3]]=90785,\"Y\",\"N\")","v":"N"}]
[null,null,null,null,null,null,null,null,null,null,{"$f":"IF(Table1[[#This Row],[Column3]]=\"T1013\",\"Y\",\"N\")","v":"N"},{"$f":"IF(Table1[[#This Row],[Column3]]=90785,\"Y\",\"N\")","v":"N"}]
[null,null,null,null,null,null,null,null,null,null,{"$f":"IF(Table1[[#This Row],[Column3]]=\"T1013\",\"Y\",\"N\")","v":"N"},{"$f":"IF(Table1[[#This Row],[Column3]]=90785,\"Y\",\"N\")","v":"N"}]
[null,null,null,null,null,null,null,null,null,null,{"$f":"IF(Table1[[#This Row],[Column3]]=\"T1013\",\"Y\",\"N\")","v":"N"},{"$f":"IF(Table1[[#This Row],[Column3]]=90785,\"Y\",\"N\")","v":"N"}]
[null,null,null,null,null,null,null,null,null,null,{"$f":"IF(Table1[[#This Row],[Column3]]=\"T1013\",\"Y\",\"N\")","v":"N"},{"$f":"IF(Table1[[#This Row],[Column3]]=90785,\"Y\",\"N\")","v":"N"}]
[null,null,null,null,null,null,null,null,null,null,{"$f":"IF(Table1[[#This Row],[Column3]]=\"T1013\",\"Y\",\"N\")","v":"N"},{"$f":"IF(Table1[[#This Row],[Column3]]=90785,\"Y\",\"N\")","v":"N"}]
[null,null,null,null,null,null,null,null,null,null,{"$f":"IF(Table1[[#This Row],[Column3]]=\"T1013\",\"Y\",\"N\")","v":"N"},{"$f":"IF(Table1[[#This Row],[Column3]]=90785,\"Y\",\"N\")","v":"N"}]
[null,null,null,null,null,null,null,null,null,null,{"$f":"IF(Table1[[#This Row],[Column3]]=\"T1013\",\"Y\",\"N\")","v":"N"},{"$f":"IF(Table1[[#This Row],[Column3]]=90785,\"Y\",\"N\")","v":"N"}]
[null,null,null,null,null,null,null,null,null,null,{"$f":"IF(Table1[[#This Row],[Column3]]=\"T1013\",\"Y\",\"N\")","v":"N"},{"$f":"IF(Table1[[#This Row],[Column3]]=90785,\"Y\",\"N\")","v":"N"}]
[null,null,null,null,null,null,null,null,null,null,{"$f":"IF(Table1[[#This Row],[Column3]]=\"T1013\",\"Y\",\"N\")","v":"N"},{"$f":"IF(Table1[[#This Row],[Column3]]=90785,\"Y\",\"N\")","v":"N"}]
[null,null,null,null,null,null,null,null,null,null,{"$f":"IF(Table1[[#This Row],[Column3]]=\"T1013\",\"Y\",\"N\")","v":"N"},{"$f":"IF(Table1[[#This Row],[Column3]]=90785,\"Y\",\"N\")","v":"N"}]
[null,null,null,null,null,null,null,null,null,null,{"$f":"IF(Table1[[#This Row],[Column3]]=\"T1013\",\"Y\",\"N\")","v":"N"},{"$f":"IF(Table1[[#This Row],[Column3]]=90785,\"Y\",\"N\")","v":"N"}]
[null,null,null,null,null,null,null,null,null,null,{"$f":"IF(Table1[[#This Row],[Column3]]=\"T1013\",\"Y\",\"N\")","v":"N"},{"$f":"IF(Table1[[#This Row],[Column3]]=90785,\"Y\",\"N\")","v":"N"}]
[null,null,null,null,null,null,null,null,null,null,{"$f":"IF(Table1[[#This Row],[Column3]]=\"T1013\",\"Y\",\"N\")","v":"N"},{"$f":"IF(Table1[[#This Row],[Column3]]=90785,\"Y\",\"N\")","v":"N"}]
[null,null,null,null,null,null,null,null,null,null,{"$f":"IF(Table1[[#This Row],[Column3]]=\"T1013\",\"Y\",\"N\")","v":"N"},{"$f":"IF(Table1[[#This Row],[Column3]]=90785,\"Y\",\"N\")","v":"N"}]
[null,null,null,null,null,null,null,null,null,null,{"$f":"IF(Table1[[#This Row],[Column3]]=\"T1013\",\"Y\",\"N\")","v":"N"},{"$f":"IF(Table1[[#This Row],[Column3]]=90785,\"Y\",\"N\")","v":"N"}]
[null,null,null,null,null,null,null,null,null,null,{"$f":"IF(Table1[[#This Row],[Column3]]=\"T1013\",\"Y\",\"N\")","v":"N"},{"$f":"IF(Table1[[#This Row],[Column3]]=90785,\"Y\",\"N\")","v":"N"}]
[null,null,null,null,null,null,null,null,null,null,{"$f":"IF(Table1[[#This Row],[Column3]]=\"T1013\",\"Y\",\"N\")","v":"N"},{"$f":"IF(Table1[[#This Row],[Column3]]=90785,\"Y\",\"N\")","v":"N"}]
[null,null,null,null,null,null,null,null,null,null,{"$f":"IF(Table1[[#This Row],[Column3]]=\"T1013\",\"Y\",\"N\")","v":"N"},{"$f":"IF(Table1[[#This Row],[Column3]]=90785,\"Y\",\"N\")","v":"N"}]
[null,null,null,null,null,null,null,null,null,null,{"$f":"IF(Table1[[#This Row],[Column3]]=\"T1013\",\"Y\",\"N\")","v":"N"},{"$f":"IF(Table1[[#This Row],[Column3]]=90785,\"Y\",\"N\")","v":"N"}]
[null,null,null,null,null,null,null,null,null,null,{"$f":"IF(Table1[[#This Row],[Column3]]=\"T1013\",\"Y\",\"N\")","v":"N"},{"$f":"IF(Table1[[#This Row],[Column3]]=90785,\"Y\",\"N\")","v":"N"}]
[null,null,null,null,null,null,null,null,null,null,{"$f":"IF(Table1[[#This Row],[Column3]]=\"T1013\",\"Y\",\"N\")","v":"N"},{"$f":"IF(Table1[[#This Row],[Column3]]=90785,\"Y\",\"N\")","v":"N"}]
[null,null,null,null,null,null,null,null,null,null,{"$f":"IF(Table1[[#This Row],[Column3]]=\"T1013\",\"Y\",\"N\")","v":"N"},{"$f":"IF(Table1[[#This Row],[Column3]]=90785,\"Y\",\"N\")","v":"N"}]
[null,null,null,null,null,null,null,null,null,null,{"$f":"IF(Table1[[#This Row],[Column3]]=\"T1013\",\"Y\",\"N\")","v":"N"},{"$f":"IF(Table1[[#This Row],[Column3]]=90785,\"Y\",\"N\")","v":"N"}]
[null,null,null,null,null,null,null,null,null,null,{"$f":"IF(Table1[[#This Row],[Column3]]=\"T1013\",\"Y\",\"N\")","v":"N"},{"$f":"IF(Table1[[#This Row],[Column3]]=90785,\"Y\",\"N\")","v":"N"}]
[null,null,null,null,null,null,null,null,null,null,{"$f":"IF(Table1[[#This Row],[Column3]]=\"T1013\",\"Y\",\"N\")","v":"N"},{"$f":"IF(Table1[[#This Row],[Column3]]=90785,\"Y\",\"N\")","v":"N"}]
[null,null,null,null,null,null,null,null,null,null,{"$f":"IF(Table1[[#This Row],[Column3]]=\"T1013\",\"Y\",\"N\")","v":"N"},{"$f":"IF(Table1[[#This Row],[Column3]]=90785,\"Y\",\"N\")","v":"N"}]
[null,null,null,null,null,null,null,null,null,null,{"$f":"IF(Table1[[#This Row],[Column3]]=\"T1013\",\"Y\",\"N\")","v":"N"},{"$f":"IF(Table1[[#This Row],[Column3]]=90785,\"Y\",\"N\")","v":"N"}]
[null,null,null,null,null,null,null,null,null,null,{"$f":"IF(Table1[[#This Row],[Column3]]=\"T1013\",\"Y\",\"N\")","v":"N"},{"$f":"IF(Table1[[#This Row],[Column3]]=90785,\"Y\",\"N\")","v":"N"}]
[null,null,null,null,null,null,null,null,null,null,{"$f":"IF(Table1[[#This Row],[Column3]]=\"T1013\",\"Y\",\"N\")","v":"N"},{"$f":"IF(Table1[[#This Row],[Column3]]=90785,\"Y\",\"N\")","v":"N"}]
[null,null,null,null,null,null,null,null,null,null,{"$f":"IF(Table1[[#This Row],[Column3]]=\"T1013\",\"Y\",\"N\")","v":"N"},{"$f":"IF(Table1[[#This Row],[Column3]]=90785,\"Y\",\"N\")","v":"N"}]
[null,null,null,null,null,null,null,null,null,null,{"$f":"IF(Table1[[#This Row],[Column3]]=\"T1013\",\"Y\",\"N\")","v":"N"},{"$f":"IF(Table1[[#This Row],[Column3]]=90785,\"Y\",\"N\")","v":"N"}]
[null,null,null,null,null,null,null,null,null,null,{"$f":"IF(Table1[[#This Row],[Column3]]=\"T1013\",\"Y\",\"N\")","v":"N"},{"$f":"IF(Table1[[#This Row],[Column3]]=90785,\"Y\",\"N\")","v":"N"}]
[null,null,null,null,null,null,null,null,null,null,{"$f":"IF(Table1[[#This Row],[Column3]]=\"T1013\",\"Y\",\"N\")","v":"N"},{"$f":"IF(Table1[[#This Row],[Column3]]=90785,\"Y\",\"N\")","v":"N"}]
[null,null,null,null,null,null,null,null,null,null,{"$f":"IF(Table1[[#This Row],[Column3]]=\"T1013\",\"Y\",\"N\")","v":"N"},{"$f":"IF(Table1[[#This Row],[Column3]]=90785,\"Y\",\"N\")","v":"N"}]
[null,null,null,null,null,null,null,null,null,null,{"$f":"IF(Table1[[#This Row],[Column3]]=\"T1013\",\"Y\",\"N\")","v":"N"},{"$f":"IF(Table1[[#This Row],[Column3]]=90785,\"Y\",\"N\")","v":"N"}]
[null,null,null,null,null,null,null,null,null,null,{"$f":"IF(Table1[[#This Row],[Column3]]=\"T1013\",\"Y\",\"N\")","v":"N"},{"$f":"IF(Table1[[#This Row],[Column3]]=90785,\"Y\",\"N\")","v":"N"}]
[null,null,null,null,null,null,null,null,null,null,{"$f":"IF(Table1[[#This Row],[Column3]]=\"T1013\",\"Y\",\"N\")","v":"N"},{"$f":"IF(Table1[[#This Row],[Column3]]=90785,\"Y\",\"N\")","v":"N"}]
[null,null,null,null,null,null,null,null,null,null,{"$f":"IF(Table1[[#This Row],[Column3]]=\"T1013\",\"Y\",\"N\")","v":"N"},{"$f":"IF(Table1[[#This Row],[Column3]]=90785,\"Y\",\"N\")","v":"N"}]
[null,null,null,null,null,null,null,null,null,null,{"$f":"IF(Table1[[#This Row],[Column3]]=\"T1013\",\"Y\",\"N\")","v":"N"},{"$f":"IF(Table1[[#This Row],[Column3]]=90785,\"Y\",\"N\")","v":"N"}]
[null,null,null,null,null,null,null,null,null,null,{"$f":"IF(Table1[[#This Row],[Column3]]=\"T1013\",\"Y\",\"N\")","v":"N"},{"$f":"IF(Table1[[#This Row],[Column3]]=90785,\"Y\",\"N\")","v":"N"}]
[null,null,null,null,null,null,null,null,null,null,{"$f":"IF(Table1[[#This Row],[Column3]]=\"T1013\",\"Y\",\"N\")","v":"N"},{"$f":"IF(Table1[[#This Row],[Column3]]=90785,\"Y\",\"N\")","v":"N"}]
[null,null,null,null,null,null,null,null,null,null,{"$f":"IF(Table1[[#This Row],[Column3]]=\"T1013\",\"Y\",\"N\")","v":"N"},{"$f":"IF(Table1[[#This Row],[Column3]]=90785,\"Y\",\"N\")","v":"N"}]
[null,null,null,null,null,null,null,null,null,null,{"$f":"IF(Table1[[#This Row],[Column3]]=\"T1013\",\"Y\",\"N\")","v":"N"},{"$f":"IF(Table1[[#This Row],[Column3]]=90785,\"Y\",\"N\")","v":"N"}]
[null,null,null,null,null,null,null,null,null,null,{"$f":"IF(Table1[[#This Row],[Column3]]=\"T1013\",\"Y\",\"N\")","v":"N"},{"$f":"IF(Table1[[#This Row],[Column3]]=90785,\"Y\",\"N\")","v":"N"}]
[null,null,null,null,null,null,null,null,null,null,{"$f":"IF(Table1[[#This Row],[Column3]]=\"T1013\",\"Y\",\"N\")","v":"N"},{"$f":"IF(Table1[[#This Row],[Column3]]=90785,\"Y\",\"N\")","v":"N"}]
[null,null,null,null,null,null,null,null,null,null,{"$f":"IF(Table1[[#This Row],[Column3]]=\"T1013\",\"Y\",\"N\")","v":"N"},{"$f":"IF(Table1[[#This Row],[Column3]]=90785,\"Y\",\"N\")","v":"N"}]
[null,null,null,null,null,null,null,null,null,null,{"$f":"IF(Table1[[#This Row],[Column3]]=\"T1013\",\"Y\",\"N\")","v":"N"},{"$f":"IF(Table1[[#This Row],[Column3]]=90785,\"Y\",\"N\")","v":"N"}]
[null,null,null,null,null,null,null,null,null,null,{"$f":"IF(Table1[[#This Row],[Column3]]=\"T1013\",\"Y\",\"N\")","v":"N"},{"$f":"IF(Table1[[#This Row],[Column3]]=90785,\"Y\",\"N\")","v":"N"}]
[null,null,null,null,null,null,null,null,null,null,{"$f":"IF(Table1[[#This Row],[Column3]]=\"T1013\",\"Y\",\"N\")","v":"N"},{"$f":"IF(Table1[[#This Row],[Column3]]=90785,\"Y\",\"N\")","v":"N"}]
[null,null,null,null,null,null,null,null,null,null,{"$f":"IF(Table1[[#This Row],[Column3]]=\"T1013\",\"Y\",\"N\")","v":"N"},{"$f":"IF(Table1[[#This Row],[Column3]]=90785,\"Y\",\"N\")","v":"N"}]
[null,null,null,null,null,null,null,null,null,null,{"$f":"IF(Table1[[#This Row],[Column3]]=\"T1013\",\"Y\",\"N\")","v":"N"},{"$f":"IF(Table1[[#This Row],[Column3]]=90785,\"Y\",\"N\")","v":"N"}]
[null,null,null,null,null,null,null,null,null,null,{"$f":"IF(Table1[[#This Row],[Column3]]=\"T1013\",\"Y\",\"N\")","v":"N"},{"$f":"IF(Table1[[#This Row],[Column3]]=90785,\"Y\",\"N\")","v":"N"}]
[null,null,null,null,null,null,null,null,null,null,{"$f":"IF(Table1[[#This Row],[Column3]]=\"T1013\",\"Y\",\"N\")","v":"N"},{"$f":"IF(Table1[[#This Row],[Column3]]=90785,\"Y\",\"N\")","v":"N"}]
[null,null,null,null,null,null,null,null,null,null,{"$f":"IF(Table1[[#This Row],[Column3]]=\"T1013\",\"Y\",\"N\")","v":"N"},{"$f":"IF(Table1[[#This Row],[Column3]]=90785,\"Y\",\"N\")","v":"N"}]
[null,null,null,null,null,null,null,null,null,null,{"$f":"IF(Table1[[#This Row],[Column3]]=\"T1013\",\"Y\",\"N\")","v":"N"},{"$f":"IF(Table1[[#This Row],[Column3]]=90785,\"Y\",\"N\")","v":"N"}]
[null,null,null,null,null,null,null,null,null,null,{"$f":"IF(Table1[[#This Row],[Column3]]=\"T1013\",\"Y\",\"N\")","v":"N"},{"$f":"IF(Table1[[#This Row],[Column3]]=90785,\"Y\",\"N\")","v":"N"}]
[null,null,null,null,null,null,null,null,null,null,{"$f":"IF(Table1[[#This Row],[Column3]]=\"T1013\",\"Y\",\"N\")","v":"N"},{"$f":"IF(Table1[[#This Row],[Column3]]=90785,\"Y\",\"N\")","v":"N"}]
[null,null,null,null,null,null,null,null,null,null,{"$f":"IF(Table1[[#This Row],[Column3]]=\"T1013\",\"Y\",\"N\")","v":"N"},{"$f":"IF(Table1[[#This Row],[Column3]]=90785,\"Y\",\"N\")","v":"N"}]
[null,null,null,null,null,null,null,null,null,null,{"$f":"IF(Table1[[#This Row],[Column3]]=\"T1013\",\"Y\",\"N\")","v":"N"},{"$f":"IF(Table1[[#This Row],[Column3]]=90785,\"Y\",\"N\")","v":"N"}]
[null,null,null,null,null,null,null,null,null,null,{"$f":"IF(Table1[[#This Row],[Column3]]=\"T1013\",\"Y\",\"N\")","v":"N"},{"$f":"IF(Table1[[#This Row],[Column3]]=90785,\"Y\",\"N\")","v":"N"}]
[null,null,null,null,null,null,null,null,null,null,{"$f":"IF(Table1[[#This Row],[Column3]]=\"T1013\",\"Y\",\"N\")","v":"N"},{"$f":"IF(Table1[[#This Row],[Column3]]=90785,\"Y\",\"N\")","v":"N"}]
[null,null,null,null,null,null,null,null,null,null,{"$f":"IF(Table1[[#This Row],[Column3]]=\"T1013\",\"Y\",\"N\")","v":"N"},{"$f":"IF(Table1[[#This Row],[Column3]]=90785,\"Y\",\"N\")","v":"N"}]
[null,null,null,null,null,null,null,null,null,null,{"$f":"IF(Table1[[#This Row],[Column3]]=\"T1013\",\"Y\",\"N\")","v":"N"},{"$f":"IF(Table1[[#This Row],[Column3]]=90785,\"Y\",\"N\")","v":"N"}]
[null,null,null,null,null,null,null,null,null,null,{"$f":"IF(Table1[[#This Row],[Column3]]=\"T1013\",\"Y\",\"N\")","v":"N"},{"$f":"IF(Table1[[#This Row],[Column3]]=90785,\"Y\",\"N\")","v":"N"}]
[null,null,null,null,null,null,null,null,null,null,{"$f":"IF(Table1[[#This Row],[Column3]]=\"T1013\",\"Y\",\"N\")","v":"N"},{"$f":"IF(Table1[[#This Row],[Column3]]=90785,\"Y\",\"N\")","v":"N"}]
[null,null,null,null,null,null,null,null,null,null,{"$f":"IF(Table1[[#This Row],[Column3]]=\"T1013\",\"Y\",\"N\")","v":"N"},{"$f":"IF(Table1[[#This Row],[Column3]]=90785,\"Y\",\"N\")","v":"N"}]
[null,null,null,null,null,null,null,null,null,null,{"$f":"IF(Table1[[#This Row],[Column3]]=\"T1013\",\"Y\",\"N\")","v":"N"},{"$f":"IF(Table1[[#This Row],[Column3]]=90785,\"Y\",\"N\")","v":"N"}]
[null,null,null,null,null,null,null,null,null,null,{"$f":"IF(Table1[[#This Row],[Column3]]=\"T1013\",\"Y\",\"N\")","v":"N"},{"$f":"IF(Table1[[#This Row],[Column3]]=90785,\"Y\",\"N\")","v":"N"}]
[null,null,null,null,null,null,null,null,null,null,{"$f":"IF(Table1[[#This Row],[Column3]]=\"T1013\",\"Y\",\"N\")","v":"N"},{"$f":"IF(Table1[[#This Row],[Column3]]=90785,\"Y\",\"N\")","v":"N"}]
[null,null,null,null,null,null,null,null,null,null,{"$f":"IF(Table1[[#This Row],[Column3]]=\"T1013\",\"Y\",\"N\")","v":"N"},{"$f":"IF(Table1[[#This Row],[Column3]]=90785,\"Y\",\"N\")","v":"N"}]
[null,null,null,null,null,null,null,null,null,null,{"$f":"IF(Table1[[#This Row],[Column3]]=\"T1013\",\"Y\",\"N\")","v":"N"},{"$f":"IF(Table1[[#This Row],[Column3]]=90785,\"Y\",\"N\")","v":"N"}]
[null,null,null,null,null,null,null,null,null,null,{"$f":"IF(Table1[[#This Row],[Column3]]=\"T1013\",\"Y\",\"N\")","v":"N"},{"$f":"IF(Table1[[#This Row],[Column3]]=90785,\"Y\",\"N\")","v":"N"}]
[null,null,null,null,null,null,null,null,null,null,{"$f":"IF(Table1[[#This Row],[Column3]]=\"T1013\",\"Y\",\"N\")","v":"N"},{"$f":"IF(Table1[[#This Row],[Column3]]=90785,\"Y\",\"N\")","v":"N"}]
[null,null,null,null,null,null,null,null,null,null,{"$f":"IF(Table1[[#This Row],[Column3]]=\"T1013\",\"Y\",\"N\")","v":"N"},{"$f":"IF(Table1[[#This Row],[Column3]]=90785,\"Y\",\"N\")","v":"N"}]
[null,null,null,null,null,null,null,null,null,null,{"$f":"IF(Table1[[#This Row],[Column3]]=\"T1013\",\"Y\",\"N\")","v":"N"},{"$f":"IF(Table1[[#This Row],[Column3]]=90785,\"Y\",\"N\")","v":"N"}]
[null,null,null,null,null,null,null,null,null,null,{"$f":"IF(Table1[[#This Row],[Column3]]=\"T1013\",\"Y\",\"N\")","v":"N"},{"$f":"IF(Table1[[#This Row],[Column3]]=90785,\"Y\",\"N\")","v":"N"}]
[null,null,null,null,null,null,null,null,null,null,{"$f":"IF(Table1[[#This Row],[Column3]]=\"T1013\",\"Y\",\"N\")","v":"N"},{"$f":"IF(Table1[[#This Row],[Column3]]=90785,\"Y\",\"N\")","v":"N"}]
[null,null,null,null,null,null,null,null,null,null,{"$f":"IF(Table1[[#This Row],[Column3]]=\"T1013\",\"Y\",\"N\")","v":"N"},{"$f":"IF(Table1[[#This Row],[Column3]]=90785,\"Y\",\"N\")","v":"N"}]
[null,null,null,null,null,null,null,null,null,null,{"$f":"IF(Table1[[#This Row],[Column3]]=\"T1013\",\"Y\",\"N\")","v":"N"},{"$f":"IF(Table1[[#This Row],[Column3]]=90785,\"Y\",\"N\")","v":"N"}]
[null,null,null,null,null,null,null,null,null,null,{"$f":"IF(Table1[[#This Row],[Column3]]=\"T1013\",\"Y\",\"N\")","v":"N"},{"$f":"IF(Table1[[#This Row],[Column3]]=90785,\"Y\",\"N\")","v":"N"}]
[null,null,null,null,null,null,null,null,null,null,{"$f":"IF(Table1[[#This Row],[Column3]]=\"T1013\",\"Y\",\"N\")","v":"N"},{"$f":"IF(Table1[[#This Row],[Column3]]=90785,\"Y\",\"N\")","v":"N"}]
[null,null,null,null,null,null,null,null,null,null,{"$f":"IF(Table1[[#This Row],[Column3]]=\"T1013\",\"Y\",\"N\")","v":"N"},{"$f":"IF(Table1[[#This Row],[Column3]]=90785,\"Y\",\"N\")","v":"N"}]
[null,null,null,null,null,null,null,null,null,null,{"$f":"IF(Table1[[#This Row],[Column3]]=\"T1013\",\"Y\",\"N\")","v":"N"},{"$f":"IF(Table1[[#This Row],[Column3]]=90785,\"Y\",\"N\")","v":"N"}]
[null,null,null,null,null,null,null,null,null,null,{"$f":"IF(Table1[[#This Row],[Column3]]=\"T1013\",\"Y\",\"N\")","v":"N"},{"$f":"IF(Table1[[#This Row],[Column3]]=90785,\"Y\",\"N\")","v":"N"}]
[null,null,null,null,null,null,null,null,null,null,{"$f":"IF(Table1[[#This Row],[Column3]]=\"T1013\",\"Y\",\"N\")","v":"N"},{"$f":"IF(Table1[[#This Row],[Column3]]=90785,\"Y\",\"N\")","v":"N"}]
[null,null,null,null,null,null,null,null,null,null,{"$f":"IF(Table1[[#This Row],[Column3]]=\"T1013\",\"Y\",\"N\")","v":"N"},{"$f":"IF(Table1[[#This Row],[Column3]]=90785,\"Y\",\"N\")","v":"N"}]
[null,null,null,null,null,null,null,null,null,null,{"$f":"IF(Table1[[#This Row],[Column3]]=\"T1013\",\"Y\",\"N\")","v":"N"},{"$f":"IF(Table1[[#This Row],[Column3]]=90785,\"Y\",\"N\")","v":"N"}]
[null,null,null,null,null,null,null,null,null,null,{"$f":"IF(Table1[[#This Row],[Column3]]=\"T1013\",\"Y\",\"N\")","v":"N"},{"$f":"IF(Table1[[#This Row],[Column3]]=90785,\"Y\",\"N\")","v":"N"}]
[null,null,null,null,null,null,null,null,null,null,{"$f":"IF(Table1[[#This Row],[Column3]]=\"T1013\",\"Y\",\"N\")","v":"N"},{"$f":"IF(Table1[[#This Row],[Column3]]=90785,\"Y\",\"N\")","v":"N"}]
[null,null,null,null,null,null,null,null,null,null,{"$f":"IF(Table1[[#This Row],[Column3]]=\"T1013\",\"Y\",\"N\")","v":"N"},{"$f":"IF(Table1[[#This Row],[Column3]]=90785,\"Y\",\"N\")","v":"N"}]
[null,null,null,null,null,null,null,null,null,null,{"$f":"IF(Table1[[#This Row],[Column3]]=\"T1013\",\"Y\",\"N\")","v":"N"},{"$f":"IF(Table1[[#This Row],[Column3]]=90785,\"Y\",\"N\")","v":"N"}]
[null,null,null,null,null,null,null,null,null,null,{"$f":"IF(Table1[[#This Row],[Column3]]=\"T1013\",\"Y\",\"N\")","v":"N"},{"$f":"IF(Table1[[#This Row],[Column3]]=90785,\"Y\",\"N\")","v":"N"}]
[null,null,null,null,null,null,null,null,null,null,{"$f":"IF(Table1[[#This Row],[Column3]]=\"T1013\",\"Y\",\"N\")","v":"N"},{"$f":"IF(Table1[[#This Row],[Column3]]=90785,\"Y\",\"N\")","v":"N"}]
[null,null,null,null,null,null,null,null,null,null,{"$f":"IF(Table1[[#This Row],[Column3]]=\"T1013\",\"Y\",\"N\")","v":"N"},{"$f":"IF(Table1[[#This Row],[Column3]]=90785,\"Y\",\"N\")","v":"N"}]
[null,null,null,null,null,null,null,null,null,null,{"$f":"IF(Table1[[#This Row],[Column3]]=\"T1013\",\"Y\",\"N\")","v":"N"},{"$f":"IF(Table1[[#This Row],[Column3]]=90785,\"Y\",\"N\")","v":"N"}]
[null,null,null,null,null,null,null,null,null,null,{"$f":"IF(Table1[[#This Row],[Column3]]=\"T1013\",\"Y\",\"N\")","v":"N"},{"$f":"IF(Table1[[#This Row],[Column3]]=90785,\"Y\",\"N\")","v":"N"}]
[null,null,null,null,null,null,null,null,null,null,{"$f":"IF(Table1[[#This Row],[Column3]]=\"T1013\",\"Y\",\"N\")","v":"N"},{"$f":"IF(Table1[[#This Row],[Column3]]=90785,\"Y\",\"N\")","v":"N"}]
[null,null,null,null,null,null,null,null,null,null,{"$f":"IF(Table1[[#This Row],[Column3]]=\"T1013\",\"Y\",\"N\")","v":"N"},{"$f":"IF(Table1[[#This Row],[Column3]]=90785,\"Y\",\"N\")","v":"N"}]
[null,null,null,null,null,null,null,null,null,null,{"$f":"IF(Table1[[#This Row],[Column3]]=\"T1013\",\"Y\",\"N\")","v":"N"},{"$f":"IF(Table1[[#This Row],[Column3]]=90785,\"Y\",\"N\")","v":"N"}]
[null,null,null,null,null,null,null,null,null,null,{"$f":"IF(Table1[[#This Row],[Column3]]=\"T1013\",\"Y\",\"N\")","v":"N"},{"$f":"IF(Table1[[#This Row],[Column3]]=90785,\"Y\",\"N\")","v":"N"}]
[null,null,null,null,null,null,null,null,null,null,{"$f":"IF(Table1[[#This Row],[Column3]]=\"T1013\",\"Y\",\"N\")","v":"N"},{"$f":"IF(Table1[[#This Row],[Column3]]=90785,\"Y\",\"N\")","v":"N"}]
[null,null,null,null,null,null,null,null,null,null,{"$f":"IF(Table1[[#This Row],[Column3]]=\"T1013\",\"Y\",\"N\")","v":"N"},{"$f":"IF(Table1[[#This Row],[Column3]]=90785,\"Y\",\"N\")","v":"N"}]
[null,null,null,null,null,null,null,null,null,null,{"$f":"IF(Table1[[#This Row],[Column3]]=\"T1013\",\"Y\",\"N\")","v":"N"},{"$f":"IF(Table1[[#This Row],[Column3]]=90785,\"Y\",\"N\")","v":"N"}]
[null,null,null,null,null,null,null,null,null,null,{"$f":"IF(Table1[[#This Row],[Column3]]=\"T1013\",\"Y\",\"N\")","v":"N"},{"$f":"IF(Table1[[#This Row],[Column3]]=90785,\"Y\",\"N\")","v":"N"}]
[null,null,null,null,null,null,null,null,null,null,{"$f":"IF(Table1[[#This Row],[Column3]]=\"T1013\",\"Y\",\"N\")","v":"N"},{"$f":"IF(Table1[[#This Row],[Column3]]=90785,\"Y\",\"N\")","v":"N"}]
[null,null,null,null,null,null,null,null,null,null,{"$f":"IF(Table1[[#This Row],[Column3]]=\"T1013\",\"Y\",\"N\")","v":"N"},{"$f":"IF(Table1[[#This Row],[Column3]]=90785,\"Y\",\"N\")","v":"N"}]
[null,null,null,null,null,null,null,null,null,null,{"$f":"IF(Table1[[#This Row],[Column3]]=\"T1013\",\"Y\",\"N\")","v":"N"},{"$f":"IF(Table1[[#This Row],[Column3]]=90785,\"Y\",\"N\")","v":"N"}]
[null,null,null,null,null,null,null,null,null,null,{"$f":"IF(Table1[[#This Row],[Column3]]=\"T1013\",\"Y\",\"N\")","v":"N"},{"$f":"IF(Table1[[#This Row],[Column3]]=90785,\"Y\",\"N\")","v":"N"}]
[null,null,null,null,null,null,null,null,null,null,{"$f":"IF(Table1[[#This Row],[Column3]]=\"T1013\",\"Y\",\"N\")","v":"N"},{"$f":"IF(Table1[[#This Row],[Column3]]=90785,\"Y\",\"N\")","v":"N"}]
[null,null,null,null,null,null,null,null,null,null,{"$f":"IF(Table1[[#This Row],[Column3]]=\"T1013\",\"Y\",\"N\")","v":"N"},{"$f":"IF(Table1[[#This Row],[Column3]]=90785,\"Y\",\"N\")","v":"N"}]
[null,null,null,null,null,null,null,null,null,null,{"$f":"IF(Table1[[#This Row],[Column3]]=\"T1013\",\"Y\",\"N\")","v":"N"},{"$f":"IF(Table1[[#This Row],[Column3]]=90785,\"Y\",\"N\")","v":"N"}]
[null,null,null,null,null,null,null,null,null,null,{"$f":"IF(Table1[[#This Row],[Column3]]=\"T1013\",\"Y\",\"N\")","v":"N"},{"$f":"IF(Table1[[#This Row],[Column3]]=90785,\"Y\",\"N\")","v":"N"}]
[null,null,null,null,null,null,null,null,null,null,{"$f":"IF(Table1[[#This Row],[Column3]]=\"T1013\",\"Y\",\"N\")","v":"N"},{"$f":"IF(Table1[[#This Row],[Column3]]=90785,\"Y\",\"N\")","v":"N"}]
[null,null,null,null,null,null,null,null,null,null,{"$f":"IF(Table1[[#This Row],[Column3]]=\"T1013\",\"Y\",\"N\")","v":"N"},{"$f":"IF(Table1[[#This Row],[Column3]]=90785,\"Y\",\"N\")","v":"N"}]
[null,null,null,null,null,null,null,null,null,null,{"$f":"IF(Table1[[#This Row],[Column3]]=\"T1013\",\"Y\",\"N\")","v":"N"},{"$f":"IF(Table1[[#This Row],[Column3]]=90785,\"Y\",\"N\")","v":"N"}]
[null,null,null,null,null,null,null,null,null,null,{"$f":"IF(Table1[[#This Row],[Column3]]=\"T1013\",\"Y\",\"N\")","v":"N"},{"$f":"IF(Table1[[#This Row],[Column3]]=90785,\"Y\",\"N\")","v":"N"}]
[null,null,null,null,null,null,null,null,null,null,{"$f":"IF(Table1[[#This Row],[Column3]]=\"T1013\",\"Y\",\"N\")","v":"N"},{"$f":"IF(Table1[[#This Row],[Column3]]=90785,\"Y\",\"N\")","v":"N"}]
[null,null,null,null,null,null,null,null,null,null,{"$f":"IF(Table1[[#This Row],[Column3]]=\"T1013\",\"Y\",\"N\")","v":"N"},{"$f":"IF(Table1[[#This Row],[Column3]]=90785,\"Y\",\"N\")","v":"N"}]
[null,null,null,null,null,null,null,null,null,null,{"$f":"IF(Table1[[#This Row],[Column3]]=\"T1013\",\"Y\",\"N\")","v":"N"},{"$f":"IF(Table1[[#This Row],[Column3]]=90785,\"Y\",\"N\")","v":"N"}]
[null,null,null,null,null,null,null,null,null,null,{"$f":"IF(Table1[[#This Row],[Column3]]=\"T1013\",\"Y\",\"N\")","v":"N"},{"$f":"IF(Table1[[#This Row],[Column3]]=90785,\"Y\",\"N\")","v":"N"}]
[null,null,null,null,null,null,null,null,null,null,{"$f":"IF(Table1[[#This Row],[Column3]]=\"T1013\",\"Y\",\"N\")","v":"N"},{"$f":"IF(Table1[[#This Row],[Column3]]=90785,\"Y\",\"N\")","v":"N"}]
[null,null,null,null,null,null,null,null,null,null,{"$f":"IF(Table1[[#This Row],[Column3]]=\"T1013\",\"Y\",\"N\")","v":"N"},{"$f":"IF(Table1[[#This Row],[Column3]]=90785,\"Y\",\"N\")","v":"N"}]
[null,null,null,null,null,null,null,null,null,null,{"$f":"IF(Table1[[#This Row],[Column3]]=\"T1013\",\"Y\",\"N\")","v":"N"},{"$f":"IF(Table1[[#This Row],[Column3]]=90785,\"Y\",\"N\")","v":"N"}]
[null,null,null,null,null,null,null,null,null,null,{"$f":"IF(Table1[[#This Row],[Column3]]=\"T1013\",\"Y\",\"N\")","v":"N"},{"$f":"IF(Table1[[#This Row],[Column3]]=90785,\"Y\",\"N\")","v":"N"}]
[null,null,null,null,null,null,null,null,null,null,{"$f":"IF(Table1[[#This Row],[Column3]]=\"T1013\",\"Y\",\"N\")","v":"N"},{"$f":"IF(Table1[[#This Row],[Column3]]=90785,\"Y\",\"N\")","v":"N"}]
[null,null,null,null,null,null,null,null,null,null,{"$f":"IF(Table1[[#This Row],[Column3]]=\"T1013\",\"Y\",\"N\")","v":"N"},{"$f":"IF(Table1[[#This Row],[Column3]]=90785,\"Y\",\"N\")","v":"N"}]
[null,null,null,null,null,null,null,null,null,null,{"$f":"IF(Table1[[#This Row],[Column3]]=\"T1013\",\"Y\",\"N\")","v":"N"},{"$f":"IF(Table1[[#This Row],[Column3]]=90785,\"Y\",\"N\")","v":"N"}]
[null,null,null,null,null,null,null,null,null,null,{"$f":"IF(Table1[[#This Row],[Column3]]=\"T1013\",\"Y\",\"N\")","v":"N"},{"$f":"IF(Table1[[#This Row],[Column3]]=90785,\"Y\",\"N\")","v":"N"}]
[null,null,null,null,null,null,null,null,null,null,{"$f":"IF(Table1[[#This Row],[Column3]]=\"T1013\",\"Y\",\"N\")","v":"N"},{"$f":"IF(Table1[[#This Row],[Column3]]=90785,\"Y\",\"N\")","v":"N"}]
[null,null,null,null,null,null,null,null,null,null,{"$f":"IF(Table1[[#This Row],[Column3]]=\"T1013\",\"Y\",\"N\")","v":"N"},{"$f":"IF(Table1[[#This Row],[Column3]]=90785,\"Y\",\"N\")","v":"N"}]
[null,null,null,null,null,null,null,null,null,null,{"$f":"IF(Table1[[#This Row],[Column3]]=\"T1013\",\"Y\",\"N\")","v":"N"},{"$f":"IF(Table1[[#This Row],[Column3]]=90785,\"Y\",\"N\")","v":"N"}]
[null,null,null,null,null,null,null,null,null,null,{"$f":"IF(Table1[[#This Row],[Column3]]=\"T1013\",\"Y\",\"N\")","v":"N"},{"$f":"IF(Table1[[#This Row],[Column3]]=90785,\"Y\",\"N\")","v":"N"}]
[null,null,null,null,null,null,null,null,null,null,{"$f":"IF(Table1[[#This Row],[Column3]]=\"T1013\",\"Y\",\"N\")","v":"N"},{"$f":"IF(Table1[[#This Row],[Column3]]=90785,\"Y\",\"N\")","v":"N"}]
[null,null,null,null,null,null,null,null,null,null,{"$f":"IF(Table1[[#This Row],[Column3]]=\"T1013\",\"Y\",\"N\")","v":"N"},{"$f":"IF(Table1[[#This Row],[Column3]]=90785,\"Y\",\"N\")","v":"N"}]
[null,null,null,null,null,null,null,null,null,null,{"$f":"IF(Table1[[#This Row],[Column3]]=\"T1013\",\"Y\",\"N\")","v":"N"},{"$f":"IF(Table1[[#This Row],[Column3]]=90785,\"Y\",\"N\")","v":"N"}]
[null,null,null,null,null,null,null,null,null,null,{"$f":"IF(Table1[[#This Row],[Column3]]=\"T1013\",\"Y\",\"N\")","v":"N"},{"$f":"IF(Table1[[#This Row],[Column3]]=90785,\"Y\",\"N\")","v":"N"}]
[null,null,null,null,null,null,null,null,null,null,{"$f":"IF(Table1[[#This Row],[Column3]]=\"T1013\",\"Y\",\"N\")","v":"N"},{"$f":"IF(Table1[[#This Row],[Column3]]=90785,\"Y\",\"N\")","v":"N"}]
[null,null,null,null,null,null,null,null,null,null,{"$f":"IF(Table1[[#This Row],[Column3]]=\"T1013\",\"Y\",\"N\")","v":"N"},{"$f":"IF(Table1[[#This Row],[Column3]]=90785,\"Y\",\"N\")","v":"N"}]
[null,null,null,null,null,null,null,null,null,null,{"$f":"IF(Table1[[#This Row],[Column3]]=\"T1013\",\"Y\",\"N\")","v":"N"},{"$f":"IF(Table1[[#This Row],[Column3]]=90785,\"Y\",\"N\")","v":"N"}]
[null,null,null,null,null,null,null,null,null,null,{"$f":"IF(Table1[[#This Row],[Column3]]=\"T1013\",\"Y\",\"N\")","v":"N"},{"$f":"IF(Table1[[#This Row],[Column3]]=90785,\"Y\",\"N\")","v":"N"}]
[null,null,null,null,null,null,null,null,null,null,{"$f":"IF(Table1[[#This Row],[Column3]]=\"T1013\",\"Y\",\"N\")","v":"N"},{"$f":"IF(Table1[[#This Row],[Column3]]=90785,\"Y\",\"N\")","v":"N"}]
[null,null,null,null,null,null,null,null,null,null,{"$f":"IF(Table1[[#This Row],[Column3]]=\"T1013\",\"Y\",\"N\")","v":"N"},{"$f":"IF(Table1[[#This Row],[Column3]]=90785,\"Y\",\"N\")","v":"N"}]
[null,null,null,null,null,null,null,null,null,null,{"$f":"IF(Table1[[#This Row],[Column3]]=\"T1013\",\"Y\",\"N\")","v":"N"},{"$f":"IF(Table1[[#This Row],[Column3]]=90785,\"Y\",\"N\")","v":"N"}]
[null,null,null,null,null,null,null,null,null,null,{"$f":"IF(Table1[[#This Row],[Column3]]=\"T1013\",\"Y\",\"N\")","v":"N"},{"$f":"IF(Table1[[#This Row],[Column3]]=90785,\"Y\",\"N\")","v":"N"}]
[null,null,null,null,null,null,null,null,null,null,{"$f":"IF(Table1[[#This Row],[Column3]]=\"T1013\",\"Y\",\"N\")","v":"N"},{"$f":"IF(Table1[[#This Row],[Column3]]=90785,\"Y\",\"N\")","v":"N"}]
[null,null,null,null,null,null,null,null,null,null,{"$f":"IF(Table1[[#This Row],[Column3]]=\"T1013\",\"Y\",\"N\")","v":"N"},{"$f":"IF(Table1[[#This Row],[Column3]]=90785,\"Y\",\"N\")","v":"N"}]
[null,null,null,null,null,null,null,null,null,null,{"$f":"IF(Table1[[#This Row],[Column3]]=\"T1013\",\"Y\",\"N\")","v":"N"},{"$f":"IF(Table1[[#This Row],[Column3]]=90785,\"Y\",\"N\")","v":"N"}]
[null,null,null,null,null,null,null,null,null,null,{"$f":"IF(Table1[[#This Row],[Column3]]=\"T1013\",\"Y\",\"N\")","v":"N"},{"$f":"IF(Table1[[#This Row],[Column3]]=90785,\"Y\",\"N\")","v":"N"}]
[null,null,null,null,null,null,null,null,null,null,{"$f":"IF(Table1[[#This Row],[Column3]]=\"T1013\",\"Y\",\"N\")","v":"N"},{"$f":"IF(Table1[[#This Row],[Column3]]=90785,\"Y\",\"N\")","v":"N"}]
[null,null,null,null,null,null,null,null,null,null,{"$f":"IF(Table1[[#This Row],[Column3]]=\"T1013\",\"Y\",\"N\")","v":"N"},{"$f":"IF(Table1[[#This Row],[Column3]]=90785,\"Y\",\"N\")","v":"N"}]
[null,null,null,null,null,null,null,null,null,null,{"$f":"IF(Table1[[#This Row],[Column3]]=\"T1013\",\"Y\",\"N\")","v":"N"},{"$f":"IF(Table1[[#This Row],[Column3]]=90785,\"Y\",\"N\")","v":"N"}]
[null,null,null,null,null,null,null,null,null,null,{"$f":"IF(Table1[[#This Row],[Column3]]=\"T1013\",\"Y\",\"N\")","v":"N"},{"$f":"IF(Table1[[#This Row],[Column3]]=90785,\"Y\",\"N\")","v":"N"}]
[null,null,null,null,null,null,null,null,null,null,{"$f":"IF(Table1[[#This Row],[Column3]]=\"T1013\",\"Y\",\"N\")","v":"N"},{"$f":"IF(Table1[[#This Row],[Column3]]=90785,\"Y\",\"N\")","v":"N"}]
[null,null,null,null,null,null,null,null,null,null,{"$f":"IF(Table1[[#This Row],[Column3]]=\"T1013\",\"Y\",\"N\")","v":"N"},{"$f":"IF(Table1[[#This Row],[Column3]]=90785,\"Y\",\"N\")","v":"N"}]
[null,null,null,null,null,null,null,null,null,null,{"$f":"IF(Table1[[#This Row],[Column3]]=\"T1013\",\"Y\",\"N\")","v":"N"},{"$f":"IF(Table1[[#This Row],[Column3]]=90785,\"Y\",\"N\")","v":"N"}]
[null,null,null,null,null,null,null,null,null,null,{"$f":"IF(Table1[[#This Row],[Column3]]=\"T1013\",\"Y\",\"N\")","v":"N"},{"$f":"IF(Table1[[#This Row],[Column3]]=90785,\"Y\",\"N\")","v":"N"}]
[null,null,null,null,null,null,null,null,null,null,{"$f":"IF(Table1[[#This Row],[Column3]]=\"T1013\",\"Y\",\"N\")","v":"N"},{"$f":"IF(Table1[[#This Row],[Column3]]=90785,\"Y\",\"N\")","v":"N"}]
[null,null,null,null,null,null,null,null,null,null,{"$f":"IF(Table1[[#This Row],[Column3]]=\"T1013\",\"Y\",\"N\")","v":"N"},{"$f":"IF(Table1[[#This Row],[Column3]]=90785,\"Y\",\"N\")","v":"N"}]
[null,null,null,null,null,null,null,null,null,null,{"$f":"IF(Table1[[#This Row],[Column3]]=\"T1013\",\"Y\",\"N\")","v":"N"},{"$f":"IF(Table1[[#This Row],[Column3]]=90785,\"Y\",\"N\")","v":"N"}]
[null,null,null,null,null,null,null,null,null,null,{"$f":"IF(Table1[[#This Row],[Column3]]=\"T1013\",\"Y\",\"N\")","v":"N"},{"$f":"IF(Table1[[#This Row],[Column3]]=90785,\"Y\",\"N\")","v":"N"}]
[null,null,null,null,null,null,null,null,null,null,{"$f":"IF(Table1[[#This Row],[Column3]]=\"T1013\",\"Y\",\"N\")","v":"N"},{"$f":"IF(Table1[[#This Row],[Column3]]=90785,\"Y\",\"N\")","v":"N"}]
[null,null,null,null,null,null,null,null,null,null,{"$f":"IF(Table1[[#This Row],[Column3]]=\"T1013\",\"Y\",\"N\")","v":"N"},{"$f":"IF(Table1[[#This Row],[Column3]]=90785,\"Y\",\"N\")","v":"N"}]
[null,null,null,null,null,null,null,null,null,null,{"$f":"IF(Table1[[#This Row],[Column3]]=\"T1013\",\"Y\",\"N\")","v":"N"},{"$f":"IF(Table1[[#This Row],[Column3]]=90785,\"Y\",\"N\")","v":"N"}]
[null,null,null,null,null,null,null,null,null,null,{"$f":"IF(Table1[[#This Row],[Column3]]=\"T1013\",\"Y\",\"N\")","v":"N"},{"$f":"IF(Table1[[#This Row],[Column3]]=90785,\"Y\",\"N\")","v":"N"}]
[null,null,null,null,null,null,null,null,null,null,{"$f":"IF(Table1[[#This Row],[Column3]]=\"T1013\",\"Y\",\"N\")","v":"N"},{"$f":"IF(Table1[[#This Row],[Column3]]=90785,\"Y\",\"N\")","v":"N"}]
[null,null,null,null,null,null,null,null,null,null,{"$f":"IF(Table1[[#This Row],[Column3]]=\"T1013\",\"Y\",\"N\")","v":"N"},{"$f":"IF(Table1[[#This Row],[Column3]]=90785,\"Y\",\"N\")","v":"N"}]
[null,null,null,null,null,null,null,null,null,null,{"$f":"IF(Table1[[#This Row],[Column3]]=\"T1013\",\"Y\",\"N\")","v":"N"},{"$f":"IF(Table1[[#This Row],[Column3]]=90785,\"Y\",\"N\")","v":"N"}]
[null,null,null,null,null,null,null,null,null,null,{"$f":"IF(Table1[[#This Row],[Column3]]=\"T1013\",\"Y\",\"N\")","v":"N"},{"$f":"IF(Table1[[#This Row],[Column3]]=90785,\"Y\",\"N\")","v":"N"}]
[null,null,null,null,null,null,null,null,null,null,{"$f":"IF(Table1[[#This Row],[Column3]]=\"T1013\",\"Y\",\"N\")","v":"N"},{"$f":"IF(Table1[[#This Row],[Column3]]=90785,\"Y\",\"N\")","v":"N"}]
[null,null,null,null,null,null,null,null,null,null,{"$f":"IF(Table1[[#This Row],[Column3]]=\"T1013\",\"Y\",\"N\")","v":"N"},{"$f":"IF(Table1[[#This Row],[Column3]]=90785,\"Y\",\"N\")","v":"N"}]
[null,null,null,null,null,null,null,null,null,null,{"$f":"IF(Table1[[#This Row],[Column3]]=\"T1013\",\"Y\",\"N\")","v":"N"},{"$f":"IF(Table1[[#This Row],[Column3]]=90785,\"Y\",\"N\")","v":"N"}]
[null,null,null,null,null,null,null,null,null,null,{"$f":"IF(Table1[[#This Row],[Column3]]=\"T1013\",\"Y\",\"N\")","v":"N"},{"$f":"IF(Table1[[#This Row],[Column3]]=90785,\"Y\",\"N\")","v":"N"}]
[null,null,null,null,null,null,null,null,null,null,{"$f":"IF(Table1[[#This Row],[Column3]]=\"T1013\",\"Y\",\"N\")","v":"N"},{"$f":"IF(Table1[[#This Row],[Column3]]=90785,\"Y\",\"N\")","v":"N"}]
[null,null,null,null,null,null,null,null,null,null,{"$f":"IF(Table1[[#This Row],[Column3]]=\"T1013\",\"Y\",\"N\")","v":"N"},{"$f":"IF(Table1[[#This Row],[Column3]]=90785,\"Y\",\"N\")","v":"N"}]
[null,null,null,null,null,null,null,null,null,null,{"$f":"IF(Table1[[#This Row],[Column3]]=\"T1013\",\"Y\",\"N\")","v":"N"},{"$f":"IF(Table1[[#This Row],[Column3]]=90785,\"Y\",\"N\")","v":"N"}]
[null,null,null,null,null,null,null,null,null,null,{"$f":"IF(Table1[[#This Row],[Column3]]=\"T1013\",\"Y\",\"N\")","v":"N"},{"$f":"IF(Table1[[#This Row],[Column3]]=90785,\"Y\",\"N\")","v":"N"}]
[null,null,null,null,null,null,null,null,null,null,{"$f":"IF(Table1[[#This Row],[Column3]]=\"T1013\",\"Y\",\"N\")","v":"N"},{"$f":"IF(Table1[[#This Row],[Column3]]=90785,\"Y\",\"N\")","v":"N"}]
[null,null,null,null,null,null,null,null,null,null,{"$f":"IF(Table1[[#This Row],[Column3]]=\"T1013\",\"Y\",\"N\")","v":"N"},{"$f":"IF(Table1[[#This Row],[Column3]]=90785,\"Y\",\"N\")","v":"N"}]
[null,null,null,null,null,null,null,null,null,null,{"$f":"IF(Table1[[#This Row],[Column3]]=\"T1013\",\"Y\",\"N\")","v":"N"},{"$f":"IF(Table1[[#This Row],[Column3]]=90785,\"Y\",\"N\")","v":"N"}]
[null,null,null,null,null,null,null,null,null,null,{"$f":"IF(Table1[[#This Row],[Column3]]=\"T1013\",\"Y\",\"N\")","v":"N"},{"$f":"IF(Table1[[#This Row],[Column3]]=90785,\"Y\",\"N\")","v":"N"}]
[null,null,null,null,null,null,null,null,null,null,{"$f":"IF(Table1[[#This Row],[Column3]]=\"T1013\",\"Y\",\"N\")","v":"N"},{"$f":"IF(Table1[[#This Row],[Column3]]=90785,\"Y\",\"N\")","v":"N"}]
[null,null,null,null,null,null,null,null,null,null,{"$f":"IF(Table1[[#This Row],[Column3]]=\"T1013\",\"Y\",\"N\")","v":"N"},{"$f":"IF(Table1[[#This Row],[Column3]]=90785,\"Y\",\"N\")","v":"N"}]
[null,null,null,null,null,null,null,null,null,null,{"$f":"IF(Table1[[#This Row],[Column3]]=\"T1013\",\"Y\",\"N\")","v":"N"},{"$f":"IF(Table1[[#This Row],[Column3]]=90785,\"Y\",\"N\")","v":"N"}]
[null,null,null,null,null,null,null,null,null,null,{"$f":"IF(Table1[[#This Row],[Column3]]=\"T1013\",\"Y\",\"N\")","v":"N"},{"$f":"IF(Table1[[#This Row],[Column3]]=90785,\"Y\",\"N\")","v":"N"}]
[null,null,null,null,null,null,null,null,null,null,{"$f":"IF(Table1[[#This Row],[Column3]]=\"T1013\",\"Y\",\"N\")","v":"N"},{"$f":"IF(Table1[[#This Row],[Column3]]=90785,\"Y\",\"N\")","v":"N"}]
[null,null,null,null,null,null,null,null,null,null,{"$f":"IF(Table1[[#This Row],[Column3]]=\"T1013\",\"Y\",\"N\")","v":"N"},{"$f":"IF(Table1[[#This Row],[Column3]]=90785,\"Y\",\"N\")","v":"N"}]
[null,null,null,null,null,null,null,null,null,null,{"$f":"IF(Table1[[#This Row],[Column3]]=\"T1013\",\"Y\",\"N\")","v":"N"},{"$f":"IF(Table1[[#This Row],[Column3]]=90785,\"Y\",\"N\")","v":"N"}]
[null,null,null,null,null,null,null,null,null,null,{"$f":"IF(Table1[[#This Row],[Column3]]=\"T1013\",\"Y\",\"N\")","v":"N"},{"$f":"IF(Table1[[#This Row],[Column3]]=90785,\"Y\",\"N\")","v":"N"}]
[null,null,null,null,null,null,null,null,null,null,{"$f":"IF(Table1[[#This Row],[Column3]]=\"T1013\",\"Y\",\"N\")","v":"N"},{"$f":"IF(Table1[[#This Row],[Column3]]=90785,\"Y\",\"N\")","v":"N"}]
[null,null,null,null,null,null,null,null,null,null,{"$f":"IF(Table1[[#This Row],[Column3]]=\"T1013\",\"Y\",\"N\")","v":"N"},{"$f":"IF(Table1[[#This Row],[Column3]]=90785,\"Y\",\"N\")","v":"N"}]
[null,null,null,null,null,null,null,null,null,null,{"$f":"IF(Table1[[#This Row],[Column3]]=\"T1013\",\"Y\",\"N\")","v":"N"},{"$f":"IF(Table1[[#This Row],[Column3]]=90785,\"Y\",\"N\")","v":"N"}]
[null,null,null,null,null,null,null,null,null,null,{"$f":"IF(Table1[[#This Row],[Column3]]=\"T1013\",\"Y\",\"N\")","v":"N"},{"$f":"IF(Table1[[#This Row],[Column3]]=90785,\"Y\",\"N\")","v":"N"}]
[null,null,null,null,null,null,null,null,null,null,{"$f":"IF(Table1[[#This Row],[Column3]]=\"T1013\",\"Y\",\"N\")","v":"N"},{"$f":"IF(Table1[[#This Row],[Column3]]=90785,\"Y\",\"N\")","v":"N"}]
[null,null,null,null,null,null,null,null,null,null,{"$f":"IF(Table1[[#This Row],[Column3]]=\"T1013\",\"Y\",\"N\")","v":"N"},{"$f":"IF(Table1[[#This Row],[Column3]]=90785,\"Y\",\"N\")","v":"N"}]
[null,null,null,null,null,null,null,null,null,null,{"$f":"IF(Table1[[#This Row],[Column3]]=\"T1013\",\"Y\",\"N\")","v":"N"},{"$f":"IF(Table1[[#This Row],[Column3]]=90785,\"Y\",\"N\")","v":"N"}]
[null,null,null,null,null,null,null,null,null,null,{"$f":"IF(Table1[[#This Row],[Column3]]=\"T1013\",\"Y\",\"N\")","v":"N"},{"$f":"IF(Table1[[#This Row],[Column3]]=90785,\"Y\",\"N\")","v":"N"}]
[null,null,null,null,null,null,null,null,null,null,{"$f":"IF(Table1[[#This Row],[Column3]]=\"T1013\",\"Y\",\"N\")","v":"N"},{"$f":"IF(Table1[[#This Row],[Column3]]=90785,\"Y\",\"N\")","v":"N"}]
[null,null,null,null,null,null,null,null,null,null,{"$f":"IF(Table1[[#This Row],[Column3]]=\"T1013\",\"Y\",\"N\")","v":"N"},{"$f":"IF(Table1[[#This Row],[Column3]]=90785,\"Y\",\"N\")","v":"N"}]
[null,null,null,null,null,null,null,null,null,null,{"$f":"IF(Table1[[#This Row],[Column3]]=\"T1013\",\"Y\",\"N\")","v":"N"},{"$f":"IF(Table1[[#This Row],[Column3]]=90785,\"Y\",\"N\")","v":"N"}]
[null,null,null,null,null,null,null,null,null,null,{"$f":"IF(Table1[[#This Row],[Column3]]=\"T1013\",\"Y\",\"N\")","v":"N"},{"$f":"IF(Table1[[#This Row],[Column3]]=90785,\"Y\",\"N\")","v":"N"}]
[null,null,null,null,null,null,null,null,null,null,{"$f":"IF(Table1[[#This Row],[Column3]]=\"T1013\",\"Y\",\"N\")","v":"N"},{"$f":"IF(Table1[[#This Row],[Column3]]=90785,\"Y\",\"N\")","v":"N"}]
[null,null,null,null,null,null,null,null,null,null,{"$f":"IF(Table1[[#This Row],[Column3]]=\"T1013\",\"Y\",\"N\")","v":"N"},{"$f":"IF(Table1[[#This Row],[Column3]]=90785,\"Y\",\"N\")","v":"N"}]
[null,null,null,null,null,null,null,null,null,null,{"$f":"IF(Table1[[#This Row],[Column3]]=\"T1013\",\"Y\",\"N\")","v":"N"},{"$f":"IF(Table1[[#This Row],[Column3]]=90785,\"Y\",\"N\")","v":"N"}]
[null,null,null,null,null,null,null,null,null,null,{"$f":"IF(Table1[[#This Row],[Column3]]=\"T1013\",\"Y\",\"N\")","v":"N"},{"$f":"IF(Table1[[#This Row],[Column3]]=90785,\"Y\",\"N\")","v":"N"}]
[null,null,null,null,null,null,null,null,null,null,{"$f":"IF(Table1[[#This Row],[Column3]]=\"T1013\",\"Y\",\"N\")","v":"N"},{"$f":"IF(Table1[[#This Row],[Column3]]=90785,\"Y\",\"N\")","v":"N"}]
[null,null,null,null,null,null,null,null,null,null,{"$f":"IF(Table1[[#This Row],[Column3]]=\"T1013\",\"Y\",\"N\")","v":"N"},{"$f":"IF(Table1[[#This Row],[Column3]]=90785,\"Y\",\"N\")","v":"N"}]
[null,null,null,null,null,null,null,null,null,null,{"$f":"IF(Table1[[#This Row],[Column3]]=\"T1013\",\"Y\",\"N\")","v":"N"},{"$f":"IF(Table1[[#This Row],[Column3]]=90785,\"Y\",\"N\")","v":"N"}]
[null,null,null,null,null,null,null,null,null,null,{"$f":"IF(Table1[[#This Row],[Column3]]=\"T1013\",\"Y\",\"N\")","v":"N"},{"$f":"IF(Table1[[#This Row],[Column3]]=90785,\"Y\",\"N\")","v":"N"}]
[null,null,null,null,null,null,null,null,null,null,{"$f":"IF(Table1[[#This Row],[Column3]]=\"T1013\",\"Y\",\"N\")","v":"N"},{"$f":"IF(Table1[[#This Row],[Column3]]=90785,\"Y\",\"N\")","v":"N"}]
[null,null,null,null,null,null,null,null,null,null,{"$f":"IF(Table1[[#This Row],[Column3]]=\"T1013\",\"Y\",\"N\")","v":"N"},{"$f":"IF(Table1[[#This Row],[Column3]]=90785,\"Y\",\"N\")","v":"N"}]
[null,null,null,null,null,null,null,null,null,null,{"$f":"IF(Table1[[#This Row],[Column3]]=\"T1013\",\"Y\",\"N\")","v":"N"},{"$f":"IF(Table1[[#This Row],[Column3]]=90785,\"Y\",\"N\")","v":"N"}]
[null,null,null,null,null,null,null,null,null,null,{"$f":"IF(Table1[[#This Row],[Column3]]=\"T1013\",\"Y\",\"N\")","v":"N"},{"$f":"IF(Table1[[#This Row],[Column3]]=90785,\"Y\",\"N\")","v":"N"}]
[null,null,null,null,null,null,null,null,null,null,{"$f":"IF(Table1[[#This Row],[Column3]]=\"T1013\",\"Y\",\"N\")","v":"N"},{"$f":"IF(Table1[[#This Row],[Column3]]=90785,\"Y\",\"N\")","v":"N"}]
[null,null,null,null,null,null,null,null,null,null,{"$f":"IF(Table1[[#This Row],[Column3]]=\"T1013\",\"Y\",\"N\")","v":"N"},{"$f":"IF(Table1[[#This Row],[Column3]]=90785,\"Y\",\"N\")","v":"N"}]
[null,null,null,null,null,null,null,null,null,null,{"$f":"IF(Table1[[#This Row],[Column3]]=\"T1013\",\"Y\",\"N\")","v":"N"},{"$f":"IF(Table1[[#This Row],[Column3]]=90785,\"Y\",\"N\")","v":"N"}]
[null,null,null,null,null,null,null,null,null,null,{"$f":"IF(Table1[[#This Row],[Column3]]=\"T1013\",\"Y\",\"N\")","v":"N"},{"$f":"IF(Table1[[#This Row],[Column3]]=90785,\"Y\",\"N\")","v":"N"}]
[null,null,null,null,null,null,null,null,null,null,{"$f":"IF(Table1[[#This Row],[Column3]]=\"T1013\",\"Y\",\"N\")","v":"N"},{"$f":"IF(Table1[[#This Row],[Column3]]=90785,\"Y\",\"N\")","v":"N"}]
[null,null,null,null,null,null,null,null,null,null,{"$f":"IF(Table1[[#This Row],[Column3]]=\"T1013\",\"Y\",\"N\")","v":"N"},{"$f":"IF(Table1[[#This Row],[Column3]]=90785,\"Y\",\"N\")","v":"N"}]
[null,null,null,null,null,null,null,null,null,null,{"$f":"IF(Table1[[#This Row],[Column3]]=\"T1013\",\"Y\",\"N\")","v":"N"},{"$f":"IF(Table1[[#This Row],[Column3]]=90785,\"Y\",\"N\")","v":"N"}]
[null,null,null,null,null,null,null,null,null,null,{"$f":"IF(Table1[[#This Row],[Column3]]=\"T1013\",\"Y\",\"N\")","v":"N"},{"$f":"IF(Table1[[#This Row],[Column3]]=90785,\"Y\",\"N\")","v":"N"}]
[null,null,null,null,null,null,null,null,null,null,{"$f":"IF(Table1[[#This Row],[Column3]]=\"T1013\",\"Y\",\"N\")","v":"N"},{"$f":"IF(Table1[[#This Row],[Column3]]=90785,\"Y\",\"N\")","v":"N"}]
[null,null,null,null,null,null,null,null,null,null,{"$f":"IF(Table1[[#This Row],[Column3]]=\"T1013\",\"Y\",\"N\")","v":"N"},{"$f":"IF(Table1[[#This Row],[Column3]]=90785,\"Y\",\"N\")","v":"N"}]
[null,null,null,null,null,null,null,null,null,null,{"$f":"IF(Table1[[#This Row],[Column3]]=\"T1013\",\"Y\",\"N\")","v":"N"},{"$f":"IF(Table1[[#This Row],[Column3]]=90785,\"Y\",\"N\")","v":"N"}]
[null,null,null,null,null,null,null,null,null,null,{"$f":"IF(Table1[[#This Row],[Column3]]=\"T1013\",\"Y\",\"N\")","v":"N"},{"$f":"IF(Table1[[#This Row],[Column3]]=90785,\"Y\",\"N\")","v":"N"}]
[null,null,null,null,null,null,null,null,null,null,{"$f":"IF(Table1[[#This Row],[Column3]]=\"T1013\",\"Y\",\"N\")","v":"N"},{"$f":"IF(Table1[[#This Row],[Column3]]=90785,\"Y\",\"N\")","v":"N"}]
[null,null,null,null,null,null,null,null,null,null,{"$f":"IF(Table1[[#This Row],[Column3]]=\"T1013\",\"Y\",\"N\")","v":"N"},{"$f":"IF(Table1[[#This Row],[Column3]]=90785,\"Y\",\"N\")","v":"N"}]
[null,null,null,null,null,null,null,null,null,null,{"$f":"IF(Table1[[#This Row],[Column3]]=\"T1013\",\"Y\",\"N\")","v":"N"},{"$f":"IF(Table1[[#This Row],[Column3]]=90785,\"Y\",\"N\")","v":"N"}]
[null,null,null,null,null,null,null,null,null,null,{"$f":"IF(Table1[[#This Row],[Column3]]=\"T1013\",\"Y\",\"N\")","v":"N"},{"$f":"IF(Table1[[#This Row],[Column3]]=90785,\"Y\",\"N\")","v":"N"}]
[null,null,null,null,null,null,null,null,null,null,{"$f":"IF(Table1[[#This Row],[Column3]]=\"T1013\",\"Y\",\"N\")","v":"N"},{"$f":"IF(Table1[[#This Row],[Column3]]=90785,\"Y\",\"N\")","v":"N"}]
[null,null,null,null,null,null,null,null,null,null,{"$f":"IF(Table1[[#This Row],[Column3]]=\"T1013\",\"Y\",\"N\")","v":"N"},{"$f":"IF(Table1[[#This Row],[Column3]]=90785,\"Y\",\"N\")","v":"N"}]
[null,null,null,null,null,null,null,null,null,null,{"$f":"IF(Table1[[#This Row],[Column3]]=\"T1013\",\"Y\",\"N\")","v":"N"},{"$f":"IF(Table1[[#This Row],[Column3]]=90785,\"Y\",\"N\")","v":"N"}]
[null,null,null,null,null,null,null,null,null,null,{"$f":"IF(Table1[[#This Row],[Column3]]=\"T1013\",\"Y\",\"N\")","v":"N"},{"$f":"IF(Table1[[#This Row],[Column3]]=90785,\"Y\",\"N\")","v":"N"}]
[null,null,null,null,null,null,null,null,null,null,{"$f":"IF(Table1[[#This Row],[Column3]]=\"T1013\",\"Y\",\"N\")","v":"N"},{"$f":"IF(Table1[[#This Row],[Column3]]=90785,\"Y\",\"N\")","v":"N"}]
[null,null,null,null,null,null,null,null,null,null,{"$f":"IF(Table1[[#This Row],[Column3]]=\"T1013\",\"Y\",\"N\")","v":"N"},{"$f":"IF(Table1[[#This Row],[Column3]]=90785,\"Y\",\"N\")","v":"N"}]
[null,null,null,null,null,null,null,null,null,null,{"$f":"IF(Table1[[#This Row],[Column3]]=\"T1013\",\"Y\",\"N\")","v":"N"},{"$f":"IF(Table1[[#This Row],[Column3]]=90785,\"Y\",\"N\")","v":"N"}]
[null,null,null,null,null,null,null,null,null,null,{"$f":"IF(Table1[[#This Row],[Column3]]=\"T1013\",\"Y\",\"N\")","v":"N"},{"$f":"IF(Table1[[#This Row],[Column3]]=90785,\"Y\",\"N\")","v":"N"}]
[null,null,null,null,null,null,null,null,null,null,{"$f":"IF(Table1[[#This Row],[Column3]]=\"T1013\",\"Y\",\"N\")","v":"N"},{"$f":"IF(Table1[[#This Row],[Column3]]=90785,\"Y\",\"N\")","v":"N"}]
[null,null,null,null,null,null,null,null,null,null,{"$f":"IF(Table1[[#This Row],[Column3]]=\"T1013\",\"Y\",\"N\")","v":"N"},{"$f":"IF(Table1[[#This Row],[Column3]]=90785,\"Y\",\"N\")","v":"N"}]
[null,null,null,null,null,null,null,null,null,null,{"$f":"IF(Table1[[#This Row],[Column3]]=\"T1013\",\"Y\",\"N\")","v":"N"},{"$f":"IF(Table1[[#This Row],[Column3]]=90785,\"Y\",\"N\")","v":"N"}]
[null,null,null,null,null,null,null,null,null,null,{"$f":"IF(Table1[[#This Row],[Column3]]=\"T1013\",\"Y\",\"N\")","v":"N"},{"$f":"IF(Table1[[#This Row],[Column3]]=90785,\"Y\",\"N\")","v":"N"}]
[null,null,null,null,null,null,null,null,null,null,{"$f":"IF(Table1[[#This Row],[Column3]]=\"T1013\",\"Y\",\"N\")","v":"N"},{"$f":"IF(Table1[[#This Row],[Column3]]=90785,\"Y\",\"N\")","v":"N"}]
[null,null,null,null,null,null,null,null,null,null,{"$f":"IF(Table1[[#This Row],[Column3]]=\"T1013\",\"Y\",\"N\")","v":"N"},{"$f":"IF(Table1[[#This Row],[Column3]]=90785,\"Y\",\"N\")","v":"N"}]
[null,null,null,null,null,null,null,null,null,null,{"$f":"IF(Table1[[#This Row],[Column3]]=\"T1013\",\"Y\",\"N\")","v":"N"},{"$f":"IF(Table1[[#This Row],[Column3]]=90785,\"Y\",\"N\")","v":"N"}]
[null,null,null,null,null,null,null,null,null,null,{"$f":"IF(Table1[[#This Row],[Column3]]=\"T1013\",\"Y\",\"N\")","v":"N"},{"$f":"IF(Table1[[#This Row],[Column3]]=90785,\"Y\",\"N\")","v":"N"}]
[null,null,null,null,null,null,null,null,null,null,{"$f":"IF(Table1[[#This Row],[Column3]]=\"T1013\",\"Y\",\"N\")","v":"N"},{"$f":"IF(Table1[[#This Row],[Column3]]=90785,\"Y\",\"N\")","v":"N"}]
[null,null,null,null,null,null,null,null,null,null,{"$f":"IF(Table1[[#This Row],[Column3]]=\"T1013\",\"Y\",\"N\")","v":"N"},{"$f":"IF(Table1[[#This Row],[Column3]]=90785,\"Y\",\"N\")","v":"N"}]
[null,null,null,null,null,null,null,null,null,null,{"$f":"IF(Table1[[#This Row],[Column3]]=\"T1013\",\"Y\",\"N\")","v":"N"},{"$f":"IF(Table1[[#This Row],[Column3]]=90785,\"Y\",\"N\")","v":"N"}]
[null,null,null,null,null,null,null,null,null,null,{"$f":"IF(Table1[[#This Row],[Column3]]=\"T1013\",\"Y\",\"N\")","v":"N"},{"$f":"IF(Table1[[#This Row],[Column3]]=90785,\"Y\",\"N\")","v":"N"}]
[null,null,null,null,null,null,null,null,null,null,{"$f":"IF(Table1[[#This Row],[Column3]]=\"T1013\",\"Y\",\"N\")","v":"N"},{"$f":"IF(Table1[[#This Row],[Column3]]=90785,\"Y\",\"N\")","v":"N"}]
[null,null,null,null,null,null,null,null,null,null,{"$f":"IF(Table1[[#This Row],[Column3]]=\"T1013\",\"Y\",\"N\")","v":"N"},{"$f":"IF(Table1[[#This Row],[Column3]]=90785,\"Y\",\"N\")","v":"N"}]
[null,null,null,null,null,null,null,null,null,null,{"$f":"IF(Table1[[#This Row],[Column3]]=\"T1013\",\"Y\",\"N\")","v":"N"},{"$f":"IF(Table1[[#This Row],[Column3]]=90785,\"Y\",\"N\")","v":"N"}]
[null,null,null,null,null,null,null,null,null,null,{"$f":"IF(Table1[[#This Row],[Column3]]=\"T1013\",\"Y\",\"N\")","v":"N"},{"$f":"IF(Table1[[#This Row],[Column3]]=90785,\"Y\",\"N\")","v":"N"}]
[null,null,null,null,null,null,null,null,null,null,{"$f":"IF(Table1[[#This Row],[Column3]]=\"T1013\",\"Y\",\"N\")","v":"N"},{"$f":"IF(Table1[[#This Row],[Column3]]=90785,\"Y\",\"N\")","v":"N"}]
[null,null,null,null,null,null,null,null,null,null,{"$f":"IF(Table1[[#This Row],[Column3]]=\"T1013\",\"Y\",\"N\")","v":"N"},{"$f":"IF(Table1[[#This Row],[Column3]]=90785,\"Y\",\"N\")","v":"N"}]
[null,null,null,null,null,null,null,null,null,null,{"$f":"IF(Table1[[#This Row],[Column3]]=\"T1013\",\"Y\",\"N\")","v":"N"},{"$f":"IF(Table1[[#This Row],[Column3]]=90785,\"Y\",\"N\")","v":"N"}]
[null,null,null,null,null,null,null,null,null,null,{"$f":"IF(Table1[[#This Row],[Column3]]=\"T1013\",\"Y\",\"N\")","v":"N"},{"$f":"IF(Table1[[#This Row],[Column3]]=90785,\"Y\",\"N\")","v":"N"}]
[null,null,null,null,null,null,null,null,null,null,{"$f":"IF(Table1[[#This Row],[Column3]]=\"T1013\",\"Y\",\"N\")","v":"N"},{"$f":"IF(Table1[[#This Row],[Column3]]=90785,\"Y\",\"N\")","v":"N"}]
[null,null,null,null,null,null,null,null,null,null,{"$f":"IF(Table1[[#This Row],[Column3]]=\"T1013\",\"Y\",\"N\")","v":"N"},{"$f":"IF(Table1[[#This Row],[Column3]]=90785,\"Y\",\"N\")","v":"N"}]
[null,null,null,null,null,null,null,null,null,null,{"$f":"IF(Table1[[#This Row],[Column3]]=\"T1013\",\"Y\",\"N\")","v":"N"},{"$f":"IF(Table1[[#This Row],[Column3]]=90785,\"Y\",\"N\")","v":"N"}]
[null,null,null,null,null,null,null,null,null,null,{"$f":"IF(Table1[[#This Row],[Column3]]=\"T1013\",\"Y\",\"N\")","v":"N"},{"$f":"IF(Table1[[#This Row],[Column3]]=90785,\"Y\",\"N\")","v":"N"}]
[null,null,null,null,null,null,null,null,null,null,{"$f":"IF(Table1[[#This Row],[Column3]]=\"T1013\",\"Y\",\"N\")","v":"N"},{"$f":"IF(Table1[[#This Row],[Column3]]=90785,\"Y\",\"N\")","v":"N"}]
[null,null,null,null,null,null,null,null,null,null,{"$f":"IF(Table1[[#This Row],[Column3]]=\"T1013\",\"Y\",\"N\")","v":"N"},{"$f":"IF(Table1[[#This Row],[Column3]]=90785,\"Y\",\"N\")","v":"N"}]
[null,null,null,null,null,null,null,null,null,null,{"$f":"IF(Table1[[#This Row],[Column3]]=\"T1013\",\"Y\",\"N\")","v":"N"},{"$f":"IF(Table1[[#This Row],[Column3]]=90785,\"Y\",\"N\")","v":"N"}]
[null,null,null,null,null,null,null,null,null,null,{"$f":"IF(Table1[[#This Row],[Column3]]=\"T1013\",\"Y\",\"N\")","v":"N"},{"$f":"IF(Table1[[#This Row],[Column3]]=90785,\"Y\",\"N\")","v":"N"}]
[null,null,null,null,null,null,null,null,null,null,{"$f":"IF(Table1[[#This Row],[Column3]]=\"T1013\",\"Y\",\"N\")","v":"N"},{"$f":"IF(Table1[[#This Row],[Column3]]=90785,\"Y\",\"N\")","v":"N"}]
[null,null,null,null,null,null,null,null,null,null,{"$f":"IF(Table1[[#This Row],[Column3]]=\"T1013\",\"Y\",\"N\")","v":"N"},{"$f":"IF(Table1[[#This Row],[Column3]]=90785,\"Y\",\"N\")","v":"N"}]
[null,null,null,null,null,null,null,null,null,null,{"$f":"IF(Table1[[#This Row],[Column3]]=\"T1013\",\"Y\",\"N\")","v":"N"},{"$f":"IF(Table1[[#This Row],[Column3]]=90785,\"Y\",\"N\")","v":"N"}]
[null,null,null,null,null,null,null,null,null,null,{"$f":"IF(Table1[[#This Row],[Column3]]=\"T1013\",\"Y\",\"N\")","v":"N"},{"$f":"IF(Table1[[#This Row],[Column3]]=90785,\"Y\",\"N\")","v":"N"}]
[null,null,null,null,null,null,null,null,null,null,{"$f":"IF(Table1[[#This Row],[Column3]]=\"T1013\",\"Y\",\"N\")","v":"N"},{"$f":"IF(Table1[[#This Row],[Column3]]=90785,\"Y\",\"N\")","v":"N"}]
[null,null,null,null,null,null,null,null,null,null,{"$f":"IF(Table1[[#This Row],[Column3]]=\"T1013\",\"Y\",\"N\")","v":"N"},{"$f":"IF(Table1[[#This Row],[Column3]]=90785,\"Y\",\"N\")","v":"N"}]
[null,null,null,null,null,null,null,null,null,null,{"$f":"IF(Table1[[#This Row],[Column3]]=\"T1013\",\"Y\",\"N\")","v":"N"},{"$f":"IF(Table1[[#This Row],[Column3]]=90785,\"Y\",\"N\")","v":"N"}]
[null,null,null,null,null,null,null,null,null,null,{"$f":"IF(Table1[[#This Row],[Column3]]=\"T1013\",\"Y\",\"N\")","v":"N"},{"$f":"IF(Table1[[#This Row],[Column3]]=90785,\"Y\",\"N\")","v":"N"}]
[null,null,null,null,null,null,null,null,null,null,{"$f":"IF(Table1[[#This Row],[Column3]]=\"T1013\",\"Y\",\"N\")","v":"N"},{"$f":"IF(Table1[[#This Row],[Column3]]=90785,\"Y\",\"N\")","v":"N"}]
[null,null,null,null,null,null,null,null,null,null,{"$f":"IF(Table1[[#This Row],[Column3]]=\"T1013\",\"Y\",\"N\")","v":"N"},{"$f":"IF(Table1[[#This Row],[Column3]]=90785,\"Y\",\"N\")","v":"N"}]
[null,null,null,null,null,null,null,null,null,null,{"$f":"IF(Table1[[#This Row],[Column3]]=\"T1013\",\"Y\",\"N\")","v":"N"},{"$f":"IF(Table1[[#This Row],[Column3]]=90785,\"Y\",\"N\")","v":"N"}]
[null,null,null,null,null,null,null,null,null,null,{"$f":"IF(Table1[[#This Row],[Column3]]=\"T1013\",\"Y\",\"N\")","v":"N"},{"$f":"IF(Table1[[#This Row],[Column3]]=90785,\"Y\",\"N\")","v":"N"}]
[null,null,null,null,null,null,null,null,null,null,{"$f":"IF(Table1[[#This Row],[Column3]]=\"T1013\",\"Y\",\"N\")","v":"N"},{"$f":"IF(Table1[[#This Row],[Column3]]=90785,\"Y\",\"N\")","v":"N"}]
[null,null,null,null,null,null,null,null,null,null,{"$f":"IF(Table1[[#This Row],[Column3]]=\"T1013\",\"Y\",\"N\")","v":"N"},{"$f":"IF(Table1[[#This Row],[Column3]]=90785,\"Y\",\"N\")","v":"N"}]
[null,null,null,null,null,null,null,null,null,null,{"$f":"IF(Table1[[#This Row],[Column3]]=\"T1013\",\"Y\",\"N\")","v":"N"},{"$f":"IF(Table1[[#This Row],[Column3]]=90785,\"Y\",\"N\")","v":"N"}]
[null,null,null,null,null,null,null,null,null,null,{"$f":"IF(Table1[[#This Row],[Column3]]=\"T1013\",\"Y\",\"N\")","v":"N"},{"$f":"IF(Table1[[#This Row],[Column3]]=90785,\"Y\",\"N\")","v":"N"}]
[null,null,null,null,null,null,null,null,null,null,{"$f":"IF(Table1[[#This Row],[Column3]]=\"T1013\",\"Y\",\"N\")","v":"N"},{"$f":"IF(Table1[[#This Row],[Column3]]=90785,\"Y\",\"N\")","v":"N"}]
[null,null,null,null,null,null,null,null,null,null,{"$f":"IF(Table1[[#This Row],[Column3]]=\"T1013\",\"Y\",\"N\")","v":"N"},{"$f":"IF(Table1[[#This Row],[Column3]]=90785,\"Y\",\"N\")","v":"N"}]
[null,null,null,null,null,null,null,null,null,null,{"$f":"IF(Table1[[#This Row],[Column3]]=\"T1013\",\"Y\",\"N\")","v":"N"},{"$f":"IF(Table1[[#This Row],[Column3]]=90785,\"Y\",\"N\")","v":"N"}]
[null,null,null,null,null,null,null,null,null,null,{"$f":"IF(Table1[[#This Row],[Column3]]=\"T1013\",\"Y\",\"N\")","v":"N"},{"$f":"IF(Table1[[#This Row],[Column3]]=90785,\"Y\",\"N\")","v":"N"}]
[null,null,null,null,null,null,null,null,null,null,{"$f":"IF(Table1[[#This Row],[Column3]]=\"T1013\",\"Y\",\"N\")","v":"N"},{"$f":"IF(Table1[[#This Row],[Column3]]=90785,\"Y\",\"N\")","v":"N"}]
[null,null,null,null,null,null,null,null,null,null,{"$f":"IF(Table1[[#This Row],[Column3]]=\"T1013\",\"Y\",\"N\")","v":"N"},{"$f":"IF(Table1[[#This Row],[Column3]]=90785,\"Y\",\"N\")","v":"N"}]
[null,null,null,null,null,null,null,null,null,null,{"$f":"IF(Table1[[#This Row],[Column3]]=\"T1013\",\"Y\",\"N\")","v":"N"},{"$f":"IF(Table1[[#This Row],[Column3]]=90785,\"Y\",\"N\")","v":"N"}]
[null,null,null,null,null,null,null,null,null,null,{"$f":"IF(Table1[[#This Row],[Column3]]=\"T1013\",\"Y\",\"N\")","v":"N"},{"$f":"IF(Table1[[#This Row],[Column3]]=90785,\"Y\",\"N\")","v":"N"}]
[null,null,null,null,null,null,null,null,null,null,{"$f":"IF(Table1[[#This Row],[Column3]]=\"T1013\",\"Y\",\"N\")","v":"N"},{"$f":"IF(Table1[[#This Row],[Column3]]=90785,\"Y\",\"N\")","v":"N"}]
[null,null,null,null,null,null,null,null,null,null,{"$f":"IF(Table1[[#This Row],[Column3]]=\"T1013\",\"Y\",\"N\")","v":"N"},{"$f":"IF(Table1[[#This Row],[Column3]]=90785,\"Y\",\"N\")","v":"N"}]
[null,null,null,null,null,null,null,null,null,null,{"$f":"IF(Table1[[#This Row],[Column3]]=\"T1013\",\"Y\",\"N\")","v":"N"},{"$f":"IF(Table1[[#This Row],[Column3]]=90785,\"Y\",\"N\")","v":"N"}]
[null,null,null,null,null,null,null,null,null,null,{"$f":"IF(Table1[[#This Row],[Column3]]=\"T1013\",\"Y\",\"N\")","v":"N"},{"$f":"IF(Table1[[#This Row],[Column3]]=90785,\"Y\",\"N\")","v":"N"}]
[null,null,null,null,null,null,null,null,null,null,{"$f":"IF(Table1[[#This Row],[Column3]]=\"T1013\",\"Y\",\"N\")","v":"N"},{"$f":"IF(Table1[[#This Row],[Column3]]=90785,\"Y\",\"N\")","v":"N"}]
[null,null,null,null,null,null,null,null,null,null,{"$f":"IF(Table1[[#This Row],[Column3]]=\"T1013\",\"Y\",\"N\")","v":"N"},{"$f":"IF(Table1[[#This Row],[Column3]]=90785,\"Y\",\"N\")","v":"N"}]
[null,null,null,null,null,null,null,null,null,null,{"$f":"IF(Table1[[#This Row],[Column3]]=\"T1013\",\"Y\",\"N\")","v":"N"},{"$f":"IF(Table1[[#This Row],[Column3]]=90785,\"Y\",\"N\")","v":"N"}]
[null,null,null,null,null,null,null,null,null,null,{"$f":"IF(Table1[[#This Row],[Column3]]=\"T1013\",\"Y\",\"N\")","v":"N"},{"$f":"IF(Table1[[#This Row],[Column3]]=90785,\"Y\",\"N\")","v":"N"}]
[null,null,null,null,null,null,null,null,null,null,{"$f":"IF(Table1[[#This Row],[Column3]]=\"T1013\",\"Y\",\"N\")","v":"N"},{"$f":"IF(Table1[[#This Row],[Column3]]=90785,\"Y\",\"N\")","v":"N"}]
[null,null,null,null,null,null,null,null,null,null,{"$f":"IF(Table1[[#This Row],[Column3]]=\"T1013\",\"Y\",\"N\")","v":"N"},{"$f":"IF(Table1[[#This Row],[Column3]]=90785,\"Y\",\"N\")","v":"N"}]
[null,null,null,null,null,null,null,null,null,null,{"$f":"IF(Table1[[#This Row],[Column3]]=\"T1013\",\"Y\",\"N\")","v":"N"},{"$f":"IF(Table1[[#This Row],[Column3]]=90785,\"Y\",\"N\")","v":"N"}]
[null,null,null,null,null,null,null,null,null,null,{"$f":"IF(Table1[[#This Row],[Column3]]=\"T1013\",\"Y\",\"N\")","v":"N"},{"$f":"IF(Table1[[#This Row],[Column3]]=90785,\"Y\",\"N\")","v":"N"}]
[null,null,null,null,null,null,null,null,null,null,{"$f":"IF(Table1[[#This Row],[Column3]]=\"T1013\",\"Y\",\"N\")","v":"N"},{"$f":"IF(Table1[[#This Row],[Column3]]=90785,\"Y\",\"N\")","v":"N"}]
[null,null,null,null,null,null,null,null,null,null,{"$f":"IF(Table1[[#This Row],[Column3]]=\"T1013\",\"Y\",\"N\")","v":"N"},{"$f":"IF(Table1[[#This Row],[Column3]]=90785,\"Y\",\"N\")","v":"N"}]
[null,null,null,null,null,null,null,null,null,null,{"$f":"IF(Table1[[#This Row],[Column3]]=\"T1013\",\"Y\",\"N\")","v":"N"},{"$f":"IF(Table1[[#This Row],[Column3]]=90785,\"Y\",\"N\")","v":"N"}]
[null,null,null,null,null,null,null,null,null,null,{"$f":"IF(Table1[[#This Row],[Column3]]=\"T1013\",\"Y\",\"N\")","v":"N"},{"$f":"IF(Table1[[#This Row],[Column3]]=90785,\"Y\",\"N\")","v":"N"}]
[null,null,null,null,null,null,null,null,null,null,{"$f":"IF(Table1[[#This Row],[Column3]]=\"T1013\",\"Y\",\"N\")","v":"N"},{"$f":"IF(Table1[[#This Row],[Column3]]=90785,\"Y\",\"N\")","v":"N"}]
[null,null,null,null,null,null,null,null,null,null,{"$f":"IF(Table1[[#This Row],[Column3]]=\"T1013\",\"Y\",\"N\")","v":"N"},{"$f":"IF(Table1[[#This Row],[Column3]]=90785,\"Y\",\"N\")","v":"N"}]
[null,null,null,null,null,null,null,null,null,null,{"$f":"IF(Table1[[#This Row],[Column3]]=\"T1013\",\"Y\",\"N\")","v":"N"},{"$f":"IF(Table1[[#This Row],[Column3]]=90785,\"Y\",\"N\")","v":"N"}]
[null,null,null,null,null,null,null,null,null,null,{"$f":"IF(Table1[[#This Row],[Column3]]=\"T1013\",\"Y\",\"N\")","v":"N"},{"$f":"IF(Table1[[#This Row],[Column3]]=90785,\"Y\",\"N\")","v":"N"}]
[null,null,null,null,null,null,null,null,null,null,{"$f":"IF(Table1[[#This Row],[Column3]]=\"T1013\",\"Y\",\"N\")","v":"N"},{"$f":"IF(Table1[[#This Row],[Column3]]=90785,\"Y\",\"N\")","v":"N"}]
[null,null,null,null,null,null,null,null,null,null,{"$f":"IF(Table1[[#This Row],[Column3]]=\"T1013\",\"Y\",\"N\")","v":"N"},{"$f":"IF(Table1[[#This Row],[Column3]]=90785,\"Y\",\"N\")","v":"N"}]
[null,null,null,null,null,null,null,null,null,null,{"$f":"IF(Table1[[#This Row],[Column3]]=\"T1013\",\"Y\",\"N\")","v":"N"},{"$f":"IF(Table1[[#This Row],[Column3]]=90785,\"Y\",\"N\")","v":"N"}]
[null,null,null,null,null,null,null,null,null,null,{"$f":"IF(Table1[[#This Row],[Column3]]=\"T1013\",\"Y\",\"N\")","v":"N"},{"$f":"IF(Table1[[#This Row],[Column3]]=90785,\"Y\",\"N\")","v":"N"}]
[null,null,null,null,null,null,null,null,null,null,{"$f":"IF(Table1[[#This Row],[Column3]]=\"T1013\",\"Y\",\"N\")","v":"N"},{"$f":"IF(Table1[[#This Row],[Column3]]=90785,\"Y\",\"N\")","v":"N"}]
[null,null,null,null,null,null,null,null,null,null,{"$f":"IF(Table1[[#This Row],[Column3]]=\"T1013\",\"Y\",\"N\")","v":"N"},{"$f":"IF(Table1[[#This Row],[Column3]]=90785,\"Y\",\"N\")","v":"N"}]
[null,null,null,null,null,null,null,null,null,null,{"$f":"IF(Table1[[#This Row],[Column3]]=\"T1013\",\"Y\",\"N\")","v":"N"},{"$f":"IF(Table1[[#This Row],[Column3]]=90785,\"Y\",\"N\")","v":"N"}]
[null,null,null,null,null,null,null,null,null,null,{"$f":"IF(Table1[[#This Row],[Column3]]=\"T1013\",\"Y\",\"N\")","v":"N"},{"$f":"IF(Table1[[#This Row],[Column3]]=90785,\"Y\",\"N\")","v":"N"}]
[null,null,null,null,null,null,null,null,null,null,{"$f":"IF(Table1[[#This Row],[Column3]]=\"T1013\",\"Y\",\"N\")","v":"N"},{"$f":"IF(Table1[[#This Row],[Column3]]=90785,\"Y\",\"N\")","v":"N"}]
[null,null,null,null,null,null,null,null,null,null,{"$f":"IF(Table1[[#This Row],[Column3]]=\"T1013\",\"Y\",\"N\")","v":"N"},{"$f":"IF(Table1[[#This Row],[Column3]]=90785,\"Y\",\"N\")","v":"N"}]
[null,null,null,null,null,null,null,null,null,null,{"$f":"IF(Table1[[#This Row],[Column3]]=\"T1013\",\"Y\",\"N\")","v":"N"},{"$f":"IF(Table1[[#This Row],[Column3]]=90785,\"Y\",\"N\")","v":"N"}]
[null,null,null,null,null,null,null,null,null,null,{"$f":"IF(Table1[[#This Row],[Column3]]=\"T1013\",\"Y\",\"N\")","v":"N"},{"$f":"IF(Table1[[#This Row],[Column3]]=90785,\"Y\",\"N\")","v":"N"}]
[null,null,null,null,null,null,null,null,null,null,{"$f":"IF(Table1[[#This Row],[Column3]]=\"T1013\",\"Y\",\"N\")","v":"N"},{"$f":"IF(Table1[[#This Row],[Column3]]=90785,\"Y\",\"N\")","v":"N"}]
[null,null,null,null,null,null,null,null,null,null,{"$f":"IF(Table1[[#This Row],[Column3]]=\"T1013\",\"Y\",\"N\")","v":"N"},{"$f":"IF(Table1[[#This Row],[Column3]]=90785,\"Y\",\"N\")","v":"N"}]
[null,null,null,null,null,null,null,null,null,null,{"$f":"IF(Table1[[#This Row],[Column3]]=\"T1013\",\"Y\",\"N\")","v":"N"},{"$f":"IF(Table1[[#This Row],[Column3]]=90785,\"Y\",\"N\")","v":"N"}]
[null,null,null,null,null,null,null,null,null,null,{"$f":"IF(Table1[[#This Row],[Column3]]=\"T1013\",\"Y\",\"N\")","v":"N"},{"$f":"IF(Table1[[#This Row],[Column3]]=90785,\"Y\",\"N\")","v":"N"}]
[null,null,null,null,null,null,null,null,null,null,{"$f":"IF(Table1[[#This Row],[Column3]]=\"T1013\",\"Y\",\"N\")","v":"N"},{"$f":"IF(Table1[[#This Row],[Column3]]=90785,\"Y\",\"N\")","v":"N"}]
[null,null,null,null,null,null,null,null,null,null,{"$f":"IF(Table1[[#This Row],[Column3]]=\"T1013\",\"Y\",\"N\")","v":"N"},{"$f":"IF(Table1[[#This Row],[Column3]]=90785,\"Y\",\"N\")","v":"N"}]
[null,null,null,null,null,null,null,null,null,null,{"$f":"IF(Table1[[#This Row],[Column3]]=\"T1013\",\"Y\",\"N\")","v":"N"},{"$f":"IF(Table1[[#This Row],[Column3]]=90785,\"Y\",\"N\")","v":"N"}]
[null,null,null,null,null,null,null,null,null,null,{"$f":"IF(Table1[[#This Row],[Column3]]=\"T1013\",\"Y\",\"N\")","v":"N"},{"$f":"IF(Table1[[#This Row],[Column3]]=90785,\"Y\",\"N\")","v":"N"}]
[null,null,null,null,null,null,null,null,null,null,{"$f":"IF(Table1[[#This Row],[Column3]]=\"T1013\",\"Y\",\"N\")","v":"N"},{"$f":"IF(Table1[[#This Row],[Column3]]=90785,\"Y\",\"N\")","v":"N"}]
[null,null,null,null,null,null,null,null,null,null,{"$f":"IF(Table1[[#This Row],[Column3]]=\"T1013\",\"Y\",\"N\")","v":"N"},{"$f":"IF(Table1[[#This Row],[Column3]]=90785,\"Y\",\"N\")","v":"N"}]
[null,null,null,null,null,null,null,null,null,null,{"$f":"IF(Table1[[#This Row],[Column3]]=\"T1013\",\"Y\",\"N\")","v":"N"},{"$f":"IF(Table1[[#This Row],[Column3]]=90785,\"Y\",\"N\")","v":"N"}]
[null,null,null,null,null,null,null,null,null,null,{"$f":"IF(Table1[[#This Row],[Column3]]=\"T1013\",\"Y\",\"N\")","v":"N"},{"$f":"IF(Table1[[#This Row],[Column3]]=90785,\"Y\",\"N\")","v":"N"}]
[null,null,null,null,null,null,null,null,null,null,{"$f":"IF(Table1[[#This Row],[Column3]]=\"T1013\",\"Y\",\"N\")","v":"N"},{"$f":"IF(Table1[[#This Row],[Column3]]=90785,\"Y\",\"N\")","v":"N"}]
[null,null,null,null,null,null,null,null,null,null,{"$f":"IF(Table1[[#This Row],[Column3]]=\"T1013\",\"Y\",\"N\")","v":"N"},{"$f":"IF(Table1[[#This Row],[Column3]]=90785,\"Y\",\"N\")","v":"N"}]
[null,null,null,null,null,null,null,null,null,null,{"$f":"IF(Table1[[#This Row],[Column3]]=\"T1013\",\"Y\",\"N\")","v":"N"},{"$f":"IF(Table1[[#This Row],[Column3]]=90785,\"Y\",\"N\")","v":"N"}]
[null,null,null,null,null,null,null,null,null,null,{"$f":"IF(Table1[[#This Row],[Column3]]=\"T1013\",\"Y\",\"N\")","v":"N"},{"$f":"IF(Table1[[#This Row],[Column3]]=90785,\"Y\",\"N\")","v":"N"}]
[null,null,null,null,null,null,null,null,null,null,{"$f":"IF(Table1[[#This Row],[Column3]]=\"T1013\",\"Y\",\"N\")","v":"N"},{"$f":"IF(Table1[[#This Row],[Column3]]=90785,\"Y\",\"N\")","v":"N"}]
[null,null,null,null,null,null,null,null,null,null,{"$f":"IF(Table1[[#This Row],[Column3]]=\"T1013\",\"Y\",\"N\")","v":"N"},{"$f":"IF(Table1[[#This Row],[Column3]]=90785,\"Y\",\"N\")","v":"N"}]
[null,null,null,null,null,null,null,null,null,null,{"$f":"IF(Table1[[#This Row],[Column3]]=\"T1013\",\"Y\",\"N\")","v":"N"},{"$f":"IF(Table1[[#This Row],[Column3]]=90785,\"Y\",\"N\")","v":"N"}]
[null,null,null,null,null,null,null,null,null,null,{"$f":"IF(Table1[[#This Row],[Column3]]=\"T1013\",\"Y\",\"N\")","v":"N"},{"$f":"IF(Table1[[#This Row],[Column3]]=90785,\"Y\",\"N\")","v":"N"}]
[null,null,null,null,null,null,null,null,null,null,{"$f":"IF(Table1[[#This Row],[Column3]]=\"T1013\",\"Y\",\"N\")","v":"N"},{"$f":"IF(Table1[[#This Row],[Column3]]=90785,\"Y\",\"N\")","v":"N"}]
[null,null,null,null,null,null,null,null,null,null,{"$f":"IF(Table1[[#This Row],[Column3]]=\"T1013\",\"Y\",\"N\")","v":"N"},{"$f":"IF(Table1[[#This Row],[Column3]]=90785,\"Y\",\"N\")","v":"N"}]
[null,null,null,null,null,null,null,null,null,null,{"$f":"IF(Table1[[#This Row],[Column3]]=\"T1013\",\"Y\",\"N\")","v":"N"},{"$f":"IF(Table1[[#This Row],[Column3]]=90785,\"Y\",\"N\")","v":"N"}]
[null,null,null,null,null,null,null,null,null,null,{"$f":"IF(Table1[[#This Row],[Column3]]=\"T1013\",\"Y\",\"N\")","v":"N"},{"$f":"IF(Table1[[#This Row],[Column3]]=90785,\"Y\",\"N\")","v":"N"}]
[null,null,null,null,null,null,null,null,null,null,{"$f":"IF(Table1[[#This Row],[Column3]]=\"T1013\",\"Y\",\"N\")","v":"N"},{"$f":"IF(Table1[[#This Row],[Column3]]=90785,\"Y\",\"N\")","v":"N"}]
[null,null,null,null,null,null,null,null,null,null,{"$f":"IF(Table1[[#This Row],[Column3]]=\"T1013\",\"Y\",\"N\")","v":"N"},{"$f":"IF(Table1[[#This Row],[Column3]]=90785,\"Y\",\"N\")","v":"N"}]
[null,null,null,null,null,null,null,null,null,null,{"$f":"IF(Table1[[#This Row],[Column3]]=\"T1013\",\"Y\",\"N\")","v":"N"},{"$f":"IF(Table1[[#This Row],[Column3]]=90785,\"Y\",\"N\")","v":"N"}]
[null,null,null,null,null,null,null,null,null,null,{"$f":"IF(Table1[[#This Row],[Column3]]=\"T1013\",\"Y\",\"N\")","v":"N"},{"$f":"IF(Table1[[#This Row],[Column3]]=90785,\"Y\",\"N\")","v":"N"}]
[null,null,null,null,null,null,null,null,null,null,{"$f":"IF(Table1[[#This Row],[Column3]]=\"T1013\",\"Y\",\"N\")","v":"N"},{"$f":"IF(Table1[[#This Row],[Column3]]=90785,\"Y\",\"N\")","v":"N"}]
[null,null,null,null,null,null,null,null,null,null,{"$f":"IF(Table1[[#This Row],[Column3]]=\"T1013\",\"Y\",\"N\")","v":"N"},{"$f":"IF(Table1[[#This Row],[Column3]]=90785,\"Y\",\"N\")","v":"N"}]
[null,null,null,null,null,null,null,null,null,null,{"$f":"IF(Table1[[#This Row],[Column3]]=\"T1013\",\"Y\",\"N\")","v":"N"},{"$f":"IF(Table1[[#This Row],[Column3]]=90785,\"Y\",\"N\")","v":"N"}]
[null,null,null,null,null,null,null,null,null,null,{"$f":"IF(Table1[[#This Row],[Column3]]=\"T1013\",\"Y\",\"N\")","v":"N"},{"$f":"IF(Table1[[#This Row],[Column3]]=90785,\"Y\",\"N\")","v":"N"}]
[null,null,null,null,null,null,null,null,null,null,{"$f":"IF(Table1[[#This Row],[Column3]]=\"T1013\",\"Y\",\"N\")","v":"N"},{"$f":"IF(Table1[[#This Row],[Column3]]=90785,\"Y\",\"N\")","v":"N"}]
[null,null,null,null,null,null,null,null,null,null,{"$f":"IF(Table1[[#This Row],[Column3]]=\"T1013\",\"Y\",\"N\")","v":"N"},{"$f":"IF(Table1[[#This Row],[Column3]]=90785,\"Y\",\"N\")","v":"N"}]
[null,null,null,null,null,null,null,null,null,null,{"$f":"IF(Table1[[#This Row],[Column3]]=\"T1013\",\"Y\",\"N\")","v":"N"},{"$f":"IF(Table1[[#This Row],[Column3]]=90785,\"Y\",\"N\")","v":"N"}]
[null,null,null,null,null,null,null,null,null,null,{"$f":"IF(Table1[[#This Row],[Column3]]=\"T1013\",\"Y\",\"N\")","v":"N"},{"$f":"IF(Table1[[#This Row],[Column3]]=90785,\"Y\",\"N\")","v":"N"}]
[null,null,null,null,null,null,null,null,null,null,{"$f":"IF(Table1[[#This Row],[Column3]]=\"T1013\",\"Y\",\"N\")","v":"N"},{"$f":"IF(Table1[[#This Row],[Column3]]=90785,\"Y\",\"N\")","v":"N"}]
[null,null,null,null,null,null,null,null,null,null,{"$f":"IF(Table1[[#This Row],[Column3]]=\"T1013\",\"Y\",\"N\")","v":"N"},{"$f":"IF(Table1[[#This Row],[Column3]]=90785,\"Y\",\"N\")","v":"N"}]
[null,null,null,null,null,null,null,null,null,null,{"$f":"IF(Table1[[#This Row],[Column3]]=\"T1013\",\"Y\",\"N\")","v":"N"},{"$f":"IF(Table1[[#This Row],[Column3]]=90785,\"Y\",\"N\")","v":"N"}]
[null,null,null,null,null,null,null,null,null,null,{"$f":"IF(Table1[[#This Row],[Column3]]=\"T1013\",\"Y\",\"N\")","v":"N"},{"$f":"IF(Table1[[#This Row],[Column3]]=90785,\"Y\",\"N\")","v":"N"}]
[null,null,null,null,null,null,null,null,null,null,{"$f":"IF(Table1[[#This Row],[Column3]]=\"T1013\",\"Y\",\"N\")","v":"N"},{"$f":"IF(Table1[[#This Row],[Column3]]=90785,\"Y\",\"N\")","v":"N"}]
[null,null,null,null,null,null,null,null,null,null,{"$f":"IF(Table1[[#This Row],[Column3]]=\"T1013\",\"Y\",\"N\")","v":"N"},{"$f":"IF(Table1[[#This Row],[Column3]]=90785,\"Y\",\"N\")","v":"N"}]
[null,null,null,null,null,null,null,null,null,null,{"$f":"IF(Table1[[#This Row],[Column3]]=\"T1013\",\"Y\",\"N\")","v":"N"},{"$f":"IF(Table1[[#This Row],[Column3]]=90785,\"Y\",\"N\")","v":"N"}]
[null,null,null,null,null,null,null,null,null,null,{"$f":"IF(Table1[[#This Row],[Column3]]=\"T1013\",\"Y\",\"N\")","v":"N"},{"$f":"IF(Table1[[#This Row],[Column3]]=90785,\"Y\",\"N\")","v":"N"}]
[null,null,null,null,null,null,null,null,null,null,{"$f":"IF(Table1[[#This Row],[Column3]]=\"T1013\",\"Y\",\"N\")","v":"N"},{"$f":"IF(Table1[[#This Row],[Column3]]=90785,\"Y\",\"N\")","v":"N"}]
[null,null,null,null,null,null,null,null,null,null,{"$f":"IF(Table1[[#This Row],[Column3]]=\"T1013\",\"Y\",\"N\")","v":"N"},{"$f":"IF(Table1[[#This Row],[Column3]]=90785,\"Y\",\"N\")","v":"N"}]
[null,null,null,null,null,null,null,null,null,null,{"$f":"IF(Table1[[#This Row],[Column3]]=\"T1013\",\"Y\",\"N\")","v":"N"},{"$f":"IF(Table1[[#This Row],[Column3]]=90785,\"Y\",\"N\")","v":"N"}]
[null,null,null,null,null,null,null,null,null,null,{"$f":"IF(Table1[[#This Row],[Column3]]=\"T1013\",\"Y\",\"N\")","v":"N"},{"$f":"IF(Table1[[#This Row],[Column3]]=90785,\"Y\",\"N\")","v":"N"}]
[null,null,null,null,null,null,null,null,null,null,{"$f":"IF(Table1[[#This Row],[Column3]]=\"T1013\",\"Y\",\"N\")","v":"N"},{"$f":"IF(Table1[[#This Row],[Column3]]=90785,\"Y\",\"N\")","v":"N"}]
[null,null,null,null,null,null,null,null,null,null,{"$f":"IF(Table1[[#This Row],[Column3]]=\"T1013\",\"Y\",\"N\")","v":"N"},{"$f":"IF(Table1[[#This Row],[Column3]]=90785,\"Y\",\"N\")","v":"N"}]
[null,null,null,null,null,null,null,null,null,null,{"$f":"IF(Table1[[#This Row],[Column3]]=\"T1013\",\"Y\",\"N\")","v":"N"},{"$f":"IF(Table1[[#This Row],[Column3]]=90785,\"Y\",\"N\")","v":"N"}]
[null,null,null,null,null,null,null,null,null,null,{"$f":"IF(Table1[[#This Row],[Column3]]=\"T1013\",\"Y\",\"N\")","v":"N"},{"$f":"IF(Table1[[#This Row],[Column3]]=90785,\"Y\",\"N\")","v":"N"}]
[null,null,null,null,null,null,null,null,null,null,{"$f":"IF(Table1[[#This Row],[Column3]]=\"T1013\",\"Y\",\"N\")","v":"N"},{"$f":"IF(Table1[[#This Row],[Column3]]=90785,\"Y\",\"N\")","v":"N"}]
[null,null,null,null,null,null,null,null,null,null,{"$f":"IF(Table1[[#This Row],[Column3]]=\"T1013\",\"Y\",\"N\")","v":"N"},{"$f":"IF(Table1[[#This Row],[Column3]]=90785,\"Y\",\"N\")","v":"N"}]
[null,null,null,null,null,null,null,null,null,null,{"$f":"IF(Table1[[#This Row],[Column3]]=\"T1013\",\"Y\",\"N\")","v":"N"},{"$f":"IF(Table1[[#This Row],[Column3]]=90785,\"Y\",\"N\")","v":"N"}]
[null,null,null,null,null,null,null,null,null,null,{"$f":"IF(Table1[[#This Row],[Column3]]=\"T1013\",\"Y\",\"N\")","v":"N"},{"$f":"IF(Table1[[#This Row],[Column3]]=90785,\"Y\",\"N\")","v":"N"}]
[null,null,null,null,null,null,null,null,null,null,{"$f":"IF(Table1[[#This Row],[Column3]]=\"T1013\",\"Y\",\"N\")","v":"N"},{"$f":"IF(Table1[[#This Row],[Column3]]=90785,\"Y\",\"N\")","v":"N"}]
[null,null,null,null,null,null,null,null,null,null,{"$f":"IF(Table1[[#This Row],[Column3]]=\"T1013\",\"Y\",\"N\")","v":"N"},{"$f":"IF(Table1[[#This Row],[Column3]]=90785,\"Y\",\"N\")","v":"N"}]
[null,null,null,null,null,null,null,null,null,null,{"$f":"IF(Table1[[#This Row],[Column3]]=\"T1013\",\"Y\",\"N\")","v":"N"},{"$f":"IF(Table1[[#This Row],[Column3]]=90785,\"Y\",\"N\")","v":"N"}]
[null,null,null,null,null,null,null,null,null,null,{"$f":"IF(Table1[[#This Row],[Column3]]=\"T1013\",\"Y\",\"N\")","v":"N"},{"$f":"IF(Table1[[#This Row],[Column3]]=90785,\"Y\",\"N\")","v":"N"}]
[null,null,null,null,null,null,null,null,null,null,{"$f":"IF(Table1[[#This Row],[Column3]]=\"T1013\",\"Y\",\"N\")","v":"N"},{"$f":"IF(Table1[[#This Row],[Column3]]=90785,\"Y\",\"N\")","v":"N"}]
[null,null,null,null,null,null,null,null,null,null,{"$f":"IF(Table1[[#This Row],[Column3]]=\"T1013\",\"Y\",\"N\")","v":"N"},{"$f":"IF(Table1[[#This Row],[Column3]]=90785,\"Y\",\"N\")","v":"N"}]
[null,null,null,null,null,null,null,null,null,null,{"$f":"IF(Table1[[#This Row],[Column3]]=\"T1013\",\"Y\",\"N\")","v":"N"},{"$f":"IF(Table1[[#This Row],[Column3]]=90785,\"Y\",\"N\")","v":"N"}]
[null,null,null,null,null,null,null,null,null,null,{"$f":"IF(Table1[[#This Row],[Column3]]=\"T1013\",\"Y\",\"N\")","v":"N"},{"$f":"IF(Table1[[#This Row],[Column3]]=90785,\"Y\",\"N\")","v":"N"}]
[null,null,null,null,null,null,null,null,null,null,{"$f":"IF(Table1[[#This Row],[Column3]]=\"T1013\",\"Y\",\"N\")","v":"N"},{"$f":"IF(Table1[[#This Row],[Column3]]=90785,\"Y\",\"N\")","v":"N"}]
[null,null,null,null,null,null,null,null,null,null,{"$f":"IF(Table1[[#This Row],[Column3]]=\"T1013\",\"Y\",\"N\")","v":"N"},{"$f":"IF(Table1[[#This Row],[Column3]]=90785,\"Y\",\"N\")","v":"N"}]
[null,null,null,null,null,null,null,null,null,null,{"$f":"IF(Table1[[#This Row],[Column3]]=\"T1013\",\"Y\",\"N\")","v":"N"},{"$f":"IF(Table1[[#This Row],[Column3]]=90785,\"Y\",\"N\")","v":"N"}]
[null,null,null,null,null,null,null,null,null,null,{"$f":"IF(Table1[[#This Row],[Column3]]=\"T1013\",\"Y\",\"N\")","v":"N"},{"$f":"IF(Table1[[#This Row],[Column3]]=90785,\"Y\",\"N\")","v":"N"}]
[null,null,null,null,null,null,null,null,null,null,{"$f":"IF(Table1[[#This Row],[Column3]]=\"T1013\",\"Y\",\"N\")","v":"N"},{"$f":"IF(Table1[[#This Row],[Column3]]=90785,\"Y\",\"N\")","v":"N"}]
[null,null,null,null,null,null,null,null,null,null,{"$f":"IF(Table1[[#This Row],[Column3]]=\"T1013\",\"Y\",\"N\")","v":"N"},{"$f":"IF(Table1[[#This Row],[Column3]]=90785,\"Y\",\"N\")","v":"N"}]
[null,null,null,null,null,null,null,null,null,null,{"$f":"IF(Table1[[#This Row],[Column3]]=\"T1013\",\"Y\",\"N\")","v":"N"},{"$f":"IF(Table1[[#This Row],[Column3]]=90785,\"Y\",\"N\")","v":"N"}]
[null,null,null,null,null,null,null,null,null,null,{"$f":"IF(Table1[[#This Row],[Column3]]=\"T1013\",\"Y\",\"N\")","v":"N"},{"$f":"IF(Table1[[#This Row],[Column3]]=90785,\"Y\",\"N\")","v":"N"}]
[null,null,null,null,null,null,null,null,null,null,{"$f":"IF(Table1[[#This Row],[Column3]]=\"T1013\",\"Y\",\"N\")","v":"N"},{"$f":"IF(Table1[[#This Row],[Column3]]=90785,\"Y\",\"N\")","v":"N"}]
[null,null,null,null,null,null,null,null,null,null,{"$f":"IF(Table1[[#This Row],[Column3]]=\"T1013\",\"Y\",\"N\")","v":"N"},{"$f":"IF(Table1[[#This Row],[Column3]]=90785,\"Y\",\"N\")","v":"N"}]
[null,null,null,null,null,null,null,null,null,null,{"$f":"IF(Table1[[#This Row],[Column3]]=\"T1013\",\"Y\",\"N\")","v":"N"},{"$f":"IF(Table1[[#This Row],[Column3]]=90785,\"Y\",\"N\")","v":"N"}]
[null,null,null,null,null,null,null,null,null,null,{"$f":"IF(Table1[[#This Row],[Column3]]=\"T1013\",\"Y\",\"N\")","v":"N"},{"$f":"IF(Table1[[#This Row],[Column3]]=90785,\"Y\",\"N\")","v":"N"}]
[null,null,null,null,null,null,null,null,null,null,{"$f":"IF(Table1[[#This Row],[Column3]]=\"T1013\",\"Y\",\"N\")","v":"N"},{"$f":"IF(Table1[[#This Row],[Column3]]=90785,\"Y\",\"N\")","v":"N"}]
[null,null,null,null,null,null,null,null,null,null,{"$f":"IF(Table1[[#This Row],[Column3]]=\"T1013\",\"Y\",\"N\")","v":"N"},{"$f":"IF(Table1[[#This Row],[Column3]]=90785,\"Y\",\"N\")","v":"N"}]
[null,null,null,null,null,null,null,null,null,null,{"$f":"IF(Table1[[#This Row],[Column3]]=\"T1013\",\"Y\",\"N\")","v":"N"},{"$f":"IF(Table1[[#This Row],[Column3]]=90785,\"Y\",\"N\")","v":"N"}]
[null,null,null,null,null,null,null,null,null,null,{"$f":"IF(Table1[[#This Row],[Column3]]=\"T1013\",\"Y\",\"N\")","v":"N"},{"$f":"IF(Table1[[#This Row],[Column3]]=90785,\"Y\",\"N\")","v":"N"}]
[null,null,null,null,null,null,null,null,null,null,{"$f":"IF(Table1[[#This Row],[Column3]]=\"T1013\",\"Y\",\"N\")","v":"N"},{"$f":"IF(Table1[[#This Row],[Column3]]=90785,\"Y\",\"N\")","v":"N"}]
[null,null,null,null,null,null,null,null,null,null,{"$f":"IF(Table1[[#This Row],[Column3]]=\"T1013\",\"Y\",\"N\")","v":"N"},{"$f":"IF(Table1[[#This Row],[Column3]]=90785,\"Y\",\"N\")","v":"N"}]
[null,null,null,null,null,null,null,null,null,null,{"$f":"IF(Table1[[#This Row],[Column3]]=\"T1013\",\"Y\",\"N\")","v":"N"},{"$f":"IF(Table1[[#This Row],[Column3]]=90785,\"Y\",\"N\")","v":"N"}]
[null,null,null,null,null,null,null,null,null,null,{"$f":"IF(Table1[[#This Row],[Column3]]=\"T1013\",\"Y\",\"N\")","v":"N"},{"$f":"IF(Table1[[#This Row],[Column3]]=90785,\"Y\",\"N\")","v":"N"}]
[null,null,null,null,null,null,null,null,null,null,{"$f":"IF(Table1[[#This Row],[Column3]]=\"T1013\",\"Y\",\"N\")","v":"N"},{"$f":"IF(Table1[[#This Row],[Column3]]=90785,\"Y\",\"N\")","v":"N"}]
[null,null,null,null,null,null,null,null,null,null,{"$f":"IF(Table1[[#This Row],[Column3]]=\"T1013\",\"Y\",\"N\")","v":"N"},{"$f":"IF(Table1[[#This Row],[Column3]]=90785,\"Y\",\"N\")","v":"N"}]
[null,null,null,null,null,null,null,null,null,null,{"$f":"IF(Table1[[#This Row],[Column3]]=\"T1013\",\"Y\",\"N\")","v":"N"},{"$f":"IF(Table1[[#This Row],[Column3]]=90785,\"Y\",\"N\")","v":"N"}]
[null,null,null,null,null,null,null,null,null,null,{"$f":"IF(Table1[[#This Row],[Column3]]=\"T1013\",\"Y\",\"N\")","v":"N"},{"$f":"IF(Table1[[#This Row],[Column3]]=90785,\"Y\",\"N\")","v":"N"}]
[null,null,null,null,null,null,null,null,null,null,{"$f":"IF(Table1[[#This Row],[Column3]]=\"T1013\",\"Y\",\"N\")","v":"N"},{"$f":"IF(Table1[[#This Row],[Column3]]=90785,\"Y\",\"N\")","v":"N"}]
[null,null,null,null,null,null,null,null,null,null,{"$f":"IF(Table1[[#This Row],[Column3]]=\"T1013\",\"Y\",\"N\")","v":"N"},{"$f":"IF(Table1[[#This Row],[Column3]]=90785,\"Y\",\"N\")","v":"N"}]
[null,null,null,null,null,null,null,null,null,null,{"$f":"IF(Table1[[#This Row],[Column3]]=\"T1013\",\"Y\",\"N\")","v":"N"},{"$f":"IF(Table1[[#This Row],[Column3]]=90785,\"Y\",\"N\")","v":"N"}]
[null,null,null,null,null,null,null,null,null,null,{"$f":"IF(Table1[[#This Row],[Column3]]=\"T1013\",\"Y\",\"N\")","v":"N"},{"$f":"IF(Table1[[#This Row],[Column3]]=90785,\"Y\",\"N\")","v":"N"}]
[null,null,null,null,null,null,null,null,null,null,{"$f":"IF(Table1[[#This Row],[Column3]]=\"T1013\",\"Y\",\"N\")","v":"N"},{"$f":"IF(Table1[[#This Row],[Column3]]=90785,\"Y\",\"N\")","v":"N"}]
[null,null,null,null,null,null,null,null,null,null,{"$f":"IF(Table1[[#This Row],[Column3]]=\"T1013\",\"Y\",\"N\")","v":"N"},{"$f":"IF(Table1[[#This Row],[Column3]]=90785,\"Y\",\"N\")","v":"N"}]
[null,null,null,null,null,null,null,null,null,null,{"$f":"IF(Table1[[#This Row],[Column3]]=\"T1013\",\"Y\",\"N\")","v":"N"},{"$f":"IF(Table1[[#This Row],[Column3]]=90785,\"Y\",\"N\")","v":"N"}]
[null,null,null,null,null,null,null,null,null,null,{"$f":"IF(Table1[[#This Row],[Column3]]=\"T1013\",\"Y\",\"N\")","v":"N"},{"$f":"IF(Table1[[#This Row],[Column3]]=90785,\"Y\",\"N\")","v":"N"}]
[null,null,null,null,null,null,null,null,null,null,{"$f":"IF(Table1[[#This Row],[Column3]]=\"T1013\",\"Y\",\"N\")","v":"N"},{"$f":"IF(Table1[[#This Row],[Column3]]=90785,\"Y\",\"N\")","v":"N"}]
[null,null,null,null,null,null,null,null,null,null,{"$f":"IF(Table1[[#This Row],[Column3]]=\"T1013\",\"Y\",\"N\")","v":"N"},{"$f":"IF(Table1[[#This Row],[Column3]]=90785,\"Y\",\"N\")","v":"N"}]
[null,null,null,null,null,null,null,null,null,null,{"$f":"IF(Table1[[#This Row],[Column3]]=\"T1013\",\"Y\",\"N\")","v":"N"},{"$f":"IF(Table1[[#This Row],[Column3]]=90785,\"Y\",\"N\")","v":"N"}]
[null,null,null,null,null,null,null,null,null,null,{"$f":"IF(Table1[[#This Row],[Column3]]=\"T1013\",\"Y\",\"N\")","v":"N"},{"$f":"IF(Table1[[#This Row],[Column3]]=90785,\"Y\",\"N\")","v":"N"}]
[null,null,null,null,null,null,null,null,null,null,{"$f":"IF(Table1[[#This Row],[Column3]]=\"T1013\",\"Y\",\"N\")","v":"N"},{"$f":"IF(Table1[[#This Row],[Column3]]=90785,\"Y\",\"N\")","v":"N"}]
[null,null,null,null,null,null,null,null,null,null,{"$f":"IF(Table1[[#This Row],[Column3]]=\"T1013\",\"Y\",\"N\")","v":"N"},{"$f":"IF(Table1[[#This Row],[Column3]]=90785,\"Y\",\"N\")","v":"N"}]
[null,null,null,null,null,null,null,null,null,null,{"$f":"IF(Table1[[#This Row],[Column3]]=\"T1013\",\"Y\",\"N\")","v":"N"},{"$f":"IF(Table1[[#This Row],[Column3]]=90785,\"Y\",\"N\")","v":"N"}]
[null,null,null,null,null,null,null,null,null,null,{"$f":"IF(Table1[[#This Row],[Column3]]=\"T1013\",\"Y\",\"N\")","v":"N"},{"$f":"IF(Table1[[#This Row],[Column3]]=90785,\"Y\",\"N\")","v":"N"}]
[null,null,null,null,null,null,null,null,null,null,{"$f":"IF(Table1[[#This Row],[Column3]]=\"T1013\",\"Y\",\"N\")","v":"N"},{"$f":"IF(Table1[[#This Row],[Column3]]=90785,\"Y\",\"N\")","v":"N"}]
[null,null,null,null,null,null,null,null,null,null,{"$f":"IF(Table1[[#This Row],[Column3]]=\"T1013\",\"Y\",\"N\")","v":"N"},{"$f":"IF(Table1[[#This Row],[Column3]]=90785,\"Y\",\"N\")","v":"N"}]
[null,null,null,null,null,null,null,null,null,null,{"$f":"IF(Table1[[#This Row],[Column3]]=\"T1013\",\"Y\",\"N\")","v":"N"},{"$f":"IF(Table1[[#This Row],[Column3]]=90785,\"Y\",\"N\")","v":"N"}]
[null,null,null,null,null,null,null,null,null,null,{"$f":"IF(Table1[[#This Row],[Column3]]=\"T1013\",\"Y\",\"N\")","v":"N"},{"$f":"IF(Table1[[#This Row],[Column3]]=90785,\"Y\",\"N\")","v":"N"}]
[null,null,null,null,null,null,null,null,null,null,{"$f":"IF(Table1[[#This Row],[Column3]]=\"T1013\",\"Y\",\"N\")","v":"N"},{"$f":"IF(Table1[[#This Row],[Column3]]=90785,\"Y\",\"N\")","v":"N"}]
[null,null,null,null,null,null,null,null,null,null,{"$f":"IF(Table1[[#This Row],[Column3]]=\"T1013\",\"Y\",\"N\")","v":"N"},{"$f":"IF(Table1[[#This Row],[Column3]]=90785,\"Y\",\"N\")","v":"N"}]
[null,null,null,null,null,null,null,null,null,null,{"$f":"IF(Table1[[#This Row],[Column3]]=\"T1013\",\"Y\",\"N\")","v":"N"},{"$f":"IF(Table1[[#This Row],[Column3]]=90785,\"Y\",\"N\")","v":"N"}]
[null,null,null,null,null,null,null,null,null,null,{"$f":"IF(Table1[[#This Row],[Column3]]=\"T1013\",\"Y\",\"N\")","v":"N"},{"$f":"IF(Table1[[#This Row],[Column3]]=90785,\"Y\",\"N\")","v":"N"}]
[null,null,null,null,null,null,null,null,null,null,{"$f":"IF(Table1[[#This Row],[Column3]]=\"T1013\",\"Y\",\"N\")","v":"N"},{"$f":"IF(Table1[[#This Row],[Column3]]=90785,\"Y\",\"N\")","v":"N"}]
[null,null,null,null,null,null,null,null,null,null,{"$f":"IF(Table1[[#This Row],[Column3]]=\"T1013\",\"Y\",\"N\")","v":"N"},{"$f":"IF(Table1[[#This Row],[Column3]]=90785,\"Y\",\"N\")","v":"N"}]
[null,null,null,null,null,null,null,null,null,null,{"$f":"IF(Table1[[#This Row],[Column3]]=\"T1013\",\"Y\",\"N\")","v":"N"},{"$f":"IF(Table1[[#This Row],[Column3]]=90785,\"Y\",\"N\")","v":"N"}]
[null,null,null,null,null,null,null,null,null,null,{"$f":"IF(Table1[[#This Row],[Column3]]=\"T1013\",\"Y\",\"N\")","v":"N"},{"$f":"IF(Table1[[#This Row],[Column3]]=90785,\"Y\",\"N\")","v":"N"}]
[null,null,null,null,null,null,null,null,null,null,{"$f":"IF(Table1[[#This Row],[Column3]]=\"T1013\",\"Y\",\"N\")","v":"N"},{"$f":"IF(Table1[[#This Row],[Column3]]=90785,\"Y\",\"N\")","v":"N"}]
[null,null,null,null,null,null,null,null,null,null,{"$f":"IF(Table1[[#This Row],[Column3]]=\"T1013\",\"Y\",\"N\")","v":"N"},{"$f":"IF(Table1[[#This Row],[Column3]]=90785,\"Y\",\"N\")","v":"N"}]
[null,null,null,null,null,null,null,null,null,null,{"$f":"IF(Table1[[#This Row],[Column3]]=\"T1013\",\"Y\",\"N\")","v":"N"},{"$f":"IF(Table1[[#This Row],[Column3]]=90785,\"Y\",\"N\")","v":"N"}]
[null,null,null,null,null,null,null,null,null,null,{"$f":"IF(Table1[[#This Row],[Column3]]=\"T1013\",\"Y\",\"N\")","v":"N"},{"$f":"IF(Table1[[#This Row],[Column3]]=90785,\"Y\",\"N\")","v":"N"}]
[null,null,null,null,null,null,null,null,null,null,{"$f":"IF(Table1[[#This Row],[Column3]]=\"T1013\",\"Y\",\"N\")","v":"N"},{"$f":"IF(Table1[[#This Row],[Column3]]=90785,\"Y\",\"N\")","v":"N"}]
[null,null,null,null,null,null,null,null,null,null,{"$f":"IF(Table1[[#This Row],[Column3]]=\"T1013\",\"Y\",\"N\")","v":"N"},{"$f":"IF(Table1[[#This Row],[Column3]]=90785,\"Y\",\"N\")","v":"N"}]
[null,null,null,null,null,null,null,null,null,null,{"$f":"IF(Table1[[#This Row],[Column3]]=\"T1013\",\"Y\",\"N\")","v":"N"},{"$f":"IF(Table1[[#This Row],[Column3]]=90785,\"Y\",\"N\")","v":"N"}]
[null,null,null,null,null,null,null,null,null,null,{"$f":"IF(Table1[[#This Row],[Column3]]=\"T1013\",\"Y\",\"N\")","v":"N"},{"$f":"IF(Table1[[#This Row],[Column3]]=90785,\"Y\",\"N\")","v":"N"}]
[null,null,null,null,null,null,null,null,null,null,{"$f":"IF(Table1[[#This Row],[Column3]]=\"T1013\",\"Y\",\"N\")","v":"N"},{"$f":"IF(Table1[[#This Row],[Column3]]=90785,\"Y\",\"N\")","v":"N"}]
[null,null,null,null,null,null,null,null,null,null,{"$f":"IF(Table1[[#This Row],[Column3]]=\"T1013\",\"Y\",\"N\")","v":"N"},{"$f":"IF(Table1[[#This Row],[Column3]]=90785,\"Y\",\"N\")","v":"N"}]
[null,null,null,null,null,null,null,null,null,null,{"$f":"IF(Table1[[#This Row],[Column3]]=\"T1013\",\"Y\",\"N\")","v":"N"},{"$f":"IF(Table1[[#This Row],[Column3]]=90785,\"Y\",\"N\")","v":"N"}]
[null,null,null,null,null,null,null,null,null,null,{"$f":"IF(Table1[[#This Row],[Column3]]=\"T1013\",\"Y\",\"N\")","v":"N"},{"$f":"IF(Table1[[#This Row],[Column3]]=90785,\"Y\",\"N\")","v":"N"}]
[null,null,null,null,null,null,null,null,null,null,{"$f":"IF(Table1[[#This Row],[Column3]]=\"T1013\",\"Y\",\"N\")","v":"N"},{"$f":"IF(Table1[[#This Row],[Column3]]=90785,\"Y\",\"N\")","v":"N"}]
[null,null,null,null,null,null,null,null,null,null,{"$f":"IF(Table1[[#This Row],[Column3]]=\"T1013\",\"Y\",\"N\")","v":"N"},{"$f":"IF(Table1[[#This Row],[Column3]]=90785,\"Y\",\"N\")","v":"N"}]
[null,null,null,null,null,null,null,null,null,null,{"$f":"IF(Table1[[#This Row],[Column3]]=\"T1013\",\"Y\",\"N\")","v":"N"},{"$f":"IF(Table1[[#This Row],[Column3]]=90785,\"Y\",\"N\")","v":"N"}]
[null,null,null,null,null,null,null,null,null,null,{"$f":"IF(Table1[[#This Row],[Column3]]=\"T1013\",\"Y\",\"N\")","v":"N"},{"$f":"IF(Table1[[#This Row],[Column3]]=90785,\"Y\",\"N\")","v":"N"}]
[null,null,null,null,null,null,null,null,null,null,{"$f":"IF(Table1[[#This Row],[Column3]]=\"T1013\",\"Y\",\"N\")","v":"N"},{"$f":"IF(Table1[[#This Row],[Column3]]=90785,\"Y\",\"N\")","v":"N"}]
[null,null,null,null,null,null,null,null,null,null,{"$f":"IF(Table1[[#This Row],[Column3]]=\"T1013\",\"Y\",\"N\")","v":"N"},{"$f":"IF(Table1[[#This Row],[Column3]]=90785,\"Y\",\"N\")","v":"N"}]
[null,null,null,null,null,null,null,null,null,null,{"$f":"IF(Table1[[#This Row],[Column3]]=\"T1013\",\"Y\",\"N\")","v":"N"},{"$f":"IF(Table1[[#This Row],[Column3]]=90785,\"Y\",\"N\")","v":"N"}]
[null,null,null,null,null,null,null,null,null,null,{"$f":"IF(Table1[[#This Row],[Column3]]=\"T1013\",\"Y\",\"N\")","v":"N"},{"$f":"IF(Table1[[#This Row],[Column3]]=90785,\"Y\",\"N\")","v":"N"}]
[null,null,null,null,null,null,null,null,null,null,{"$f":"IF(Table1[[#This Row],[Column3]]=\"T1013\",\"Y\",\"N\")","v":"N"},{"$f":"IF(Table1[[#This Row],[Column3]]=90785,\"Y\",\"N\")","v":"N"}]
[null,null,null,null,null,null,null,null,null,null,{"$f":"IF(Table1[[#This Row],[Column3]]=\"T1013\",\"Y\",\"N\")","v":"N"},{"$f":"IF(Table1[[#This Row],[Column3]]=90785,\"Y\",\"N\")","v":"N"}]
[null,null,null,null,null,null,null,null,null,null,{"$f":"IF(Table1[[#This Row],[Column3]]=\"T1013\",\"Y\",\"N\")","v":"N"},{"$f":"IF(Table1[[#This Row],[Column3]]=90785,\"Y\",\"N\")","v":"N"}]
[null,null,null,null,null,null,null,null,null,null,{"$f":"IF(Table1[[#This Row],[Column3]]=\"T1013\",\"Y\",\"N\")","v":"N"},{"$f":"IF(Table1[[#This Row],[Column3]]=90785,\"Y\",\"N\")","v":"N"}]
[null,null,null,null,null,null,null,null,null,null,{"$f":"IF(Table1[[#This Row],[Column3]]=\"T1013\",\"Y\",\"N\")","v":"N"},{"$f":"IF(Table1[[#This Row],[Column3]]=90785,\"Y\",\"N\")","v":"N"}]
[null,null,null,null,null,null,null,null,null,null,{"$f":"IF(Table1[[#This Row],[Column3]]=\"T1013\",\"Y\",\"N\")","v":"N"},{"$f":"IF(Table1[[#This Row],[Column3]]=90785,\"Y\",\"N\")","v":"N"}]
[null,null,null,null,null,null,null,null,null,null,{"$f":"IF(Table1[[#This Row],[Column3]]=\"T1013\",\"Y\",\"N\")","v":"N"},{"$f":"IF(Table1[[#This Row],[Column3]]=90785,\"Y\",\"N\")","v":"N"}]
[null,null,null,null,null,null,null,null,null,null,{"$f":"IF(Table1[[#This Row],[Column3]]=\"T1013\",\"Y\",\"N\")","v":"N"},{"$f":"IF(Table1[[#This Row],[Column3]]=90785,\"Y\",\"N\")","v":"N"}]
[null,null,null,null,null,null,null,null,null,null,{"$f":"IF(Table1[[#This Row],[Column3]]=\"T1013\",\"Y\",\"N\")","v":"N"},{"$f":"IF(Table1[[#This Row],[Column3]]=90785,\"Y\",\"N\")","v":"N"}]
[null,null,null,null,null,null,null,null,null,null,{"$f":"IF(Table1[[#This Row],[Column3]]=\"T1013\",\"Y\",\"N\")","v":"N"},{"$f":"IF(Table1[[#This Row],[Column3]]=90785,\"Y\",\"N\")","v":"N"}]
[null,null,null,null,null,null,null,null,null,null,{"$f":"IF(Table1[[#This Row],[Column3]]=\"T1013\",\"Y\",\"N\")","v":"N"},{"$f":"IF(Table1[[#This Row],[Column3]]=90785,\"Y\",\"N\")","v":"N"}]
[null,null,null,null,null,null,null,null,null,null,{"$f":"IF(Table1[[#This Row],[Column3]]=\"T1013\",\"Y\",\"N\")","v":"N"},{"$f":"IF(Table1[[#This Row],[Column3]]=90785,\"Y\",\"N\")","v":"N"}]
[null,null,null,null,null,null,null,null,null,null,{"$f":"IF(Table1[[#This Row],[Column3]]=\"T1013\",\"Y\",\"N\")","v":"N"},{"$f":"IF(Table1[[#This Row],[Column3]]=90785,\"Y\",\"N\")","v":"N"}]
[null,null,null,null,null,null,null,null,null,null,{"$f":"IF(Table1[[#This Row],[Column3]]=\"T1013\",\"Y\",\"N\")","v":"N"},{"$f":"IF(Table1[[#This Row],[Column3]]=90785,\"Y\",\"N\")","v":"N"}]
[null,null,null,null,null,null,null,null,null,null,{"$f":"IF(Table1[[#This Row],[Column3]]=\"T1013\",\"Y\",\"N\")","v":"N"},{"$f":"IF(Table1[[#This Row],[Column3]]=90785,\"Y\",\"N\")","v":"N"}]
[null,null,null,null,null,null,null,null,null,null,{"$f":"IF(Table1[[#This Row],[Column3]]=\"T1013\",\"Y\",\"N\")","v":"N"},{"$f":"IF(Table1[[#This Row],[Column3]]=90785,\"Y\",\"N\")","v":"N"}]
[null,null,null,null,null,null,null,null,null,null,{"$f":"IF(Table1[[#This Row],[Column3]]=\"T1013\",\"Y\",\"N\")","v":"N"},{"$f":"IF(Table1[[#This Row],[Column3]]=90785,\"Y\",\"N\")","v":"N"}]
[null,null,null,null,null,null,null,null,null,null,{"$f":"IF(Table1[[#This Row],[Column3]]=\"T1013\",\"Y\",\"N\")","v":"N"},{"$f":"IF(Table1[[#This Row],[Column3]]=90785,\"Y\",\"N\")","v":"N"}]
[null,null,null,null,null,null,null,null,null,null,{"$f":"IF(Table1[[#This Row],[Column3]]=\"T1013\",\"Y\",\"N\")","v":"N"},{"$f":"IF(Table1[[#This Row],[Column3]]=90785,\"Y\",\"N\")","v":"N"}]
[null,null,null,null,null,null,null,null,null,null,{"$f":"IF(Table1[[#This Row],[Column3]]=\"T1013\",\"Y\",\"N\")","v":"N"},{"$f":"IF(Table1[[#This Row],[Column3]]=90785,\"Y\",\"N\")","v":"N"}]
[null,null,null,null,null,null,null,null,null,null,{"$f":"IF(Table1[[#This Row],[Column3]]=\"T1013\",\"Y\",\"N\")","v":"N"},{"$f":"IF(Table1[[#This Row],[Column3]]=90785,\"Y\",\"N\")","v":"N"}]
[null,null,null,null,null,null,null,null,null,null,{"$f":"IF(Table1[[#This Row],[Column3]]=\"T1013\",\"Y\",\"N\")","v":"N"},{"$f":"IF(Table1[[#This Row],[Column3]]=90785,\"Y\",\"N\")","v":"N"}]
[null,null,null,null,null,null,null,null,null,null,{"$f":"IF(Table1[[#This Row],[Column3]]=\"T1013\",\"Y\",\"N\")","v":"N"},{"$f":"IF(Table1[[#This Row],[Column3]]=90785,\"Y\",\"N\")","v":"N"}]
[null,null,null,null,null,null,null,null,null,null,{"$f":"IF(Table1[[#This Row],[Column3]]=\"T1013\",\"Y\",\"N\")","v":"N"},{"$f":"IF(Table1[[#This Row],[Column3]]=90785,\"Y\",\"N\")","v":"N"}]
[null,null,null,null,null,null,null,null,null,null,{"$f":"IF(Table1[[#This Row],[Column3]]=\"T1013\",\"Y\",\"N\")","v":"N"},{"$f":"IF(Table1[[#This Row],[Column3]]=90785,\"Y\",\"N\")","v":"N"}]
[null,null,null,null,null,null,null,null,null,null,{"$f":"IF(Table1[[#This Row],[Column3]]=\"T1013\",\"Y\",\"N\")","v":"N"},{"$f":"IF(Table1[[#This Row],[Column3]]=90785,\"Y\",\"N\")","v":"N"}]
[null,null,null,null,null,null,null,null,null,null,{"$f":"IF(Table1[[#This Row],[Column3]]=\"T1013\",\"Y\",\"N\")","v":"N"},{"$f":"IF(Table1[[#This Row],[Column3]]=90785,\"Y\",\"N\")","v":"N"}]
[null,null,null,null,null,null,null,null,null,null,{"$f":"IF(Table1[[#This Row],[Column3]]=\"T1013\",\"Y\",\"N\")","v":"N"},{"$f":"IF(Table1[[#This Row],[Column3]]=90785,\"Y\",\"N\")","v":"N"}]
[null,null,null,null,null,null,null,null,null,null,{"$f":"IF(Table1[[#This Row],[Column3]]=\"T1013\",\"Y\",\"N\")","v":"N"},{"$f":"IF(Table1[[#This Row],[Column3]]=90785,\"Y\",\"N\")","v":"N"}]
[null,null,null,null,null,null,null,null,null,null,{"$f":"IF(Table1[[#This Row],[Column3]]=\"T1013\",\"Y\",\"N\")","v":"N"},{"$f":"IF(Table1[[#This Row],[Column3]]=90785,\"Y\",\"N\")","v":"N"}]
[null,null,null,null,null,null,null,null,null,null,{"$f":"IF(Table1[[#This Row],[Column3]]=\"T1013\",\"Y\",\"N\")","v":"N"},{"$f":"IF(Table1[[#This Row],[Column3]]=90785,\"Y\",\"N\")","v":"N"}]
[null,null,null,null,null,null,null,null,null,null,{"$f":"IF(Table1[[#This Row],[Column3]]=\"T1013\",\"Y\",\"N\")","v":"N"},{"$f":"IF(Table1[[#This Row],[Column3]]=90785,\"Y\",\"N\")","v":"N"}]
[null,null,null,null,null,null,null,null,null,null,{"$f":"IF(Table1[[#This Row],[Column3]]=\"T1013\",\"Y\",\"N\")","v":"N"},{"$f":"IF(Table1[[#This Row],[Column3]]=90785,\"Y\",\"N\")","v":"N"}]
[null,null,null,null,null,null,null,null,null,null,{"$f":"IF(Table1[[#This Row],[Column3]]=\"T1013\",\"Y\",\"N\")","v":"N"},{"$f":"IF(Table1[[#This Row],[Column3]]=90785,\"Y\",\"N\")","v":"N"}]
[null,null,null,null,null,null,null,null,null,null,{"$f":"IF(Table1[[#This Row],[Column3]]=\"T1013\",\"Y\",\"N\")","v":"N"},{"$f":"IF(Table1[[#This Row],[Column3]]=90785,\"Y\",\"N\")","v":"N"}]
[null,null,null,null,null,null,null,null,null,null,{"$f":"IF(Table1[[#This Row],[Column3]]=\"T1013\",\"Y\",\"N\")","v":"N"},{"$f":"IF(Table1[[#This Row],[Column3]]=90785,\"Y\",\"N\")","v":"N"}]
[null,null,null,null,null,null,null,null,null,null,{"$f":"IF(Table1[[#This Row],[Column3]]=\"T1013\",\"Y\",\"N\")","v":"N"},{"$f":"IF(Table1[[#This Row],[Column3]]=90785,\"Y\",\"N\")","v":"N"}]
[null,null,null,null,null,null,null,null,null,null,{"$f":"IF(Table1[[#This Row],[Column3]]=\"T1013\",\"Y\",\"N\")","v":"N"},{"$f":"IF(Table1[[#This Row],[Column3]]=90785,\"Y\",\"N\")","v":"N"}]
[null,null,null,null,null,null,null,null,null,null,{"$f":"IF(Table1[[#This Row],[Column3]]=\"T1013\",\"Y\",\"N\")","v":"N"},{"$f":"IF(Table1[[#This Row],[Column3]]=90785,\"Y\",\"N\")","v":"N"}]
[null,null,null,null,null,null,null,null,null,null,{"$f":"IF(Table1[[#This Row],[Column3]]=\"T1013\",\"Y\",\"N\")","v":"N"},{"$f":"IF(Table1[[#This Row],[Column3]]=90785,\"Y\",\"N\")","v":"N"}]
[null,null,null,null,null,null,null,null,null,null,{"$f":"IF(Table1[[#This Row],[Column3]]=\"T1013\",\"Y\",\"N\")","v":"N"},{"$f":"IF(Table1[[#This Row],[Column3]]=90785,\"Y\",\"N\")","v":"N"}]
[null,null,null,null,null,null,null,null,null,null,{"$f":"IF(Table1[[#This Row],[Column3]]=\"T1013\",\"Y\",\"N\")","v":"N"},{"$f":"IF(Table1[[#This Row],[Column3]]=90785,\"Y\",\"N\")","v":"N"}]
[null,null,null,null,null,null,null,null,null,null,{"$f":"IF(Table1[[#This Row],[Column3]]=\"T1013\",\"Y\",\"N\")","v":"N"},{"$f":"IF(Table1[[#This Row],[Column3]]=90785,\"Y\",\"N\")","v":"N"}]
[null,null,null,null,null,null,null,null,null,null,{"$f":"IF(Table1[[#This Row],[Column3]]=\"T1013\",\"Y\",\"N\")","v":"N"},{"$f":"IF(Table1[[#This Row],[Column3]]=90785,\"Y\",\"N\")","v":"N"}]
[null,null,null,null,null,null,null,null,null,null,{"$f":"IF(Table1[[#This Row],[Column3]]=\"T1013\",\"Y\",\"N\")","v":"N"},{"$f":"IF(Table1[[#This Row],[Column3]]=90785,\"Y\",\"N\")","v":"N"}]
[null,null,null,null,null,null,null,null,null,null,{"$f":"IF(Table1[[#This Row],[Column3]]=\"T1013\",\"Y\",\"N\")","v":"N"},{"$f":"IF(Table1[[#This Row],[Column3]]=90785,\"Y\",\"N\")","v":"N"}]
[null,null,null,null,null,null,null,null,null,null,{"$f":"IF(Table1[[#This Row],[Column3]]=\"T1013\",\"Y\",\"N\")","v":"N"},{"$f":"IF(Table1[[#This Row],[Column3]]=90785,\"Y\",\"N\")","v":"N"}]
[null,null,null,null,null,null,null,null,null,null,{"$f":"IF(Table1[[#This Row],[Column3]]=\"T1013\",\"Y\",\"N\")","v":"N"},{"$f":"IF(Table1[[#This Row],[Column3]]=90785,\"Y\",\"N\")","v":"N"}]
[null,null,null,null,null,null,null,null,null,null,{"$f":"IF(Table1[[#This Row],[Column3]]=\"T1013\",\"Y\",\"N\")","v":"N"},{"$f":"IF(Table1[[#This Row],[Column3]]=90785,\"Y\",\"N\")","v":"N"}]
[null,null,null,null,null,null,null,null,null,null,{"$f":"IF(Table1[[#This Row],[Column3]]=\"T1013\",\"Y\",\"N\")","v":"N"},{"$f":"IF(Table1[[#This Row],[Column3]]=90785,\"Y\",\"N\")","v":"N"}]
[null,null,null,null,null,null,null,null,null,null,{"$f":"IF(Table1[[#This Row],[Column3]]=\"T1013\",\"Y\",\"N\")","v":"N"},{"$f":"IF(Table1[[#This Row],[Column3]]=90785,\"Y\",\"N\")","v":"N"}]
[null,null,null,null,null,null,null,null,null,null,{"$f":"IF(Table1[[#This Row],[Column3]]=\"T1013\",\"Y\",\"N\")","v":"N"},{"$f":"IF(Table1[[#This Row],[Column3]]=90785,\"Y\",\"N\")","v":"N"}]
[null,null,null,null,null,null,null,null,null,null,{"$f":"IF(Table1[[#This Row],[Column3]]=\"T1013\",\"Y\",\"N\")","v":"N"},{"$f":"IF(Table1[[#This Row],[Column3]]=90785,\"Y\",\"N\")","v":"N"}]
[null,null,null,null,null,null,null,null,null,null,{"$f":"IF(Table1[[#This Row],[Column3]]=\"T1013\",\"Y\",\"N\")","v":"N"},{"$f":"IF(Table1[[#This Row],[Column3]]=90785,\"Y\",\"N\")","v":"N"}]
[null,null,null,null,null,null,null,null,null,null,{"$f":"IF(Table1[[#This Row],[Column3]]=\"T1013\",\"Y\",\"N\")","v":"N"},{"$f":"IF(Table1[[#This Row],[Column3]]=90785,\"Y\",\"N\")","v":"N"}]
[null,null,null,null,null,null,null,null,null,null,{"$f":"IF(Table1[[#This Row],[Column3]]=\"T1013\",\"Y\",\"N\")","v":"N"},{"$f":"IF(Table1[[#This Row],[Column3]]=90785,\"Y\",\"N\")","v":"N"}]
[null,null,null,null,null,null,null,null,null,null,{"$f":"IF(Table1[[#This Row],[Column3]]=\"T1013\",\"Y\",\"N\")","v":"N"},{"$f":"IF(Table1[[#This Row],[Column3]]=90785,\"Y\",\"N\")","v":"N"}]
[null,null,null,null,null,null,null,null,null,null,{"$f":"IF(Table1[[#This Row],[Column3]]=\"T1013\",\"Y\",\"N\")","v":"N"},{"$f":"IF(Table1[[#This Row],[Column3]]=90785,\"Y\",\"N\")","v":"N"}]
[null,null,null,null,null,null,null,null,null,null,{"$f":"IF(Table1[[#This Row],[Column3]]=\"T1013\",\"Y\",\"N\")","v":"N"},{"$f":"IF(Table1[[#This Row],[Column3]]=90785,\"Y\",\"N\")","v":"N"}]
[null,null,null,null,null,null,null,null,null,null,{"$f":"IF(Table1[[#This Row],[Column3]]=\"T1013\",\"Y\",\"N\")","v":"N"},{"$f":"IF(Table1[[#This Row],[Column3]]=90785,\"Y\",\"N\")","v":"N"}]
[null,null,null,null,null,null,null,null,null,null,{"$f":"IF(Table1[[#This Row],[Column3]]=\"T1013\",\"Y\",\"N\")","v":"N"},{"$f":"IF(Table1[[#This Row],[Column3]]=90785,\"Y\",\"N\")","v":"N"}]
[null,null,null,null,null,null,null,null,null,null,{"$f":"IF(Table1[[#This Row],[Column3]]=\"T1013\",\"Y\",\"N\")","v":"N"},{"$f":"IF(Table1[[#This Row],[Column3]]=90785,\"Y\",\"N\")","v":"N"}]
[null,null,null,null,null,null,null,null,null,null,{"$f":"IF(Table1[[#This Row],[Column3]]=\"T1013\",\"Y\",\"N\")","v":"N"},{"$f":"IF(Table1[[#This Row],[Column3]]=90785,\"Y\",\"N\")","v":"N"}]
[null,null,null,null,null,null,null,null,null,null,{"$f":"IF(Table1[[#This Row],[Column3]]=\"T1013\",\"Y\",\"N\")","v":"N"},{"$f":"IF(Table1[[#This Row],[Column3]]=90785,\"Y\",\"N\")","v":"N"}]
[null,null,null,null,null,null,null,null,null,null,{"$f":"IF(Table1[[#This Row],[Column3]]=\"T1013\",\"Y\",\"N\")","v":"N"},{"$f":"IF(Table1[[#This Row],[Column3]]=90785,\"Y\",\"N\")","v":"N"}]
[null,null,null,null,null,null,null,null,null,null,{"$f":"IF(Table1[[#This Row],[Column3]]=\"T1013\",\"Y\",\"N\")","v":"N"},{"$f":"IF(Table1[[#This Row],[Column3]]=90785,\"Y\",\"N\")","v":"N"}]
[null,null,null,null,null,null,null,null,null,null,{"$f":"IF(Table1[[#This Row],[Column3]]=\"T1013\",\"Y\",\"N\")","v":"N"},{"$f":"IF(Table1[[#This Row],[Column3]]=90785,\"Y\",\"N\")","v":"N"}]
[null,null,null,null,null,null,null,null,null,null,{"$f":"IF(Table1[[#This Row],[Column3]]=\"T1013\",\"Y\",\"N\")","v":"N"},{"$f":"IF(Table1[[#This Row],[Column3]]=90785,\"Y\",\"N\")","v":"N"}]
[null,null,null,null,null,null,null,null,null,null,{"$f":"IF(Table1[[#This Row],[Column3]]=\"T1013\",\"Y\",\"N\")","v":"N"},{"$f":"IF(Table1[[#This Row],[Column3]]=90785,\"Y\",\"N\")","v":"N"}]
[null,null,null,null,null,null,null,null,null,null,{"$f":"IF(Table1[[#This Row],[Column3]]=\"T1013\",\"Y\",\"N\")","v":"N"},{"$f":"IF(Table1[[#This Row],[Column3]]=90785,\"Y\",\"N\")","v":"N"}]
[null,null,null,null,null,null,null,null,null,null,{"$f":"IF(Table1[[#This Row],[Column3]]=\"T1013\",\"Y\",\"N\")","v":"N"},{"$f":"IF(Table1[[#This Row],[Column3]]=90785,\"Y\",\"N\")","v":"N"}]
[null,null,null,null,null,null,null,null,null,null,{"$f":"IF(Table1[[#This Row],[Column3]]=\"T1013\",\"Y\",\"N\")","v":"N"},{"$f":"IF(Table1[[#This Row],[Column3]]=90785,\"Y\",\"N\")","v":"N"}]
[null,null,null,null,null,null,null,null,null,null,{"$f":"IF(Table1[[#This Row],[Column3]]=\"T1013\",\"Y\",\"N\")","v":"N"},{"$f":"IF(Table1[[#This Row],[Column3]]=90785,\"Y\",\"N\")","v":"N"}]
[null,null,null,null,null,null,null,null,null,null,{"$f":"IF(Table1[[#This Row],[Column3]]=\"T1013\",\"Y\",\"N\")","v":"N"},{"$f":"IF(Table1[[#This Row],[Column3]]=90785,\"Y\",\"N\")","v":"N"}]
[null,null,null,null,null,null,null,null,null,null,{"$f":"IF(Table1[[#This Row],[Column3]]=\"T1013\",\"Y\",\"N\")","v":"N"},{"$f":"IF(Table1[[#This Row],[Column3]]=90785,\"Y\",\"N\")","v":"N"}]
[null,null,null,null,null,null,null,null,null,null,{"$f":"IF(Table1[[#This Row],[Column3]]=\"T1013\",\"Y\",\"N\")","v":"N"},{"$f":"IF(Table1[[#This Row],[Column3]]=90785,\"Y\",\"N\")","v":"N"}]
[null,null,null,null,null,null,null,null,null,null,{"$f":"IF(Table1[[#This Row],[Column3]]=\"T1013\",\"Y\",\"N\")","v":"N"},{"$f":"IF(Table1[[#This Row],[Column3]]=90785,\"Y\",\"N\")","v":"N"}]
[null,null,null,null,null,null,null,null,null,null,{"$f":"IF(Table1[[#This Row],[Column3]]=\"T1013\",\"Y\",\"N\")","v":"N"},{"$f":"IF(Table1[[#This Row],[Column3]]=90785,\"Y\",\"N\")","v":"N"}]
[null,null,null,null,null,null,null,null,null,null,{"$f":"IF(Table1[[#This Row],[Column3]]=\"T1013\",\"Y\",\"N\")","v":"N"},{"$f":"IF(Table1[[#This Row],[Column3]]=90785,\"Y\",\"N\")","v":"N"}]
[null,null,null,null,null,null,null,null,null,null,{"$f":"IF(Table1[[#This Row],[Column3]]=\"T1013\",\"Y\",\"N\")","v":"N"},{"$f":"IF(Table1[[#This Row],[Column3]]=90785,\"Y\",\"N\")","v":"N"}]
[null,null,null,null,null,null,null,null,null,null,{"$f":"IF(Table1[[#This Row],[Column3]]=\"T1013\",\"Y\",\"N\")","v":"N"},{"$f":"IF(Table1[[#This Row],[Column3]]=90785,\"Y\",\"N\")","v":"N"}]
[null,null,null,null,null,null,null,null,null,null,{"$f":"IF(Table1[[#This Row],[Column3]]=\"T1013\",\"Y\",\"N\")","v":"N"},{"$f":"IF(Table1[[#This Row],[Column3]]=90785,\"Y\",\"N\")","v":"N"}]
[null,null,null,null,null,null,null,null,null,null,{"$f":"IF(Table1[[#This Row],[Column3]]=\"T1013\",\"Y\",\"N\")","v":"N"},{"$f":"IF(Table1[[#This Row],[Column3]]=90785,\"Y\",\"N\")","v":"N"}]
[null,null,null,null,null,null,null,null,null,null,{"$f":"IF(Table1[[#This Row],[Column3]]=\"T1013\",\"Y\",\"N\")","v":"N"},{"$f":"IF(Table1[[#This Row],[Column3]]=90785,\"Y\",\"N\")","v":"N"}]
[null,null,null,null,null,null,null,null,null,null,{"$f":"IF(Table1[[#This Row],[Column3]]=\"T1013\",\"Y\",\"N\")","v":"N"},{"$f":"IF(Table1[[#This Row],[Column3]]=90785,\"Y\",\"N\")","v":"N"}]
[null,null,null,null,null,null,null,null,null,null,{"$f":"IF(Table1[[#This Row],[Column3]]=\"T1013\",\"Y\",\"N\")","v":"N"},{"$f":"IF(Table1[[#This Row],[Column3]]=90785,\"Y\",\"N\")","v":"N"}]
[null,null,null,null,null,null,null,null,null,null,{"$f":"IF(Table1[[#This Row],[Column3]]=\"T1013\",\"Y\",\"N\")","v":"N"},{"$f":"IF(Table1[[#This Row],[Column3]]=90785,\"Y\",\"N\")","v":"N"}]
[null,null,null,null,null,null,null,null,null,null,{"$f":"IF(Table1[[#This Row],[Column3]]=\"T1013\",\"Y\",\"N\")","v":"N"},{"$f":"IF(Table1[[#This Row],[Column3]]=90785,\"Y\",\"N\")","v":"N"}]
[null,null,null,null,null,null,null,null,null,null,{"$f":"IF(Table1[[#This Row],[Column3]]=\"T1013\",\"Y\",\"N\")","v":"N"},{"$f":"IF(Table1[[#This Row],[Column3]]=90785,\"Y\",\"N\")","v":"N"}]
[null,null,null,null,null,null,null,null,null,null,{"$f":"IF(Table1[[#This Row],[Column3]]=\"T1013\",\"Y\",\"N\")","v":"N"},{"$f":"IF(Table1[[#This Row],[Column3]]=90785,\"Y\",\"N\")","v":"N"}]
[null,null,null,null,null,null,null,null,null,null,{"$f":"IF(Table1[[#This Row],[Column3]]=\"T1013\",\"Y\",\"N\")","v":"N"},{"$f":"IF(Table1[[#This Row],[Column3]]=90785,\"Y\",\"N\")","v":"N"}]
[null,null,null,null,null,null,null,null,null,null,{"$f":"IF(Table1[[#This Row],[Column3]]=\"T1013\",\"Y\",\"N\")","v":"N"},{"$f":"IF(Table1[[#This Row],[Column3]]=90785,\"Y\",\"N\")","v":"N"}]
[null,null,null,null,null,null,null,null,null,null,{"$f":"IF(Table1[[#This Row],[Column3]]=\"T1013\",\"Y\",\"N\")","v":"N"},{"$f":"IF(Table1[[#This Row],[Column3]]=90785,\"Y\",\"N\")","v":"N"}]
[null,null,null,null,null,null,null,null,null,null,{"$f":"IF(Table1[[#This Row],[Column3]]=\"T1013\",\"Y\",\"N\")","v":"N"},{"$f":"IF(Table1[[#This Row],[Column3]]=90785,\"Y\",\"N\")","v":"N"}]
[null,null,null,null,null,null,null,null,null,null,{"$f":"IF(Table1[[#This Row],[Column3]]=\"T1013\",\"Y\",\"N\")","v":"N"},{"$f":"IF(Table1[[#This Row],[Column3]]=90785,\"Y\",\"N\")","v":"N"}]
[null,null,null,null,null,null,null,null,null,null,{"$f":"IF(Table1[[#This Row],[Column3]]=\"T1013\",\"Y\",\"N\")","v":"N"},{"$f":"IF(Table1[[#This Row],[Column3]]=90785,\"Y\",\"N\")","v":"N"}]
[null,null,null,null,null,null,null,null,null,null,{"$f":"IF(Table1[[#This Row],[Column3]]=\"T1013\",\"Y\",\"N\")","v":"N"},{"$f":"IF(Table1[[#This Row],[Column3]]=90785,\"Y\",\"N\")","v":"N"}]
[null,null,null,null,null,null,null,null,null,null,{"$f":"IF(Table1[[#This Row],[Column3]]=\"T1013\",\"Y\",\"N\")","v":"N"},{"$f":"IF(Table1[[#This Row],[Column3]]=90785,\"Y\",\"N\")","v":"N"}]
[null,null,null,null,null,null,null,null,null,null,{"$f":"IF(Table1[[#This Row],[Column3]]=\"T1013\",\"Y\",\"N\")","v":"N"},{"$f":"IF(Table1[[#This Row],[Column3]]=90785,\"Y\",\"N\")","v":"N"}]
[null,null,null,null,null,null,null,null,null,null,{"$f":"IF(Table1[[#This Row],[Column3]]=\"T1013\",\"Y\",\"N\")","v":"N"},{"$f":"IF(Table1[[#This Row],[Column3]]=90785,\"Y\",\"N\")","v":"N"}]
[null,null,null,null,null,null,null,null,null,null,{"$f":"IF(Table1[[#This Row],[Column3]]=\"T1013\",\"Y\",\"N\")","v":"N"},{"$f":"IF(Table1[[#This Row],[Column3]]=90785,\"Y\",\"N\")","v":"N"}]
[null,null,null,null,null,null,null,null,null,null,{"$f":"IF(Table1[[#This Row],[Column3]]=\"T1013\",\"Y\",\"N\")","v":"N"},{"$f":"IF(Table1[[#This Row],[Column3]]=90785,\"Y\",\"N\")","v":"N"}]
[null,null,null,null,null,null,null,null,null,null,{"$f":"IF(Table1[[#This Row],[Column3]]=\"T1013\",\"Y\",\"N\")","v":"N"},{"$f":"IF(Table1[[#This Row],[Column3]]=90785,\"Y\",\"N\")","v":"N"}]
[null,null,null,null,null,null,null,null,null,null,{"$f":"IF(Table1[[#This Row],[Column3]]=\"T1013\",\"Y\",\"N\")","v":"N"},{"$f":"IF(Table1[[#This Row],[Column3]]=90785,\"Y\",\"N\")","v":"N"}]
[null,null,null,null,null,null,null,null,null,null,{"$f":"IF(Table1[[#This Row],[Column3]]=\"T1013\",\"Y\",\"N\")","v":"N"},{"$f":"IF(Table1[[#This Row],[Column3]]=90785,\"Y\",\"N\")","v":"N"}]
[null,null,null,null,null,null,null,null,null,null,{"$f":"IF(Table1[[#This Row],[Column3]]=\"T1013\",\"Y\",\"N\")","v":"N"},{"$f":"IF(Table1[[#This Row],[Column3]]=90785,\"Y\",\"N\")","v":"N"}]
[null,null,null,null,null,null,null,null,null,null,{"$f":"IF(Table1[[#This Row],[Column3]]=\"T1013\",\"Y\",\"N\")","v":"N"},{"$f":"IF(Table1[[#This Row],[Column3]]=90785,\"Y\",\"N\")","v":"N"}]
[null,null,null,null,null,null,null,null,null,null,{"$f":"IF(Table1[[#This Row],[Column3]]=\"T1013\",\"Y\",\"N\")","v":"N"},{"$f":"IF(Table1[[#This Row],[Column3]]=90785,\"Y\",\"N\")","v":"N"}]
[null,null,null,null,null,null,null,null,null,null,{"$f":"IF(Table1[[#This Row],[Column3]]=\"T1013\",\"Y\",\"N\")","v":"N"},{"$f":"IF(Table1[[#This Row],[Column3]]=90785,\"Y\",\"N\")","v":"N"}]
[null,null,null,null,null,null,null,null,null,null,{"$f":"IF(Table1[[#This Row],[Column3]]=\"T1013\",\"Y\",\"N\")","v":"N"},{"$f":"IF(Table1[[#This Row],[Column3]]=90785,\"Y\",\"N\")","v":"N"}]
[null,null,null,null,null,null,null,null,null,null,{"$f":"IF(Table1[[#This Row],[Column3]]=\"T1013\",\"Y\",\"N\")","v":"N"},{"$f":"IF(Table1[[#This Row],[Column3]]=90785,\"Y\",\"N\")","v":"N"}]
[null,null,null,null,null,null,null,null,null,null,{"$f":"IF(Table1[[#This Row],[Column3]]=\"T1013\",\"Y\",\"N\")","v":"N"},{"$f":"IF(Table1[[#This Row],[Column3]]=90785,\"Y\",\"N\")","v":"N"}]
[null,null,null,null,null,null,null,null,null,null,{"$f":"IF(Table1[[#This Row],[Column3]]=\"T1013\",\"Y\",\"N\")","v":"N"},{"$f":"IF(Table1[[#This Row],[Column3]]=90785,\"Y\",\"N\")","v":"N"}]
[null,null,null,null,null,null,null,null,null,null,{"$f":"IF(Table1[[#This Row],[Column3]]=\"T1013\",\"Y\",\"N\")","v":"N"},{"$f":"IF(Table1[[#This Row],[Column3]]=90785,\"Y\",\"N\")","v":"N"}]
[null,null,null,null,null,null,null,null,null,null,{"$f":"IF(Table1[[#This Row],[Column3]]=\"T1013\",\"Y\",\"N\")","v":"N"},{"$f":"IF(Table1[[#This Row],[Column3]]=90785,\"Y\",\"N\")","v":"N"}]
[null,null,null,null,null,null,null,null,null,null,{"$f":"IF(Table1[[#This Row],[Column3]]=\"T1013\",\"Y\",\"N\")","v":"N"},{"$f":"IF(Table1[[#This Row],[Column3]]=90785,\"Y\",\"N\")","v":"N"}]
[null,null,null,null,null,null,null,null,null,null,{"$f":"IF(Table1[[#This Row],[Column3]]=\"T1013\",\"Y\",\"N\")","v":"N"},{"$f":"IF(Table1[[#This Row],[Column3]]=90785,\"Y\",\"N\")","v":"N"}]
[null,null,null,null,null,null,null,null,null,null,{"$f":"IF(Table1[[#This Row],[Column3]]=\"T1013\",\"Y\",\"N\")","v":"N"},{"$f":"IF(Table1[[#This Row],[Column3]]=90785,\"Y\",\"N\")","v":"N"}]
[null,null,null,null,null,null,null,null,null,null,{"$f":"IF(Table1[[#This Row],[Column3]]=\"T1013\",\"Y\",\"N\")","v":"N"},{"$f":"IF(Table1[[#This Row],[Column3]]=90785,\"Y\",\"N\")","v":"N"}]
[null,null,null,null,null,null,null,null,null,null,{"$f":"IF(Table1[[#This Row],[Column3]]=\"T1013\",\"Y\",\"N\")","v":"N"},{"$f":"IF(Table1[[#This Row],[Column3]]=90785,\"Y\",\"N\")","v":"N"}]
[null,null,null,null,null,null,null,null,null,null,{"$f":"IF(Table1[[#This Row],[Column3]]=\"T1013\",\"Y\",\"N\")","v":"N"},{"$f":"IF(Table1[[#This Row],[Column3]]=90785,\"Y\",\"N\")","v":"N"}]
[null,null,null,null,null,null,null,null,null,null,{"$f":"IF(Table1[[#This Row],[Column3]]=\"T1013\",\"Y\",\"N\")","v":"N"},{"$f":"IF(Table1[[#This Row],[Column3]]=90785,\"Y\",\"N\")","v":"N"}]
[null,null,null,null,null,null,null,null,null,null,{"$f":"IF(Table1[[#This Row],[Column3]]=\"T1013\",\"Y\",\"N\")","v":"N"},{"$f":"IF(Table1[[#This Row],[Column3]]=90785,\"Y\",\"N\")","v":"N"}]
[null,null,null,null,null,null,null,null,null,null,{"$f":"IF(Table1[[#This Row],[Column3]]=\"T1013\",\"Y\",\"N\")","v":"N"},{"$f":"IF(Table1[[#This Row],[Column3]]=90785,\"Y\",\"N\")","v":"N"}]
[null,null,null,null,null,null,null,null,null,null,{"$f":"IF(Table1[[#This Row],[Column3]]=\"T1013\",\"Y\",\"N\")","v":"N"},{"$f":"IF(Table1[[#This Row],[Column3]]=90785,\"Y\",\"N\")","v":"N"}]
[null,null,null,null,null,null,null,null,null,null,{"$f":"IF(Table1[[#This Row],[Column3]]=\"T1013\",\"Y\",\"N\")","v":"N"},{"$f":"IF(Table1[[#This Row],[Column3]]=90785,\"Y\",\"N\")","v":"N"}]
[null,null,null,null,null,null,null,null,null,null,{"$f":"IF(Table1[[#This Row],[Column3]]=\"T1013\",\"Y\",\"N\")","v":"N"},{"$f":"IF(Table1[[#This Row],[Column3]]=90785,\"Y\",\"N\")","v":"N"}]
[null,null,null,null,null,null,null,null,null,null,{"$f":"IF(Table1[[#This Row],[Column3]]=\"T1013\",\"Y\",\"N\")","v":"N"},{"$f":"IF(Table1[[#This Row],[Column3]]=90785,\"Y\",\"N\")","v":"N"}]
[null,null,null,null,null,null,null,null,null,null,{"$f":"IF(Table1[[#This Row],[Column3]]=\"T1013\",\"Y\",\"N\")","v":"N"},{"$f":"IF(Table1[[#This Row],[Column3]]=90785,\"Y\",\"N\")","v":"N"}]
[null,null,null,null,null,null,null,null,null,null,{"$f":"IF(Table1[[#This Row],[Column3]]=\"T1013\",\"Y\",\"N\")","v":"N"},{"$f":"IF(Table1[[#This Row],[Column3]]=90785,\"Y\",\"N\")","v":"N"}]
[null,null,null,null,null,null,null,null,null,null,{"$f":"IF(Table1[[#This Row],[Column3]]=\"T1013\",\"Y\",\"N\")","v":"N"},{"$f":"IF(Table1[[#This Row],[Column3]]=90785,\"Y\",\"N\")","v":"N"}]
[null,null,null,null,null,null,null,null,null,null,{"$f":"IF(Table1[[#This Row],[Column3]]=\"T1013\",\"Y\",\"N\")","v":"N"},{"$f":"IF(Table1[[#This Row],[Column3]]=90785,\"Y\",\"N\")","v":"N"}]
[null,null,null,null,null,null,null,null,null,null,{"$f":"IF(Table1[[#This Row],[Column3]]=\"T1013\",\"Y\",\"N\")","v":"N"},{"$f":"IF(Table1[[#This Row],[Column3]]=90785,\"Y\",\"N\")","v":"N"}]
[null,null,null,null,null,null,null,null,null,null,{"$f":"IF(Table1[[#This Row],[Column3]]=\"T1013\",\"Y\",\"N\")","v":"N"},{"$f":"IF(Table1[[#This Row],[Column3]]=90785,\"Y\",\"N\")","v":"N"}]
[null,null,null,null,null,null,null,null,null,null,{"$f":"IF(Table1[[#This Row],[Column3]]=\"T1013\",\"Y\",\"N\")","v":"N"},{"$f":"IF(Table1[[#This Row],[Column3]]=90785,\"Y\",\"N\")","v":"N"}]
[null,null,null,null,null,null,null,null,null,null,{"$f":"IF(Table1[[#This Row],[Column3]]=\"T1013\",\"Y\",\"N\")","v":"N"},{"$f":"IF(Table1[[#This Row],[Column3]]=90785,\"Y\",\"N\")","v":"N"}]
[null,null,null,null,null,null,null,null,null,null,{"$f":"IF(Table1[[#This Row],[Column3]]=\"T1013\",\"Y\",\"N\")","v":"N"},{"$f":"IF(Table1[[#This Row],[Column3]]=90785,\"Y\",\"N\")","v":"N"}]
[null,null,null,null,null,null,null,null,null,null,{"$f":"IF(Table1[[#This Row],[Column3]]=\"T1013\",\"Y\",\"N\")","v":"N"},{"$f":"IF(Table1[[#This Row],[Column3]]=90785,\"Y\",\"N\")","v":"N"}]
[null,null,null,null,null,null,null,null,null,null,{"$f":"IF(Table1[[#This Row],[Column3]]=\"T1013\",\"Y\",\"N\")","v":"N"},{"$f":"IF(Table1[[#This Row],[Column3]]=90785,\"Y\",\"N\")","v":"N"}]
[null,null,null,null,null,null,null,null,null,null,{"$f":"IF(Table1[[#This Row],[Column3]]=\"T1013\",\"Y\",\"N\")","v":"N"},{"$f":"IF(Table1[[#This Row],[Column3]]=90785,\"Y\",\"N\")","v":"N"}]
[null,null,null,null,null,null,null,null,null,null,{"$f":"IF(Table1[[#This Row],[Column3]]=\"T1013\",\"Y\",\"N\")","v":"N"},{"$f":"IF(Table1[[#This Row],[Column3]]=90785,\"Y\",\"N\")","v":"N"}]
[null,null,null,null,null,null,null,null,null,null,{"$f":"IF(Table1[[#This Row],[Column3]]=\"T1013\",\"Y\",\"N\")","v":"N"},{"$f":"IF(Table1[[#This Row],[Column3]]=90785,\"Y\",\"N\")","v":"N"}]
[null,null,null,null,null,null,null,null,null,null,{"$f":"IF(Table1[[#This Row],[Column3]]=\"T1013\",\"Y\",\"N\")","v":"N"},{"$f":"IF(Table1[[#This Row],[Column3]]=90785,\"Y\",\"N\")","v":"N"}]
[null,null,null,null,null,null,null,null,null,null,{"$f":"IF(Table1[[#This Row],[Column3]]=\"T1013\",\"Y\",\"N\")","v":"N"},{"$f":"IF(Table1[[#This Row],[Column3]]=90785,\"Y\",\"N\")","v":"N"}]
[null,null,null,null,null,null,null,null,null,null,{"$f":"IF(Table1[[#This Row],[Column3]]=\"T1013\",\"Y\",\"N\")","v":"N"},{"$f":"IF(Table1[[#This Row],[Column3]]=90785,\"Y\",\"N\")","v":"N"}]
[null,null,null,null,null,null,null,null,null,null,{"$f":"IF(Table1[[#This Row],[Column3]]=\"T1013\",\"Y\",\"N\")","v":"N"},{"$f":"IF(Table1[[#This Row],[Column3]]=90785,\"Y\",\"N\")","v":"N"}]
[null,null,null,null,null,null,null,null,null,null,{"$f":"IF(Table1[[#This Row],[Column3]]=\"T1013\",\"Y\",\"N\")","v":"N"},{"$f":"IF(Table1[[#This Row],[Column3]]=90785,\"Y\",\"N\")","v":"N"}]
[null,null,null,null,null,null,null,null,null,null,{"$f":"IF(Table1[[#This Row],[Column3]]=\"T1013\",\"Y\",\"N\")","v":"N"},{"$f":"IF(Table1[[#This Row],[Column3]]=90785,\"Y\",\"N\")","v":"N"}]
[null,null,null,null,null,null,null,null,null,null,{"$f":"IF(Table1[[#This Row],[Column3]]=\"T1013\",\"Y\",\"N\")","v":"N"},{"$f":"IF(Table1[[#This Row],[Column3]]=90785,\"Y\",\"N\")","v":"N"}]
[null,null,null,null,null,null,null,null,null,null,{"$f":"IF(Table1[[#This Row],[Column3]]=\"T1013\",\"Y\",\"N\")","v":"N"},{"$f":"IF(Table1[[#This Row],[Column3]]=90785,\"Y\",\"N\")","v":"N"}]
[null,null,null,null,null,null,null,null,null,null,{"$f":"IF(Table1[[#This Row],[Column3]]=\"T1013\",\"Y\",\"N\")","v":"N"},{"$f":"IF(Table1[[#This Row],[Column3]]=90785,\"Y\",\"N\")","v":"N"}]
[null,null,null,null,null,null,null,null,null,null,{"$f":"IF(Table1[[#This Row],[Column3]]=\"T1013\",\"Y\",\"N\")","v":"N"},{"$f":"IF(Table1[[#This Row],[Column3]]=90785,\"Y\",\"N\")","v":"N"}]
[null,null,null,null,null,null,null,null,null,null,{"$f":"IF(Table1[[#This Row],[Column3]]=\"T1013\",\"Y\",\"N\")","v":"N"},{"$f":"IF(Table1[[#This Row],[Column3]]=90785,\"Y\",\"N\")","v":"N"}]
[null,null,null,null,null,null,null,null,null,null,{"$f":"IF(Table1[[#This Row],[Column3]]=\"T1013\",\"Y\",\"N\")","v":"N"},{"$f":"IF(Table1[[#This Row],[Column3]]=90785,\"Y\",\"N\")","v":"N"}]
[null,null,null,null,null,null,null,null,null,null,{"$f":"IF(Table1[[#This Row],[Column3]]=\"T1013\",\"Y\",\"N\")","v":"N"},{"$f":"IF(Table1[[#This Row],[Column3]]=90785,\"Y\",\"N\")","v":"N"}]
[null,null,null,null,null,null,null,null,null,null,{"$f":"IF(Table1[[#This Row],[Column3]]=\"T1013\",\"Y\",\"N\")","v":"N"},{"$f":"IF(Table1[[#This Row],[Column3]]=90785,\"Y\",\"N\")","v":"N"}]
[null,null,null,null,null,null,null,null,null,null,{"$f":"IF(Table1[[#This Row],[Column3]]=\"T1013\",\"Y\",\"N\")","v":"N"},{"$f":"IF(Table1[[#This Row],[Column3]]=90785,\"Y\",\"N\")","v":"N"}]
[null,null,null,null,null,null,null,null,null,null,{"$f":"IF(Table1[[#This Row],[Column3]]=\"T1013\",\"Y\",\"N\")","v":"N"},{"$f":"IF(Table1[[#This Row],[Column3]]=90785,\"Y\",\"N\")","v":"N"}]
[null,null,null,null,null,null,null,null,null,null,{"$f":"IF(Table1[[#This Row],[Column3]]=\"T1013\",\"Y\",\"N\")","v":"N"},{"$f":"IF(Table1[[#This Row],[Column3]]=90785,\"Y\",\"N\")","v":"N"}]
[null,null,null,null,null,null,null,null,null,null,{"$f":"IF(Table1[[#This Row],[Column3]]=\"T1013\",\"Y\",\"N\")","v":"N"},{"$f":"IF(Table1[[#This Row],[Column3]]=90785,\"Y\",\"N\")","v":"N"}]
[null,null,null,null,null,null,null,null,null,null,{"$f":"IF(Table1[[#This Row],[Column3]]=\"T1013\",\"Y\",\"N\")","v":"N"},{"$f":"IF(Table1[[#This Row],[Column3]]=90785,\"Y\",\"N\")","v":"N"}]
[null,null,null,null,null,null,null,null,null,null,{"$f":"IF(Table1[[#This Row],[Column3]]=\"T1013\",\"Y\",\"N\")","v":"N"},{"$f":"IF(Table1[[#This Row],[Column3]]=90785,\"Y\",\"N\")","v":"N"}]
[null,null,null,null,null,null,null,null,null,null,{"$f":"IF(Table1[[#This Row],[Column3]]=\"T1013\",\"Y\",\"N\")","v":"N"},{"$f":"IF(Table1[[#This Row],[Column3]]=90785,\"Y\",\"N\")","v":"N"}]
[null,null,null,null,null,null,null,null,null,null,{"$f":"IF(Table1[[#This Row],[Column3]]=\"T1013\",\"Y\",\"N\")","v":"N"},{"$f":"IF(Table1[[#This Row],[Column3]]=90785,\"Y\",\"N\")","v":"N"}]
[null,null,null,null,null,null,null,null,null,null,{"$f":"IF(Table1[[#This Row],[Column3]]=\"T1013\",\"Y\",\"N\")","v":"N"},{"$f":"IF(Table1[[#This Row],[Column3]]=90785,\"Y\",\"N\")","v":"N"}]
[null,null,null,null,null,null,null,null,null,null,{"$f":"IF(Table1[[#This Row],[Column3]]=\"T1013\",\"Y\",\"N\")","v":"N"},{"$f":"IF(Table1[[#This Row],[Column3]]=90785,\"Y\",\"N\")","v":"N"}]
[null,null,null,null,null,null,null,null,null,null,{"$f":"IF(Table1[[#This Row],[Column3]]=\"T1013\",\"Y\",\"N\")","v":"N"},{"$f":"IF(Table1[[#This Row],[Column3]]=90785,\"Y\",\"N\")","v":"N"}]
[null,null,null,null,null,null,null,null,null,null,{"$f":"IF(Table1[[#This Row],[Column3]]=\"T1013\",\"Y\",\"N\")","v":"N"},{"$f":"IF(Table1[[#This Row],[Column3]]=90785,\"Y\",\"N\")","v":"N"}]
[null,null,null,null,null,null,null,null,null,null,{"$f":"IF(Table1[[#This Row],[Column3]]=\"T1013\",\"Y\",\"N\")","v":"N"},{"$f":"IF(Table1[[#This Row],[Column3]]=90785,\"Y\",\"N\")","v":"N"}]
[null,null,null,null,null,null,null,null,null,null,{"$f":"IF(Table1[[#This Row],[Column3]]=\"T1013\",\"Y\",\"N\")","v":"N"},{"$f":"IF(Table1[[#This Row],[Column3]]=90785,\"Y\",\"N\")","v":"N"}]
[null,null,null,null,null,null,null,null,null,null,{"$f":"IF(Table1[[#This Row],[Column3]]=\"T1013\",\"Y\",\"N\")","v":"N"},{"$f":"IF(Table1[[#This Row],[Column3]]=90785,\"Y\",\"N\")","v":"N"}]
[null,null,null,null,null,null,null,null,null,null,{"$f":"IF(Table1[[#This Row],[Column3]]=\"T1013\",\"Y\",\"N\")","v":"N"},{"$f":"IF(Table1[[#This Row],[Column3]]=90785,\"Y\",\"N\")","v":"N"}]
[null,null,null,null,null,null,null,null,null,null,{"$f":"IF(Table1[[#This Row],[Column3]]=\"T1013\",\"Y\",\"N\")","v":"N"},{"$f":"IF(Table1[[#This Row],[Column3]]=90785,\"Y\",\"N\")","v":"N"}]
[null,null,null,null,null,null,null,null,null,null,{"$f":"IF(Table1[[#This Row],[Column3]]=\"T1013\",\"Y\",\"N\")","v":"N"},{"$f":"IF(Table1[[#This Row],[Column3]]=90785,\"Y\",\"N\")","v":"N"}]
[null,null,null,null,null,null,null,null,null,null,{"$f":"IF(Table1[[#This Row],[Column3]]=\"T1013\",\"Y\",\"N\")","v":"N"},{"$f":"IF(Table1[[#This Row],[Column3]]=90785,\"Y\",\"N\")","v":"N"}]
[null,null,null,null,null,null,null,null,null,null,{"$f":"IF(Table1[[#This Row],[Column3]]=\"T1013\",\"Y\",\"N\")","v":"N"},{"$f":"IF(Table1[[#This Row],[Column3]]=90785,\"Y\",\"N\")","v":"N"}]
[null,null,null,null,null,null,null,null,null,null,{"$f":"IF(Table1[[#This Row],[Column3]]=\"T1013\",\"Y\",\"N\")","v":"N"},{"$f":"IF(Table1[[#This Row],[Column3]]=90785,\"Y\",\"N\")","v":"N"}]
[null,null,null,null,null,null,null,null,null,null,{"$f":"IF(Table1[[#This Row],[Column3]]=\"T1013\",\"Y\",\"N\")","v":"N"},{"$f":"IF(Table1[[#This Row],[Column3]]=90785,\"Y\",\"N\")","v":"N"}]
[null,null,null,null,null,null,null,null,null,null,{"$f":"IF(Table1[[#This Row],[Column3]]=\"T1013\",\"Y\",\"N\")","v":"N"},{"$f":"IF(Table1[[#This Row],[Column3]]=90785,\"Y\",\"N\")","v":"N"}]
[null,null,null,null,null,null,null,null,null,null,{"$f":"IF(Table1[[#This Row],[Column3]]=\"T1013\",\"Y\",\"N\")","v":"N"},{"$f":"IF(Table1[[#This Row],[Column3]]=90785,\"Y\",\"N\")","v":"N"}]
[null,null,null,null,null,null,null,null,null,null,{"$f":"IF(Table1[[#This Row],[Column3]]=\"T1013\",\"Y\",\"N\")","v":"N"},{"$f":"IF(Table1[[#This Row],[Column3]]=90785,\"Y\",\"N\")","v":"N"}]
[null,null,null,null,null,null,null,null,null,null,{"$f":"IF(Table1[[#This Row],[Column3]]=\"T1013\",\"Y\",\"N\")","v":"N"},{"$f":"IF(Table1[[#This Row],[Column3]]=90785,\"Y\",\"N\")","v":"N"}]
[null,null,null,null,null,null,null,null,null,null,{"$f":"IF(Table1[[#This Row],[Column3]]=\"T1013\",\"Y\",\"N\")","v":"N"},{"$f":"IF(Table1[[#This Row],[Column3]]=90785,\"Y\",\"N\")","v":"N"}]
[null,null,null,null,null,null,null,null,null,null,{"$f":"IF(Table1[[#This Row],[Column3]]=\"T1013\",\"Y\",\"N\")","v":"N"},{"$f":"IF(Table1[[#This Row],[Column3]]=90785,\"Y\",\"N\")","v":"N"}]
[null,null,null,null,null,null,null,null,null,null,{"$f":"IF(Table1[[#This Row],[Column3]]=\"T1013\",\"Y\",\"N\")","v":"N"},{"$f":"IF(Table1[[#This Row],[Column3]]=90785,\"Y\",\"N\")","v":"N"}]
[null,null,null,null,null,null,null,null,null,null,{"$f":"IF(Table1[[#This Row],[Column3]]=\"T1013\",\"Y\",\"N\")","v":"N"},{"$f":"IF(Table1[[#This Row],[Column3]]=90785,\"Y\",\"N\")","v":"N"}]
[null,null,null,null,null,null,null,null,null,null,{"$f":"IF(Table1[[#This Row],[Column3]]=\"T1013\",\"Y\",\"N\")","v":"N"},{"$f":"IF(Table1[[#This Row],[Column3]]=90785,\"Y\",\"N\")","v":"N"}]
[null,null,null,null,null,null,null,null,null,null,{"$f":"IF(Table1[[#This Row],[Column3]]=\"T1013\",\"Y\",\"N\")","v":"N"},{"$f":"IF(Table1[[#This Row],[Column3]]=90785,\"Y\",\"N\")","v":"N"}]
[null,null,null,null,null,null,null,null,null,null,{"$f":"IF(Table1[[#This Row],[Column3]]=\"T1013\",\"Y\",\"N\")","v":"N"},{"$f":"IF(Table1[[#This Row],[Column3]]=90785,\"Y\",\"N\")","v":"N"}]
[null,null,null,null,null,null,null,null,null,null,{"$f":"IF(Table1[[#This Row],[Column3]]=\"T1013\",\"Y\",\"N\")","v":"N"},{"$f":"IF(Table1[[#This Row],[Column3]]=90785,\"Y\",\"N\")","v":"N"}]
[null,null,null,null,null,null,null,null,null,null,{"$f":"IF(Table1[[#This Row],[Column3]]=\"T1013\",\"Y\",\"N\")","v":"N"},{"$f":"IF(Table1[[#This Row],[Column3]]=90785,\"Y\",\"N\")","v":"N"}]
[null,null,null,null,null,null,null,null,null,null,{"$f":"IF(Table1[[#This Row],[Column3]]=\"T1013\",\"Y\",\"N\")","v":"N"},{"$f":"IF(Table1[[#This Row],[Column3]]=90785,\"Y\",\"N\")","v":"N"}]
[null,null,null,null,null,null,null,null,null,null,{"$f":"IF(Table1[[#This Row],[Column3]]=\"T1013\",\"Y\",\"N\")","v":"N"},{"$f":"IF(Table1[[#This Row],[Column3]]=90785,\"Y\",\"N\")","v":"N"}]
[null,null,null,null,null,null,null,null,null,null,{"$f":"IF(Table1[[#This Row],[Column3]]=\"T1013\",\"Y\",\"N\")","v":"N"},{"$f":"IF(Table1[[#This Row],[Column3]]=90785,\"Y\",\"N\")","v":"N"}]
[null,null,null,null,null,null,null,null,null,null,{"$f":"IF(Table1[[#This Row],[Column3]]=\"T1013\",\"Y\",\"N\")","v":"N"},{"$f":"IF(Table1[[#This Row],[Column3]]=90785,\"Y\",\"N\")","v":"N"}]
[null,null,null,null,null,null,null,null,null,null,{"$f":"IF(Table1[[#This Row],[Column3]]=\"T1013\",\"Y\",\"N\")","v":"N"},{"$f":"IF(Table1[[#This Row],[Column3]]=90785,\"Y\",\"N\")","v":"N"}]
[null,null,null,null,null,null,null,null,null,null,{"$f":"IF(Table1[[#This Row],[Column3]]=\"T1013\",\"Y\",\"N\")","v":"N"},{"$f":"IF(Table1[[#This Row],[Column3]]=90785,\"Y\",\"N\")","v":"N"}]
[null,null,null,null,null,null,null,null,null,null,{"$f":"IF(Table1[[#This Row],[Column3]]=\"T1013\",\"Y\",\"N\")","v":"N"},{"$f":"IF(Table1[[#This Row],[Column3]]=90785,\"Y\",\"N\")","v":"N"}]
[null,null,null,null,null,null,null,null,null,null,{"$f":"IF(Table1[[#This Row],[Column3]]=\"T1013\",\"Y\",\"N\")","v":"N"},{"$f":"IF(Table1[[#This Row],[Column3]]=90785,\"Y\",\"N\")","v":"N"}]
[null,null,null,null,null,null,null,null,null,null,{"$f":"IF(Table1[[#This Row],[Column3]]=\"T1013\",\"Y\",\"N\")","v":"N"},{"$f":"IF(Table1[[#This Row],[Column3]]=90785,\"Y\",\"N\")","v":"N"}]
[null,null,null,null,null,null,null,null,null,null,{"$f":"IF(Table1[[#This Row],[Column3]]=\"T1013\",\"Y\",\"N\")","v":"N"},{"$f":"IF(Table1[[#This Row],[Column3]]=90785,\"Y\",\"N\")","v":"N"}]
[null,null,null,null,null,null,null,null,null,null,{"$f":"IF(Table1[[#This Row],[Column3]]=\"T1013\",\"Y\",\"N\")","v":"N"},{"$f":"IF(Table1[[#This Row],[Column3]]=90785,\"Y\",\"N\")","v":"N"}]
[null,null,null,null,null,null,null,null,null,null,{"$f":"IF(Table1[[#This Row],[Column3]]=\"T1013\",\"Y\",\"N\")","v":"N"},{"$f":"IF(Table1[[#This Row],[Column3]]=90785,\"Y\",\"N\")","v":"N"}]
[null,null,null,null,null,null,null,null,null,null,{"$f":"IF(Table1[[#This Row],[Column3]]=\"T1013\",\"Y\",\"N\")","v":"N"},{"$f":"IF(Table1[[#This Row],[Column3]]=90785,\"Y\",\"N\")","v":"N"}]
[null,null,null,null,null,null,null,null,null,null,{"$f":"IF(Table1[[#This Row],[Column3]]=\"T1013\",\"Y\",\"N\")","v":"N"},{"$f":"IF(Table1[[#This Row],[Column3]]=90785,\"Y\",\"N\")","v":"N"}]
[null,null,null,null,null,null,null,null,null,null,{"$f":"IF(Table1[[#This Row],[Column3]]=\"T1013\",\"Y\",\"N\")","v":"N"},{"$f":"IF(Table1[[#This Row],[Column3]]=90785,\"Y\",\"N\")","v":"N"}]
[null,null,null,null,null,null,null,null,null,null,{"$f":"IF(Table1[[#This Row],[Column3]]=\"T1013\",\"Y\",\"N\")","v":"N"},{"$f":"IF(Table1[[#This Row],[Column3]]=90785,\"Y\",\"N\")","v":"N"}]
[null,null,null,null,null,null,null,null,null,null,{"$f":"IF(Table1[[#This Row],[Column3]]=\"T1013\",\"Y\",\"N\")","v":"N"},{"$f":"IF(Table1[[#This Row],[Column3]]=90785,\"Y\",\"N\")","v":"N"}]
[null,null,null,null,null,null,null,null,null,null,{"$f":"IF(Table1[[#This Row],[Column3]]=\"T1013\",\"Y\",\"N\")","v":"N"},{"$f":"IF(Table1[[#This Row],[Column3]]=90785,\"Y\",\"N\")","v":"N"}]
[null,null,null,null,null,null,null,null,null,null,{"$f":"IF(Table1[[#This Row],[Column3]]=\"T1013\",\"Y\",\"N\")","v":"N"},{"$f":"IF(Table1[[#This Row],[Column3]]=90785,\"Y\",\"N\")","v":"N"}]
[null,null,null,null,null,null,null,null,null,null,{"$f":"IF(Table1[[#This Row],[Column3]]=\"T1013\",\"Y\",\"N\")","v":"N"},{"$f":"IF(Table1[[#This Row],[Column3]]=90785,\"Y\",\"N\")","v":"N"}]
[null,null,null,null,null,null,null,null,null,null,{"$f":"IF(Table1[[#This Row],[Column3]]=\"T1013\",\"Y\",\"N\")","v":"N"},{"$f":"IF(Table1[[#This Row],[Column3]]=90785,\"Y\",\"N\")","v":"N"}]
[null,null,null,null,null,null,null,null,null,null,{"$f":"IF(Table1[[#This Row],[Column3]]=\"T1013\",\"Y\",\"N\")","v":"N"},{"$f":"IF(Table1[[#This Row],[Column3]]=90785,\"Y\",\"N\")","v":"N"}]
[null,null,null,null,null,null,null,null,null,null,{"$f":"IF(Table1[[#This Row],[Column3]]=\"T1013\",\"Y\",\"N\")","v":"N"},{"$f":"IF(Table1[[#This Row],[Column3]]=90785,\"Y\",\"N\")","v":"N"}]
[null,null,null,null,null,null,null,null,null,null,{"$f":"IF(Table1[[#This Row],[Column3]]=\"T1013\",\"Y\",\"N\")","v":"N"},{"$f":"IF(Table1[[#This Row],[Column3]]=90785,\"Y\",\"N\")","v":"N"}]
[null,null,null,null,null,null,null,null,null,null,{"$f":"IF(Table1[[#This Row],[Column3]]=\"T1013\",\"Y\",\"N\")","v":"N"},{"$f":"IF(Table1[[#This Row],[Column3]]=90785,\"Y\",\"N\")","v":"N"}]
[null,null,null,null,null,null,null,null,null,null,{"$f":"IF(Table1[[#This Row],[Column3]]=\"T1013\",\"Y\",\"N\")","v":"N"},{"$f":"IF(Table1[[#This Row],[Column3]]=90785,\"Y\",\"N\")","v":"N"}]
[null,null,null,null,null,null,null,null,null,null,{"$f":"IF(Table1[[#This Row],[Column3]]=\"T1013\",\"Y\",\"N\")","v":"N"},{"$f":"IF(Table1[[#This Row],[Column3]]=90785,\"Y\",\"N\")","v":"N"}]
[null,null,null,null,null,null,null,null,null,null,{"$f":"IF(Table1[[#This Row],[Column3]]=\"T1013\",\"Y\",\"N\")","v":"N"},{"$f":"IF(Table1[[#This Row],[Column3]]=90785,\"Y\",\"N\")","v":"N"}]
[null,null,null,null,null,null,null,null,null,null,{"$f":"IF(Table1[[#This Row],[Column3]]=\"T1013\",\"Y\",\"N\")","v":"N"},{"$f":"IF(Table1[[#This Row],[Column3]]=90785,\"Y\",\"N\")","v":"N"}]
[null,null,null,null,null,null,null,null,null,null,{"$f":"IF(Table1[[#This Row],[Column3]]=\"T1013\",\"Y\",\"N\")","v":"N"},{"$f":"IF(Table1[[#This Row],[Column3]]=90785,\"Y\",\"N\")","v":"N"}]
[null,null,null,null,null,null,null,null,null,null,{"$f":"IF(Table1[[#This Row],[Column3]]=\"T1013\",\"Y\",\"N\")","v":"N"},{"$f":"IF(Table1[[#This Row],[Column3]]=90785,\"Y\",\"N\")","v":"N"}]
[null,null,null,null,null,null,null,null,null,null,{"$f":"IF(Table1[[#This Row],[Column3]]=\"T1013\",\"Y\",\"N\")","v":"N"},{"$f":"IF(Table1[[#This Row],[Column3]]=90785,\"Y\",\"N\")","v":"N"}]
[null,null,null,null,null,null,null,null,null,null,{"$f":"IF(Table1[[#This Row],[Column3]]=\"T1013\",\"Y\",\"N\")","v":"N"},{"$f":"IF(Table1[[#This Row],[Column3]]=90785,\"Y\",\"N\")","v":"N"}]
[null,null,null,null,null,null,null,null,null,null,{"$f":"IF(Table1[[#This Row],[Column3]]=\"T1013\",\"Y\",\"N\")","v":"N"},{"$f":"IF(Table1[[#This Row],[Column3]]=90785,\"Y\",\"N\")","v":"N"}]
[null,null,null,null,null,null,null,null,null,null,{"$f":"IF(Table1[[#This Row],[Column3]]=\"T1013\",\"Y\",\"N\")","v":"N"},{"$f":"IF(Table1[[#This Row],[Column3]]=90785,\"Y\",\"N\")","v":"N"}]
[null,null,null,null,null,null,null,null,null,null,{"$f":"IF(Table1[[#This Row],[Column3]]=\"T1013\",\"Y\",\"N\")","v":"N"},{"$f":"IF(Table1[[#This Row],[Column3]]=90785,\"Y\",\"N\")","v":"N"}]
[null,null,null,null,null,null,null,null,null,null,{"$f":"IF(Table1[[#This Row],[Column3]]=\"T1013\",\"Y\",\"N\")","v":"N"},{"$f":"IF(Table1[[#This Row],[Column3]]=90785,\"Y\",\"N\")","v":"N"}]
[null,null,null,null,null,null,null,null,null,null,{"$f":"IF(Table1[[#This Row],[Column3]]=\"T1013\",\"Y\",\"N\")","v":"N"},{"$f":"IF(Table1[[#This Row],[Column3]]=90785,\"Y\",\"N\")","v":"N"}]
[null,null,null,null,null,null,null,null,null,null,{"$f":"IF(Table1[[#This Row],[Column3]]=\"T1013\",\"Y\",\"N\")","v":"N"},{"$f":"IF(Table1[[#This Row],[Column3]]=90785,\"Y\",\"N\")","v":"N"}]
[null,null,null,null,null,null,null,null,null,null,{"$f":"IF(Table1[[#This Row],[Column3]]=\"T1013\",\"Y\",\"N\")","v":"N"},{"$f":"IF(Table1[[#This Row],[Column3]]=90785,\"Y\",\"N\")","v":"N"}]
[null,null,null,null,null,null,null,null,null,null,{"$f":"IF(Table1[[#This Row],[Column3]]=\"T1013\",\"Y\",\"N\")","v":"N"},{"$f":"IF(Table1[[#This Row],[Column3]]=90785,\"Y\",\"N\")","v":"N"}]
[null,null,null,null,null,null,null,null,null,null,{"$f":"IF(Table1[[#This Row],[Column3]]=\"T1013\",\"Y\",\"N\")","v":"N"},{"$f":"IF(Table1[[#This Row],[Column3]]=90785,\"Y\",\"N\")","v":"N"}]
[null,null,null,null,null,null,null,null,null,null,{"$f":"IF(Table1[[#This Row],[Column3]]=\"T1013\",\"Y\",\"N\")","v":"N"},{"$f":"IF(Table1[[#This Row],[Column3]]=90785,\"Y\",\"N\")","v":"N"}]
[null,null,null,null,null,null,null,null,null,null,{"$f":"IF(Table1[[#This Row],[Column3]]=\"T1013\",\"Y\",\"N\")","v":"N"},{"$f":"IF(Table1[[#This Row],[Column3]]=90785,\"Y\",\"N\")","v":"N"}]
[null,null,null,null,null,null,null,null,null,null,{"$f":"IF(Table1[[#This Row],[Column3]]=\"T1013\",\"Y\",\"N\")","v":"N"},{"$f":"IF(Table1[[#This Row],[Column3]]=90785,\"Y\",\"N\")","v":"N"}]
[null,null,null,null,null,null,null,null,null,null,{"$f":"IF(Table1[[#This Row],[Column3]]=\"T1013\",\"Y\",\"N\")","v":"N"},{"$f":"IF(Table1[[#This Row],[Column3]]=90785,\"Y\",\"N\")","v":"N"}]
[null,null,null,null,null,null,null,null,null,null,{"$f":"IF(Table1[[#This Row],[Column3]]=\"T1013\",\"Y\",\"N\")","v":"N"},{"$f":"IF(Table1[[#This Row],[Column3]]=90785,\"Y\",\"N\")","v":"N"}]
[null,null,null,null,null,null,null,null,null,null,{"$f":"IF(Table1[[#This Row],[Column3]]=\"T1013\",\"Y\",\"N\")","v":"N"},{"$f":"IF(Table1[[#This Row],[Column3]]=90785,\"Y\",\"N\")","v":"N"}]
[null,null,null,null,null,null,null,null,null,null,{"$f":"IF(Table1[[#This Row],[Column3]]=\"T1013\",\"Y\",\"N\")","v":"N"},{"$f":"IF(Table1[[#This Row],[Column3]]=90785,\"Y\",\"N\")","v":"N"}]
[null,null,null,null,null,null,null,null,null,null,{"$f":"IF(Table1[[#This Row],[Column3]]=\"T1013\",\"Y\",\"N\")","v":"N"},{"$f":"IF(Table1[[#This Row],[Column3]]=90785,\"Y\",\"N\")","v":"N"}]
[null,null,null,null,null,null,null,null,null,null,{"$f":"IF(Table1[[#This Row],[Column3]]=\"T1013\",\"Y\",\"N\")","v":"N"},{"$f":"IF(Table1[[#This Row],[Column3]]=90785,\"Y\",\"N\")","v":"N"}]
[null,null,null,null,null,null,null,null,null,null,{"$f":"IF(Table1[[#This Row],[Column3]]=\"T1013\",\"Y\",\"N\")","v":"N"},{"$f":"IF(Table1[[#This Row],[Column3]]=90785,\"Y\",\"N\")","v":"N"}]
[null,null,null,null,null,null,null,null,null,null,{"$f":"IF(Table1[[#This Row],[Column3]]=\"T1013\",\"Y\",\"N\")","v":"N"},{"$f":"IF(Table1[[#This Row],[Column3]]=90785,\"Y\",\"N\")","v":"N"}]
[null,null,null,null,null,null,null,null,null,null,{"$f":"IF(Table1[[#This Row],[Column3]]=\"T1013\",\"Y\",\"N\")","v":"N"},{"$f":"IF(Table1[[#This Row],[Column3]]=90785,\"Y\",\"N\")","v":"N"}]
[null,null,null,null,null,null,null,null,null,null,{"$f":"IF(Table1[[#This Row],[Column3]]=\"T1013\",\"Y\",\"N\")","v":"N"},{"$f":"IF(Table1[[#This Row],[Column3]]=90785,\"Y\",\"N\")","v":"N"}]
[null,null,null,null,null,null,null,null,null,null,{"$f":"IF(Table1[[#This Row],[Column3]]=\"T1013\",\"Y\",\"N\")","v":"N"},{"$f":"IF(Table1[[#This Row],[Column3]]=90785,\"Y\",\"N\")","v":"N"}]
[null,null,null,null,null,null,null,null,null,null,{"$f":"IF(Table1[[#This Row],[Column3]]=\"T1013\",\"Y\",\"N\")","v":"N"},{"$f":"IF(Table1[[#This Row],[Column3]]=90785,\"Y\",\"N\")","v":"N"}]
[null,null,null,null,null,null,null,null,null,null,{"$f":"IF(Table1[[#This Row],[Column3]]=\"T1013\",\"Y\",\"N\")","v":"N"},{"$f":"IF(Table1[[#This Row],[Column3]]=90785,\"Y\",\"N\")","v":"N"}]
[null,null,null,null,null,null,null,null,null,null,{"$f":"IF(Table1[[#This Row],[Column3]]=\"T1013\",\"Y\",\"N\")","v":"N"},{"$f":"IF(Table1[[#This Row],[Column3]]=90785,\"Y\",\"N\")","v":"N"}]
[null,null,null,null,null,null,null,null,null,null,{"$f":"IF(Table1[[#This Row],[Column3]]=\"T1013\",\"Y\",\"N\")","v":"N"},{"$f":"IF(Table1[[#This Row],[Column3]]=90785,\"Y\",\"N\")","v":"N"}]
[null,null,null,null,null,null,null,null,null,null,{"$f":"IF(Table1[[#This Row],[Column3]]=\"T1013\",\"Y\",\"N\")","v":"N"},{"$f":"IF(Table1[[#This Row],[Column3]]=90785,\"Y\",\"N\")","v":"N"}]
[null,null,null,null,null,null,null,null,null,null,{"$f":"IF(Table1[[#This Row],[Column3]]=\"T1013\",\"Y\",\"N\")","v":"N"},{"$f":"IF(Table1[[#This Row],[Column3]]=90785,\"Y\",\"N\")","v":"N"}]
[null,null,null,null,null,null,null,null,null,null,{"$f":"IF(Table1[[#This Row],[Column3]]=\"T1013\",\"Y\",\"N\")","v":"N"},{"$f":"IF(Table1[[#This Row],[Column3]]=90785,\"Y\",\"N\")","v":"N"}]
[null,null,null,null,null,null,null,null,null,null,{"$f":"IF(Table1[[#This Row],[Column3]]=\"T1013\",\"Y\",\"N\")","v":"N"},{"$f":"IF(Table1[[#This Row],[Column3]]=90785,\"Y\",\"N\")","v":"N"}]
[null,null,null,null,null,null,null,null,null,null,{"$f":"IF(Table1[[#This Row],[Column3]]=\"T1013\",\"Y\",\"N\")","v":"N"},{"$f":"IF(Table1[[#This Row],[Column3]]=90785,\"Y\",\"N\")","v":"N"}]
[null,null,null,null,null,null,null,null,null,null,{"$f":"IF(Table1[[#This Row],[Column3]]=\"T1013\",\"Y\",\"N\")","v":"N"},{"$f":"IF(Table1[[#This Row],[Column3]]=90785,\"Y\",\"N\")","v":"N"}]
[null,null,null,null,null,null,null,null,null,null,{"$f":"IF(Table1[[#This Row],[Column3]]=\"T1013\",\"Y\",\"N\")","v":"N"},{"$f":"IF(Table1[[#This Row],[Column3]]=90785,\"Y\",\"N\")","v":"N"}]
[null,null,null,null,null,null,null,null,null,null,{"$f":"IF(Table1[[#This Row],[Column3]]=\"T1013\",\"Y\",\"N\")","v":"N"},{"$f":"IF(Table1[[#This Row],[Column3]]=90785,\"Y\",\"N\")","v":"N"}]
[null,null,null,null,null,null,null,null,null,null,{"$f":"IF(Table1[[#This Row],[Column3]]=\"T1013\",\"Y\",\"N\")","v":"N"},{"$f":"IF(Table1[[#This Row],[Column3]]=90785,\"Y\",\"N\")","v":"N"}]
[null,null,null,null,null,null,null,null,null,null,{"$f":"IF(Table1[[#This Row],[Column3]]=\"T1013\",\"Y\",\"N\")","v":"N"},{"$f":"IF(Table1[[#This Row],[Column3]]=90785,\"Y\",\"N\")","v":"N"}]
[null,null,null,null,null,null,null,null,null,null,{"$f":"IF(Table1[[#This Row],[Column3]]=\"T1013\",\"Y\",\"N\")","v":"N"},{"$f":"IF(Table1[[#This Row],[Column3]]=90785,\"Y\",\"N\")","v":"N"}]
[null,null,null,null,null,null,null,null,null,null,{"$f":"IF(Table1[[#This Row],[Column3]]=\"T1013\",\"Y\",\"N\")","v":"N"},{"$f":"IF(Table1[[#This Row],[Column3]]=90785,\"Y\",\"N\")","v":"N"}]
[null,null,null,null,null,null,null,null,null,null,{"$f":"IF(Table1[[#This Row],[Column3]]=\"T1013\",\"Y\",\"N\")","v":"N"},{"$f":"IF(Table1[[#This Row],[Column3]]=90785,\"Y\",\"N\")","v":"N"}]
[null,null,null,null,null,null,null,null,null,null,{"$f":"IF(Table1[[#This Row],[Column3]]=\"T1013\",\"Y\",\"N\")","v":"N"},{"$f":"IF(Table1[[#This Row],[Column3]]=90785,\"Y\",\"N\")","v":"N"}]
[null,null,null,null,null,null,null,null,null,null,{"$f":"IF(Table1[[#This Row],[Column3]]=\"T1013\",\"Y\",\"N\")","v":"N"},{"$f":"IF(Table1[[#This Row],[Column3]]=90785,\"Y\",\"N\")","v":"N"}]
[null,null,null,null,null,null,null,null,null,null,{"$f":"IF(Table1[[#This Row],[Column3]]=\"T1013\",\"Y\",\"N\")","v":"N"},{"$f":"IF(Table1[[#This Row],[Column3]]=90785,\"Y\",\"N\")","v":"N"}]
[null,null,null,null,null,null,null,null,null,null,{"$f":"IF(Table1[[#This Row],[Column3]]=\"T1013\",\"Y\",\"N\")","v":"N"},{"$f":"IF(Table1[[#This Row],[Column3]]=90785,\"Y\",\"N\")","v":"N"}]
[null,null,null,null,null,null,null,null,null,null,{"$f":"IF(Table1[[#This Row],[Column3]]=\"T1013\",\"Y\",\"N\")","v":"N"},{"$f":"IF(Table1[[#This Row],[Column3]]=90785,\"Y\",\"N\")","v":"N"}]
[null,null,null,null,null,null,null,null,null,null,{"$f":"IF(Table1[[#This Row],[Column3]]=\"T1013\",\"Y\",\"N\")","v":"N"},{"$f":"IF(Table1[[#This Row],[Column3]]=90785,\"Y\",\"N\")","v":"N"}]
[null,null,null,null,null,null,null,null,null,null,{"$f":"IF(Table1[[#This Row],[Column3]]=\"T1013\",\"Y\",\"N\")","v":"N"},{"$f":"IF(Table1[[#This Row],[Column3]]=90785,\"Y\",\"N\")","v":"N"}]
[null,null,null,null,null,null,null,null,null,null,{"$f":"IF(Table1[[#This Row],[Column3]]=\"T1013\",\"Y\",\"N\")","v":"N"},{"$f":"IF(Table1[[#This Row],[Column3]]=90785,\"Y\",\"N\")","v":"N"}]
[null,null,null,null,null,null,null,null,null,null,{"$f":"IF(Table1[[#This Row],[Column3]]=\"T1013\",\"Y\",\"N\")","v":"N"},{"$f":"IF(Table1[[#This Row],[Column3]]=90785,\"Y\",\"N\")","v":"N"}]
[null,null,null,null,null,null,null,null,null,null,{"$f":"IF(Table1[[#This Row],[Column3]]=\"T1013\",\"Y\",\"N\")","v":"N"},{"$f":"IF(Table1[[#This Row],[Column3]]=90785,\"Y\",\"N\")","v":"N"}]
[null,null,null,null,null,null,null,null,null,null,{"$f":"IF(Table1[[#This Row],[Column3]]=\"T1013\",\"Y\",\"N\")","v":"N"},{"$f":"IF(Table1[[#This Row],[Column3]]=90785,\"Y\",\"N\")","v":"N"}]
[null,null,null,null,null,null,null,null,null,null,{"$f":"IF(Table1[[#This Row],[Column3]]=\"T1013\",\"Y\",\"N\")","v":"N"},{"$f":"IF(Table1[[#This Row],[Column3]]=90785,\"Y\",\"N\")","v":"N"}]
[null,null,null,null,null,null,null,null,null,null,{"$f":"IF(Table1[[#This Row],[Column3]]=\"T1013\",\"Y\",\"N\")","v":"N"},{"$f":"IF(Table1[[#This Row],[Column3]]=90785,\"Y\",\"N\")","v":"N"}]
[null,null,null,null,null,null,null,null,null,null,{"$f":"IF(Table1[[#This Row],[Column3]]=\"T1013\",\"Y\",\"N\")","v":"N"},{"$f":"IF(Table1[[#This Row],[Column3]]=90785,\"Y\",\"N\")","v":"N"}]
[null,null,null,null,null,null,null,null,null,null,{"$f":"IF(Table1[[#This Row],[Column3]]=\"T1013\",\"Y\",\"N\")","v":"N"},{"$f":"IF(Table1[[#This Row],[Column3]]=90785,\"Y\",\"N\")","v":"N"}]
[null,null,null,null,null,null,null,null,null,null,{"$f":"IF(Table1[[#This Row],[Column3]]=\"T1013\",\"Y\",\"N\")","v":"N"},{"$f":"IF(Table1[[#This Row],[Column3]]=90785,\"Y\",\"N\")","v":"N"}]
[null,null,null,null,null,null,null,null,null,null,{"$f":"IF(Table1[[#This Row],[Column3]]=\"T1013\",\"Y\",\"N\")","v":"N"},{"$f":"IF(Table1[[#This Row],[Column3]]=90785,\"Y\",\"N\")","v":"N"}]
[null,null,null,null,null,null,null,null,null,null,{"$f":"IF(Table1[[#This Row],[Column3]]=\"T1013\",\"Y\",\"N\")","v":"N"},{"$f":"IF(Table1[[#This Row],[Column3]]=90785,\"Y\",\"N\")","v":"N"}]
[null,null,null,null,null,null,null,null,null,null,{"$f":"IF(Table1[[#This Row],[Column3]]=\"T1013\",\"Y\",\"N\")","v":"N"},{"$f":"IF(Table1[[#This Row],[Column3]]=90785,\"Y\",\"N\")","v":"N"}]
[null,null,null,null,null,null,null,null,null,null,{"$f":"IF(Table1[[#This Row],[Column3]]=\"T1013\",\"Y\",\"N\")","v":"N"},{"$f":"IF(Table1[[#This Row],[Column3]]=90785,\"Y\",\"N\")","v":"N"}]
[null,null,null,null,null,null,null,null,null,null,{"$f":"IF(Table1[[#This Row],[Column3]]=\"T1013\",\"Y\",\"N\")","v":"N"},{"$f":"IF(Table1[[#This Row],[Column3]]=90785,\"Y\",\"N\")","v":"N"}]
[null,null,null,null,null,null,null,null,null,null,{"$f":"IF(Table1[[#This Row],[Column3]]=\"T1013\",\"Y\",\"N\")","v":"N"},{"$f":"IF(Table1[[#This Row],[Column3]]=90785,\"Y\",\"N\")","v":"N"}]
[null,null,null,null,null,null,null,null,null,null,{"$f":"IF(Table1[[#This Row],[Column3]]=\"T1013\",\"Y\",\"N\")","v":"N"},{"$f":"IF(Table1[[#This Row],[Column3]]=90785,\"Y\",\"N\")","v":"N"}]
[null,null,null,null,null,null,null,null,null,null,{"$f":"IF(Table1[[#This Row],[Column3]]=\"T1013\",\"Y\",\"N\")","v":"N"},{"$f":"IF(Table1[[#This Row],[Column3]]=90785,\"Y\",\"N\")","v":"N"}]
[null,null,null,null,null,null,null,null,null,null,{"$f":"IF(Table1[[#This Row],[Column3]]=\"T1013\",\"Y\",\"N\")","v":"N"},{"$f":"IF(Table1[[#This Row],[Column3]]=90785,\"Y\",\"N\")","v":"N"}]
[null,null,null,null,null,null,null,null,null,null,{"$f":"IF(Table1[[#This Row],[Column3]]=\"T1013\",\"Y\",\"N\")","v":"N"},{"$f":"IF(Table1[[#This Row],[Column3]]=90785,\"Y\",\"N\")","v":"N"}]
[null,null,null,null,null,null,null,null,null,null,{"$f":"IF(Table1[[#This Row],[Column3]]=\"T1013\",\"Y\",\"N\")","v":"N"},{"$f":"IF(Table1[[#This Row],[Column3]]=90785,\"Y\",\"N\")","v":"N"}]
[null,null,null,null,null,null,null,null,null,null,{"$f":"IF(Table1[[#This Row],[Column3]]=\"T1013\",\"Y\",\"N\")","v":"N"},{"$f":"IF(Table1[[#This Row],[Column3]]=90785,\"Y\",\"N\")","v":"N"}]
[null,null,null,null,null,null,null,null,null,null,{"$f":"IF(Table1[[#This Row],[Column3]]=\"T1013\",\"Y\",\"N\")","v":"N"},{"$f":"IF(Table1[[#This Row],[Column3]]=90785,\"Y\",\"N\")","v":"N"}]
[null,null,null,null,null,null,null,null,null,null,{"$f":"IF(Table1[[#This Row],[Column3]]=\"T1013\",\"Y\",\"N\")","v":"N"},{"$f":"IF(Table1[[#This Row],[Column3]]=90785,\"Y\",\"N\")","v":"N"}]
[null,null,null,null,null,null,null,null,null,null,{"$f":"IF(Table1[[#This Row],[Column3]]=\"T1013\",\"Y\",\"N\")","v":"N"},{"$f":"IF(Table1[[#This Row],[Column3]]=90785,\"Y\",\"N\")","v":"N"}]
[null,null,null,null,null,null,null,null,null,null,{"$f":"IF(Table1[[#This Row],[Column3]]=\"T1013\",\"Y\",\"N\")","v":"N"},{"$f":"IF(Table1[[#This Row],[Column3]]=90785,\"Y\",\"N\")","v":"N"}]
[null,null,null,null,null,null,null,null,null,null,{"$f":"IF(Table1[[#This Row],[Column3]]=\"T1013\",\"Y\",\"N\")","v":"N"},{"$f":"IF(Table1[[#This Row],[Column3]]=90785,\"Y\",\"N\")","v":"N"}]
[null,null,null,null,null,null,null,null,null,null,{"$f":"IF(Table1[[#This Row],[Column3]]=\"T1013\",\"Y\",\"N\")","v":"N"},{"$f":"IF(Table1[[#This Row],[Column3]]=90785,\"Y\",\"N\")","v":"N"}]
[null,null,null,null,null,null,null,null,null,null,{"$f":"IF(Table1[[#This Row],[Column3]]=\"T1013\",\"Y\",\"N\")","v":"N"},{"$f":"IF(Table1[[#This Row],[Column3]]=90785,\"Y\",\"N\")","v":"N"}]
[null,null,null,null,null,null,null,null,null,null,{"$f":"IF(Table1[[#This Row],[Column3]]=\"T1013\",\"Y\",\"N\")","v":"N"},{"$f":"IF(Table1[[#This Row],[Column3]]=90785,\"Y\",\"N\")","v":"N"}]
[null,null,null,null,null,null,null,null,null,null,{"$f":"IF(Table1[[#This Row],[Column3]]=\"T1013\",\"Y\",\"N\")","v":"N"},{"$f":"IF(Table1[[#This Row],[Column3]]=90785,\"Y\",\"N\")","v":"N"}]
[null,null,null,null,null,null,null,null,null,null,{"$f":"IF(Table1[[#This Row],[Column3]]=\"T1013\",\"Y\",\"N\")","v":"N"},{"$f":"IF(Table1[[#This Row],[Column3]]=90785,\"Y\",\"N\")","v":"N"}]
[null,null,null,null,null,null,null,null,null,null,{"$f":"IF(Table1[[#This Row],[Column3]]=\"T1013\",\"Y\",\"N\")","v":"N"},{"$f":"IF(Table1[[#This Row],[Column3]]=90785,\"Y\",\"N\")","v":"N"}]
[null,null,null,null,null,null,null,null,null,null,{"$f":"IF(Table1[[#This Row],[Column3]]=\"T1013\",\"Y\",\"N\")","v":"N"},{"$f":"IF(Table1[[#This Row],[Column3]]=90785,\"Y\",\"N\")","v":"N"}]
[null,null,null,null,null,null,null,null,null,null,{"$f":"IF(Table1[[#This Row],[Column3]]=\"T1013\",\"Y\",\"N\")","v":"N"},{"$f":"IF(Table1[[#This Row],[Column3]]=90785,\"Y\",\"N\")","v":"N"}]
[null,null,null,null,null,null,null,null,null,null,{"$f":"IF(Table1[[#This Row],[Column3]]=\"T1013\",\"Y\",\"N\")","v":"N"},{"$f":"IF(Table1[[#This Row],[Column3]]=90785,\"Y\",\"N\")","v":"N"}]
[null,null,null,null,null,null,null,null,null,null,{"$f":"IF(Table1[[#This Row],[Column3]]=\"T1013\",\"Y\",\"N\")","v":"N"},{"$f":"IF(Table1[[#This Row],[Column3]]=90785,\"Y\",\"N\")","v":"N"}]
[null,null,null,null,null,null,null,null,null,null,{"$f":"IF(Table1[[#This Row],[Column3]]=\"T1013\",\"Y\",\"N\")","v":"N"},{"$f":"IF(Table1[[#This Row],[Column3]]=90785,\"Y\",\"N\")","v":"N"}]
[null,null,null,null,null,null,null,null,null,null,{"$f":"IF(Table1[[#This Row],[Column3]]=\"T1013\",\"Y\",\"N\")","v":"N"},{"$f":"IF(Table1[[#This Row],[Column3]]=90785,\"Y\",\"N\")","v":"N"}]
[null,null,null,null,null,null,null,null,null,null,{"$f":"IF(Table1[[#This Row],[Column3]]=\"T1013\",\"Y\",\"N\")","v":"N"},{"$f":"IF(Table1[[#This Row],[Column3]]=90785,\"Y\",\"N\")","v":"N"}]
[null,null,null,null,null,null,null,null,null,null,{"$f":"IF(Table1[[#This Row],[Column3]]=\"T1013\",\"Y\",\"N\")","v":"N"},{"$f":"IF(Table1[[#This Row],[Column3]]=90785,\"Y\",\"N\")","v":"N"}]
[null,null,null,null,null,null,null,null,null,null,{"$f":"IF(Table1[[#This Row],[Column3]]=\"T1013\",\"Y\",\"N\")","v":"N"},{"$f":"IF(Table1[[#This Row],[Column3]]=90785,\"Y\",\"N\")","v":"N"}]
[null,null,null,null,null,null,null,null,null,null,{"$f":"IF(Table1[[#This Row],[Column3]]=\"T1013\",\"Y\",\"N\")","v":"N"},{"$f":"IF(Table1[[#This Row],[Column3]]=90785,\"Y\",\"N\")","v":"N"}]
[null,null,null,null,null,null,null,null,null,null,{"$f":"IF(Table1[[#This Row],[Column3]]=\"T1013\",\"Y\",\"N\")","v":"N"},{"$f":"IF(Table1[[#This Row],[Column3]]=90785,\"Y\",\"N\")","v":"N"}]
[null,null,null,null,null,null,null,null,null,null,{"$f":"IF(Table1[[#This Row],[Column3]]=\"T1013\",\"Y\",\"N\")","v":"N"},{"$f":"IF(Table1[[#This Row],[Column3]]=90785,\"Y\",\"N\")","v":"N"}]
[null,null,null,null,null,null,null,null,null,null,{"$f":"IF(Table1[[#This Row],[Column3]]=\"T1013\",\"Y\",\"N\")","v":"N"},{"$f":"IF(Table1[[#This Row],[Column3]]=90785,\"Y\",\"N\")","v":"N"}]
[null,null,null,null,null,null,null,null,null,null,{"$f":"IF(Table1[[#This Row],[Column3]]=\"T1013\",\"Y\",\"N\")","v":"N"},{"$f":"IF(Table1[[#This Row],[Column3]]=90785,\"Y\",\"N\")","v":"N"}]
[null,null,null,null,null,null,null,null,null,null,{"$f":"IF(Table1[[#This Row],[Column3]]=\"T1013\",\"Y\",\"N\")","v":"N"},{"$f":"IF(Table1[[#This Row],[Column3]]=90785,\"Y\",\"N\")","v":"N"}]
[null,null,null,null,null,null,null,null,null,null,{"$f":"IF(Table1[[#This Row],[Column3]]=\"T1013\",\"Y\",\"N\")","v":"N"},{"$f":"IF(Table1[[#This Row],[Column3]]=90785,\"Y\",\"N\")","v":"N"}]
[null,null,null,null,null,null,null,null,null,null,{"$f":"IF(Table1[[#This Row],[Column3]]=\"T1013\",\"Y\",\"N\")","v":"N"},{"$f":"IF(Table1[[#This Row],[Column3]]=90785,\"Y\",\"N\")","v":"N"}]
[null,null,null,null,null,null,null,null,null,null,{"$f":"IF(Table1[[#This Row],[Column3]]=\"T1013\",\"Y\",\"N\")","v":"N"},{"$f":"IF(Table1[[#This Row],[Column3]]=90785,\"Y\",\"N\")","v":"N"}]
[null,null,null,null,null,null,null,null,null,null,{"$f":"IF(Table1[[#This Row],[Column3]]=\"T1013\",\"Y\",\"N\")","v":"N"},{"$f":"IF(Table1[[#This Row],[Column3]]=90785,\"Y\",\"N\")","v":"N"}]
[null,null,null,null,null,null,null,null,null,null,{"$f":"IF(Table1[[#This Row],[Column3]]=\"T1013\",\"Y\",\"N\")","v":"N"},{"$f":"IF(Table1[[#This Row],[Column3]]=90785,\"Y\",\"N\")","v":"N"}]
[null,null,null,null,null,null,null,null,null,null,{"$f":"IF(Table1[[#This Row],[Column3]]=\"T1013\",\"Y\",\"N\")","v":"N"},{"$f":"IF(Table1[[#This Row],[Column3]]=90785,\"Y\",\"N\")","v":"N"}]
[null,null,null,null,null,null,null,null,null,null,{"$f":"IF(Table1[[#This Row],[Column3]]=\"T1013\",\"Y\",\"N\")","v":"N"},{"$f":"IF(Table1[[#This Row],[Column3]]=90785,\"Y\",\"N\")","v":"N"}]
[null,null,null,null,null,null,null,null,null,null,{"$f":"IF(Table1[[#This Row],[Column3]]=\"T1013\",\"Y\",\"N\")","v":"N"},{"$f":"IF(Table1[[#This Row],[Column3]]=90785,\"Y\",\"N\")","v":"N"}]
[null,null,null,null,null,null,null,null,null,null,{"$f":"IF(Table1[[#This Row],[Column3]]=\"T1013\",\"Y\",\"N\")","v":"N"},{"$f":"IF(Table1[[#This Row],[Column3]]=90785,\"Y\",\"N\")","v":"N"}]
[null,null,null,null,null,null,null,null,null,null,{"$f":"IF(Table1[[#This Row],[Column3]]=\"T1013\",\"Y\",\"N\")","v":"N"},{"$f":"IF(Table1[[#This Row],[Column3]]=90785,\"Y\",\"N\")","v":"N"}]
[null,null,null,null,null,null,null,null,null,null,{"$f":"IF(Table1[[#This Row],[Column3]]=\"T1013\",\"Y\",\"N\")","v":"N"},{"$f":"IF(Table1[[#This Row],[Column3]]=90785,\"Y\",\"N\")","v":"N"}]
[null,null,null,null,null,null,null,null,null,null,{"$f":"IF(Table1[[#This Row],[Column3]]=\"T1013\",\"Y\",\"N\")","v":"N"},{"$f":"IF(Table1[[#This Row],[Column3]]=90785,\"Y\",\"N\")","v":"N"}]
[null,null,null,null,null,null,null,null,null,null,{"$f":"IF(Table1[[#This Row],[Column3]]=\"T1013\",\"Y\",\"N\")","v":"N"},{"$f":"IF(Table1[[#This Row],[Column3]]=90785,\"Y\",\"N\")","v":"N"}]
[null,null,null,null,null,null,null,null,null,null,{"$f":"IF(Table1[[#This Row],[Column3]]=\"T1013\",\"Y\",\"N\")","v":"N"},{"$f":"IF(Table1[[#This Row],[Column3]]=90785,\"Y\",\"N\")","v":"N"}]
[null,null,null,null,null,null,null,null,null,null,{"$f":"IF(Table1[[#This Row],[Column3]]=\"T1013\",\"Y\",\"N\")","v":"N"},{"$f":"IF(Table1[[#This Row],[Column3]]=90785,\"Y\",\"N\")","v":"N"}]
[null,null,null,null,null,null,null,null,null,null,{"$f":"IF(Table1[[#This Row],[Column3]]=\"T1013\",\"Y\",\"N\")","v":"N"},{"$f":"IF(Table1[[#This Row],[Column3]]=90785,\"Y\",\"N\")","v":"N"}]
[null,null,null,null,null,null,null,null,null,null,{"$f":"IF(Table1[[#This Row],[Column3]]=\"T1013\",\"Y\",\"N\")","v":"N"},{"$f":"IF(Table1[[#This Row],[Column3]]=90785,\"Y\",\"N\")","v":"N"}]
[null,null,null,null,null,null,null,null,null,null,{"$f":"IF(Table1[[#This Row],[Column3]]=\"T1013\",\"Y\",\"N\")","v":"N"},{"$f":"IF(Table1[[#This Row],[Column3]]=90785,\"Y\",\"N\")","v":"N"}]
[null,null,null,null,null,null,null,null,null,null,{"$f":"IF(Table1[[#This Row],[Column3]]=\"T1013\",\"Y\",\"N\")","v":"N"},{"$f":"IF(Table1[[#This Row],[Column3]]=90785,\"Y\",\"N\")","v":"N"}]
[null,null,null,null,null,null,null,null,null,null,{"$f":"IF(Table1[[#This Row],[Column3]]=\"T1013\",\"Y\",\"N\")","v":"N"},{"$f":"IF(Table1[[#This Row],[Column3]]=90785,\"Y\",\"N\")","v":"N"}]
[null,null,null,null,null,null,null,null,null,null,{"$f":"IF(Table1[[#This Row],[Column3]]=\"T1013\",\"Y\",\"N\")","v":"N"},{"$f":"IF(Table1[[#This Row],[Column3]]=90785,\"Y\",\"N\")","v":"N"}]
[null,null,null,null,null,null,null,null,null,null,{"$f":"IF(Table1[[#This Row],[Column3]]=\"T1013\",\"Y\",\"N\")","v":"N"},{"$f":"IF(Table1[[#This Row],[Column3]]=90785,\"Y\",\"N\")","v":"N"}]
[null,null,null,null,null,null,null,null,null,null,{"$f":"IF(Table1[[#This Row],[Column3]]=\"T1013\",\"Y\",\"N\")","v":"N"},{"$f":"IF(Table1[[#This Row],[Column3]]=90785,\"Y\",\"N\")","v":"N"}]
[null,null,null,null,null,null,null,null,null,null,{"$f":"IF(Table1[[#This Row],[Column3]]=\"T1013\",\"Y\",\"N\")","v":"N"},{"$f":"IF(Table1[[#This Row],[Column3]]=90785,\"Y\",\"N\")","v":"N"}]
[null,null,null,null,null,null,null,null,null,null,{"$f":"IF(Table1[[#This Row],[Column3]]=\"T1013\",\"Y\",\"N\")","v":"N"},{"$f":"IF(Table1[[#This Row],[Column3]]=90785,\"Y\",\"N\")","v":"N"}]
[null,null,null,null,null,null,null,null,null,null,{"$f":"IF(Table1[[#This Row],[Column3]]=\"T1013\",\"Y\",\"N\")","v":"N"},{"$f":"IF(Table1[[#This Row],[Column3]]=90785,\"Y\",\"N\")","v":"N"}]
[null,null,null,null,null,null,null,null,null,null,{"$f":"IF(Table1[[#This Row],[Column3]]=\"T1013\",\"Y\",\"N\")","v":"N"},{"$f":"IF(Table1[[#This Row],[Column3]]=90785,\"Y\",\"N\")","v":"N"}]
[null,null,null,null,null,null,null,null,null,null,{"$f":"IF(Table1[[#This Row],[Column3]]=\"T1013\",\"Y\",\"N\")","v":"N"},{"$f":"IF(Table1[[#This Row],[Column3]]=90785,\"Y\",\"N\")","v":"N"}]
[null,null,null,null,null,null,null,null,null,null,{"$f":"IF(Table1[[#This Row],[Column3]]=\"T1013\",\"Y\",\"N\")","v":"N"},{"$f":"IF(Table1[[#This Row],[Column3]]=90785,\"Y\",\"N\")","v":"N"}]
[null,null,null,null,null,null,null,null,null,null,{"$f":"IF(Table1[[#This Row],[Column3]]=\"T1013\",\"Y\",\"N\")","v":"N"},{"$f":"IF(Table1[[#This Row],[Column3]]=90785,\"Y\",\"N\")","v":"N"}]
[null,null,null,null,null,null,null,null,null,null,{"$f":"IF(Table1[[#This Row],[Column3]]=\"T1013\",\"Y\",\"N\")","v":"N"},{"$f":"IF(Table1[[#This Row],[Column3]]=90785,\"Y\",\"N\")","v":"N"}]
[null,null,null,null,null,null,null,null,null,null,{"$f":"IF(Table1[[#This Row],[Column3]]=\"T1013\",\"Y\",\"N\")","v":"N"},{"$f":"IF(Table1[[#This Row],[Column3]]=90785,\"Y\",\"N\")","v":"N"}]
[null,null,null,null,null,null,null,null,null,null,{"$f":"IF(Table1[[#This Row],[Column3]]=\"T1013\",\"Y\",\"N\")","v":"N"},{"$f":"IF(Table1[[#This Row],[Column3]]=90785,\"Y\",\"N\")","v":"N"}]
[null,null,null,null,null,null,null,null,null,null,{"$f":"IF(Table1[[#This Row],[Column3]]=\"T1013\",\"Y\",\"N\")","v":"N"},{"$f":"IF(Table1[[#This Row],[Column3]]=90785,\"Y\",\"N\")","v":"N"}]
[null,null,null,null,null,null,null,null,null,null,{"$f":"IF(Table1[[#This Row],[Column3]]=\"T1013\",\"Y\",\"N\")","v":"N"},{"$f":"IF(Table1[[#This Row],[Column3]]=90785,\"Y\",\"N\")","v":"N"}]
[null,null,null,null,null,null,null,null,null,null,{"$f":"IF(Table1[[#This Row],[Column3]]=\"T1013\",\"Y\",\"N\")","v":"N"},{"$f":"IF(Table1[[#This Row],[Column3]]=90785,\"Y\",\"N\")","v":"N"}]
[null,null,null,null,null,null,null,null,null,null,{"$f":"IF(Table1[[#This Row],[Column3]]=\"T1013\",\"Y\",\"N\")","v":"N"},{"$f":"IF(Table1[[#This Row],[Column3]]=90785,\"Y\",\"N\")","v":"N"}]
[null,null,null,null,null,null,null,null,null,null,{"$f":"IF(Table1[[#This Row],[Column3]]=\"T1013\",\"Y\",\"N\")","v":"N"},{"$f":"IF(Table1[[#This Row],[Column3]]=90785,\"Y\",\"N\")","v":"N"}]
[null,null,null,null,null,null,null,null,null,null,{"$f":"IF(Table1[[#This Row],[Column3]]=\"T1013\",\"Y\",\"N\")","v":"N"},{"$f":"IF(Table1[[#This Row],[Column3]]=90785,\"Y\",\"N\")","v":"N"}]
[null,null,null,null,null,null,null,null,null,null,{"$f":"IF(Table1[[#This Row],[Column3]]=\"T1013\",\"Y\",\"N\")","v":"N"},{"$f":"IF(Table1[[#This Row],[Column3]]=90785,\"Y\",\"N\")","v":"N"}]
[null,null,null,null,null,null,null,null,null,null,{"$f":"IF(Table1[[#This Row],[Column3]]=\"T1013\",\"Y\",\"N\")","v":"N"},{"$f":"IF(Table1[[#This Row],[Column3]]=90785,\"Y\",\"N\")","v":"N"}]
[null,null,null,null,null,null,null,null,null,null,{"$f":"IF(Table1[[#This Row],[Column3]]=\"T1013\",\"Y\",\"N\")","v":"N"},{"$f":"IF(Table1[[#This Row],[Column3]]=90785,\"Y\",\"N\")","v":"N"}]
[null,null,null,null,null,null,null,null,null,null,{"$f":"IF(Table1[[#This Row],[Column3]]=\"T1013\",\"Y\",\"N\")","v":"N"},{"$f":"IF(Table1[[#This Row],[Column3]]=90785,\"Y\",\"N\")","v":"N"}]
[null,null,null,null,null,null,null,null,null,null,{"$f":"IF(Table1[[#This Row],[Column3]]=\"T1013\",\"Y\",\"N\")","v":"N"},{"$f":"IF(Table1[[#This Row],[Column3]]=90785,\"Y\",\"N\")","v":"N"}]
[null,null,null,null,null,null,null,null,null,null,{"$f":"IF(Table1[[#This Row],[Column3]]=\"T1013\",\"Y\",\"N\")","v":"N"},{"$f":"IF(Table1[[#This Row],[Column3]]=90785,\"Y\",\"N\")","v":"N"}]
[null,null,null,null,null,null,null,null,null,null,{"$f":"IF(Table1[[#This Row],[Column3]]=\"T1013\",\"Y\",\"N\")","v":"N"},{"$f":"IF(Table1[[#This Row],[Column3]]=90785,\"Y\",\"N\")","v":"N"}]
[null,null,null,null,null,null,null,null,null,null,{"$f":"IF(Table1[[#This Row],[Column3]]=\"T1013\",\"Y\",\"N\")","v":"N"},{"$f":"IF(Table1[[#This Row],[Column3]]=90785,\"Y\",\"N\")","v":"N"}]
[null,null,null,null,null,null,null,null,null,null,{"$f":"IF(Table1[[#This Row],[Column3]]=\"T1013\",\"Y\",\"N\")","v":"N"},{"$f":"IF(Table1[[#This Row],[Column3]]=90785,\"Y\",\"N\")","v":"N"}]
[null,null,null,null,null,null,null,null,null,null,{"$f":"IF(Table1[[#This Row],[Column3]]=\"T1013\",\"Y\",\"N\")","v":"N"},{"$f":"IF(Table1[[#This Row],[Column3]]=90785,\"Y\",\"N\")","v":"N"}]
[null,null,null,null,null,null,null,null,null,null,{"$f":"IF(Table1[[#This Row],[Column3]]=\"T1013\",\"Y\",\"N\")","v":"N"},{"$f":"IF(Table1[[#This Row],[Column3]]=90785,\"Y\",\"N\")","v":"N"}]
[null,null,null,null,null,null,null,null,null,null,{"$f":"IF(Table1[[#This Row],[Column3]]=\"T1013\",\"Y\",\"N\")","v":"N"},{"$f":"IF(Table1[[#This Row],[Column3]]=90785,\"Y\",\"N\")","v":"N"}]
[null,null,null,null,null,null,null,null,null,null,{"$f":"IF(Table1[[#This Row],[Column3]]=\"T1013\",\"Y\",\"N\")","v":"N"},{"$f":"IF(Table1[[#This Row],[Column3]]=90785,\"Y\",\"N\")","v":"N"}]
[null,null,null,null,null,null,null,null,null,null,{"$f":"IF(Table1[[#This Row],[Column3]]=\"T1013\",\"Y\",\"N\")","v":"N"},{"$f":"IF(Table1[[#This Row],[Column3]]=90785,\"Y\",\"N\")","v":"N"}]
[null,null,null,null,null,null,null,null,null,null,{"$f":"IF(Table1[[#This Row],[Column3]]=\"T1013\",\"Y\",\"N\")","v":"N"},{"$f":"IF(Table1[[#This Row],[Column3]]=90785,\"Y\",\"N\")","v":"N"}]
[null,null,null,null,null,null,null,null,null,null,{"$f":"IF(Table1[[#This Row],[Column3]]=\"T1013\",\"Y\",\"N\")","v":"N"},{"$f":"IF(Table1[[#This Row],[Column3]]=90785,\"Y\",\"N\")","v":"N"}]
[null,null,null,null,null,null,null,null,null,null,{"$f":"IF(Table1[[#This Row],[Column3]]=\"T1013\",\"Y\",\"N\")","v":"N"},{"$f":"IF(Table1[[#This Row],[Column3]]=90785,\"Y\",\"N\")","v":"N"}]
[null,null,null,null,null,null,null,null,null,null,{"$f":"IF(Table1[[#This Row],[Column3]]=\"T1013\",\"Y\",\"N\")","v":"N"},{"$f":"IF(Table1[[#This Row],[Column3]]=90785,\"Y\",\"N\")","v":"N"}]
[null,null,null,null,null,null,null,null,null,null,{"$f":"IF(Table1[[#This Row],[Column3]]=\"T1013\",\"Y\",\"N\")","v":"N"},{"$f":"IF(Table1[[#This Row],[Column3]]=90785,\"Y\",\"N\")","v":"N"}]
[null,null,null,null,null,null,null,null,null,null,{"$f":"IF(Table1[[#This Row],[Column3]]=\"T1013\",\"Y\",\"N\")","v":"N"},{"$f":"IF(Table1[[#This Row],[Column3]]=90785,\"Y\",\"N\")","v":"N"}]
[null,null,null,null,null,null,null,null,null,null,{"$f":"IF(Table1[[#This Row],[Column3]]=\"T1013\",\"Y\",\"N\")","v":"N"},{"$f":"IF(Table1[[#This Row],[Column3]]=90785,\"Y\",\"N\")","v":"N"}]
[null,null,null,null,null,null,null,null,null,null,{"$f":"IF(Table1[[#This Row],[Column3]]=\"T1013\",\"Y\",\"N\")","v":"N"},{"$f":"IF(Table1[[#This Row],[Column3]]=90785,\"Y\",\"N\")","v":"N"}]
[null,null,null,null,null,null,null,null,null,null,{"$f":"IF(Table1[[#This Row],[Column3]]=\"T1013\",\"Y\",\"N\")","v":"N"},{"$f":"IF(Table1[[#This Row],[Column3]]=90785,\"Y\",\"N\")","v":"N"}]
[null,null,null,null,null,null,null,null,null,null,{"$f":"IF(Table1[[#This Row],[Column3]]=\"T1013\",\"Y\",\"N\")","v":"N"},{"$f":"IF(Table1[[#This Row],[Column3]]=90785,\"Y\",\"N\")","v":"N"}]
[null,null,null,null,null,null,null,null,null,null,{"$f":"IF(Table1[[#This Row],[Column3]]=\"T1013\",\"Y\",\"N\")","v":"N"},{"$f":"IF(Table1[[#This Row],[Column3]]=90785,\"Y\",\"N\")","v":"N"}]
[null,null,null,null,null,null,null,null,null,null,{"$f":"IF(Table1[[#This Row],[Column3]]=\"T1013\",\"Y\",\"N\")","v":"N"},{"$f":"IF(Table1[[#This Row],[Column3]]=90785,\"Y\",\"N\")","v":"N"}]
[null,null,null,null,null,null,null,null,null,null,{"$f":"IF(Table1[[#This Row],[Column3]]=\"T1013\",\"Y\",\"N\")","v":"N"},{"$f":"IF(Table1[[#This Row],[Column3]]=90785,\"Y\",\"N\")","v":"N"}]
[null,null,null,null,null,null,null,null,null,null,{"$f":"IF(Table1[[#This Row],[Column3]]=\"T1013\",\"Y\",\"N\")","v":"N"},{"$f":"IF(Table1[[#This Row],[Column3]]=90785,\"Y\",\"N\")","v":"N"}]
[null,null,null,null,null,null,null,null,null,null,{"$f":"IF(Table1[[#This Row],[Column3]]=\"T1013\",\"Y\",\"N\")","v":"N"},{"$f":"IF(Table1[[#This Row],[Column3]]=90785,\"Y\",\"N\")","v":"N"}]
[null,null,null,null,null,null,null,null,null,null,{"$f":"IF(Table1[[#This Row],[Column3]]=\"T1013\",\"Y\",\"N\")","v":"N"},{"$f":"IF(Table1[[#This Row],[Column3]]=90785,\"Y\",\"N\")","v":"N"}]
[null,null,null,null,null,null,null,null,null,null,{"$f":"IF(Table1[[#This Row],[Column3]]=\"T1013\",\"Y\",\"N\")","v":"N"},{"$f":"IF(Table1[[#This Row],[Column3]]=90785,\"Y\",\"N\")","v":"N"}]
[null,null,null,null,null,null,null,null,null,null,{"$f":"IF(Table1[[#This Row],[Column3]]=\"T1013\",\"Y\",\"N\")","v":"N"},{"$f":"IF(Table1[[#This Row],[Column3]]=90785,\"Y\",\"N\")","v":"N"}]
[null,null,null,null,null,null,null,null,null,null,{"$f":"IF(Table1[[#This Row],[Column3]]=\"T1013\",\"Y\",\"N\")","v":"N"},{"$f":"IF(Table1[[#This Row],[Column3]]=90785,\"Y\",\"N\")","v":"N"}]
[null,null,null,null,null,null,null,null,null,null,{"$f":"IF(Table1[[#This Row],[Column3]]=\"T1013\",\"Y\",\"N\")","v":"N"},{"$f":"IF(Table1[[#This Row],[Column3]]=90785,\"Y\",\"N\")","v":"N"}]
[null,null,null,null,null,null,null,null,null,null,{"$f":"IF(Table1[[#This Row],[Column3]]=\"T1013\",\"Y\",\"N\")","v":"N"},{"$f":"IF(Table1[[#This Row],[Column3]]=90785,\"Y\",\"N\")","v":"N"}]
[null,null,null,null,null,null,null,null,null,null,{"$f":"IF(Table1[[#This Row],[Column3]]=\"T1013\",\"Y\",\"N\")","v":"N"},{"$f":"IF(Table1[[#This Row],[Column3]]=90785,\"Y\",\"N\")","v":"N"}]
[null,null,null,null,null,null,null,null,null,null,{"$f":"IF(Table1[[#This Row],[Column3]]=\"T1013\",\"Y\",\"N\")","v":"N"},{"$f":"IF(Table1[[#This Row],[Column3]]=90785,\"Y\",\"N\")","v":"N"}]
[null,null,null,null,null,null,null,null,null,null,{"$f":"IF(Table1[[#This Row],[Column3]]=\"T1013\",\"Y\",\"N\")","v":"N"},{"$f":"IF(Table1[[#This Row],[Column3]]=90785,\"Y\",\"N\")","v":"N"}]
[null,null,null,null,null,null,null,null,null,null,{"$f":"IF(Table1[[#This Row],[Column3]]=\"T1013\",\"Y\",\"N\")","v":"N"},{"$f":"IF(Table1[[#This Row],[Column3]]=90785,\"Y\",\"N\")","v":"N"}]
[null,null,null,null,null,null,null,null,null,null,{"$f":"IF(Table1[[#This Row],[Column3]]=\"T1013\",\"Y\",\"N\")","v":"N"},{"$f":"IF(Table1[[#This Row],[Column3]]=90785,\"Y\",\"N\")","v":"N"}]
[null,null,null,null,null,null,null,null,null,null,{"$f":"IF(Table1[[#This Row],[Column3]]=\"T1013\",\"Y\",\"N\")","v":"N"},{"$f":"IF(Table1[[#This Row],[Column3]]=90785,\"Y\",\"N\")","v":"N"}]
[null,null,null,null,null,null,null,null,null,null,{"$f":"IF(Table1[[#This Row],[Column3]]=\"T1013\",\"Y\",\"N\")","v":"N"},{"$f":"IF(Table1[[#This Row],[Column3]]=90785,\"Y\",\"N\")","v":"N"}]
[null,null,null,null,null,null,null,null,null,null,{"$f":"IF(Table1[[#This Row],[Column3]]=\"T1013\",\"Y\",\"N\")","v":"N"},{"$f":"IF(Table1[[#This Row],[Column3]]=90785,\"Y\",\"N\")","v":"N"}]
[null,null,null,null,null,null,null,null,null,null,{"$f":"IF(Table1[[#This Row],[Column3]]=\"T1013\",\"Y\",\"N\")","v":"N"},{"$f":"IF(Table1[[#This Row],[Column3]]=90785,\"Y\",\"N\")","v":"N"}]
[null,null,null,null,null,null,null,null,null,null,{"$f":"IF(Table1[[#This Row],[Column3]]=\"T1013\",\"Y\",\"N\")","v":"N"},{"$f":"IF(Table1[[#This Row],[Column3]]=90785,\"Y\",\"N\")","v":"N"}]
[null,null,null,null,null,null,null,null,null,null,{"$f":"IF(Table1[[#This Row],[Column3]]=\"T1013\",\"Y\",\"N\")","v":"N"},{"$f":"IF(Table1[[#This Row],[Column3]]=90785,\"Y\",\"N\")","v":"N"}]
[null,null,null,null,null,null,null,null,null,null,{"$f":"IF(Table1[[#This Row],[Column3]]=\"T1013\",\"Y\",\"N\")","v":"N"},{"$f":"IF(Table1[[#This Row],[Column3]]=90785,\"Y\",\"N\")","v":"N"}]
[null,null,null,null,null,null,null,null,null,null,{"$f":"IF(Table1[[#This Row],[Column3]]=\"T1013\",\"Y\",\"N\")","v":"N"},{"$f":"IF(Table1[[#This Row],[Column3]]=90785,\"Y\",\"N\")","v":"N"}]
[null,null,null,null,null,null,null,null,null,null,{"$f":"IF(Table1[[#This Row],[Column3]]=\"T1013\",\"Y\",\"N\")","v":"N"},{"$f":"IF(Table1[[#This Row],[Column3]]=90785,\"Y\",\"N\")","v":"N"}]
[null,null,null,null,null,null,null,null,null,null,{"$f":"IF(Table1[[#This Row],[Column3]]=\"T1013\",\"Y\",\"N\")","v":"N"},{"$f":"IF(Table1[[#This Row],[Column3]]=90785,\"Y\",\"N\")","v":"N"}]
[null,null,null,null,null,null,null,null,null,null,{"$f":"IF(Table1[[#This Row],[Column3]]=\"T1013\",\"Y\",\"N\")","v":"N"},{"$f":"IF(Table1[[#This Row],[Column3]]=90785,\"Y\",\"N\")","v":"N"}]
[null,null,null,null,null,null,null,null,null,null,{"$f":"IF(Table1[[#This Row],[Column3]]=\"T1013\",\"Y\",\"N\")","v":"N"},{"$f":"IF(Table1[[#This Row],[Column3]]=90785,\"Y\",\"N\")","v":"N"}]
[null,null,null,null,null,null,null,null,null,null,{"$f":"IF(Table1[[#This Row],[Column3]]=\"T1013\",\"Y\",\"N\")","v":"N"},{"$f":"IF(Table1[[#This Row],[Column3]]=90785,\"Y\",\"N\")","v":"N"}]
[null,null,null,null,null,null,null,null,null,null,{"$f":"IF(Table1[[#This Row],[Column3]]=\"T1013\",\"Y\",\"N\")","v":"N"},{"$f":"IF(Table1[[#This Row],[Column3]]=90785,\"Y\",\"N\")","v":"N"}]
[null,null,null,null,null,null,null,null,null,null,{"$f":"IF(Table1[[#This Row],[Column3]]=\"T1013\",\"Y\",\"N\")","v":"N"},{"$f":"IF(Table1[[#This Row],[Column3]]=90785,\"Y\",\"N\")","v":"N"}]
[null,null,null,null,null,null,null,null,null,null,{"$f":"IF(Table1[[#This Row],[Column3]]=\"T1013\",\"Y\",\"N\")","v":"N"},{"$f":"IF(Table1[[#This Row],[Column3]]=90785,\"Y\",\"N\")","v":"N"}]
[null,null,null,null,null,null,null,null,null,null,{"$f":"IF(Table1[[#This Row],[Column3]]=\"T1013\",\"Y\",\"N\")","v":"N"},{"$f":"IF(Table1[[#This Row],[Column3]]=90785,\"Y\",\"N\")","v":"N"}]
[null,null,null,null,null,null,null,null,null,null,{"$f":"IF(Table1[[#This Row],[Column3]]=\"T1013\",\"Y\",\"N\")","v":"N"},{"$f":"IF(Table1[[#This Row],[Column3]]=90785,\"Y\",\"N\")","v":"N"}]
[null,null,null,null,null,null,null,null,null,null,{"$f":"IF(Table1[[#This Row],[Column3]]=\"T1013\",\"Y\",\"N\")","v":"N"},{"$f":"IF(Table1[[#This Row],[Column3]]=90785,\"Y\",\"N\")","v":"N"}]
[null,null,null,null,null,null,null,null,null,null,{"$f":"IF(Table1[[#This Row],[Column3]]=\"T1013\",\"Y\",\"N\")","v":"N"},{"$f":"IF(Table1[[#This Row],[Column3]]=90785,\"Y\",\"N\")","v":"N"}]
[null,null,null,null,null,null,null,null,null,null,{"$f":"IF(Table1[[#This Row],[Column3]]=\"T1013\",\"Y\",\"N\")","v":"N"},{"$f":"IF(Table1[[#This Row],[Column3]]=90785,\"Y\",\"N\")","v":"N"}]
[null,null,null,null,null,null,null,null,null,null,{"$f":"IF(Table1[[#This Row],[Column3]]=\"T1013\",\"Y\",\"N\")","v":"N"},{"$f":"IF(Table1[[#This Row],[Column3]]=90785,\"Y\",\"N\")","v":"N"}]
[null,null,null,null,null,null,null,null,null,null,{"$f":"IF(Table1[[#This Row],[Column3]]=\"T1013\",\"Y\",\"N\")","v":"N"},{"$f":"IF(Table1[[#This Row],[Column3]]=90785,\"Y\",\"N\")","v":"N"}]
[null,null,null,null,null,null,null,null,null,null,{"$f":"IF(Table1[[#This Row],[Column3]]=\"T1013\",\"Y\",\"N\")","v":"N"},{"$f":"IF(Table1[[#This Row],[Column3]]=90785,\"Y\",\"N\")","v":"N"}]
[null,null,null,null,null,null,null,null,null,null,{"$f":"IF(Table1[[#This Row],[Column3]]=\"T1013\",\"Y\",\"N\")","v":"N"},{"$f":"IF(Table1[[#This Row],[Column3]]=90785,\"Y\",\"N\")","v":"N"}]
[null,null,null,null,null,null,null,null,null,null,{"$f":"IF(Table1[[#This Row],[Column3]]=\"T1013\",\"Y\",\"N\")","v":"N"},{"$f":"IF(Table1[[#This Row],[Column3]]=90785,\"Y\",\"N\")","v":"N"}]
[null,null,null,null,null,null,null,null,null,null,{"$f":"IF(Table1[[#This Row],[Column3]]=\"T1013\",\"Y\",\"N\")","v":"N"},{"$f":"IF(Table1[[#This Row],[Column3]]=90785,\"Y\",\"N\")","v":"N"}]
[null,null,null,null,null,null,null,null,null,null,{"$f":"IF(Table1[[#This Row],[Column3]]=\"T1013\",\"Y\",\"N\")","v":"N"},{"$f":"IF(Table1[[#This Row],[Column3]]=90785,\"Y\",\"N\")","v":"N"}]
[null,null,null,null,null,null,null,null,null,null,{"$f":"IF(Table1[[#This Row],[Column3]]=\"T1013\",\"Y\",\"N\")","v":"N"},{"$f":"IF(Table1[[#This Row],[Column3]]=90785,\"Y\",\"N\")","v":"N"}]
[null,null,null,null,null,null,null,null,null,null,{"$f":"IF(Table1[[#This Row],[Column3]]=\"T1013\",\"Y\",\"N\")","v":"N"},{"$f":"IF(Table1[[#This Row],[Column3]]=90785,\"Y\",\"N\")","v":"N"}]
[null,null,null,null,null,null,null,null,null,null,{"$f":"IF(Table1[[#This Row],[Column3]]=\"T1013\",\"Y\",\"N\")","v":"N"},{"$f":"IF(Table1[[#This Row],[Column3]]=90785,\"Y\",\"N\")","v":"N"}]
[null,null,null,null,null,null,null,null,null,null,{"$f":"IF(Table1[[#This Row],[Column3]]=\"T1013\",\"Y\",\"N\")","v":"N"},{"$f":"IF(Table1[[#This Row],[Column3]]=90785,\"Y\",\"N\")","v":"N"}]
[null,null,null,null,null,null,null,null,null,null,{"$f":"IF(Table1[[#This Row],[Column3]]=\"T1013\",\"Y\",\"N\")","v":"N"},{"$f":"IF(Table1[[#This Row],[Column3]]=90785,\"Y\",\"N\")","v":"N"}]
[null,null,null,null,null,null,null,null,null,null,{"$f":"IF(Table1[[#This Row],[Column3]]=\"T1013\",\"Y\",\"N\")","v":"N"},{"$f":"IF(Table1[[#This Row],[Column3]]=90785,\"Y\",\"N\")","v":"N"}]
[null,null,null,null,null,null,null,null,null,null,{"$f":"IF(Table1[[#This Row],[Column3]]=\"T1013\",\"Y\",\"N\")","v":"N"},{"$f":"IF(Table1[[#This Row],[Column3]]=90785,\"Y\",\"N\")","v":"N"}]
[null,null,null,null,null,null,null,null,null,null,{"$f":"IF(Table1[[#This Row],[Column3]]=\"T1013\",\"Y\",\"N\")","v":"N"},{"$f":"IF(Table1[[#This Row],[Column3]]=90785,\"Y\",\"N\")","v":"N"}]
[null,null,null,null,null,null,null,null,null,null,{"$f":"IF(Table1[[#This Row],[Column3]]=\"T1013\",\"Y\",\"N\")","v":"N"},{"$f":"IF(Table1[[#This Row],[Column3]]=90785,\"Y\",\"N\")","v":"N"}]
[null,null,null,null,null,null,null,null,null,null,{"$f":"IF(Table1[[#This Row],[Column3]]=\"T1013\",\"Y\",\"N\")","v":"N"},{"$f":"IF(Table1[[#This Row],[Column3]]=90785,\"Y\",\"N\")","v":"N"}]
[null,null,null,null,null,null,null,null,null,null,{"$f":"IF(Table1[[#This Row],[Column3]]=\"T1013\",\"Y\",\"N\")","v":"N"},{"$f":"IF(Table1[[#This Row],[Column3]]=90785,\"Y\",\"N\")","v":"N"}]
[null,null,null,null,null,null,null,null,null,null,{"$f":"IF(Table1[[#This Row],[Column3]]=\"T1013\",\"Y\",\"N\")","v":"N"},{"$f":"IF(Table1[[#This Row],[Column3]]=90785,\"Y\",\"N\")","v":"N"}]
[null,null,null,null,null,null,null,null,null,null,{"$f":"IF(Table1[[#This Row],[Column3]]=\"T1013\",\"Y\",\"N\")","v":"N"},{"$f":"IF(Table1[[#This Row],[Column3]]=90785,\"Y\",\"N\")","v":"N"}]
[null,null,null,null,null,null,null,null,null,null,{"$f":"IF(Table1[[#This Row],[Column3]]=\"T1013\",\"Y\",\"N\")","v":"N"},{"$f":"IF(Table1[[#This Row],[Column3]]=90785,\"Y\",\"N\")","v":"N"}]
[null,null,null,null,null,null,null,null,null,null,{"$f":"IF(Table1[[#This Row],[Column3]]=\"T1013\",\"Y\",\"N\")","v":"N"},{"$f":"IF(Table1[[#This Row],[Column3]]=90785,\"Y\",\"N\")","v":"N"}]
[null,null,null,null,null,null,null,null,null,null,{"$f":"IF(Table1[[#This Row],[Column3]]=\"T1013\",\"Y\",\"N\")","v":"N"},{"$f":"IF(Table1[[#This Row],[Column3]]=90785,\"Y\",\"N\")","v":"N"}]
[null,null,null,null,null,null,null,null,null,null,{"$f":"IF(Table1[[#This Row],[Column3]]=\"T1013\",\"Y\",\"N\")","v":"N"},{"$f":"IF(Table1[[#This Row],[Column3]]=90785,\"Y\",\"N\")","v":"N"}]
[null,null,null,null,null,null,null,null,null,null,{"$f":"IF(Table1[[#This Row],[Column3]]=\"T1013\",\"Y\",\"N\")","v":"N"},{"$f":"IF(Table1[[#This Row],[Column3]]=90785,\"Y\",\"N\")","v":"N"}]
[null,null,null,null,null,null,null,null,null,null,{"$f":"IF(Table1[[#This Row],[Column3]]=\"T1013\",\"Y\",\"N\")","v":"N"},{"$f":"IF(Table1[[#This Row],[Column3]]=90785,\"Y\",\"N\")","v":"N"}]
[null,null,null,null,null,null,null,null,null,null,{"$f":"IF(Table1[[#This Row],[Column3]]=\"T1013\",\"Y\",\"N\")","v":"N"},{"$f":"IF(Table1[[#This Row],[Column3]]=90785,\"Y\",\"N\")","v":"N"}]
[null,null,null,null,null,null,null,null,null,null,{"$f":"IF(Table1[[#This Row],[Column3]]=\"T1013\",\"Y\",\"N\")","v":"N"},{"$f":"IF(Table1[[#This Row],[Column3]]=90785,\"Y\",\"N\")","v":"N"}]
[null,null,null,null,null,null,null,null,null,null,{"$f":"IF(Table1[[#This Row],[Column3]]=\"T1013\",\"Y\",\"N\")","v":"N"},{"$f":"IF(Table1[[#This Row],[Column3]]=90785,\"Y\",\"N\")","v":"N"}]
[null,null,null,null,null,null,null,null,null,null,{"$f":"IF(Table1[[#This Row],[Column3]]=\"T1013\",\"Y\",\"N\")","v":"N"},{"$f":"IF(Table1[[#This Row],[Column3]]=90785,\"Y\",\"N\")","v":"N"}]
[null,null,null,null,null,null,null,null,null,null,{"$f":"IF(Table1[[#This Row],[Column3]]=\"T1013\",\"Y\",\"N\")","v":"N"},{"$f":"IF(Table1[[#This Row],[Column3]]=90785,\"Y\",\"N\")","v":"N"}]
[null,null,null,null,null,null,null,null,null,null,{"$f":"IF(Table1[[#This Row],[Column3]]=\"T1013\",\"Y\",\"N\")","v":"N"},{"$f":"IF(Table1[[#This Row],[Column3]]=90785,\"Y\",\"N\")","v":"N"}]
[null,null,null,null,null,null,null,null,null,null,{"$f":"IF(Table1[[#This Row],[Column3]]=\"T1013\",\"Y\",\"N\")","v":"N"},{"$f":"IF(Table1[[#This Row],[Column3]]=90785,\"Y\",\"N\")","v":"N"}]
[null,null,null,null,null,null,null,null,null,null,{"$f":"IF(Table1[[#This Row],[Column3]]=\"T1013\",\"Y\",\"N\")","v":"N"},{"$f":"IF(Table1[[#This Row],[Column3]]=90785,\"Y\",\"N\")","v":"N"}]
[null,null,null,null,null,null,null,null,null,null,{"$f":"IF(Table1[[#This Row],[Column3]]=\"T1013\",\"Y\",\"N\")","v":"N"},{"$f":"IF(Table1[[#This Row],[Column3]]=90785,\"Y\",\"N\")","v":"N"}]
[null,null,null,null,null,null,null,null,null,null,{"$f":"IF(Table1[[#This Row],[Column3]]=\"T1013\",\"Y\",\"N\")","v":"N"},{"$f":"IF(Table1[[#This Row],[Column3]]=90785,\"Y\",\"N\")","v":"N"}]
[null,null,null,null,null,null,null,null,null,null,{"$f":"IF(Table1[[#This Row],[Column3]]=\"T1013\",\"Y\",\"N\")","v":"N"},{"$f":"IF(Table1[[#This Row],[Column3]]=90785,\"Y\",\"N\")","v":"N"}]
[null,null,null,null,null,null,null,null,null,null,{"$f":"IF(Table1[[#This Row],[Column3]]=\"T1013\",\"Y\",\"N\")","v":"N"},{"$f":"IF(Table1[[#This Row],[Column3]]=90785,\"Y\",\"N\")","v":"N"}]
[null,null,null,null,null,null,null,null,null,null,{"$f":"IF(Table1[[#This Row],[Column3]]=\"T1013\",\"Y\",\"N\")","v":"N"},{"$f":"IF(Table1[[#This Row],[Column3]]=90785,\"Y\",\"N\")","v":"N"}]
[null,null,null,null,null,null,null,null,null,null,{"$f":"IF(Table1[[#This Row],[Column3]]=\"T1013\",\"Y\",\"N\")","v":"N"},{"$f":"IF(Table1[[#This Row],[Column3]]=90785,\"Y\",\"N\")","v":"N"}]
[null,null,null,null,null,null,null,null,null,null,{"$f":"IF(Table1[[#This Row],[Column3]]=\"T1013\",\"Y\",\"N\")","v":"N"},{"$f":"IF(Table1[[#This Row],[Column3]]=90785,\"Y\",\"N\")","v":"N"}]
[null,null,null,null,null,null,null,null,null,null,{"$f":"IF(Table1[[#This Row],[Column3]]=\"T1013\",\"Y\",\"N\")","v":"N"},{"$f":"IF(Table1[[#This Row],[Column3]]=90785,\"Y\",\"N\")","v":"N"}]
[null,null,null,null,null,null,null,null,null,null,{"$f":"IF(Table1[[#This Row],[Column3]]=\"T1013\",\"Y\",\"N\")","v":"N"},{"$f":"IF(Table1[[#This Row],[Column3]]=90785,\"Y\",\"N\")","v":"N"}]
[null,null,null,null,null,null,null,null,null,null,{"$f":"IF(Table1[[#This Row],[Column3]]=\"T1013\",\"Y\",\"N\")","v":"N"},{"$f":"IF(Table1[[#This Row],[Column3]]=90785,\"Y\",\"N\")","v":"N"}]
[null,null,null,null,null,null,null,null,null,null,{"$f":"IF(Table1[[#This Row],[Column3]]=\"T1013\",\"Y\",\"N\")","v":"N"},{"$f":"IF(Table1[[#This Row],[Column3]]=90785,\"Y\",\"N\")","v":"N"}]
[null,null,null,null,null,null,null,null,null,null,{"$f":"IF(Table1[[#This Row],[Column3]]=\"T1013\",\"Y\",\"N\")","v":"N"},{"$f":"IF(Table1[[#This Row],[Column3]]=90785,\"Y\",\"N\")","v":"N"}]
[null,null,null,null,null,null,null,null,null,null,{"$f":"IF(Table1[[#This Row],[Column3]]=\"T1013\",\"Y\",\"N\")","v":"N"},{"$f":"IF(Table1[[#This Row],[Column3]]=90785,\"Y\",\"N\")","v":"N"}]
[null,null,null,null,null,null,null,null,null,null,{"$f":"IF(Table1[[#This Row],[Column3]]=\"T1013\",\"Y\",\"N\")","v":"N"},{"$f":"IF(Table1[[#This Row],[Column3]]=90785,\"Y\",\"N\")","v":"N"}]
[null,null,null,null,null,null,null,null,null,null,{"$f":"IF(Table1[[#This Row],[Column3]]=\"T1013\",\"Y\",\"N\")","v":"N"},{"$f":"IF(Table1[[#This Row],[Column3]]=90785,\"Y\",\"N\")","v":"N"}]
[null,null,null,null,null,null,null,null,null,null,{"$f":"IF(Table1[[#This Row],[Column3]]=\"T1013\",\"Y\",\"N\")","v":"N"},{"$f":"IF(Table1[[#This Row],[Column3]]=90785,\"Y\",\"N\")","v":"N"}]
[null,null,null,null,null,null,null,null,null,null,{"$f":"IF(Table1[[#This Row],[Column3]]=\"T1013\",\"Y\",\"N\")","v":"N"},{"$f":"IF(Table1[[#This Row],[Column3]]=90785,\"Y\",\"N\")","v":"N"}]
[null,null,null,null,null,null,null,null,null,null,{"$f":"IF(Table1[[#This Row],[Column3]]=\"T1013\",\"Y\",\"N\")","v":"N"},{"$f":"IF(Table1[[#This Row],[Column3]]=90785,\"Y\",\"N\")","v":"N"}]
[null,null,null,null,null,null,null,null,null,null,{"$f":"IF(Table1[[#This Row],[Column3]]=\"T1013\",\"Y\",\"N\")","v":"N"},{"$f":"IF(Table1[[#This Row],[Column3]]=90785,\"Y\",\"N\")","v":"N"}]
[null,null,null,null,null,null,null,null,null,null,{"$f":"IF(Table1[[#This Row],[Column3]]=\"T1013\",\"Y\",\"N\")","v":"N"},{"$f":"IF(Table1[[#This Row],[Column3]]=90785,\"Y\",\"N\")","v":"N"}]
[null,null,null,null,null,null,null,null,null,null,{"$f":"IF(Table1[[#This Row],[Column3]]=\"T1013\",\"Y\",\"N\")","v":"N"},{"$f":"IF(Table1[[#This Row],[Column3]]=90785,\"Y\",\"N\")","v":"N"}]
[null,null,null,null,null,null,null,null,null,null,{"$f":"IF(Table1[[#This Row],[Column3]]=\"T1013\",\"Y\",\"N\")","v":"N"},{"$f":"IF(Table1[[#This Row],[Column3]]=90785,\"Y\",\"N\")","v":"N"}]
[null,null,null,null,null,null,null,null,null,null,{"$f":"IF(Table1[[#This Row],[Column3]]=\"T1013\",\"Y\",\"N\")","v":"N"},{"$f":"IF(Table1[[#This Row],[Column3]]=90785,\"Y\",\"N\")","v":"N"}]
[null,null,null,null,null,null,null,null,null,null,{"$f":"IF(Table1[[#This Row],[Column3]]=\"T1013\",\"Y\",\"N\")","v":"N"},{"$f":"IF(Table1[[#This Row],[Column3]]=90785,\"Y\",\"N\")","v":"N"}]
[null,null,null,null,null,null,null,null,null,null,{"$f":"IF(Table1[[#This Row],[Column3]]=\"T1013\",\"Y\",\"N\")","v":"N"},{"$f":"IF(Table1[[#This Row],[Column3]]=90785,\"Y\",\"N\")","v":"N"}]
[null,null,null,null,null,null,null,null,null,null,{"$f":"IF(Table1[[#This Row],[Column3]]=\"T1013\",\"Y\",\"N\")","v":"N"},{"$f":"IF(Table1[[#This Row],[Column3]]=90785,\"Y\",\"N\")","v":"N"}]
[null,null,null,null,null,null,null,null,null,null,{"$f":"IF(Table1[[#This Row],[Column3]]=\"T1013\",\"Y\",\"N\")","v":"N"},{"$f":"IF(Table1[[#This Row],[Column3]]=90785,\"Y\",\"N\")","v":"N"}]
[null,null,null,null,null,null,null,null,null,null,{"$f":"IF(Table1[[#This Row],[Column3]]=\"T1013\",\"Y\",\"N\")","v":"N"},{"$f":"IF(Table1[[#This Row],[Column3]]=90785,\"Y\",\"N\")","v":"N"}]
[null,null,null,null,null,null,null,null,null,null,{"$f":"IF(Table1[[#This Row],[Column3]]=\"T1013\",\"Y\",\"N\")","v":"N"},{"$f":"IF(Table1[[#This Row],[Column3]]=90785,\"Y\",\"N\")","v":"N"}]
[null,null,null,null,null,null,null,null,null,null,{"$f":"IF(Table1[[#This Row],[Column3]]=\"T1013\",\"Y\",\"N\")","v":"N"},{"$f":"IF(Table1[[#This Row],[Column3]]=90785,\"Y\",\"N\")","v":"N"}]
[null,null,null,null,null,null,null,null,null,null,{"$f":"IF(Table1[[#This Row],[Column3]]=\"T1013\",\"Y\",\"N\")","v":"N"},{"$f":"IF(Table1[[#This Row],[Column3]]=90785,\"Y\",\"N\")","v":"N"}]
[null,null,null,null,null,null,null,null,null,null,{"$f":"IF(Table1[[#This Row],[Column3]]=\"T1013\",\"Y\",\"N\")","v":"N"},{"$f":"IF(Table1[[#This Row],[Column3]]=90785,\"Y\",\"N\")","v":"N"}]
[null,null,null,null,null,null,null,null,null,null,{"$f":"IF(Table1[[#This Row],[Column3]]=\"T1013\",\"Y\",\"N\")","v":"N"},{"$f":"IF(Table1[[#This Row],[Column3]]=90785,\"Y\",\"N\")","v":"N"}]
[null,null,null,null,null,null,null,null,null,null,{"$f":"IF(Table1[[#This Row],[Column3]]=\"T1013\",\"Y\",\"N\")","v":"N"},{"$f":"IF(Table1[[#This Row],[Column3]]=90785,\"Y\",\"N\")","v":"N"}]
[null,null,null,null,null,null,null,null,null,null,{"$f":"IF(Table1[[#This Row],[Column3]]=\"T1013\",\"Y\",\"N\")","v":"N"},{"$f":"IF(Table1[[#This Row],[Column3]]=90785,\"Y\",\"N\")","v":"N"}]
[null,null,null,null,null,null,null,null,null,null,{"$f":"IF(Table1[[#This Row],[Column3]]=\"T1013\",\"Y\",\"N\")","v":"N"},{"$f":"IF(Table1[[#This Row],[Column3]]=90785,\"Y\",\"N\")","v":"N"}]
[null,null,null,null,null,null,null,null,null,null,{"$f":"IF(Table1[[#This Row],[Column3]]=\"T1013\",\"Y\",\"N\")","v":"N"},{"$f":"IF(Table1[[#This Row],[Column3]]=90785,\"Y\",\"N\")","v":"N"}]
[null,null,null,null,null,null,null,null,null,null,{"$f":"IF(Table1[[#This Row],[Column3]]=\"T1013\",\"Y\",\"N\")","v":"N"},{"$f":"IF(Table1[[#This Row],[Column3]]=90785,\"Y\",\"N\")","v":"N"}]
[null,null,null,null,null,null,null,null,null,null,{"$f":"IF(Table1[[#This Row],[Column3]]=\"T1013\",\"Y\",\"N\")","v":"N"},{"$f":"IF(Table1[[#This Row],[Column3]]=90785,\"Y\",\"N\")","v":"N"}]
[null,null,null,null,null,null,null,null,null,null,{"$f":"IF(Table1[[#This Row],[Column3]]=\"T1013\",\"Y\",\"N\")","v":"N"},{"$f":"IF(Table1[[#This Row],[Column3]]=90785,\"Y\",\"N\")","v":"N"}]
[null,null,null,null,null,null,null,null,null,null,{"$f":"IF(Table1[[#This Row],[Column3]]=\"T1013\",\"Y\",\"N\")","v":"N"},{"$f":"IF(Table1[[#This Row],[Column3]]=90785,\"Y\",\"N\")","v":"N"}]
[null,null,null,null,null,null,null,null,null,null,{"$f":"IF(Table1[[#This Row],[Column3]]=\"T1013\",\"Y\",\"N\")","v":"N"},{"$f":"IF(Table1[[#This Row],[Column3]]=90785,\"Y\",\"N\")","v":"N"}]
[null,null,null,null,null,null,null,null,null,null,{"$f":"IF(Table1[[#This Row],[Column3]]=\"T1013\",\"Y\",\"N\")","v":"N"},{"$f":"IF(Table1[[#This Row],[Column3]]=90785,\"Y\",\"N\")","v":"N"}]
[null,null,null,null,null,null,null,null,null,null,{"$f":"IF(Table1[[#This Row],[Column3]]=\"T1013\",\"Y\",\"N\")","v":"N"},{"$f":"IF(Table1[[#This Row],[Column3]]=90785,\"Y\",\"N\")","v":"N"}]
[null,null,null,null,null,null,null,null,null,null,{"$f":"IF(Table1[[#This Row],[Column3]]=\"T1013\",\"Y\",\"N\")","v":"N"},{"$f":"IF(Table1[[#This Row],[Column3]]=90785,\"Y\",\"N\")","v":"N"}]
[null,null,null,null,null,null,null,null,null,null,{"$f":"IF(Table1[[#This Row],[Column3]]=\"T1013\",\"Y\",\"N\")","v":"N"},{"$f":"IF(Table1[[#This Row],[Column3]]=90785,\"Y\",\"N\")","v":"N"}]
[null,null,null,null,null,null,null,null,null,null,{"$f":"IF(Table1[[#This Row],[Column3]]=\"T1013\",\"Y\",\"N\")","v":"N"},{"$f":"IF(Table1[[#This Row],[Column3]]=90785,\"Y\",\"N\")","v":"N"}]
[null,null,null,null,null,null,null,null,null,null,{"$f":"IF(Table1[[#This Row],[Column3]]=\"T1013\",\"Y\",\"N\")","v":"N"},{"$f":"IF(Table1[[#This Row],[Column3]]=90785,\"Y\",\"N\")","v":"N"}]
[null,null,null,null,null,null,null,null,null,null,{"$f":"IF(Table1[[#This Row],[Column3]]=\"T1013\",\"Y\",\"N\")","v":"N"},{"$f":"IF(Table1[[#This Row],[Column3]]=90785,\"Y\",\"N\")","v":"N"}]
[null,null,null,null,null,null,null,null,null,null,{"$f":"IF(Table1[[#This Row],[Column3]]=\"T1013\",\"Y\",\"N\")","v":"N"},{"$f":"IF(Table1[[#This Row],[Column3]]=90785,\"Y\",\"N\")","v":"N"}]
[null,null,null,null,null,null,null,null,null,null,{"$f":"IF(Table1[[#This Row],[Column3]]=\"T1013\",\"Y\",\"N\")","v":"N"},{"$f":"IF(Table1[[#This Row],[Column3]]=90785,\"Y\",\"N\")","v":"N"}]
[null,null,null,null,null,null,null,null,null,null,{"$f":"IF(Table1[[#This Row],[Column3]]=\"T1013\",\"Y\",\"N\")","v":"N"},{"$f":"IF(Table1[[#This Row],[Column3]]=90785,\"Y\",\"N\")","v":"N"}]
[null,null,null,null,null,null,null,null,null,null,{"$f":"IF(Table1[[#This Row],[Column3]]=\"T1013\",\"Y\",\"N\")","v":"N"},{"$f":"IF(Table1[[#This Row],[Column3]]=90785,\"Y\",\"N\")","v":"N"}]
[null,null,null,null,null,null,null,null,null,null,{"$f":"IF(Table1[[#This Row],[Column3]]=\"T1013\",\"Y\",\"N\")","v":"N"},{"$f":"IF(Table1[[#This Row],[Column3]]=90785,\"Y\",\"N\")","v":"N"}]
[null,null,null,null,null,null,null,null,null,null,{"$f":"IF(Table1[[#This Row],[Column3]]=\"T1013\",\"Y\",\"N\")","v":"N"},{"$f":"IF(Table1[[#This Row],[Column3]]=90785,\"Y\",\"N\")","v":"N"}]
[null,null,null,null,null,null,null,null,null,null,{"$f":"IF(Table1[[#This Row],[Column3]]=\"T1013\",\"Y\",\"N\")","v":"N"},{"$f":"IF(Table1[[#This Row],[Column3]]=90785,\"Y\",\"N\")","v":"N"}]
[null,null,null,null,null,null,null,null,null,null,{"$f":"IF(Table1[[#This Row],[Column3]]=\"T1013\",\"Y\",\"N\")","v":"N"},{"$f":"IF(Table1[[#This Row],[Column3]]=90785,\"Y\",\"N\")","v":"N"}]
[null,null,null,null,null,null,null,null,null,null,{"$f":"IF(Table1[[#This Row],[Column3]]=\"T1013\",\"Y\",\"N\")","v":"N"},{"$f":"IF(Table1[[#This Row],[Column3]]=90785,\"Y\",\"N\")","v":"N"}]
[null,null,null,null,null,null,null,null,null,null,{"$f":"IF(Table1[[#This Row],[Column3]]=\"T1013\",\"Y\",\"N\")","v":"N"},{"$f":"IF(Table1[[#This Row],[Column3]]=90785,\"Y\",\"N\")","v":"N"}]
[null,null,null,null,null,null,null,null,null,null,{"$f":"IF(Table1[[#This Row],[Column3]]=\"T1013\",\"Y\",\"N\")","v":"N"},{"$f":"IF(Table1[[#This Row],[Column3]]=90785,\"Y\",\"N\")","v":"N"}]
[null,null,null,null,null,null,null,null,null,null,{"$f":"IF(Table1[[#This Row],[Column3]]=\"T1013\",\"Y\",\"N\")","v":"N"},{"$f":"IF(Table1[[#This Row],[Column3]]=90785,\"Y\",\"N\")","v":"N"}]
[null,null,null,null,null,null,null,null,null,null,{"$f":"IF(Table1[[#This Row],[Column3]]=\"T1013\",\"Y\",\"N\")","v":"N"},{"$f":"IF(Table1[[#This Row],[Column3]]=90785,\"Y\",\"N\")","v":"N"}]
[null,null,null,null,null,null,null,null,null,null,{"$f":"IF(Table1[[#This Row],[Column3]]=\"T1013\",\"Y\",\"N\")","v":"N"},{"$f":"IF(Table1[[#This Row],[Column3]]=90785,\"Y\",\"N\")","v":"N"}]
[null,null,null,null,null,null,null,null,null,null,{"$f":"IF(Table1[[#This Row],[Column3]]=\"T1013\",\"Y\",\"N\")","v":"N"},{"$f":"IF(Table1[[#This Row],[Column3]]=90785,\"Y\",\"N\")","v":"N"}]
[null,null,null,null,null,null,null,null,null,null,{"$f":"IF(Table1[[#This Row],[Column3]]=\"T1013\",\"Y\",\"N\")","v":"N"},{"$f":"IF(Table1[[#This Row],[Column3]]=90785,\"Y\",\"N\")","v":"N"}]
[null,null,null,null,null,null,null,null,null,null,{"$f":"IF(Table1[[#This Row],[Column3]]=\"T1013\",\"Y\",\"N\")","v":"N"},{"$f":"IF(Table1[[#This Row],[Column3]]=90785,\"Y\",\"N\")","v":"N"}]
[null,null,null,null,null,null,null,null,null,null,{"$f":"IF(Table1[[#This Row],[Column3]]=\"T1013\",\"Y\",\"N\")","v":"N"},{"$f":"IF(Table1[[#This Row],[Column3]]=90785,\"Y\",\"N\")","v":"N"}]
[null,null,null,null,null,null,null,null,null,null,{"$f":"IF(Table1[[#This Row],[Column3]]=\"T1013\",\"Y\",\"N\")","v":"N"},{"$f":"IF(Table1[[#This Row],[Column3]]=90785,\"Y\",\"N\")","v":"N"}]
[null,null,null,null,null,null,null,null,null,null,{"$f":"IF(Table1[[#This Row],[Column3]]=\"T1013\",\"Y\",\"N\")","v":"N"},{"$f":"IF(Table1[[#This Row],[Column3]]=90785,\"Y\",\"N\")","v":"N"}]
[null,null,null,null,null,null,null,null,null,null,{"$f":"IF(Table1[[#This Row],[Column3]]=\"T1013\",\"Y\",\"N\")","v":"N"},{"$f":"IF(Table1[[#This Row],[Column3]]=90785,\"Y\",\"N\")","v":"N"}]
[null,null,null,null,null,null,null,null,null,null,{"$f":"IF(Table1[[#This Row],[Column3]]=\"T1013\",\"Y\",\"N\")","v":"N"},{"$f":"IF(Table1[[#This Row],[Column3]]=90785,\"Y\",\"N\")","v":"N"}]
[null,null,null,null,null,null,null,null,null,null,{"$f":"IF(Table1[[#This Row],[Column3]]=\"T1013\",\"Y\",\"N\")","v":"N"},{"$f":"IF(Table1[[#This Row],[Column3]]=90785,\"Y\",\"N\")","v":"N"}]
[null,null,null,null,null,null,null,null,null,null,{"$f":"IF(Table1[[#This Row],[Column3]]=\"T1013\",\"Y\",\"N\")","v":"N"},{"$f":"IF(Table1[[#This Row],[Column3]]=90785,\"Y\",\"N\")","v":"N"}]
[null,null,null,null,null,null,null,null,null,null,{"$f":"IF(Table1[[#This Row],[Column3]]=\"T1013\",\"Y\",\"N\")","v":"N"},{"$f":"IF(Table1[[#This Row],[Column3]]=90785,\"Y\",\"N\")","v":"N"}]
[null,null,null,null,null,null,null,null,null,null,{"$f":"IF(Table1[[#This Row],[Column3]]=\"T1013\",\"Y\",\"N\")","v":"N"},{"$f":"IF(Table1[[#This Row],[Column3]]=90785,\"Y\",\"N\")","v":"N"}]
[null,null,null,null,null,null,null,null,null,null,{"$f":"IF(Table1[[#This Row],[Column3]]=\"T1013\",\"Y\",\"N\")","v":"N"},{"$f":"IF(Table1[[#This Row],[Column3]]=90785,\"Y\",\"N\")","v":"N"}]
[null,null,null,null,null,null,null,null,null,null,{"$f":"IF(Table1[[#This Row],[Column3]]=\"T1013\",\"Y\",\"N\")","v":"N"},{"$f":"IF(Table1[[#This Row],[Column3]]=90785,\"Y\",\"N\")","v":"N"}]
[null,null,null,null,null,null,null,null,null,null,{"$f":"IF(Table1[[#This Row],[Column3]]=\"T1013\",\"Y\",\"N\")","v":"N"},{"$f":"IF(Table1[[#This Row],[Column3]]=90785,\"Y\",\"N\")","v":"N"}]
[null,null,null,null,null,null,null,null,null,null,{"$f":"IF(Table1[[#This Row],[Column3]]=\"T1013\",\"Y\",\"N\")","v":"N"},{"$f":"IF(Table1[[#This Row],[Column3]]=90785,\"Y\",\"N\")","v":"N"}]
[null,null,null,null,null,null,null,null,null,null,{"$f":"IF(Table1[[#This Row],[Column3]]=\"T1013\",\"Y\",\"N\")","v":"N"},{"$f":"IF(Table1[[#This Row],[Column3]]=90785,\"Y\",\"N\")","v":"N"}]
[null,null,null,null,null,null,null,null,null,null,{"$f":"IF(Table1[[#This Row],[Column3]]=\"T1013\",\"Y\",\"N\")","v":"N"},{"$f":"IF(Table1[[#This Row],[Column3]]=90785,\"Y\",\"N\")","v":"N"}]
[null,null,null,null,null,null,null,null,null,null,{"$f":"IF(Table1[[#This Row],[Column3]]=\"T1013\",\"Y\",\"N\")","v":"N"},{"$f":"IF(Table1[[#This Row],[Column3]]=90785,\"Y\",\"N\")","v":"N"}]
[null,null,null,null,null,null,null,null,null,null,{"$f":"IF(Table1[[#This Row],[Column3]]=\"T1013\",\"Y\",\"N\")","v":"N"},{"$f":"IF(Table1[[#This Row],[Column3]]=90785,\"Y\",\"N\")","v":"N"}]
[null,null,null,null,null,null,null,null,null,null,{"$f":"IF(Table1[[#This Row],[Column3]]=\"T1013\",\"Y\",\"N\")","v":"N"},{"$f":"IF(Table1[[#This Row],[Column3]]=90785,\"Y\",\"N\")","v":"N"}]
[null,null,null,null,null,null,null,null,null,null,{"$f":"IF(Table1[[#This Row],[Column3]]=\"T1013\",\"Y\",\"N\")","v":"N"},{"$f":"IF(Table1[[#This Row],[Column3]]=90785,\"Y\",\"N\")","v":"N"}]
[null,null,null,null,null,null,null,null,null,null,{"$f":"IF(Table1[[#This Row],[Column3]]=\"T1013\",\"Y\",\"N\")","v":"N"},{"$f":"IF(Table1[[#This Row],[Column3]]=90785,\"Y\",\"N\")","v":"N"}]
[null,null,null,null,null,null,null,null,null,null,{"$f":"IF(Table1[[#This Row],[Column3]]=\"T1013\",\"Y\",\"N\")","v":"N"},{"$f":"IF(Table1[[#This Row],[Column3]]=90785,\"Y\",\"N\")","v":"N"}]
[null,null,null,null,null,null,null,null,null,null,{"$f":"IF(Table1[[#This Row],[Column3]]=\"T1013\",\"Y\",\"N\")","v":"N"},{"$f":"IF(Table1[[#This Row],[Column3]]=90785,\"Y\",\"N\")","v":"N"}]
[null,null,null,null,null,null,null,null,null,null,{"$f":"IF(Table1[[#This Row],[Column3]]=\"T1013\",\"Y\",\"N\")","v":"N"},{"$f":"IF(Table1[[#This Row],[Column3]]=90785,\"Y\",\"N\")","v":"N"}]
[null,null,null,null,null,null,null,null,null,null,{"$f":"IF(Table1[[#This Row],[Column3]]=\"T1013\",\"Y\",\"N\")","v":"N"},{"$f":"IF(Table1[[#This Row],[Column3]]=90785,\"Y\",\"N\")","v":"N"}]
[null,null,null,null,null,null,null,null,null,null,{"$f":"IF(Table1[[#This Row],[Column3]]=\"T1013\",\"Y\",\"N\")","v":"N"},{"$f":"IF(Table1[[#This Row],[Column3]]=90785,\"Y\",\"N\")","v":"N"}]
[null,null,null,null,null,null,null,null,null,null,{"$f":"IF(Table1[[#This Row],[Column3]]=\"T1013\",\"Y\",\"N\")","v":"N"},{"$f":"IF(Table1[[#This Row],[Column3]]=90785,\"Y\",\"N\")","v":"N"}]
[null,null,null,null,null,null,null,null,null,null,{"$f":"IF(Table1[[#This Row],[Column3]]=\"T1013\",\"Y\",\"N\")","v":"N"},{"$f":"IF(Table1[[#This Row],[Column3]]=90785,\"Y\",\"N\")","v":"N"}]
[null,null,null,null,null,null,null,null,null,null,{"$f":"IF(Table1[[#This Row],[Column3]]=\"T1013\",\"Y\",\"N\")","v":"N"},{"$f":"IF(Table1[[#This Row],[Column3]]=90785,\"Y\",\"N\")","v":"N"}]
[null,null,null,null,null,null,null,null,null,null,{"$f":"IF(Table1[[#This Row],[Column3]]=\"T1013\",\"Y\",\"N\")","v":"N"},{"$f":"IF(Table1[[#This Row],[Column3]]=90785,\"Y\",\"N\")","v":"N"}]
[null,null,null,null,null,null,null,null,null,null,{"$f":"IF(Table1[[#This Row],[Column3]]=\"T1013\",\"Y\",\"N\")","v":"N"},{"$f":"IF(Table1[[#This Row],[Column3]]=90785,\"Y\",\"N\")","v":"N"}]
[null,null,null,null,null,null,null,null,null,null,{"$f":"IF(Table1[[#This Row],[Column3]]=\"T1013\",\"Y\",\"N\")","v":"N"},{"$f":"IF(Table1[[#This Row],[Column3]]=90785,\"Y\",\"N\")","v":"N"}]
[null,null,null,null,null,null,null,null,null,null,{"$f":"IF(Table1[[#This Row],[Column3]]=\"T1013\",\"Y\",\"N\")","v":"N"},{"$f":"IF(Table1[[#This Row],[Column3]]=90785,\"Y\",\"N\")","v":"N"}]
[null,null,null,null,null,null,null,null,null,null,{"$f":"IF(Table1[[#This Row],[Column3]]=\"T1013\",\"Y\",\"N\")","v":"N"},{"$f":"IF(Table1[[#This Row],[Column3]]=90785,\"Y\",\"N\")","v":"N"}]
[null,null,null,null,null,null,null,null,null,null,{"$f":"IF(Table1[[#This Row],[Column3]]=\"T1013\",\"Y\",\"N\")","v":"N"},{"$f":"IF(Table1[[#This Row],[Column3]]=90785,\"Y\",\"N\")","v":"N"}]
[null,null,null,null,null,null,null,null,null,null,{"$f":"IF(Table1[[#This Row],[Column3]]=\"T1013\",\"Y\",\"N\")","v":"N"},{"$f":"IF(Table1[[#This Row],[Column3]]=90785,\"Y\",\"N\")","v":"N"}]
[null,null,null,null,null,null,null,null,null,null,{"$f":"IF(Table1[[#This Row],[Column3]]=\"T1013\",\"Y\",\"N\")","v":"N"},{"$f":"IF(Table1[[#This Row],[Column3]]=90785,\"Y\",\"N\")","v":"N"}]
[null,null,null,null,null,null,null,null,null,null,{"$f":"IF(Table1[[#This Row],[Column3]]=\"T1013\",\"Y\",\"N\")","v":"N"},{"$f":"IF(Table1[[#This Row],[Column3]]=90785,\"Y\",\"N\")","v":"N"}]
[null,null,null,null,null,null,null,null,null,null,{"$f":"IF(Table1[[#This Row],[Column3]]=\"T1013\",\"Y\",\"N\")","v":"N"},{"$f":"IF(Table1[[#This Row],[Column3]]=90785,\"Y\",\"N\")","v":"N"}]
[null,null,null,null,null,null,null,null,null,null,{"$f":"IF(Table1[[#This Row],[Column3]]=\"T1013\",\"Y\",\"N\")","v":"N"},{"$f":"IF(Table1[[#This Row],[Column3]]=90785,\"Y\",\"N\")","v":"N"}]
[null,null,null,null,null,null,null,null,null,null,{"$f":"IF(Table1[[#This Row],[Column3]]=\"T1013\",\"Y\",\"N\")","v":"N"},{"$f":"IF(Table1[[#This Row],[Column3]]=90785,\"Y\",\"N\")","v":"N"}]
[null,null,null,null,null,null,null,null,null,null,{"$f":"IF(Table1[[#This Row],[Column3]]=\"T1013\",\"Y\",\"N\")","v":"N"},{"$f":"IF(Table1[[#This Row],[Column3]]=90785,\"Y\",\"N\")","v":"N"}]
[null,null,null,null,null,null,null,null,null,null,{"$f":"IF(Table1[[#This Row],[Column3]]=\"T1013\",\"Y\",\"N\")","v":"N"},{"$f":"IF(Table1[[#This Row],[Column3]]=90785,\"Y\",\"N\")","v":"N"}]
[null,null,null,null,null,null,null,null,null,null,{"$f":"IF(Table1[[#This Row],[Column3]]=\"T1013\",\"Y\",\"N\")","v":"N"},{"$f":"IF(Table1[[#This Row],[Column3]]=90785,\"Y\",\"N\")","v":"N"}]
[null,null,null,null,null,null,null,null,null,null,{"$f":"IF(Table1[[#This Row],[Column3]]=\"T1013\",\"Y\",\"N\")","v":"N"},{"$f":"IF(Table1[[#This Row],[Column3]]=90785,\"Y\",\"N\")","v":"N"}]
[null,null,null,null,null,null,null,null,null,null,{"$f":"IF(Table1[[#This Row],[Column3]]=\"T1013\",\"Y\",\"N\")","v":"N"},{"$f":"IF(Table1[[#This Row],[Column3]]=90785,\"Y\",\"N\")","v":"N"}]
[null,null,null,null,null,null,null,null,null,null,{"$f":"IF(Table1[[#This Row],[Column3]]=\"T1013\",\"Y\",\"N\")","v":"N"},{"$f":"IF(Table1[[#This Row],[Column3]]=90785,\"Y\",\"N\")","v":"N"}]
[null,null,null,null,null,null,null,null,null,null,{"$f":"IF(Table1[[#This Row],[Column3]]=\"T1013\",\"Y\",\"N\")","v":"N"},{"$f":"IF(Table1[[#This Row],[Column3]]=90785,\"Y\",\"N\")","v":"N"}]
[null,null,null,null,null,null,null,null,null,null,{"$f":"IF(Table1[[#This Row],[Column3]]=\"T1013\",\"Y\",\"N\")","v":"N"},{"$f":"IF(Table1[[#This Row],[Column3]]=90785,\"Y\",\"N\")","v":"N"}]
[null,null,null,null,null,null,null,null,null,null,{"$f":"IF(Table1[[#This Row],[Column3]]=\"T1013\",\"Y\",\"N\")","v":"N"},{"$f":"IF(Table1[[#This Row],[Column3]]=90785,\"Y\",\"N\")","v":"N"}]
[null,null,null,null,null,null,null,null,null,null,{"$f":"IF(Table1[[#This Row],[Column3]]=\"T1013\",\"Y\",\"N\")","v":"N"},{"$f":"IF(Table1[[#This Row],[Column3]]=90785,\"Y\",\"N\")","v":"N"}]
[null,null,null,null,null,null,null,null,null,null,{"$f":"IF(Table1[[#This Row],[Column3]]=\"T1013\",\"Y\",\"N\")","v":"N"},{"$f":"IF(Table1[[#This Row],[Column3]]=90785,\"Y\",\"N\")","v":"N"}]
[null,null,null,null,null,null,null,null,null,null,{"$f":"IF(Table1[[#This Row],[Column3]]=\"T1013\",\"Y\",\"N\")","v":"N"},{"$f":"IF(Table1[[#This Row],[Column3]]=90785,\"Y\",\"N\")","v":"N"}]
[null,null,null,null,null,null,null,null,null,null,{"$f":"IF(Table1[[#This Row],[Column3]]=\"T1013\",\"Y\",\"N\")","v":"N"},{"$f":"IF(Table1[[#This Row],[Column3]]=90785,\"Y\",\"N\")","v":"N"}]
[null,null,null,null,null,null,null,null,null,null,{"$f":"IF(Table1[[#This Row],[Column3]]=\"T1013\",\"Y\",\"N\")","v":"N"},{"$f":"IF(Table1[[#This Row],[Column3]]=90785,\"Y\",\"N\")","v":"N"}]
[null,null,null,null,null,null,null,null,null,null,{"$f":"IF(Table1[[#This Row],[Column3]]=\"T1013\",\"Y\",\"N\")","v":"N"},{"$f":"IF(Table1[[#This Row],[Column3]]=90785,\"Y\",\"N\")","v":"N"}]
[null,null,null,null,null,null,null,null,null,null,{"$f":"IF(Table1[[#This Row],[Column3]]=\"T1013\",\"Y\",\"N\")","v":"N"},{"$f":"IF(Table1[[#This Row],[Column3]]=90785,\"Y\",\"N\")","v":"N"}]
[null,null,null,null,null,null,null,null,null,null,{"$f":"IF(Table1[[#This Row],[Column3]]=\"T1013\",\"Y\",\"N\")","v":"N"},{"$f":"IF(Table1[[#This Row],[Column3]]=90785,\"Y\",\"N\")","v":"N"}]
[null,null,null,null,null,null,null,null,null,null,{"$f":"IF(Table1[[#This Row],[Column3]]=\"T1013\",\"Y\",\"N\")","v":"N"},{"$f":"IF(Table1[[#This Row],[Column3]]=90785,\"Y\",\"N\")","v":"N"}]
[null,null,null,null,null,null,null,null,null,null,{"$f":"IF(Table1[[#This Row],[Column3]]=\"T1013\",\"Y\",\"N\")","v":"N"},{"$f":"IF(Table1[[#This Row],[Column3]]=90785,\"Y\",\"N\")","v":"N"}]
[null,null,null,null,null,null,null,null,null,null,{"$f":"IF(Table1[[#This Row],[Column3]]=\"T1013\",\"Y\",\"N\")","v":"N"},{"$f":"IF(Table1[[#This Row],[Column3]]=90785,\"Y\",\"N\")","v":"N"}]
[null,null,null,null,null,null,null,null,null,null,{"$f":"IF(Table1[[#This Row],[Column3]]=\"T1013\",\"Y\",\"N\")","v":"N"},{"$f":"IF(Table1[[#This Row],[Column3]]=90785,\"Y\",\"N\")","v":"N"}]
[null,null,null,null,null,null,null,null,null,null,{"$f":"IF(Table1[[#This Row],[Column3]]=\"T1013\",\"Y\",\"N\")","v":"N"},{"$f":"IF(Table1[[#This Row],[Column3]]=90785,\"Y\",\"N\")","v":"N"}]
[null,null,null,null,null,null,null,null,null,null,{"$f":"IF(Table1[[#This Row],[Column3]]=\"T1013\",\"Y\",\"N\")","v":"N"},{"$f":"IF(Table1[[#This Row],[Column3]]=90785,\"Y\",\"N\")","v":"N"}]
[null,null,null,null,null,null,null,null,null,null,{"$f":"IF(Table1[[#This Row],[Column3]]=\"T1013\",\"Y\",\"N\")","v":"N"},{"$f":"IF(Table1[[#This Row],[Column3]]=90785,\"Y\",\"N\")","v":"N"}]
[null,null,null,null,null,null,null,null,null,null,{"$f":"IF(Table1[[#This Row],[Column3]]=\"T1013\",\"Y\",\"N\")","v":"N"},{"$f":"IF(Table1[[#This Row],[Column3]]=90785,\"Y\",\"N\")","v":"N"}]
[null,null,null,null,null,null,null,null,null,null,{"$f":"IF(Table1[[#This Row],[Column3]]=\"T1013\",\"Y\",\"N\")","v":"N"},{"$f":"IF(Table1[[#This Row],[Column3]]=90785,\"Y\",\"N\")","v":"N"}]
[null,null,null,null,null,null,null,null,null,null,{"$f":"IF(Table1[[#This Row],[Column3]]=\"T1013\",\"Y\",\"N\")","v":"N"},{"$f":"IF(Table1[[#This Row],[Column3]]=90785,\"Y\",\"N\")","v":"N"}]
[null,null,null,null,null,null,null,null,null,null,{"$f":"IF(Table1[[#This Row],[Column3]]=\"T1013\",\"Y\",\"N\")","v":"N"},{"$f":"IF(Table1[[#This Row],[Column3]]=90785,\"Y\",\"N\")","v":"N"}]
[null,null,null,null,null,null,null,null,null,null,{"$f":"IF(Table1[[#This Row],[Column3]]=\"T1013\",\"Y\",\"N\")","v":"N"},{"$f":"IF(Table1[[#This Row],[Column3]]=90785,\"Y\",\"N\")","v":"N"}]
[null,null,null,null,null,null,null,null,null,null,{"$f":"IF(Table1[[#This Row],[Column3]]=\"T1013\",\"Y\",\"N\")","v":"N"},{"$f":"IF(Table1[[#This Row],[Column3]]=90785,\"Y\",\"N\")","v":"N"}]
[null,null,null,null,null,null,null,null,null,null,{"$f":"IF(Table1[[#This Row],[Column3]]=\"T1013\",\"Y\",\"N\")","v":"N"},{"$f":"IF(Table1[[#This Row],[Column3]]=90785,\"Y\",\"N\")","v":"N"}]
[null,null,null,null,null,null,null,null,null,null,{"$f":"IF(Table1[[#This Row],[Column3]]=\"T1013\",\"Y\",\"N\")","v":"N"},{"$f":"IF(Table1[[#This Row],[Column3]]=90785,\"Y\",\"N\")","v":"N"}]
[null,null,null,null,null,null,null,null,null,null,{"$f":"IF(Table1[[#This Row],[Column3]]=\"T1013\",\"Y\",\"N\")","v":"N"},{"$f":"IF(Table1[[#This Row],[Column3]]=90785,\"Y\",\"N\")","v":"N"}]
[null,null,null,null,null,null,null,null,null,null,{"$f":"IF(Table1[[#This Row],[Column3]]=\"T1013\",\"Y\",\"N\")","v":"N"},{"$f":"IF(Table1[[#This Row],[Column3]]=90785,\"Y\",\"N\")","v":"N"}]
[null,null,null,null,null,null,null,null,null,null,{"$f":"IF(Table1[[#This Row],[Column3]]=\"T1013\",\"Y\",\"N\")","v":"N"},{"$f":"IF(Table1[[#This Row],[Column3]]=90785,\"Y\",\"N\")","v":"N"}]
[null,null,null,null,null,null,null,null,null,null,{"$f":"IF(Table1[[#This Row],[Column3]]=\"T1013\",\"Y\",\"N\")","v":"N"},{"$f":"IF(Table1[[#This Row],[Column3]]=90785,\"Y\",\"N\")","v":"N"}]
[null,null,null,null,null,null,null,null,null,null,{"$f":"IF(Table1[[#This Row],[Column3]]=\"T1013\",\"Y\",\"N\")","v":"N"},{"$f":"IF(Table1[[#This Row],[Column3]]=90785,\"Y\",\"N\")","v":"N"}]
[null,null,null,null,null,null,null,null,null,null,{"$f":"IF(Table1[[#This Row],[Column3]]=\"T1013\",\"Y\",\"N\")","v":"N"},{"$f":"IF(Table1[[#This Row],[Column3]]=90785,\"Y\",\"N\")","v":"N"}]
[null,null,null,null,null,null,null,null,null,null,{"$f":"IF(Table1[[#This Row],[Column3]]=\"T1013\",\"Y\",\"N\")","v":"N"},{"$f":"IF(Table1[[#This Row],[Column3]]=90785,\"Y\",\"N\")","v":"N"}]
[null,null,null,null,null,null,null,null,null,null,{"$f":"IF(Table1[[#This Row],[Column3]]=\"T1013\",\"Y\",\"N\")","v":"N"},{"$f":"IF(Table1[[#This Row],[Column3]]=90785,\"Y\",\"N\")","v":"N"}]
[null,null,null,null,null,null,null,null,null,null,{"$f":"IF(Table1[[#This Row],[Column3]]=\"T1013\",\"Y\",\"N\")","v":"N"},{"$f":"IF(Table1[[#This Row],[Column3]]=90785,\"Y\",\"N\")","v":"N"}]
[null,null,null,null,null,null,null,null,null,null,{"$f":"IF(Table1[[#This Row],[Column3]]=\"T1013\",\"Y\",\"N\")","v":"N"},{"$f":"IF(Table1[[#This Row],[Column3]]=90785,\"Y\",\"N\")","v":"N"}]
[null,null,null,null,null,null,null,null,null,null,{"$f":"IF(Table1[[#This Row],[Column3]]=\"T1013\",\"Y\",\"N\")","v":"N"},{"$f":"IF(Table1[[#This Row],[Column3]]=90785,\"Y\",\"N\")","v":"N"}]
[null,null,null,null,null,null,null,null,null,null,{"$f":"IF(Table1[[#This Row],[Column3]]=\"T1013\",\"Y\",\"N\")","v":"N"},{"$f":"IF(Table1[[#This Row],[Column3]]=90785,\"Y\",\"N\")","v":"N"}]
[null,null,null,null,null,null,null,null,null,null,{"$f":"IF(Table1[[#This Row],[Column3]]=\"T1013\",\"Y\",\"N\")","v":"N"},{"$f":"IF(Table1[[#This Row],[Column3]]=90785,\"Y\",\"N\")","v":"N"}]
[null,null,null,null,null,null,null,null,null,null,{"$f":"IF(Table1[[#This Row],[Column3]]=\"T1013\",\"Y\",\"N\")","v":"N"},{"$f":"IF(Table1[[#This Row],[Column3]]=90785,\"Y\",\"N\")","v":"N"}]
[null,null,null,null,null,null,null,null,null,null,{"$f":"IF(Table1[[#This Row],[Column3]]=\"T1013\",\"Y\",\"N\")","v":"N"},{"$f":"IF(Table1[[#This Row],[Column3]]=90785,\"Y\",\"N\")","v":"N"}]
[null,null,null,null,null,null,null,null,null,null,{"$f":"IF(Table1[[#This Row],[Column3]]=\"T1013\",\"Y\",\"N\")","v":"N"},{"$f":"IF(Table1[[#This Row],[Column3]]=90785,\"Y\",\"N\")","v":"N"}]
[null,null,null,null,null,null,null,null,null,null,{"$f":"IF(Table1[[#This Row],[Column3]]=\"T1013\",\"Y\",\"N\")","v":"N"},{"$f":"IF(Table1[[#This Row],[Column3]]=90785,\"Y\",\"N\")","v":"N"}]
[null,null,null,null,null,null,null,null,null,null,{"$f":"IF(Table1[[#This Row],[Column3]]=\"T1013\",\"Y\",\"N\")","v":"N"},{"$f":"IF(Table1[[#This Row],[Column3]]=90785,\"Y\",\"N\")","v":"N"}]
[null,null,null,null,null,null,null,null,null,null,{"$f":"IF(Table1[[#This Row],[Column3]]=\"T1013\",\"Y\",\"N\")","v":"N"},{"$f":"IF(Table1[[#This Row],[Column3]]=90785,\"Y\",\"N\")","v":"N"}]
[null,null,null,null,null,null,null,null,null,null,{"$f":"IF(Table1[[#This Row],[Column3]]=\"T1013\",\"Y\",\"N\")","v":"N"},{"$f":"IF(Table1[[#This Row],[Column3]]=90785,\"Y\",\"N\")","v":"N"}]
[null,null,null,null,null,null,null,null,null,null,{"$f":"IF(Table1[[#This Row],[Column3]]=\"T1013\",\"Y\",\"N\")","v":"N"},{"$f":"IF(Table1[[#This Row],[Column3]]=90785,\"Y\",\"N\")","v":"N"}]
[null,null,null,null,null,null,null,null,null,null,{"$f":"IF(Table1[[#This Row],[Column3]]=\"T1013\",\"Y\",\"N\")","v":"N"},{"$f":"IF(Table1[[#This Row],[Column3]]=90785,\"Y\",\"N\")","v":"N"}]
[null,null,null,null,null,null,null,null,null,null,{"$f":"IF(Table1[[#This Row],[Column3]]=\"T1013\",\"Y\",\"N\")","v":"N"},{"$f":"IF(Table1[[#This Row],[Column3]]=90785,\"Y\",\"N\")","v":"N"}]
[null,null,null,null,null,null,null,null,null,null,{"$f":"IF(Table1[[#This Row],[Column3]]=\"T1013\",\"Y\",\"N\")","v":"N"},{"$f":"IF(Table1[[#This Row],[Column3]]=90785,\"Y\",\"N\")","v":"N"}]
[null,null,null,null,null,null,null,null,null,null,{"$f":"IF(Table1[[#This Row],[Column3]]=\"T1013\",\"Y\",\"N\")","v":"N"},{"$f":"IF(Table1[[#This Row],[Column3]]=90785,\"Y\",\"N\")","v":"N"}]
[null,null,null,null,null,null,null,null,null,null,{"$f":"IF(Table1[[#This Row],[Column3]]=\"T1013\",\"Y\",\"N\")","v":"N"},{"$f":"IF(Table1[[#This Row],[Column3]]=90785,\"Y\",\"N\")","v":"N"}]
[null,null,null,null,null,null,null,null,null,null,{"$f":"IF(Table1[[#This Row],[Column3]]=\"T1013\",\"Y\",\"N\")","v":"N"},{"$f":"IF(Table1[[#This Row],[Column3]]=90785,\"Y\",\"N\")","v":"N"}]
[null,null,null,null,null,null,null,null,null,null,{"$f":"IF(Table1[[#This Row],[Column3]]=\"T1013\",\"Y\",\"N\")","v":"N"},{"$f":"IF(Table1[[#This Row],[Column3]]=90785,\"Y\",\"N\")","v":"N"}]
[null,null,null,null,null,null,null,null,null,null,{"$f":"IF(Table1[[#This Row],[Column3]]=\"T1013\",\"Y\",\"N\")","v":"N"},{"$f":"IF(Table1[[#This Row],[Column3]]=90785,\"Y\",\"N\")","v":"N"}]
[null,null,null,null,null,null,null,null,null,null,{"$f":"IF(Table1[[#This Row],[Column3]]=\"T1013\",\"Y\",\"N\")","v":"N"},{"$f":"IF(Table1[[#This Row],[Column3]]=90785,\"Y\",\"N\")","v":"N"}]
[null,null,null,null,null,null,null,null,null,null,{"$f":"IF(Table1[[#This Row],[Column3]]=\"T1013\",\"Y\",\"N\")","v":"N"},{"$f":"IF(Table1[[#This Row],[Column3]]=90785,\"Y\",\"N\")","v":"N"}]
[null,null,null,null,null,null,null,null,null,null,{"$f":"IF(Table1[[#This Row],[Column3]]=\"T1013\",\"Y\",\"N\")","v":"N"},{"$f":"IF(Table1[[#This Row],[Column3]]=90785,\"Y\",\"N\")","v":"N"}]
[null,null,null,null,null,null,null,null,null,null,{"$f":"IF(Table1[[#This Row],[Column3]]=\"T1013\",\"Y\",\"N\")","v":"N"},{"$f":"IF(Table1[[#This Row],[Column3]]=90785,\"Y\",\"N\")","v":"N"}]
[null,null,null,null,null,null,null,null,null,null,{"$f":"IF(Table1[[#This Row],[Column3]]=\"T1013\",\"Y\",\"N\")","v":"N"},{"$f":"IF(Table1[[#This Row],[Column3]]=90785,\"Y\",\"N\")","v":"N"}]
[null,null,null,null,null,null,null,null,null,null,{"$f":"IF(Table1[[#This Row],[Column3]]=\"T1013\",\"Y\",\"N\")","v":"N"},{"$f":"IF(Table1[[#This Row],[Column3]]=90785,\"Y\",\"N\")","v":"N"}]
[null,null,null,null,null,null,null,null,null,null,{"$f":"IF(Table1[[#This Row],[Column3]]=\"T1013\",\"Y\",\"N\")","v":"N"},{"$f":"IF(Table1[[#This Row],[Column3]]=90785,\"Y\",\"N\")","v":"N"}]
[null,null,null,null,null,null,null,null,null,null,{"$f":"IF(Table1[[#This Row],[Column3]]=\"T1013\",\"Y\",\"N\")","v":"N"},{"$f":"IF(Table1[[#This Row],[Column3]]=90785,\"Y\",\"N\")","v":"N"}]
[null,null,null,null,null,null,null,null,null,null,{"$f":"IF(Table1[[#This Row],[Column3]]=\"T1013\",\"Y\",\"N\")","v":"N"},{"$f":"IF(Table1[[#This Row],[Column3]]=90785,\"Y\",\"N\")","v":"N"}]
[null,null,null,null,null,null,null,null,null,null,{"$f":"IF(Table1[[#This Row],[Column3]]=\"T1013\",\"Y\",\"N\")","v":"N"},{"$f":"IF(Table1[[#This Row],[Column3]]=90785,\"Y\",\"N\")","v":"N"}]
[null,null,null,null,null,null,null,null,null,null,{"$f":"IF(Table1[[#This Row],[Column3]]=\"T1013\",\"Y\",\"N\")","v":"N"},{"$f":"IF(Table1[[#This Row],[Column3]]=90785,\"Y\",\"N\")","v":"N"}]
[null,null,null,null,null,null,null,null,null,null,{"$f":"IF(Table1[[#This Row],[Column3]]=\"T1013\",\"Y\",\"N\")","v":"N"},{"$f":"IF(Table1[[#This Row],[Column3]]=90785,\"Y\",\"N\")","v":"N"}]
[null,null,null,null,null,null,null,null,null,null,{"$f":"IF(Table1[[#This Row],[Column3]]=\"T1013\",\"Y\",\"N\")","v":"N"},{"$f":"IF(Table1[[#This Row],[Column3]]=90785,\"Y\",\"N\")","v":"N"}]
[null,null,null,null,null,null,null,null,null,null,{"$f":"IF(Table1[[#This Row],[Column3]]=\"T1013\",\"Y\",\"N\")","v":"N"},{"$f":"IF(Table1[[#This Row],[Column3]]=90785,\"Y\",\"N\")","v":"N"}]
[null,null,null,null,null,null,null,null,null,null,{"$f":"IF(Table1[[#This Row],[Column3]]=\"T1013\",\"Y\",\"N\")","v":"N"},{"$f":"IF(Table1[[#This Row],[Column3]]=90785,\"Y\",\"N\")","v":"N"}]
[null,null,null,null,null,null,null,null,null,null,{"$f":"IF(Table1[[#This Row],[Column3]]=\"T1013\",\"Y\",\"N\")","v":"N"},{"$f":"IF(Table1[[#This Row],[Column3]]=90785,\"Y\",\"N\")","v":"N"}]
[null,null,null,null,null,null,null,null,null,null,{"$f":"IF(Table1[[#This Row],[Column3]]=\"T1013\",\"Y\",\"N\")","v":"N"},{"$f":"IF(Table1[[#This Row],[Column3]]=90785,\"Y\",\"N\")","v":"N"}]
[null,null,null,null,null,null,null,null,null,null,{"$f":"IF(Table1[[#This Row],[Column3]]=\"T1013\",\"Y\",\"N\")","v":"N"},{"$f":"IF(Table1[[#This Row],[Column3]]=90785,\"Y\",\"N\")","v":"N"}]
[null,null,null,null,null,null,null,null,null,null,{"$f":"IF(Table1[[#This Row],[Column3]]=\"T1013\",\"Y\",\"N\")","v":"N"},{"$f":"IF(Table1[[#This Row],[Column3]]=90785,\"Y\",\"N\")","v":"N"}]
[null,null,null,null,null,null,null,null,null,null,{"$f":"IF(Table1[[#This Row],[Column3]]=\"T1013\",\"Y\",\"N\")","v":"N"},{"$f":"IF(Table1[[#This Row],[Column3]]=90785,\"Y\",\"N\")","v":"N"}]
[null,null,null,null,null,null,null,null,null,null,{"$f":"IF(Table1[[#This Row],[Column3]]=\"T1013\",\"Y\",\"N\")","v":"N"},{"$f":"IF(Table1[[#This Row],[Column3]]=90785,\"Y\",\"N\")","v":"N"}]
[null,null,null,null,null,null,null,null,null,null,{"$f":"IF(Table1[[#This Row],[Column3]]=\"T1013\",\"Y\",\"N\")","v":"N"},{"$f":"IF(Table1[[#This Row],[Column3]]=90785,\"Y\",\"N\")","v":"N"}]
[null,null,null,null,null,null,null,null,null,null,{"$f":"IF(Table1[[#This Row],[Column3]]=\"T1013\",\"Y\",\"N\")","v":"N"},{"$f":"IF(Table1[[#This Row],[Column3]]=90785,\"Y\",\"N\")","v":"N"}]
[null,null,null,null,null,null,null,null,null,null,{"$f":"IF(Table1[[#This Row],[Column3]]=\"T1013\",\"Y\",\"N\")","v":"N"},{"$f":"IF(Table1[[#This Row],[Column3]]=90785,\"Y\",\"N\")","v":"N"}]
[null,null,null,null,null,null,null,null,null,null,{"$f":"IF(Table1[[#This Row],[Column3]]=\"T1013\",\"Y\",\"N\")","v":"N"},{"$f":"IF(Table1[[#This Row],[Column3]]=90785,\"Y\",\"N\")","v":"N"}]
[null,null,null,null,null,null,null,null,null,null,{"$f":"IF(Table1[[#This Row],[Column3]]=\"T1013\",\"Y\",\"N\")","v":"N"},{"$f":"IF(Table1[[#This Row],[Column3]]=90785,\"Y\",\"N\")","v":"N"}]
[null,null,null,null,null,null,null,null,null,null,{"$f":"IF(Table1[[#This Row],[Column3]]=\"T1013\",\"Y\",\"N\")","v":"N"},{"$f":"IF(Table1[[#This Row],[Column3]]=90785,\"Y\",\"N\")","v":"N"}]
[null,null,null,null,null,null,null,null,null,null,{"$f":"IF(Table1[[#This Row],[Column3]]=\"T1013\",\"Y\",\"N\")","v":"N"},{"$f":"IF(Table1[[#This Row],[Column3]]=90785,\"Y\",\"N\")","v":"N"}]
[null,null,null,null,null,null,null,null,null,null,{"$f":"IF(Table1[[#This Row],[Column3]]=\"T1013\",\"Y\",\"N\")","v":"N"},{"$f":"IF(Table1[[#This Row],[Column3]]=90785,\"Y\",\"N\")","v":"N"}]
[null,null,null,null,null,null,null,null,null,null,{"$f":"IF(Table1[[#This Row],[Column3]]=\"T1013\",\"Y\",\"N\")","v":"N"},{"$f":"IF(Table1[[#This Row],[Column3]]=90785,\"Y\",\"N\")","v":"N"}]
[null,null,null,null,null,null,null,null,null,null,{"$f":"IF(Table1[[#This Row],[Column3]]=\"T1013\",\"Y\",\"N\")","v":"N"},{"$f":"IF(Table1[[#This Row],[Column3]]=90785,\"Y\",\"N\")","v":"N"}]
[null,null,null,null,null,null,null,null,null,null,{"$f":"IF(Table1[[#This Row],[Column3]]=\"T1013\",\"Y\",\"N\")","v":"N"},{"$f":"IF(Table1[[#This Row],[Column3]]=90785,\"Y\",\"N\")","v":"N"}]
[null,null,null,null,null,null,null,null,null,null,{"$f":"IF(Table1[[#This Row],[Column3]]=\"T1013\",\"Y\",\"N\")","v":"N"},{"$f":"IF(Table1[[#This Row],[Column3]]=90785,\"Y\",\"N\")","v":"N"}]
[null,null,null,null,null,null,null,null,null,null,{"$f":"IF(Table1[[#This Row],[Column3]]=\"T1013\",\"Y\",\"N\")","v":"N"},{"$f":"IF(Table1[[#This Row],[Column3]]=90785,\"Y\",\"N\")","v":"N"}]
[null,null,null,null,null,null,null,null,null,null,{"$f":"IF(Table1[[#This Row],[Column3]]=\"T1013\",\"Y\",\"N\")","v":"N"},{"$f":"IF(Table1[[#This Row],[Column3]]=90785,\"Y\",\"N\")","v":"N"}]
[null,null,null,null,null,null,null,null,null,null,{"$f":"IF(Table1[[#This Row],[Column3]]=\"T1013\",\"Y\",\"N\")","v":"N"},{"$f":"IF(Table1[[#This Row],[Column3]]=90785,\"Y\",\"N\")","v":"N"}]
[null,null,null,null,null,null,null,null,null,null,{"$f":"IF(Table1[[#This Row],[Column3]]=\"T1013\",\"Y\",\"N\")","v":"N"},{"$f":"IF(Table1[[#This Row],[Column3]]=90785,\"Y\",\"N\")","v":"N"}]
[null,null,null,null,null,null,null,null,null,null,{"$f":"IF(Table1[[#This Row],[Column3]]=\"T1013\",\"Y\",\"N\")","v":"N"},{"$f":"IF(Table1[[#This Row],[Column3]]=90785,\"Y\",\"N\")","v":"N"}]
[null,null,null,null,null,null,null,null,null,null,{"$f":"IF(Table1[[#This Row],[Column3]]=\"T1013\",\"Y\",\"N\")","v":"N"},{"$f":"IF(Table1[[#This Row],[Column3]]=90785,\"Y\",\"N\")","v":"N"}]
[null,null,null,null,null,null,null,null,null,null,{"$f":"IF(Table1[[#This Row],[Column3]]=\"T1013\",\"Y\",\"N\")","v":"N"},{"$f":"IF(Table1[[#This Row],[Column3]]=90785,\"Y\",\"N\")","v":"N"}]
[null,null,null,null,null,null,null,null,null,null,{"$f":"IF(Table1[[#This Row],[Column3]]=\"T1013\",\"Y\",\"N\")","v":"N"},{"$f":"IF(Table1[[#This Row],[Column3]]=90785,\"Y\",\"N\")","v":"N"}]
[null,null,null,null,null,null,null,null,null,null,{"$f":"IF(Table1[[#This Row],[Column3]]=\"T1013\",\"Y\",\"N\")","v":"N"},{"$f":"IF(Table1[[#This Row],[Column3]]=90785,\"Y\",\"N\")","v":"N"}]
[null,null,null,null,null,null,null,null,null,null,{"$f":"IF(Table1[[#This Row],[Column3]]=\"T1013\",\"Y\",\"N\")","v":"N"},{"$f":"IF(Table1[[#This Row],[Column3]]=90785,\"Y\",\"N\")","v":"N"}]
[null,null,null,null,null,null,null,null,null,null,{"$f":"IF(Table1[[#This Row],[Column3]]=\"T1013\",\"Y\",\"N\")","v":"N"},{"$f":"IF(Table1[[#This Row],[Column3]]=90785,\"Y\",\"N\")","v":"N"}]
[null,null,null,null,null,null,null,null,null,null,{"$f":"IF(Table1[[#This Row],[Column3]]=\"T1013\",\"Y\",\"N\")","v":"N"},{"$f":"IF(Table1[[#This Row],[Column3]]=90785,\"Y\",\"N\")","v":"N"}]
[null,null,null,null,null,null,null,null,null,null,{"$f":"IF(Table1[[#This Row],[Column3]]=\"T1013\",\"Y\",\"N\")","v":"N"},{"$f":"IF(Table1[[#This Row],[Column3]]=90785,\"Y\",\"N\")","v":"N"}]
[null,null,null,null,null,null,null,null,null,null,{"$f":"IF(Table1[[#This Row],[Column3]]=\"T1013\",\"Y\",\"N\")","v":"N"},{"$f":"IF(Table1[[#This Row],[Column3]]=90785,\"Y\",\"N\")","v":"N"}]
[null,null,null,null,null,null,null,null,null,null,{"$f":"IF(Table1[[#This Row],[Column3]]=\"T1013\",\"Y\",\"N\")","v":"N"},{"$f":"IF(Table1[[#This Row],[Column3]]=90785,\"Y\",\"N\")","v":"N"}]
[null,null,null,null,null,null,null,null,null,null,{"$f":"IF(Table1[[#This Row],[Column3]]=\"T1013\",\"Y\",\"N\")","v":"N"},{"$f":"IF(Table1[[#This Row],[Column3]]=90785,\"Y\",\"N\")","v":"N"}]
[null,null,null,null,null,null,null,null,null,null,{"$f":"IF(Table1[[#This Row],[Column3]]=\"T1013\",\"Y\",\"N\")","v":"N"},{"$f":"IF(Table1[[#This Row],[Column3]]=90785,\"Y\",\"N\")","v":"N"}]
[null,null,null,null,null,null,null,null,null,null,{"$f":"IF(Table1[[#This Row],[Column3]]=\"T1013\",\"Y\",\"N\")","v":"N"},{"$f":"IF(Table1[[#This Row],[Column3]]=90785,\"Y\",\"N\")","v":"N"}]
[null,null,null,null,null,null,null,null,null,null,{"$f":"IF(Table1[[#This Row],[Column3]]=\"T1013\",\"Y\",\"N\")","v":"N"},{"$f":"IF(Table1[[#This Row],[Column3]]=90785,\"Y\",\"N\")","v":"N"}]
[null,null,null,null,null,null,null,null,null,null,{"$f":"IF(Table1[[#This Row],[Column3]]=\"T1013\",\"Y\",\"N\")","v":"N"},{"$f":"IF(Table1[[#This Row],[Column3]]=90785,\"Y\",\"N\")","v":"N"}]
[null,null,null,null,null,null,null,null,null,null,{"$f":"IF(Table1[[#This Row],[Column3]]=\"T1013\",\"Y\",\"N\")","v":"N"},{"$f":"IF(Table1[[#This Row],[Column3]]=90785,\"Y\",\"N\")","v":"N"}]
[null,null,null,null,null,null,null,null,null,null,{"$f":"IF(Table1[[#This Row],[Column3]]=\"T1013\",\"Y\",\"N\")","v":"N"},{"$f":"IF(Table1[[#This Row],[Column3]]=90785,\"Y\",\"N\")","v":"N"}]
[null,null,null,null,null,null,null,null,null,null,{"$f":"IF(Table1[[#This Row],[Column3]]=\"T1013\",\"Y\",\"N\")","v":"N"},{"$f":"IF(Table1[[#This Row],[Column3]]=90785,\"Y\",\"N\")","v":"N"}]
[null,null,null,null,null,null,null,null,null,null,{"$f":"IF(Table1[[#This Row],[Column3]]=\"T1013\",\"Y\",\"N\")","v":"N"},{"$f":"IF(Table1[[#This Row],[Column3]]=90785,\"Y\",\"N\")","v":"N"}]
[null,null,null,null,null,null,null,null,null,null,{"$f":"IF(Table1[[#This Row],[Column3]]=\"T1013\",\"Y\",\"N\")","v":"N"},{"$f":"IF(Table1[[#This Row],[Column3]]=90785,\"Y\",\"N\")","v":"N"}]
[null,null,null,null,null,null,null,null,null,null,{"$f":"IF(Table1[[#This Row],[Column3]]=\"T1013\",\"Y\",\"N\")","v":"N"},{"$f":"IF(Table1[[#This Row],[Column3]]=90785,\"Y\",\"N\")","v":"N"}]
[null,null,null,null,null,null,null,null,null,null,{"$f":"IF(Table1[[#This Row],[Column3]]=\"T1013\",\"Y\",\"N\")","v":"N"},{"$f":"IF(Table1[[#This Row],[Column3]]=90785,\"Y\",\"N\")","v":"N"}]
[null,null,null,null,null,null,null,null,null,null,{"$f":"IF(Table1[[#This Row],[Column3]]=\"T1013\",\"Y\",\"N\")","v":"N"},{"$f":"IF(Table1[[#This Row],[Column3]]=90785,\"Y\",\"N\")","v":"N"}]
[null,null,null,null,null,null,null,null,null,null,{"$f":"IF(Table1[[#This Row],[Column3]]=\"T1013\",\"Y\",\"N\")","v":"N"},{"$f":"IF(Table1[[#This Row],[Column3]]=90785,\"Y\",\"N\")","v":"N"}]
[null,null,null,null,null,null,null,null,null,null,{"$f":"IF(Table1[[#This Row],[Column3]]=\"T1013\",\"Y\",\"N\")","v":"N"},{"$f":"IF(Table1[[#This Row],[Column3]]=90785,\"Y\",\"N\")","v":"N"}]
[null,null,null,null,null,null,null,null,null,null,{"$f":"IF(Table1[[#This Row],[Column3]]=\"T1013\",\"Y\",\"N\")","v":"N"},{"$f":"IF(Table1[[#This Row],[Column3]]=90785,\"Y\",\"N\")","v":"N"}]
[null,null,null,null,null,null,null,null,null,null,{"$f":"IF(Table1[[#This Row],[Column3]]=\"T1013\",\"Y\",\"N\")","v":"N"},{"$f":"IF(Table1[[#This Row],[Column3]]=90785,\"Y\",\"N\")","v":"N"}]
[null,null,null,null,null,null,null,null,null,null,{"$f":"IF(Table1[[#This Row],[Column3]]=\"T1013\",\"Y\",\"N\")","v":"N"},{"$f":"IF(Table1[[#This Row],[Column3]]=90785,\"Y\",\"N\")","v":"N"}]
[null,null,null,null,null,null,null,null,null,null,{"$f":"IF(Table1[[#This Row],[Column3]]=\"T1013\",\"Y\",\"N\")","v":"N"},{"$f":"IF(Table1[[#This Row],[Column3]]=90785,\"Y\",\"N\")","v":"N"}]
[null,null,null,null,null,null,null,null,null,null,{"$f":"IF(Table1[[#This Row],[Column3]]=\"T1013\",\"Y\",\"N\")","v":"N"},{"$f":"IF(Table1[[#This Row],[Column3]]=90785,\"Y\",\"N\")","v":"N"}]
[null,null,null,null,null,null,null,null,null,null,{"$f":"IF(Table1[[#This Row],[Column3]]=\"T1013\",\"Y\",\"N\")","v":"N"},{"$f":"IF(Table1[[#This Row],[Column3]]=90785,\"Y\",\"N\")","v":"N"}]
[null,null,null,null,null,null,null,null,null,null,{"$f":"IF(Table1[[#This Row],[Column3]]=\"T1013\",\"Y\",\"N\")","v":"N"},{"$f":"IF(Table1[[#This Row],[Column3]]=90785,\"Y\",\"N\")","v":"N"}]
[null,null,null,null,null,null,null,null,null,null,{"$f":"IF(Table1[[#This Row],[Column3]]=\"T1013\",\"Y\",\"N\")","v":"N"},{"$f":"IF(Table1[[#This Row],[Column3]]=90785,\"Y\",\"N\")","v":"N"}]
[null,null,null,null,null,null,null,null,null,null,{"$f":"IF(Table1[[#This Row],[Column3]]=\"T1013\",\"Y\",\"N\")","v":"N"},{"$f":"IF(Table1[[#This Row],[Column3]]=90785,\"Y\",\"N\")","v":"N"}]
[null,null,null,null,null,null,null,null,null,null,{"$f":"IF(Table1[[#This Row],[Column3]]=\"T1013\",\"Y\",\"N\")","v":"N"},{"$f":"IF(Table1[[#This Row],[Column3]]=90785,\"Y\",\"N\")","v":"N"}]
[null,null,null,null,null,null,null,null,null,null,{"$f":"IF(Table1[[#This Row],[Column3]]=\"T1013\",\"Y\",\"N\")","v":"N"},{"$f":"IF(Table1[[#This Row],[Column3]]=90785,\"Y\",\"N\")","v":"N"}]
[null,null,null,null,null,null,null,null,null,null,{"$f":"IF(Table1[[#This Row],[Column3]]=\"T1013\",\"Y\",\"N\")","v":"N"},{"$f":"IF(Table1[[#This Row],[Column3]]=90785,\"Y\",\"N\")","v":"N"}]
[null,null,null,null,null,null,null,null,null,null,{"$f":"IF(Table1[[#This Row],[Column3]]=\"T1013\",\"Y\",\"N\")","v":"N"},{"$f":"IF(Table1[[#This Row],[Column3]]=90785,\"Y\",\"N\")","v":"N"}]
[null,null,null,null,null,null,null,null,null,null,{"$f":"IF(Table1[[#This Row],[Column3]]=\"T1013\",\"Y\",\"N\")","v":"N"},{"$f":"IF(Table1[[#This Row],[Column3]]=90785,\"Y\",\"N\")","v":"N"}]
[null,null,null,null,null,null,null,null,null,null,{"$f":"IF(Table1[[#This Row],[Column3]]=\"T1013\",\"Y\",\"N\")","v":"N"},{"$f":"IF(Table1[[#This Row],[Column3]]=90785,\"Y\",\"N\")","v":"N"}]
[null,null,null,null,null,null,null,null,null,null,{"$f":"IF(Table1[[#This Row],[Column3]]=\"T1013\",\"Y\",\"N\")","v":"N"},{"$f":"IF(Table1[[#This Row],[Column3]]=90785,\"Y\",\"N\")","v":"N"}]
[null,null,null,null,null,null,null,null,null,null,{"$f":"IF(Table1[[#This Row],[Column3]]=\"T1013\",\"Y\",\"N\")","v":"N"},{"$f":"IF(Table1[[#This Row],[Column3]]=90785,\"Y\",\"N\")","v":"N"}]
[null,null,null,null,null,null,null,null,null,null,{"$f":"IF(Table1[[#This Row],[Column3]]=\"T1013\",\"Y\",\"N\")","v":"N"},{"$f":"IF(Table1[[#This Row],[Column3]]=90785,\"Y\",\"N\")","v":"N"}]
[null,null,null,null,null,null,null,null,null,null,{"$f":"IF(Table1[[#This Row],[Column3]]=\"T1013\",\"Y\",\"N\")","v":"N"},{"$f":"IF(Table1[[#This Row],[Column3]]=90785,\"Y\",\"N\")","v":"N"}]
[null,null,null,null,null,null,null,null,null,null,{"$f":"IF(Table1[[#This Row],[Column3]]=\"T1013\",\"Y\",\"N\")","v":"N"},{"$f":"IF(Table1[[#This Row],[Column3]]=90785,\"Y\",\"N\")","v":"N"}]
[null,null,null,null,null,null,null,null,null,null,{"$f":"IF(Table1[[#This Row],[Column3]]=\"T1013\",\"Y\",\"N\")","v":"N"},{"$f":"IF(Table1[[#This Row],[Column3]]=90785,\"Y\",\"N\")","v":"N"}]
[null,null,null,null,null,null,null,null,null,null,{"$f":"IF(Table1[[#This Row],[Column3]]=\"T1013\",\"Y\",\"N\")","v":"N"},{"$f":"IF(Table1[[#This Row],[Column3]]=90785,\"Y\",\"N\")","v":"N"}]
[null,null,null,null,null,null,null,null,null,null,{"$f":"IF(Table1[[#This Row],[Column3]]=\"T1013\",\"Y\",\"N\")","v":"N"},{"$f":"IF(Table1[[#This Row],[Column3]]=90785,\"Y\",\"N\")","v":"N"}]
[null,null,null,null,null,null,null,null,null,null,{"$f":"IF(Table1[[#This Row],[Column3]]=\"T1013\",\"Y\",\"N\")","v":"N"},{"$f":"IF(Table1[[#This Row],[Column3]]=90785,\"Y\",\"N\")","v":"N"}]
[null,null,null,null,null,null,null,null,null,null,{"$f":"IF(Table1[[#This Row],[Column3]]=\"T1013\",\"Y\",\"N\")","v":"N"},{"$f":"IF(Table1[[#This Row],[Column3]]=90785,\"Y\",\"N\")","v":"N"}]
[null,null,null,null,null,null,null,null,null,null,{"$f":"IF(Table1[[#This Row],[Column3]]=\"T1013\",\"Y\",\"N\")","v":"N"},{"$f":"IF(Table1[[#This Row],[Column3]]=90785,\"Y\",\"N\")","v":"N"}]
[null,null,null,null,null,null,null,null,null,null,{"$f":"IF(Table1[[#This Row],[Column3]]=\"T1013\",\"Y\",\"N\")","v":"N"},{"$f":"IF(Table1[[#This Row],[Column3]]=90785,\"Y\",\"N\")","v":"N"}]
[null,null,null,null,null,null,null,null,null,null,{"$f":"IF(Table1[[#This Row],[Column3]]=\"T1013\",\"Y\",\"N\")","v":"N"},{"$f":"IF(Table1[[#This Row],[Column3]]=90785,\"Y\",\"N\")","v":"N"}]
[null,null,null,null,null,null,null,null,null,null,{"$f":"IF(Table1[[#This Row],[Column3]]=\"T1013\",\"Y\",\"N\")","v":"N"},{"$f":"IF(Table1[[#This Row],[Column3]]=90785,\"Y\",\"N\")","v":"N"}]
[null,null,null,null,null,null,null,null,null,null,{"$f":"IF(Table1[[#This Row],[Column3]]=\"T1013\",\"Y\",\"N\")","v":"N"},{"$f":"IF(Table1[[#This Row],[Column3]]=90785,\"Y\",\"N\")","v":"N"}]
[null,null,null,null,null,null,null,null,null,null,{"$f":"IF(Table1[[#This Row],[Column3]]=\"T1013\",\"Y\",\"N\")","v":"N"},{"$f":"IF(Table1[[#This Row],[Column3]]=90785,\"Y\",\"N\")","v":"N"}]
[null,null,null,null,null,null,null,null,null,null,{"$f":"IF(Table1[[#This Row],[Column3]]=\"T1013\",\"Y\",\"N\")","v":"N"},{"$f":"IF(Table1[[#This Row],[Column3]]=90785,\"Y\",\"N\")","v":"N"}]
[null,null,null,null,null,null,null,null,null,null,{"$f":"IF(Table1[[#This Row],[Column3]]=\"T1013\",\"Y\",\"N\")","v":"N"},{"$f":"IF(Table1[[#This Row],[Column3]]=90785,\"Y\",\"N\")","v":"N"}]
[null,null,null,null,null,null,null,null,null,null,{"$f":"IF(Table1[[#This Row],[Column3]]=\"T1013\",\"Y\",\"N\")","v":"N"},{"$f":"IF(Table1[[#This Row],[Column3]]=90785,\"Y\",\"N\")","v":"N"}]
[null,null,null,null,null,null,null,null,null,null,{"$f":"IF(Table1[[#This Row],[Column3]]=\"T1013\",\"Y\",\"N\")","v":"N"},{"$f":"IF(Table1[[#This Row],[Column3]]=90785,\"Y\",\"N\")","v":"N"}]
[null,null,null,null,null,null,null,null,null,null,{"$f":"IF(Table1[[#This Row],[Column3]]=\"T1013\",\"Y\",\"N\")","v":"N"},{"$f":"IF(Table1[[#This Row],[Column3]]=90785,\"Y\",\"N\")","v":"N"}]
[null,null,null,null,null,null,null,null,null,null,{"$f":"IF(Table1[[#This Row],[Column3]]=\"T1013\",\"Y\",\"N\")","v":"N"},{"$f":"IF(Table1[[#This Row],[Column3]]=90785,\"Y\",\"N\")","v":"N"}]
[null,null,null,null,null,null,null,null,null,null,{"$f":"IF(Table1[[#This Row],[Column3]]=\"T1013\",\"Y\",\"N\")","v":"N"},{"$f":"IF(Table1[[#This Row],[Column3]]=90785,\"Y\",\"N\")","v":"N"}]
[null,null,null,null,null,null,null,null,null,null,{"$f":"IF(Table1[[#This Row],[Column3]]=\"T1013\",\"Y\",\"N\")","v":"N"},{"$f":"IF(Table1[[#This Row],[Column3]]=90785,\"Y\",\"N\")","v":"N"}]
[null,null,null,null,null,null,null,null,null,null,{"$f":"IF(Table1[[#This Row],[Column3]]=\"T1013\",\"Y\",\"N\")","v":"N"},{"$f":"IF(Table1[[#This Row],[Column3]]=90785,\"Y\",\"N\")","v":"N"}]
[null,null,null,null,null,null,null,null,null,null,{"$f":"IF(Table1[[#This Row],[Column3]]=\"T1013\",\"Y\",\"N\")","v":"N"},{"$f":"IF(Table1[[#This Row],[Column3]]=90785,\"Y\",\"N\")","v":"N"}]
[null,null,null,null,null,null,null,null,null,null,{"$f":"IF(Table1[[#This Row],[Column3]]=\"T1013\",\"Y\",\"N\")","v":"N"},{"$f":"IF(Table1[[#This Row],[Column3]]=90785,\"Y\",\"N\")","v":"N"}]
[null,null,null,null,null,null,null,null,null,null,{"$f":"IF(Table1[[#This Row],[Column3]]=\"T1013\",\"Y\",\"N\")","v":"N"},{"$f":"IF(Table1[[#This Row],[Column3]]=90785,\"Y\",\"N\")","v":"N"}]
[null,null,null,null,null,null,null,null,null,null,{"$f":"IF(Table1[[#This Row],[Column3]]=\"T1013\",\"Y\",\"N\")","v":"N"},{"$f":"IF(Table1[[#This Row],[Column3]]=90785,\"Y\",\"N\")","v":"N"}]
[null,null,null,null,null,null,null,null,null,null,{"$f":"IF(Table1[[#This Row],[Column3]]=\"T1013\",\"Y\",\"N\")","v":"N"},{"$f":"IF(Table1[[#This Row],[Column3]]=90785,\"Y\",\"N\")","v":"N"}]
[null,null,null,null,null,null,null,null,null,null,{"$f":"IF(Table1[[#This Row],[Column3]]=\"T1013\",\"Y\",\"N\")","v":"N"},{"$f":"IF(Table1[[#This Row],[Column3]]=90785,\"Y\",\"N\")","v":"N"}]
[null,null,null,null,null,null,null,null,null,null,{"$f":"IF(Table1[[#This Row],[Column3]]=\"T1013\",\"Y\",\"N\")","v":"N"},{"$f":"IF(Table1[[#This Row],[Column3]]=90785,\"Y\",\"N\")","v":"N"}]
[null,null,null,null,null,null,null,null,null,null,{"$f":"IF(Table1[[#This Row],[Column3]]=\"T1013\",\"Y\",\"N\")","v":"N"},{"$f":"IF(Table1[[#This Row],[Column3]]=90785,\"Y\",\"N\")","v":"N"}]
[null,null,null,null,null,null,null,null,null,null,{"$f":"IF(Table1[[#This Row],[Column3]]=\"T1013\",\"Y\",\"N\")","v":"N"},{"$f":"IF(Table1[[#This Row],[Column3]]=90785,\"Y\",\"N\")","v":"N"}]
[null,null,null,null,null,null,null,null,null,null,{"$f":"IF(Table1[[#This Row],[Column3]]=\"T1013\",\"Y\",\"N\")","v":"N"},{"$f":"IF(Table1[[#This Row],[Column3]]=90785,\"Y\",\"N\")","v":"N"}]
[null,null,null,null,null,null,null,null,null,null,{"$f":"IF(Table1[[#This Row],[Column3]]=\"T1013\",\"Y\",\"N\")","v":"N"},{"$f":"IF(Table1[[#This Row],[Column3]]=90785,\"Y\",\"N\")","v":"N"}]
[null,null,null,null,null,null,null,null,null,null,{"$f":"IF(Table1[[#This Row],[Column3]]=\"T1013\",\"Y\",\"N\")","v":"N"},{"$f":"IF(Table1[[#This Row],[Column3]]=90785,\"Y\",\"N\")","v":"N"}]
[null,null,null,null,null,null,null,null,null,null,{"$f":"IF(Table1[[#This Row],[Column3]]=\"T1013\",\"Y\",\"N\")","v":"N"},{"$f":"IF(Table1[[#This Row],[Column3]]=90785,\"Y\",\"N\")","v":"N"}]
[null,null,null,null,null,null,null,null,null,null,{"$f":"IF(Table1[[#This Row],[Column3]]=\"T1013\",\"Y\",\"N\")","v":"N"},{"$f":"IF(Table1[[#This Row],[Column3]]=90785,\"Y\",\"N\")","v":"N"}]
[null,null,null,null,null,null,null,null,null,null,{"$f":"IF(Table1[[#This Row],[Column3]]=\"T1013\",\"Y\",\"N\")","v":"N"},{"$f":"IF(Table1[[#This Row],[Column3]]=90785,\"Y\",\"N\")","v":"N"}]
[null,null,null,null,null,null,null,null,null,null,{"$f":"IF(Table1[[#This Row],[Column3]]=\"T1013\",\"Y\",\"N\")","v":"N"},{"$f":"IF(Table1[[#This Row],[Column3]]=90785,\"Y\",\"N\")","v":"N"}]
[null,null,null,null,null,null,null,null,null,null,{"$f":"IF(Table1[[#This Row],[Column3]]=\"T1013\",\"Y\",\"N\")","v":"N"},{"$f":"IF(Table1[[#This Row],[Column3]]=90785,\"Y\",\"N\")","v":"N"}]
[null,null,null,null,null,null,null,null,null,null,{"$f":"IF(Table1[[#This Row],[Column3]]=\"T1013\",\"Y\",\"N\")","v":"N"},{"$f":"IF(Table1[[#This Row],[Column3]]=90785,\"Y\",\"N\")","v":"N"}]
[null,null,null,null,null,null,null,null,null,null,{"$f":"IF(Table1[[#This Row],[Column3]]=\"T1013\",\"Y\",\"N\")","v":"N"},{"$f":"IF(Table1[[#This Row],[Column3]]=90785,\"Y\",\"N\")","v":"N"}]
[null,null,null,null,null,null,null,null,null,null,{"$f":"IF(Table1[[#This Row],[Column3]]=\"T1013\",\"Y\",\"N\")","v":"N"},{"$f":"IF(Table1[[#This Row],[Column3]]=90785,\"Y\",\"N\")","v":"N"}]
[null,null,null,null,null,null,null,null,null,null,{"$f":"IF(Table1[[#This Row],[Column3]]=\"T1013\",\"Y\",\"N\")","v":"N"},{"$f":"IF(Table1[[#This Row],[Column3]]=90785,\"Y\",\"N\")","v":"N"}]
[null,null,null,null,null,null,null,null,null,null,{"$f":"IF(Table1[[#This Row],[Column3]]=\"T1013\",\"Y\",\"N\")","v":"N"},{"$f":"IF(Table1[[#This Row],[Column3]]=90785,\"Y\",\"N\")","v":"N"}]
[null,null,null,null,null,null,null,null,null,null,{"$f":"IF(Table1[[#This Row],[Column3]]=\"T1013\",\"Y\",\"N\")","v":"N"},{"$f":"IF(Table1[[#This Row],[Column3]]=90785,\"Y\",\"N\")","v":"N"}]
[null,null,null,null,null,null,null,null,null,null,{"$f":"IF(Table1[[#This Row],[Column3]]=\"T1013\",\"Y\",\"N\")","v":"N"},{"$f":"IF(Table1[[#This Row],[Column3]]=90785,\"Y\",\"N\")","v":"N"}]
[null,null,null,null,null,null,null,null,null,null,{"$f":"IF(Table1[[#This Row],[Column3]]=\"T1013\",\"Y\",\"N\")","v":"N"},{"$f":"IF(Table1[[#This Row],[Column3]]=90785,\"Y\",\"N\")","v":"N"}]
[null,null,null,null,null,null,null,null,null,null,{"$f":"IF(Table1[[#This Row],[Column3]]=\"T1013\",\"Y\",\"N\")","v":"N"},{"$f":"IF(Table1[[#This Row],[Column3]]=90785,\"Y\",\"N\")","v":"N"}]
[null,null,null,null,null,null,null,null,null,null,{"$f":"IF(Table1[[#This Row],[Column3]]=\"T1013\",\"Y\",\"N\")","v":"N"},{"$f":"IF(Table1[[#This Row],[Column3]]=90785,\"Y\",\"N\")","v":"N"}]
[null,null,null,null,null,null,null,null,null,null,{"$f":"IF(Table1[[#This Row],[Column3]]=\"T1013\",\"Y\",\"N\")","v":"N"},{"$f":"IF(Table1[[#This Row],[Column3]]=90785,\"Y\",\"N\")","v":"N"}]
[null,null,null,null,null,null,null,null,null,null,{"$f":"IF(Table1[[#This Row],[Column3]]=\"T1013\",\"Y\",\"N\")","v":"N"},{"$f":"IF(Table1[[#This Row],[Column3]]=90785,\"Y\",\"N\")","v":"N"}]
[null,null,null,null,null,null,null,null,null,null,{"$f":"IF(Table1[[#This Row],[Column3]]=\"T1013\",\"Y\",\"N\")","v":"N"},{"$f":"IF(Table1[[#This Row],[Column3]]=90785,\"Y\",\"N\")","v":"N"}]
[null,null,null,null,null,null,null,null,null,null,{"$f":"IF(Table1[[#This Row],[Column3]]=\"T1013\",\"Y\",\"N\")","v":"N"},{"$f":"IF(Table1[[#This Row],[Column3]]=90785,\"Y\",\"N\")","v":"N"}]
[null,null,null,null,null,null,null,null,null,null,{"$f":"IF(Table1[[#This Row],[Column3]]=\"T1013\",\"Y\",\"N\")","v":"N"},{"$f":"IF(Table1[[#This Row],[Column3]]=90785,\"Y\",\"N\")","v":"N"}]
[null,null,null,null,null,null,null,null,null,null,{"$f":"IF(Table1[[#This Row],[Column3]]=\"T1013\",\"Y\",\"N\")","v":"N"},{"$f":"IF(Table1[[#This Row],[Column3]]=90785,\"Y\",\"N\")","v":"N"}]
[null,null,null,null,null,null,null,null,null,null,{"$f":"IF(Table1[[#This Row],[Column3]]=\"T1013\",\"Y\",\"N\")","v":"N"},{"$f":"IF(Table1[[#This Row],[Column3]]=90785,\"Y\",\"N\")","v":"N"}]
[null,null,null,null,null,null,null,null,null,null,{"$f":"IF(Table1[[#This Row],[Column3]]=\"T1013\",\"Y\",\"N\")","v":"N"},{"$f":"IF(Table1[[#This Row],[Column3]]=90785,\"Y\",\"N\")","v":"N"}]
[null,null,null,null,null,null,null,null,null,null,{"$f":"IF(Table1[[#This Row],[Column3]]=\"T1013\",\"Y\",\"N\")","v":"N"},{"$f":"IF(Table1[[#This Row],[Column3]]=90785,\"Y\",\"N\")","v":"N"}]
[null,null,null,null,null,null,null,null,null,null,{"$f":"IF(Table1[[#This Row],[Column3]]=\"T1013\",\"Y\",\"N\")","v":"N"},{"$f":"IF(Table1[[#This Row],[Column3]]=90785,\"Y\",\"N\")","v":"N"}]
[null,null,null,null,null,null,null,null,null,null,{"$f":"IF(Table1[[#This Row],[Column3]]=\"T1013\",\"Y\",\"N\")","v":"N"},{"$f":"IF(Table1[[#This Row],[Column3]]=90785,\"Y\",\"N\")","v":"N"}]
[null,null,null,null,null,null,null,null,null,null,{"$f":"IF(Table1[[#This Row],[Column3]]=\"T1013\",\"Y\",\"N\")","v":"N"},{"$f":"IF(Table1[[#This Row],[Column3]]=90785,\"Y\",\"N\")","v":"N"}]
[null,null,null,null,null,null,null,null,null,null,{"$f":"IF(Table1[[#This Row],[Column3]]=\"T1013\",\"Y\",\"N\")","v":"N"},{"$f":"IF(Table1[[#This Row],[Column3]]=90785,\"Y\",\"N\")","v":"N"}]
[null,null,null,null,null,null,null,null,null,null,{"$f":"IF(Table1[[#This Row],[Column3]]=\"T1013\",\"Y\",\"N\")","v":"N"},{"$f":"IF(Table1[[#This Row],[Column3]]=90785,\"Y\",\"N\")","v":"N"}]
[null,null,null,null,null,null,null,null,null,null,{"$f":"IF(Table1[[#This Row],[Column3]]=\"T1013\",\"Y\",\"N\")","v":"N"},{"$f":"IF(Table1[[#This Row],[Column3]]=90785,\"Y\",\"N\")","v":"N"}]
[null,null,null,null,null,null,null,null,null,null,{"$f":"IF(Table1[[#This Row],[Column3]]=\"T1013\",\"Y\",\"N\")","v":"N"},{"$f":"IF(Table1[[#This Row],[Column3]]=90785,\"Y\",\"N\")","v":"N"}]
[null,null,null,null,null,null,null,null,null,null,{"$f":"IF(Table1[[#This Row],[Column3]]=\"T1013\",\"Y\",\"N\")","v":"N"},{"$f":"IF(Table1[[#This Row],[Column3]]=90785,\"Y\",\"N\")","v":"N"}]
[null,null,null,null,null,null,null,null,null,null,{"$f":"IF(Table1[[#This Row],[Column3]]=\"T1013\",\"Y\",\"N\")","v":"N"},{"$f":"IF(Table1[[#This Row],[Column3]]=90785,\"Y\",\"N\")","v":"N"}]
[null,null,null,null,null,null,null,null,null,null,{"$f":"IF(Table1[[#This Row],[Column3]]=\"T1013\",\"Y\",\"N\")","v":"N"},{"$f":"IF(Table1[[#This Row],[Column3]]=90785,\"Y\",\"N\")","v":"N"}]
[null,null,null,null,null,null,null,null,null,null,{"$f":"IF(Table1[[#This Row],[Column3]]=\"T1013\",\"Y\",\"N\")","v":"N"},{"$f":"IF(Table1[[#This Row],[Column3]]=90785,\"Y\",\"N\")","v":"N"}]
[null,null,null,null,null,null,null,null,null,null,{"$f":"IF(Table1[[#This Row],[Column3]]=\"T1013\",\"Y\",\"N\")","v":"N"},{"$f":"IF(Table1[[#This Row],[Column3]]=90785,\"Y\",\"N\")","v":"N"}]
[null,null,null,null,null,null,null,null,null,null,{"$f":"IF(Table1[[#This Row],[Column3]]=\"T1013\",\"Y\",\"N\")","v":"N"},{"$f":"IF(Table1[[#This Row],[Column3]]=90785,\"Y\",\"N\")","v":"N"}]
[null,null,null,null,null,null,null,null,null,null,{"$f":"IF(Table1[[#This Row],[Column3]]=\"T1013\",\"Y\",\"N\")","v":"N"},{"$f":"IF(Table1[[#This Row],[Column3]]=90785,\"Y\",\"N\")","v":"N"}]
[null,null,null,null,null,null,null,null,null,null,{"$f":"IF(Table1[[#This Row],[Column3]]=\"T1013\",\"Y\",\"N\")","v":"N"},{"$f":"IF(Table1[[#This Row],[Column3]]=90785,\"Y\",\"N\")","v":"N"}]
[null,null,null,null,null,null,null,null,null,null,{"$f":"IF(Table1[[#This Row],[Column3]]=\"T1013\",\"Y\",\"N\")","v":"N"},{"$f":"IF(Table1[[#This Row],[Column3]]=90785,\"Y\",\"N\")","v":"N"}]
[null,null,null,null,null,null,null,null,null,null,{"$f":"IF(Table1[[#This Row],[Column3]]=\"T1013\",\"Y\",\"N\")","v":"N"},{"$f":"IF(Table1[[#This Row],[Column3]]=90785,\"Y\",\"N\")","v":"N"}]
[null,null,null,null,null,null,null,null,null,null,{"$f":"IF(Table1[[#This Row],[Column3]]=\"T1013\",\"Y\",\"N\")","v":"N"},{"$f":"IF(Table1[[#This Row],[Column3]]=90785,\"Y\",\"N\")","v":"N"}]
[null,null,null,null,null,null,null,null,null,null,{"$f":"IF(Table1[[#This Row],[Column3]]=\"T1013\",\"Y\",\"N\")","v":"N"},{"$f":"IF(Table1[[#This Row],[Column3]]=90785,\"Y\",\"N\")","v":"N"}]
[null,null,null,null,null,null,null,null,null,null,{"$f":"IF(Table1[[#This Row],[Column3]]=\"T1013\",\"Y\",\"N\")","v":"N"},{"$f":"IF(Table1[[#This Row],[Column3]]=90785,\"Y\",\"N\")","v":"N"}]
[null,null,null,null,null,null,null,null,null,null,{"$f":"IF(Table1[[#This Row],[Column3]]=\"T1013\",\"Y\",\"N\")","v":"N"},{"$f":"IF(Table1[[#This Row],[Column3]]=90785,\"Y\",\"N\")","v":"N"}]
[null,null,null,null,null,null,null,null,null,null,{"$f":"IF(Table1[[#This Row],[Column3]]=\"T1013\",\"Y\",\"N\")","v":"N"},{"$f":"IF(Table1[[#This Row],[Column3]]=90785,\"Y\",\"N\")","v":"N"}]
[null,null,null,null,null,null,null,null,null,null,{"$f":"IF(Table1[[#This Row],[Column3]]=\"T1013\",\"Y\",\"N\")","v":"N"},{"$f":"IF(Table1[[#This Row],[Column3]]=90785,\"Y\",\"N\")","v":"N"}]
[null,null,null,null,null,null,null,null,null,null,{"$f":"IF(Table1[[#This Row],[Column3]]=\"T1013\",\"Y\",\"N\")","v":"N"},{"$f":"IF(Table1[[#This Row],[Column3]]=90785,\"Y\",\"N\")","v":"N"}]
[null,null,null,null,null,null,null,null,null,null,{"$f":"IF(Table1[[#This Row],[Column3]]=\"T1013\",\"Y\",\"N\")","v":"N"},{"$f":"IF(Table1[[#This Row],[Column3]]=90785,\"Y\",\"N\")","v":"N"}]
[null,null,null,null,null,null,null,null,null,null,{"$f":"IF(Table1[[#This Row],[Column3]]=\"T1013\",\"Y\",\"N\")","v":"N"},{"$f":"IF(Table1[[#This Row],[Column3]]=90785,\"Y\",\"N\")","v":"N"}]
[null,null,null,null,null,null,null,null,null,null,{"$f":"IF(Table1[[#This Row],[Column3]]=\"T1013\",\"Y\",\"N\")","v":"N"},{"$f":"IF(Table1[[#This Row],[Column3]]=90785,\"Y\",\"N\")","v":"N"}]
[null,null,null,null,null,null,null,null,null,null,{"$f":"IF(Table1[[#This Row],[Column3]]=\"T1013\",\"Y\",\"N\")","v":"N"},{"$f":"IF(Table1[[#This Row],[Column3]]=90785,\"Y\",\"N\")","v":"N"}]
[null,null,null,null,null,null,null,null,null,null,{"$f":"IF(Table1[[#This Row],[Column3]]=\"T1013\",\"Y\",\"N\")","v":"N"},{"$f":"IF(Table1[[#This Row],[Column3]]=90785,\"Y\",\"N\")","v":"N"}]
[null,null,null,null,null,null,null,null,null,null,{"$f":"IF(Table1[[#This Row],[Column3]]=\"T1013\",\"Y\",\"N\")","v":"N"},{"$f":"IF(Table1[[#This Row],[Column3]]=90785,\"Y\",\"N\")","v":"N"}]
[null,null,null,null,null,null,null,null,null,null,{"$f":"IF(Table1[[#This Row],[Column3]]=\"T1013\",\"Y\",\"N\")","v":"N"},{"$f":"IF(Table1[[#This Row],[Column3]]=90785,\"Y\",\"N\")","v":"N"}]
[null,null,null,null,null,null,null,null,null,null,{"$f":"IF(Table1[[#This Row],[Column3]]=\"T1013\",\"Y\",\"N\")","v":"N"},{"$f":"IF(Table1[[#This Row],[Column3]]=90785,\"Y\",\"N\")","v":"N"}]
[null,null,null,null,null,null,null,null,null,null,{"$f":"IF(Table1[[#This Row],[Column3]]=\"T1013\",\"Y\",\"N\")","v":"N"},{"$f":"IF(Table1[[#This Row],[Column3]]=90785,\"Y\",\"N\")","v":"N"}]
[null,null,null,null,null,null,null,null,null,null,{"$f":"IF(Table1[[#This Row],[Column3]]=\"T1013\",\"Y\",\"N\")","v":"N"},{"$f":"IF(Table1[[#This Row],[Column3]]=90785,\"Y\",\"N\")","v":"N"}]
[null,null,null,null,null,null,null,null,null,null,{"$f":"IF(Table1[[#This Row],[Column3]]=\"T1013\",\"Y\",\"N\")","v":"N"},{"$f":"IF(Table1[[#This Row],[Column3]]=90785,\"Y\",\"N\")","v":"N"}]
[null,null,null,null,null,null,null,null,null,null,{"$f":"IF(Table1[[#This Row],[Column3]]=\"T1013\",\"Y\",\"N\")","v":"N"},{"$f":"IF(Table1[[#This Row],[Column3]]=90785,\"Y\",\"N\")","v":"N"}]
[null,null,null,null,null,null,null,null,null,null,{"$f":"IF(Table1[[#This Row],[Column3]]=\"T1013\",\"Y\",\"N\")","v":"N"},{"$f":"IF(Table1[[#This Row],[Column3]]=90785,\"Y\",\"N\")","v":"N"}]
[null,null,null,null,null,null,null,null,null,null,{"$f":"IF(Table1[[#This Row],[Column3]]=\"T1013\",\"Y\",\"N\")","v":"N"},{"$f":"IF(Table1[[#This Row],[Column3]]=90785,\"Y\",\"N\")","v":"N"}]
[null,null,null,null,null,null,null,null,null,null,{"$f":"IF(Table1[[#This Row],[Column3]]=\"T1013\",\"Y\",\"N\")","v":"N"},{"$f":"IF(Table1[[#This Row],[Column3]]=90785,\"Y\",\"N\")","v":"N"}]
[null,null,null,null,null,null,null,null,null,null,{"$f":"IF(Table1[[#This Row],[Column3]]=\"T1013\",\"Y\",\"N\")","v":"N"},{"$f":"IF(Table1[[#This Row],[Column3]]=90785,\"Y\",\"N\")","v":"N"}]
[null,null,null,null,null,null,null,null,null,null,{"$f":"IF(Table1[[#This Row],[Column3]]=\"T1013\",\"Y\",\"N\")","v":"N"},{"$f":"IF(Table1[[#This Row],[Column3]]=90785,\"Y\",\"N\")","v":"N"}]
[null,null,null,null,null,null,null,null,null,null,{"$f":"IF(Table1[[#This Row],[Column3]]=\"T1013\",\"Y\",\"N\")","v":"N"},{"$f":"IF(Table1[[#This Row],[Column3]]=90785,\"Y\",\"N\")","v":"N"}]
[null,null,null,null,null,null,null,null,null,null,{"$f":"IF(Table1[[#This Row],[Column3]]=\"T1013\",\"Y\",\"N\")","v":"N"},{"$f":"IF(Table1[[#This Row],[Column3]]=90785,\"Y\",\"N\")","v":"N"}]
[null,null,null,null,null,null,null,null,null,null,{"$f":"IF(Table1[[#This Row],[Column3]]=\"T1013\",\"Y\",\"N\")","v":"N"},{"$f":"IF(Table1[[#This Row],[Column3]]=90785,\"Y\",\"N\")","v":"N"}]
[null,null,null,null,null,null,null,null,null,null,{"$f":"IF(Table1[[#This Row],[Column3]]=\"T1013\",\"Y\",\"N\")","v":"N"},{"$f":"IF(Table1[[#This Row],[Column3]]=90785,\"Y\",\"N\")","v":"N"}]
[null,null,null,null,null,null,null,null,null,null,{"$f":"IF(Table1[[#This Row],[Column3]]=\"T1013\",\"Y\",\"N\")","v":"N"},{"$f":"IF(Table1[[#This Row],[Column3]]=90785,\"Y\",\"N\")","v":"N"}]
[null,null,null,null,null,null,null,null,null,null,{"$f":"IF(Table1[[#This Row],[Column3]]=\"T1013\",\"Y\",\"N\")","v":"N"},{"$f":"IF(Table1[[#This Row],[Column3]]=90785,\"Y\",\"N\")","v":"N"}]
[null,null,null,null,null,null,null,null,null,null,{"$f":"IF(Table1[[#This Row],[Column3]]=\"T1013\",\"Y\",\"N\")","v":"N"},{"$f":"IF(Table1[[#This Row],[Column3]]=90785,\"Y\",\"N\")","v":"N"}]
[null,null,null,null,null,null,null,null,null,null,{"$f":"IF(Table1[[#This Row],[Column3]]=\"T1013\",\"Y\",\"N\")","v":"N"},{"$f":"IF(Table1[[#This Row],[Column3]]=90785,\"Y\",\"N\")","v":"N"}]
[null,null,null,null,null,null,null,null,null,null,{"$f":"IF(Table1[[#This Row],[Column3]]=\"T1013\",\"Y\",\"N\")","v":"N"},{"$f":"IF(Table1[[#This Row],[Column3]]=90785,\"Y\",\"N\")","v":"N"}]
[null,null,null,null,null,null,null,null,null,null,{"$f":"IF(Table1[[#This Row],[Column3]]=\"T1013\",\"Y\",\"N\")","v":"N"},{"$f":"IF(Table1[[#This Row],[Column3]]=90785,\"Y\",\"N\")","v":"N"}]
[null,null,null,null,null,null,null,null,null,null,{"$f":"IF(Table1[[#This Row],[Column3]]=\"T1013\",\"Y\",\"N\")","v":"N"},{"$f":"IF(Table1[[#This Row],[Column3]]=90785,\"Y\",\"N\")","v":"N"}]
[null,null,null,null,null,null,null,null,null,null,{"$f":"IF(Table1[[#This Row],[Column3]]=\"T1013\",\"Y\",\"N\")","v":"N"},{"$f":"IF(Table1[[#This Row],[Column3]]=90785,\"Y\",\"N\")","v":"N"}]
[null,null,null,null,null,null,null,null,null,null,{"$f":"IF(Table1[[#This Row],[Column3]]=\"T1013\",\"Y\",\"N\")","v":"N"},{"$f":"IF(Table1[[#This Row],[Column3]]=90785,\"Y\",\"N\")","v":"N"}]
[null,null,null,null,null,null,null,null,null,null,{"$f":"IF(Table1[[#This Row],[Column3]]=\"T1013\",\"Y\",\"N\")","v":"N"},{"$f":"IF(Table1[[#This Row],[Column3]]=90785,\"Y\",\"N\")","v":"N"}]
[null,null,null,null,null,null,null,null,null,null,{"$f":"IF(Table1[[#This Row],[Column3]]=\"T1013\",\"Y\",\"N\")","v":"N"},{"$f":"IF(Table1[[#This Row],[Column3]]=90785,\"Y\",\"N\")","v":"N"}]
[null,null,null,null,null,null,null,null,null,null,{"$f":"IF(Table1[[#This Row],[Column3]]=\"T1013\",\"Y\",\"N\")","v":"N"},{"$f":"IF(Table1[[#This Row],[Column3]]=90785,\"Y\",\"N\")","v":"N"}]
[null,null,null,null,null,null,null,null,null,null,{"$f":"IF(Table1[[#This Row],[Column3]]=\"T1013\",\"Y\",\"N\")","v":"N"},{"$f":"IF(Table1[[#This Row],[Column3]]=90785,\"Y\",\"N\")","v":"N"}]
[null,null,null,null,null,null,null,null,null,null,{"$f":"IF(Table1[[#This Row],[Column3]]=\"T1013\",\"Y\",\"N\")","v":"N"},{"$f":"IF(Table1[[#This Row],[Column3]]=90785,\"Y\",\"N\")","v":"N"}]
[null,null,null,null,null,null,null,null,null,null,{"$f":"IF(Table1[[#This Row],[Column3]]=\"T1013\",\"Y\",\"N\")","v":"N"},{"$f":"IF(Table1[[#This Row],[Column3]]=90785,\"Y\",\"N\")","v":"N"}]
[null,null,null,null,null,null,null,null,null,null,{"$f":"IF(Table1[[#This Row],[Column3]]=\"T1013\",\"Y\",\"N\")","v":"N"},{"$f":"IF(Table1[[#This Row],[Column3]]=90785,\"Y\",\"N\")","v":"N"}]
[null,null,null,null,null,null,null,null,null,null,{"$f":"IF(Table1[[#This Row],[Column3]]=\"T1013\",\"Y\",\"N\")","v":"N"},{"$f":"IF(Table1[[#This Row],[Column3]]=90785,\"Y\",\"N\")","v":"N"}]
[null,null,null,null,null,null,null,null,null,null,{"$f":"IF(Table1[[#This Row],[Column3]]=\"T1013\",\"Y\",\"N\")","v":"N"},{"$f":"IF(Table1[[#This Row],[Column3]]=90785,\"Y\",\"N\")","v":"N"}]
[null,null,null,null,null,null,null,null,null,null,{"$f":"IF(Table1[[#This Row],[Column3]]=\"T1013\",\"Y\",\"N\")","v":"N"},{"$f":"IF(Table1[[#This Row],[Column3]]=90785,\"Y\",\"N\")","v":"N"}]
[null,null,null,null,null,null,null,null,null,null,{"$f":"IF(Table1[[#This Row],[Column3]]=\"T1013\",\"Y\",\"N\")","v":"N"},{"$f":"IF(Table1[[#This Row],[Column3]]=90785,\"Y\",\"N\")","v":"N"}]
[null,null,null,null,null,null,null,null,null,null,{"$f":"IF(Table1[[#This Row],[Column3]]=\"T1013\",\"Y\",\"N\")","v":"N"},{"$f":"IF(Table1[[#This Row],[Column3]]=90785,\"Y\",\"N\")","v":"N"}]
[null,null,null,null,null,null,null,null,null,null,{"$f":"IF(Table1[[#This Row],[Column3]]=\"T1013\",\"Y\",\"N\")","v":"N"},{"$f":"IF(Table1[[#This Row],[Column3]]=90785,\"Y\",\"N\")","v":"N"}]
[null,null,null,null,null,null,null,null,null,null,{"$f":"IF(Table1[[#This Row],[Column3]]=\"T1013\",\"Y\",\"N\")","v":"N"},{"$f":"IF(Table1[[#This Row],[Column3]]=90785,\"Y\",\"N\")","v":"N"}]
[null,null,null,null,null,null,null,null,null,null,{"$f":"IF(Table1[[#This Row],[Column3]]=\"T1013\",\"Y\",\"N\")","v":"N"},{"$f":"IF(Table1[[#This Row],[Column3]]=90785,\"Y\",\"N\")","v":"N"}]
[null,null,null,null,null,null,null,null,null,null,{"$f":"IF(Table1[[#This Row],[Column3]]=\"T1013\",\"Y\",\"N\")","v":"N"},{"$f":"IF(Table1[[#This Row],[Column3]]=90785,\"Y\",\"N\")","v":"N"}]
[null,null,null,null,null,null,null,null,null,null,{"$f":"IF(Table1[[#This Row],[Column3]]=\"T1013\",\"Y\",\"N\")","v":"N"},{"$f":"IF(Table1[[#This Row],[Column3]]=90785,\"Y\",\"N\")","v":"N"}]
[null,null,null,null,null,null,null,null,null,null,{"$f":"IF(Table1[[#This Row],[Column3]]=\"T1013\",\"Y\",\"N\")","v":"N"},{"$f":"IF(Table1[[#This Row],[Column3]]=90785,\"Y\",\"N\")","v":"N"}]
[null,null,null,null,null,null,null,null,null,null,{"$f":"IF(Table1[[#This Row],[Column3]]=\"T1013\",\"Y\",\"N\")","v":"N"},{"$f":"IF(Table1[[#This Row],[Column3]]=90785,\"Y\",\"N\")","v":"N"}]
[null,null,null,null,null,null,null,null,null,null,{"$f":"IF(Table1[[#This Row],[Column3]]=\"T1013\",\"Y\",\"N\")","v":"N"},{"$f":"IF(Table1[[#This Row],[Column3]]=90785,\"Y\",\"N\")","v":"N"}]
[null,null,null,null,null,null,null,null,null,null,{"$f":"IF(Table1[[#This Row],[Column3]]=\"T1013\",\"Y\",\"N\")","v":"N"},{"$f":"IF(Table1[[#This Row],[Column3]]=90785,\"Y\",\"N\")","v":"N"}]
[null,null,null,null,null,null,null,null,null,null,{"$f":"IF(Table1[[#This Row],[Column3]]=\"T1013\",\"Y\",\"N\")","v":"N"},{"$f":"IF(Table1[[#This Row],[Column3]]=90785,\"Y\",\"N\")","v":"N"}]
[null,null,null,null,null,null,null,null,null,null,{"$f":"IF(Table1[[#This Row],[Column3]]=\"T1013\",\"Y\",\"N\")","v":"N"},{"$f":"IF(Table1[[#This Row],[Column3]]=90785,\"Y\",\"N\")","v":"N"}]
[null,null,null,null,null,null,null,null,null,null,{"$f":"IF(Table1[[#This Row],[Column3]]=\"T1013\",\"Y\",\"N\")","v":"N"},{"$f":"IF(Table1[[#This Row],[Column3]]=90785,\"Y\",\"N\")","v":"N"}]
[null,null,null,null,null,null,null,null,null,null,{"$f":"IF(Table1[[#This Row],[Column3]]=\"T1013\",\"Y\",\"N\")","v":"N"},{"$f":"IF(Table1[[#This Row],[Column3]]=90785,\"Y\",\"N\")","v":"N"}]
[null,null,null,null,null,null,null,null,null,null,{"$f":"IF(Table1[[#This Row],[Column3]]=\"T1013\",\"Y\",\"N\")","v":"N"},{"$f":"IF(Table1[[#This Row],[Column3]]=90785,\"Y\",\"N\")","v":"N"}]
[null,null,null,null,null,null,null,null,null,null,{"$f":"IF(Table1[[#This Row],[Column3]]=\"T1013\",\"Y\",\"N\")","v":"N"},{"$f":"IF(Table1[[#This Row],[Column3]]=90785,\"Y\",\"N\")","v":"N"}]
[null,null,null,null,null,null,null,null,null,null,{"$f":"IF(Table1[[#This Row],[Column3]]=\"T1013\",\"Y\",\"N\")","v":"N"},{"$f":"IF(Table1[[#This Row],[Column3]]=90785,\"Y\",\"N\")","v":"N"}]
[null,null,null,null,null,null,null,null,null,null,{"$f":"IF(Table1[[#This Row],[Column3]]=\"T1013\",\"Y\",\"N\")","v":"N"},{"$f":"IF(Table1[[#This Row],[Column3]]=90785,\"Y\",\"N\")","v":"N"}]
[null,null,null,null,null,null,null,null,null,null,{"$f":"IF(Table1[[#This Row],[Column3]]=\"T1013\",\"Y\",\"N\")","v":"N"},{"$f":"IF(Table1[[#This Row],[Column3]]=90785,\"Y\",\"N\")","v":"N"}]
[null,null,null,null,null,null,null,null,null,null,{"$f":"IF(Table1[[#This Row],[Column3]]=\"T1013\",\"Y\",\"N\")","v":"N"},{"$f":"IF(Table1[[#This Row],[Column3]]=90785,\"Y\",\"N\")","v":"N"}]
[null,null,null,null,null,null,null,null,null,null,{"$f":"IF(Table1[[#This Row],[Column3]]=\"T1013\",\"Y\",\"N\")","v":"N"},{"$f":"IF(Table1[[#This Row],[Column3]]=90785,\"Y\",\"N\")","v":"N"}]
[null,null,null,null,null,null,null,null,null,null,{"$f":"IF(Table1[[#This Row],[Column3]]=\"T1013\",\"Y\",\"N\")","v":"N"},{"$f":"IF(Table1[[#This Row],[Column3]]=90785,\"Y\",\"N\")","v":"N"}]
[null,null,null,null,null,null,null,null,null,null,{"$f":"IF(Table1[[#This Row],[Column3]]=\"T1013\",\"Y\",\"N\")","v":"N"},{"$f":"IF(Table1[[#This Row],[Column3]]=90785,\"Y\",\"N\")","v":"N"}]
[null,null,null,null,null,null,null,null,null,null,{"$f":"IF(Table1[[#This Row],[Column3]]=\"T1013\",\"Y\",\"N\")","v":"N"},{"$f":"IF(Table1[[#This Row],[Column3]]=90785,\"Y\",\"N\")","v":"N"}]
[null,null,null,null,null,null,null,null,null,null,{"$f":"IF(Table1[[#This Row],[Column3]]=\"T1013\",\"Y\",\"N\")","v":"N"},{"$f":"IF(Table1[[#This Row],[Column3]]=90785,\"Y\",\"N\")","v":"N"}]
[null,null,null,null,null,null,null,null,null,null,{"$f":"IF(Table1[[#This Row],[Column3]]=\"T1013\",\"Y\",\"N\")","v":"N"},{"$f":"IF(Table1[[#This Row],[Column3]]=90785,\"Y\",\"N\")","v":"N"}]
[null,null,null,null,null,null,null,null,null,null,{"$f":"IF(Table1[[#This Row],[Column3]]=\"T1013\",\"Y\",\"N\")","v":"N"},{"$f":"IF(Table1[[#This Row],[Column3]]=90785,\"Y\",\"N\")","v":"N"}]
[null,null,null,null,null,null,null,null,null,null,{"$f":"IF(Table1[[#This Row],[Column3]]=\"T1013\",\"Y\",\"N\")","v":"N"},{"$f":"IF(Table1[[#This Row],[Column3]]=90785,\"Y\",\"N\")","v":"N"}]
[null,null,null,null,null,null,null,null,null,null,{"$f":"IF(Table1[[#This Row],[Column3]]=\"T1013\",\"Y\",\"N\")","v":"N"},{"$f":"IF(Table1[[#This Row],[Column3]]=90785,\"Y\",\"N\")","v":"N"}]
[null,null,null,null,null,null,null,null,null,null,{"$f":"IF(Table1[[#This Row],[Column3]]=\"T1013\",\"Y\",\"N\")","v":"N"},{"$f":"IF(Table1[[#This Row],[Column3]]=90785,\"Y\",\"N\")","v":"N"}]
[null,null,null,null,null,null,null,null,null,null,{"$f":"IF(Table1[[#This Row],[Column3]]=\"T1013\",\"Y\",\"N\")","v":"N"},{"$f":"IF(Table1[[#This Row],[Column3]]=90785,\"Y\",\"N\")","v":"N"}]
[null,null,null,null,null,null,null,null,null,null,{"$f":"IF(Table1[[#This Row],[Column3]]=\"T1013\",\"Y\",\"N\")","v":"N"},{"$f":"IF(Table1[[#This Row],[Column3]]=90785,\"Y\",\"N\")","v":"N"}]
[null,null,null,null,null,null,null,null,null,null,{"$f":"IF(Table1[[#This Row],[Column3]]=\"T1013\",\"Y\",\"N\")","v":"N"},{"$f":"IF(Table1[[#This Row],[Column3]]=90785,\"Y\",\"N\")","v":"N"}]
[null,null,null,null,null,null,null,null,null,null,{"$f":"IF(Table1[[#This Row],[Column3]]=\"T1013\",\"Y\",\"N\")","v":"N"},{"$f":"IF(Table1[[#This Row],[Column3]]=90785,\"Y\",\"N\")","v":"N"}]
[null,null,null,null,null,null,null,null,null,null,{"$f":"IF(Table1[[#This Row],[Column3]]=\"T1013\",\"Y\",\"N\")","v":"N"},{"$f":"IF(Table1[[#This Row],[Column3]]=90785,\"Y\",\"N\")","v":"N"}]
[null,null,null,null,null,null,null,null,null,null,{"$f":"IF(Table1[[#This Row],[Column3]]=\"T1013\",\"Y\",\"N\")","v":"N"},{"$f":"IF(Table1[[#This Row],[Column3]]=90785,\"Y\",\"N\")","v":"N"}]
[null,null,null,null,null,null,null,null,null,null,{"$f":"IF(Table1[[#This Row],[Column3]]=\"T1013\",\"Y\",\"N\")","v":"N"},{"$f":"IF(Table1[[#This Row],[Column3]]=90785,\"Y\",\"N\")","v":"N"}]
[null,null,null,null,null,null,null,null,null,null,{"$f":"IF(Table1[[#This Row],[Column3]]=\"T1013\",\"Y\",\"N\")","v":"N"},{"$f":"IF(Table1[[#This Row],[Column3]]=90785,\"Y\",\"N\")","v":"N"}]
[null,null,null,null,null,null,null,null,null,null,{"$f":"IF(Table1[[#This Row],[Column3]]=\"T1013\",\"Y\",\"N\")","v":"N"},{"$f":"IF(Table1[[#This Row],[Column3]]=90785,\"Y\",\"N\")","v":"N"}]
[null,null,null,null,null,null,null,null,null,null,{"$f":"IF(Table1[[#This Row],[Column3]]=\"T1013\",\"Y\",\"N\")","v":"N"},{"$f":"IF(Table1[[#This Row],[Column3]]=90785,\"Y\",\"N\")","v":"N"}]
[null,null,null,null,null,null,null,null,null,null,{"$f":"IF(Table1[[#This Row],[Column3]]=\"T1013\",\"Y\",\"N\")","v":"N"},{"$f":"IF(Table1[[#This Row],[Column3]]=90785,\"Y\",\"N\")","v":"N"}]
[null,null,null,null,null,null,null,null,null,null,{"$f":"IF(Table1[[#This Row],[Column3]]=\"T1013\",\"Y\",\"N\")","v":"N"},{"$f":"IF(Table1[[#This Row],[Column3]]=90785,\"Y\",\"N\")","v":"N"}]
[null,null,null,null,null,null,null,null,null,null,{"$f":"IF(Table1[[#This Row],[Column3]]=\"T1013\",\"Y\",\"N\")","v":"N"},{"$f":"IF(Table1[[#This Row],[Column3]]=90785,\"Y\",\"N\")","v":"N"}]
[null,null,null,null,null,null,null,null,null,null,{"$f":"IF(Table1[[#This Row],[Column3]]=\"T1013\",\"Y\",\"N\")","v":"N"},{"$f":"IF(Table1[[#This Row],[Column3]]=90785,\"Y\",\"N\")","v":"N"}]
[null,null,null,null,null,null,null,null,null,null,{"$f":"IF(Table1[[#This Row],[Column3]]=\"T1013\",\"Y\",\"N\")","v":"N"},{"$f":"IF(Table1[[#This Row],[Column3]]=90785,\"Y\",\"N\")","v":"N"}]
[null,null,null,null,null,null,null,null,null,null,{"$f":"IF(Table1[[#This Row],[Column3]]=\"T1013\",\"Y\",\"N\")","v":"N"},{"$f":"IF(Table1[[#This Row],[Column3]]=90785,\"Y\",\"N\")","v":"N"}]
[null,null,null,null,null,null,null,null,null,null,{"$f":"IF(Table1[[#This Row],[Column3]]=\"T1013\",\"Y\",\"N\")","v":"N"},{"$f":"IF(Table1[[#This Row],[Column3]]=90785,\"Y\",\"N\")","v":"N"}]
[null,null,null,null,null,null,null,null,null,null,{"$f":"IF(Table1[[#This Row],[Column3]]=\"T1013\",\"Y\",\"N\")","v":"N"},{"$f":"IF(Table1[[#This Row],[Column3]]=90785,\"Y\",\"N\")","v":"N"}]
[null,null,null,null,null,null,null,null,null,null,{"$f":"IF(Table1[[#This Row],[Column3]]=\"T1013\",\"Y\",\"N\")","v":"N"},{"$f":"IF(Table1[[#This Row],[Column3]]=90785,\"Y\",\"N\")","v":"N"}]
[null,null,null,null,null,null,null,null,null,null,{"$f":"IF(Table1[[#This Row],[Column3]]=\"T1013\",\"Y\",\"N\")","v":"N"},{"$f":"IF(Table1[[#This Row],[Column3]]=90785,\"Y\",\"N\")","v":"N"}]
[null,null,null,null,null,null,null,null,null,null,{"$f":"IF(Table1[[#This Row],[Column3]]=\"T1013\",\"Y\",\"N\")","v":"N"},{"$f":"IF(Table1[[#This Row],[Column3]]=90785,\"Y\",\"N\")","v":"N"}]
[null,null,null,null,null,null,null,null,null,null,{"$f":"IF(Table1[[#This Row],[Column3]]=\"T1013\",\"Y\",\"N\")","v":"N"},{"$f":"IF(Table1[[#This Row],[Column3]]=90785,\"Y\",\"N\")","v":"N"}]
[null,null,null,null,null,null,null,null,null,null,{"$f":"IF(Table1[[#This Row],[Column3]]=\"T1013\",\"Y\",\"N\")","v":"N"},{"$f":"IF(Table1[[#This Row],[Column3]]=90785,\"Y\",\"N\")","v":"N"}]
[null,null,null,null,null,null,null,null,null,null,{"$f":"IF(Table1[[#This Row],[Column3]]=\"T1013\",\"Y\",\"N\")","v":"N"},{"$f":"IF(Table1[[#This Row],[Column3]]=90785,\"Y\",\"N\")","v":"N"}]
[null,null,null,null,null,null,null,null,null,null,{"$f":"IF(Table1[[#This Row],[Column3]]=\"T1013\",\"Y\",\"N\")","v":"N"},{"$f":"IF(Table1[[#This Row],[Column3]]=90785,\"Y\",\"N\")","v":"N"}]
[null,null,null,null,null,null,null,null,null,null,{"$f":"IF(Table1[[#This Row],[Column3]]=\"T1013\",\"Y\",\"N\")","v":"N"},{"$f":"IF(Table1[[#This Row],[Column3]]=90785,\"Y\",\"N\")","v":"N"}]
[null,null,null,null,null,null,null,null,null,null,{"$f":"IF(Table1[[#This Row],[Column3]]=\"T1013\",\"Y\",\"N\")","v":"N"},{"$f":"IF(Table1[[#This Row],[Column3]]=90785,\"Y\",\"N\")","v":"N"}]
[null,null,null,null,null,null,null,null,null,null,{"$f":"IF(Table1[[#This Row],[Column3]]=\"T1013\",\"Y\",\"N\")","v":"N"},{"$f":"IF(Table1[[#This Row],[Column3]]=90785,\"Y\",\"N\")","v":"N"}]
[null,null,null,null,null,null,null,null,null,null,{"$f":"IF(Table1[[#This Row],[Column3]]=\"T1013\",\"Y\",\"N\")","v":"N"},{"$f":"IF(Table1[[#This Row],[Column3]]=90785,\"Y\",\"N\")","v":"N"}]
[null,null,null,null,null,null,null,null,null,null,{"$f":"IF(Table1[[#This Row],[Column3]]=\"T1013\",\"Y\",\"N\")","v":"N"},{"$f":"IF(Table1[[#This Row],[Column3]]=90785,\"Y\",\"N\")","v":"N"}]
[null,null,null,null,null,null,null,null,null,null,{"$f":"IF(Table1[[#This Row],[Column3]]=\"T1013\",\"Y\",\"N\")","v":"N"},{"$f":"IF(Table1[[#This Row],[Column3]]=90785,\"Y\",\"N\")","v":"N"}]
[null,null,null,null,null,null,null,null,null,null,{"$f":"IF(Table1[[#This Row],[Column3]]=\"T1013\",\"Y\",\"N\")","v":"N"},{"$f":"IF(Table1[[#This Row],[Column3]]=90785,\"Y\",\"N\")","v":"N"}]
[null,null,null,null,null,null,null,null,null,null,{"$f":"IF(Table1[[#This Row],[Column3]]=\"T1013\",\"Y\",\"N\")","v":"N"},{"$f":"IF(Table1[[#This Row],[Column3]]=90785,\"Y\",\"N\")","v":"N"}]
[null,null,null,null,null,null,null,null,null,null,{"$f":"IF(Table1[[#This Row],[Column3]]=\"T1013\",\"Y\",\"N\")","v":"N"},{"$f":"IF(Table1[[#This Row],[Column3]]=90785,\"Y\",\"N\")","v":"N"}]
[null,null,null,null,null,null,null,null,null,null,{"$f":"IF(Table1[[#This Row],[Column3]]=\"T1013\",\"Y\",\"N\")","v":"N"},{"$f":"IF(Table1[[#This Row],[Column3]]=90785,\"Y\",\"N\")","v":"N"}]
[null,null,null,null,null,null,null,null,null,null,{"$f":"IF(Table1[[#This Row],[Column3]]=\"T1013\",\"Y\",\"N\")","v":"N"},{"$f":"IF(Table1[[#This Row],[Column3]]=90785,\"Y\",\"N\")","v":"N"}]
[null,null,null,null,null,null,null,null,null,null,{"$f":"IF(Table1[[#This Row],[Column3]]=\"T1013\",\"Y\",\"N\")","v":"N"},{"$f":"IF(Table1[[#This Row],[Column3]]=90785,\"Y\",\"N\")","v":"N"}]
[null,null,null,null,null,null,null,null,null,null,{"$f":"IF(Table1[[#This Row],[Column3]]=\"T1013\",\"Y\",\"N\")","v":"N"},{"$f":"IF(Table1[[#This Row],[Column3]]=90785,\"Y\",\"N\")","v":"N"}]
[null,null,null,null,null,null,null,null,null,null,{"$f":"IF(Table1[[#This Row],[Column3]]=\"T1013\",\"Y\",\"N\")","v":"N"},{"$f":"IF(Table1[[#This Row],[Column3]]=90785,\"Y\",\"N\")","v":"N"}]
[null,null,null,null,null,null,null,null,null,null,{"$f":"IF(Table1[[#This Row],[Column3]]=\"T1013\",\"Y\",\"N\")","v":"N"},{"$f":"IF(Table1[[#This Row],[Column3]]=90785,\"Y\",\"N\")","v":"N"}]
[null,null,null,null,null,null,null,null,null,null,{"$f":"IF(Table1[[#This Row],[Column3]]=\"T1013\",\"Y\",\"N\")","v":"N"},{"$f":"IF(Table1[[#This Row],[Column3]]=90785,\"Y\",\"N\")","v":"N"}]
[null,null,null,null,null,null,null,null,null,null,{"$f":"IF(Table1[[#This Row],[Column3]]=\"T1013\",\"Y\",\"N\")","v":"N"},{"$f":"IF(Table1[[#This Row],[Column3]]=90785,\"Y\",\"N\")","v":"N"}]
[null,null,null,null,null,null,null,null,null,null,{"$f":"IF(Table1[[#This Row],[Column3]]=\"T1013\",\"Y\",\"N\")","v":"N"},{"$f":"IF(Table1[[#This Row],[Column3]]=90785,\"Y\",\"N\")","v":"N"}]
[null,null,null,null,null,null,null,null,null,null,{"$f":"IF(Table1[[#This Row],[Column3]]=\"T1013\",\"Y\",\"N\")","v":"N"},{"$f":"IF(Table1[[#This Row],[Column3]]=90785,\"Y\",\"N\")","v":"N"}]
[null,null,null,null,null,null,null,null,null,null,{"$f":"IF(Table1[[#This Row],[Column3]]=\"T1013\",\"Y\",\"N\")","v":"N"},{"$f":"IF(Table1[[#This Row],[Column3]]=90785,\"Y\",\"N\")","v":"N"}]
[null,null,null,null,null,null,null,null,null,null,{"$f":"IF(Table1[[#This Row],[Column3]]=\"T1013\",\"Y\",\"N\")","v":"N"},{"$f":"IF(Table1[[#This Row],[Column3]]=90785,\"Y\",\"N\")","v":"N"}]
[null,null,null,null,null,null,null,null,null,null,{"$f":"IF(Table1[[#This Row],[Column3]]=\"T1013\",\"Y\",\"N\")","v":"N"},{"$f":"IF(Table1[[#This Row],[Column3]]=90785,\"Y\",\"N\")","v":"N"}]
[null,null,null,null,null,null,null,null,null,null,{"$f":"IF(Table1[[#This Row],[Column3]]=\"T1013\",\"Y\",\"N\")","v":"N"},{"$f":"IF(Table1[[#This Row],[Column3]]=90785,\"Y\",\"N\")","v":"N"}]
[null,null,null,null,null,null,null,null,null,null,{"$f":"IF(Table1[[#This Row],[Column3]]=\"T1013\",\"Y\",\"N\")","v":"N"},{"$f":"IF(Table1[[#This Row],[Column3]]=90785,\"Y\",\"N\")","v":"N"}]
[null,null,null,null,null,null,null,null,null,null,{"$f":"IF(Table1[[#This Row],[Column3]]=\"T1013\",\"Y\",\"N\")","v":"N"},{"$f":"IF(Table1[[#This Row],[Column3]]=90785,\"Y\",\"N\")","v":"N"}]
[null,null,null,null,null,null,null,null,null,null,{"$f":"IF(Table1[[#This Row],[Column3]]=\"T1013\",\"Y\",\"N\")","v":"N"},{"$f":"IF(Table1[[#This Row],[Column3]]=90785,\"Y\",\"N\")","v":"N"}]
[null,null,null,null,null,null,null,null,null,null,{"$f":"IF(Table1[[#This Row],[Column3]]=\"T1013\",\"Y\",\"N\")","v":"N"},{"$f":"IF(Table1[[#This Row],[Column3]]=90785,\"Y\",\"N\")","v":"N"}]
[null,null,null,null,null,null,null,null,null,null,{"$f":"IF(Table1[[#This Row],[Column3]]=\"T1013\",\"Y\",\"N\")","v":"N"},{"$f":"IF(Table1[[#This Row],[Column3]]=90785,\"Y\",\"N\")","v":"N"}]
[null,null,null,null,null,null,null,null,null,null,{"$f":"IF(Table1[[#This Row],[Column3]]=\"T1013\",\"Y\",\"N\")","v":"N"},{"$f":"IF(Table1[[#This Row],[Column3]]=90785,\"Y\",\"N\")","v":"N"}]
[null,null,null,null,null,null,null,null,null,null,{"$f":"IF(Table1[[#This Row],[Column3]]=\"T1013\",\"Y\",\"N\")","v":"N"},{"$f":"IF(Table1[[#This Row],[Column3]]=90785,\"Y\",\"N\")","v":"N"}]
[null,null,null,null,null,null,null,null,null,null,{"$f":"IF(Table1[[#This Row],[Column3]]=\"T1013\",\"Y\",\"N\")","v":"N"},{"$f":"IF(Table1[[#This Row],[Column3]]=90785,\"Y\",\"N\")","v":"N"}]
[null,null,null,null,null,null,null,null,null,null,{"$f":"IF(Table1[[#This Row],[Column3]]=\"T1013\",\"Y\",\"N\")","v":"N"},{"$f":"IF(Table1[[#This Row],[Column3]]=90785,\"Y\",\"N\")","v":"N"}]
[null,null,null,null,null,null,null,null,null,null,{"$f":"IF(Table1[[#This Row],[Column3]]=\"T1013\",\"Y\",\"N\")","v":"N"},{"$f":"IF(Table1[[#This Row],[Column3]]=90785,\"Y\",\"N\")","v":"N"}]
[null,null,null,null,null,null,null,null,null,null,{"$f":"IF(Table1[[#This Row],[Column3]]=\"T1013\",\"Y\",\"N\")","v":"N"},{"$f":"IF(Table1[[#This Row],[Column3]]=90785,\"Y\",\"N\")","v":"N"}]
[null,null,null,null,null,null,null,null,null,null,{"$f":"IF(Table1[[#This Row],[Column3]]=\"T1013\",\"Y\",\"N\")","v":"N"},{"$f":"IF(Table1[[#This Row],[Column3]]=90785,\"Y\",\"N\")","v":"N"}]
[null,null,null,null,null,null,null,null,null,null,{"$f":"IF(Table1[[#This Row],[Column3]]=\"T1013\",\"Y\",\"N\")","v":"N"},{"$f":"IF(Table1[[#This Row],[Column3]]=90785,\"Y\",\"N\")","v":"N"}]
[null,null,null,null,null,null,null,null,null,null,{"$f":"IF(Table1[[#This Row],[Column3]]=\"T1013\",\"Y\",\"N\")","v":"N"},{"$f":"IF(Table1[[#This Row],[Column3]]=90785,\"Y\",\"N\")","v":"N"}]
[null,null,null,null,null,null,null,null,null,null,{"$f":"IF(Table1[[#This Row],[Column3]]=\"T1013\",\"Y\",\"N\")","v":"N"},{"$f":"IF(Table1[[#This Row],[Column3]]=90785,\"Y\",\"N\")","v":"N"}]
[null,null,null,null,null,null,null,null,null,null,{"$f":"IF(Table1[[#This Row],[Column3]]=\"T1013\",\"Y\",\"N\")","v":"N"},{"$f":"IF(Table1[[#This Row],[Column3]]=90785,\"Y\",\"N\")","v":"N"}]
[null,null,null,null,null,null,null,null,null,null,{"$f":"IF(Table1[[#This Row],[Column3]]=\"T1013\",\"Y\",\"N\")","v":"N"},{"$f":"IF(Table1[[#This Row],[Column3]]=90785,\"Y\",\"N\")","v":"N"}]
[null,null,null,null,null,null,null,null,null,null,{"$f":"IF(Table1[[#This Row],[Column3]]=\"T1013\",\"Y\",\"N\")","v":"N"},{"$f":"IF(Table1[[#This Row],[Column3]]=90785,\"Y\",\"N\")","v":"N"}]
[null,null,null,null,null,null,null,null,null,null,{"$f":"IF(Table1[[#This Row],[Column3]]=\"T1013\",\"Y\",\"N\")","v":"N"},{"$f":"IF(Table1[[#This Row],[Column3]]=90785,\"Y\",\"N\")","v":"N"}]
[null,null,null,null,null,null,null,null,null,null,{"$f":"IF(Table1[[#This Row],[Column3]]=\"T1013\",\"Y\",\"N\")","v":"N"},{"$f":"IF(Table1[[#This Row],[Column3]]=90785,\"Y\",\"N\")","v":"N"}]
[null,null,null,null,null,null,null,null,null,null,{"$f":"IF(Table1[[#This Row],[Column3]]=\"T1013\",\"Y\",\"N\")","v":"N"},{"$f":"IF(Table1[[#This Row],[Column3]]=90785,\"Y\",\"N\")","v":"N"}]
[null,null,null,null,null,null,null,null,null,null,{"$f":"IF(Table1[[#This Row],[Column3]]=\"T1013\",\"Y\",\"N\")","v":"N"},{"$f":"IF(Table1[[#This Row],[Column3]]=90785,\"Y\",\"N\")","v":"N"}]
[null,null,null,null,null,null,null,null,null,null,{"$f":"IF(Table1[[#This Row],[Column3]]=\"T1013\",\"Y\",\"N\")","v":"N"},{"$f":"IF(Table1[[#This Row],[Column3]]=90785,\"Y\",\"N\")","v":"N"}]
[null,null,null,null,null,null,null,null,null,null,{"$f":"IF(Table1[[#This Row],[Column3]]=\"T1013\",\"Y\",\"N\")","v":"N"},{"$f":"IF(Table1[[#This Row],[Column3]]=90785,\"Y\",\"N\")","v":"N"}]
[null,null,null,null,null,null,null,null,null,null,{"$f":"IF(Table1[[#This Row],[Column3]]=\"T1013\",\"Y\",\"N\")","v":"N"},{"$f":"IF(Table1[[#This Row],[Column3]]=90785,\"Y\",\"N\")","v":"N"}]
[null,null,null,null,null,null,null,null,null,null,{"$f":"IF(Table1[[#This Row],[Column3]]=\"T1013\",\"Y\",\"N\")","v":"N"},{"$f":"IF(Table1[[#This Row],[Column3]]=90785,\"Y\",\"N\")","v":"N"}]
[null,null,null,null,null,null,null,null,null,null,{"$f":"IF(Table1[[#This Row],[Column3]]=\"T1013\",\"Y\",\"N\")","v":"N"},{"$f":"IF(Table1[[#This Row],[Column3]]=90785,\"Y\",\"N\")","v":"N"}]
[null,null,null,null,null,null,null,null,null,null,{"$f":"IF(Table1[[#This Row],[Column3]]=\"T1013\",\"Y\",\"N\")","v":"N"},{"$f":"IF(Table1[[#This Row],[Column3]]=90785,\"Y\",\"N\")","v":"N"}]
[null,null,null,null,null,null,null,null,null,null,{"$f":"IF(Table1[[#This Row],[Column3]]=\"T1013\",\"Y\",\"N\")","v":"N"},{"$f":"IF(Table1[[#This Row],[Column3]]=90785,\"Y\",\"N\")","v":"N"}]
[null,null,null,null,null,null,null,null,null,null,{"$f":"IF(Table1[[#This Row],[Column3]]=\"T1013\",\"Y\",\"N\")","v":"N"},{"$f":"IF(Table1[[#This Row],[Column3]]=90785,\"Y\",\"N\")","v":"N"}]
[null,null,null,null,null,null,null,null,null,null,{"$f":"IF(Table1[[#This Row],[Column3]]=\"T1013\",\"Y\",\"N\")","v":"N"},{"$f":"IF(Table1[[#This Row],[Column3]]=90785,\"Y\",\"N\")","v":"N"}]
[null,null,null,null,null,null,null,null,null,null,{"$f":"IF(Table1[[#This Row],[Column3]]=\"T1013\",\"Y\",\"N\")","v":"N"},{"$f":"IF(Table1[[#This Row],[Column3]]=90785,\"Y\",\"N\")","v":"N"}]
[null,null,null,null,null,null,null,null,null,null,{"$f":"IF(Table1[[#This Row],[Column3]]=\"T1013\",\"Y\",\"N\")","v":"N"},{"$f":"IF(Table1[[#This Row],[Column3]]=90785,\"Y\",\"N\")","v":"N"}]
[null,null,null,null,null,null,null,null,null,null,{"$f":"IF(Table1[[#This Row],[Column3]]=\"T1013\",\"Y\",\"N\")","v":"N"},{"$f":"IF(Table1[[#This Row],[Column3]]=90785,\"Y\",\"N\")","v":"N"}]
[null,null,null,null,null,null,null,null,null,null,{"$f":"IF(Table1[[#This Row],[Column3]]=\"T1013\",\"Y\",\"N\")","v":"N"},{"$f":"IF(Table1[[#This Row],[Column3]]=90785,\"Y\",\"N\")","v":"N"}]
[null,null,null,null,null,null,null,null,null,null,{"$f":"IF(Table1[[#This Row],[Column3]]=\"T1013\",\"Y\",\"N\")","v":"N"},{"$f":"IF(Table1[[#This Row],[Column3]]=90785,\"Y\",\"N\")","v":"N"}]
[null,null,null,null,null,null,null,null,null,null,{"$f":"IF(Table1[[#This Row],[Column3]]=\"T1013\",\"Y\",\"N\")","v":"N"},{"$f":"IF(Table1[[#This Row],[Column3]]=90785,\"Y\",\"N\")","v":"N"}]
[null,null,null,null,null,null,null,null,null,null,{"$f":"IF(Table1[[#This Row],[Column3]]=\"T1013\",\"Y\",\"N\")","v":"N"},{"$f":"IF(Table1[[#This Row],[Column3]]=90785,\"Y\",\"N\")","v":"N"}]
[null,null,null,null,null,null,null,null,null,null,{"$f":"IF(Table1[[#This Row],[Column3]]=\"T1013\",\"Y\",\"N\")","v":"N"},{"$f":"IF(Table1[[#This Row],[Column3]]=90785,\"Y\",\"N\")","v":"N"}]
[null,null,null,null,null,null,null,null,null,null,{"$f":"IF(Table1[[#This Row],[Column3]]=\"T1013\",\"Y\",\"N\")","v":"N"},{"$f":"IF(Table1[[#This Row],[Column3]]=90785,\"Y\",\"N\")","v":"N"}]
[null,null,null,null,null,null,null,null,null,null,{"$f":"IF(Table1[[#This Row],[Column3]]=\"T1013\",\"Y\",\"N\")","v":"N"},{"$f":"IF(Table1[[#This Row],[Column3]]=90785,\"Y\",\"N\")","v":"N"}]
[null,null,null,null,null,null,null,null,null,null,{"$f":"IF(Table1[[#This Row],[Column3]]=\"T1013\",\"Y\",\"N\")","v":"N"},{"$f":"IF(Table1[[#This Row],[Column3]]=90785,\"Y\",\"N\")","v":"N"}]
[null,null,null,null,null,null,null,null,null,null,{"$f":"IF(Table1[[#This Row],[Column3]]=\"T1013\",\"Y\",\"N\")","v":"N"},{"$f":"IF(Table1[[#This Row],[Column3]]=90785,\"Y\",\"N\")","v":"N"}]
[null,null,null,null,null,null,null,null,null,null,{"$f":"IF(Table1[[#This Row],[Column3]]=\"T1013\",\"Y\",\"N\")","v":"N"},{"$f":"IF(Table1[[#This Row],[Column3]]=90785,\"Y\",\"N\")","v":"N"}]
[null,null,null,null,null,null,null,null,null,null,{"$f":"IF(Table1[[#This Row],[Column3]]=\"T1013\",\"Y\",\"N\")","v":"N"},{"$f":"IF(Table1[[#This Row],[Column3]]=90785,\"Y\",\"N\")","v":"N"}]
[null,null,null,null,null,null,null,null,null,null,{"$f":"IF(Table1[[#This Row],[Column3]]=\"T1013\",\"Y\",\"N\")","v":"N"},{"$f":"IF(Table1[[#This Row],[Column3]]=90785,\"Y\",\"N\")","v":"N"}]
[null,null,null,null,null,null,null,null,null,null,{"$f":"IF(Table1[[#This Row],[Column3]]=\"T1013\",\"Y\",\"N\")","v":"N"},{"$f":"IF(Table1[[#This Row],[Column3]]=90785,\"Y\",\"N\")","v":"N"}]
[null,null,null,null,null,null,null,null,null,null,{"$f":"IF(Table1[[#This Row],[Column3]]=\"T1013\",\"Y\",\"N\")","v":"N"},{"$f":"IF(Table1[[#This Row],[Column3]]=90785,\"Y\",\"N\")","v":"N"}]
[null,null,null,null,null,null,null,null,null,null,{"$f":"IF(Table1[[#This Row],[Column3]]=\"T1013\",\"Y\",\"N\")","v":"N"},{"$f":"IF(Table1[[#This Row],[Column3]]=90785,\"Y\",\"N\")","v":"N"}]
[null,null,null,null,null,null,null,null,null,null,{"$f":"IF(Table1[[#This Row],[Column3]]=\"T1013\",\"Y\",\"N\")","v":"N"},{"$f":"IF(Table1[[#This Row],[Column3]]=90785,\"Y\",\"N\")","v":"N"}]
[null,null,null,null,null,null,null,null,null,null,{"$f":"IF(Table1[[#This Row],[Column3]]=\"T1013\",\"Y\",\"N\")","v":"N"},{"$f":"IF(Table1[[#This Row],[Column3]]=90785,\"Y\",\"N\")","v":"N"}]
[null,null,null,null,null,null,null,null,null,null,{"$f":"IF(Table1[[#This Row],[Column3]]=\"T1013\",\"Y\",\"N\")","v":"N"},{"$f":"IF(Table1[[#This Row],[Column3]]=90785,\"Y\",\"N\")","v":"N"}]
[null,null,null,null,null,null,null,null,null,null,{"$f":"IF(Table1[[#This Row],[Column3]]=\"T1013\",\"Y\",\"N\")","v":"N"},{"$f":"IF(Table1[[#This Row],[Column3]]=90785,\"Y\",\"N\")","v":"N"}]
[null,null,null,null,null,null,null,null,null,null,{"$f":"IF(Table1[[#This Row],[Column3]]=\"T1013\",\"Y\",\"N\")","v":"N"},{"$f":"IF(Table1[[#This Row],[Column3]]=90785,\"Y\",\"N\")","v":"N"}]
[null,null,null,null,null,null,null,null,null,null,{"$f":"IF(Table1[[#This Row],[Column3]]=\"T1013\",\"Y\",\"N\")","v":"N"},{"$f":"IF(Table1[[#This Row],[Column3]]=90785,\"Y\",\"N\")","v":"N"}]
[null,null,null,null,null,null,null,null,null,null,{"$f":"IF(Table1[[#This Row],[Column3]]=\"T1013\",\"Y\",\"N\")","v":"N"},{"$f":"IF(Table1[[#This Row],[Column3]]=90785,\"Y\",\"N\")","v":"N"}]
[null,null,null,null,null,null,null,null,null,null,{"$f":"IF(Table1[[#This Row],[Column3]]=\"T1013\",\"Y\",\"N\")","v":"N"},{"$f":"IF(Table1[[#This Row],[Column3]]=90785,\"Y\",\"N\")","v":"N"}]
[null,null,null,null,null,null,null,null,null,null,{"$f":"IF(Table1[[#This Row],[Column3]]=\"T1013\",\"Y\",\"N\")","v":"N"},{"$f":"IF(Table1[[#This Row],[Column3]]=90785,\"Y\",\"N\")","v":"N"}]
[null,null,null,null,null,null,null,null,null,null,{"$f":"IF(Table1[[#This Row],[Column3]]=\"T1013\",\"Y\",\"N\")","v":"N"},{"$f":"IF(Table1[[#This Row],[Column3]]=90785,\"Y\",\"N\")","v":"N"}]
[null,null,null,null,null,null,null,null,null,null,{"$f":"IF(Table1[[#This Row],[Column3]]=\"T1013\",\"Y\",\"N\")","v":"N"},{"$f":"IF(Table1[[#This Row],[Column3]]=90785,\"Y\",\"N\")","v":"N"}]
[null,null,null,null,null,null,null,null,null,null,{"$f":"IF(Table1[[#This Row],[Column3]]=\"T1013\",\"Y\",\"N\")","v":"N"},{"$f":"IF(Table1[[#This Row],[Column3]]=90785,\"Y\",\"N\")","v":"N"}]
[null,null,null,null,null,null,null,null,null,null,{"$f":"IF(Table1[[#This Row],[Column3]]=\"T1013\",\"Y\",\"N\")","v":"N"},{"$f":"IF(Table1[[#This Row],[Column3]]=90785,\"Y\",\"N\")","v":"N"}]
[null,null,null,null,null,null,null,null,null,null,{"$f":"IF(Table1[[#This Row],[Column3]]=\"T1013\",\"Y\",\"N\")","v":"N"},{"$f":"IF(Table1[[#This Row],[Column3]]=90785,\"Y\",\"N\")","v":"N"}]
[null,null,null,null,null,null,null,null,null,null,{"$f":"IF(Table1[[#This Row],[Column3]]=\"T1013\",\"Y\",\"N\")","v":"N"},{"$f":"IF(Table1[[#This Row],[Column3]]=90785,\"Y\",\"N\")","v":"N"}]
[null,null,null,null,null,null,null,null,null,null,{"$f":"IF(Table1[[#This Row],[Column3]]=\"T1013\",\"Y\",\"N\")","v":"N"},{"$f":"IF(Table1[[#This Row],[Column3]]=90785,\"Y\",\"N\")","v":"N"}]
[null,null,null,null,null,null,null,null,null,null,{"$f":"IF(Table1[[#This Row],[Column3]]=\"T1013\",\"Y\",\"N\")","v":"N"},{"$f":"IF(Table1[[#This Row],[Column3]]=90785,\"Y\",\"N\")","v":"N"}]
[null,null,null,null,null,null,null,null,null,null,{"$f":"IF(Table1[[#This Row],[Column3]]=\"T1013\",\"Y\",\"N\")","v":"N"},{"$f":"IF(Table1[[#This Row],[Column3]]=90785,\"Y\",\"N\")","v":"N"}]
[null,null,null,null,null,null,null,null,null,null,{"$f":"IF(Table1[[#This Row],[Column3]]=\"T1013\",\"Y\",\"N\")","v":"N"},{"$f":"IF(Table1[[#This Row],[Column3]]=90785,\"Y\",\"N\")","v":"N"}]
[null,null,null,null,null,null,null,null,null,null,{"$f":"IF(Table1[[#This Row],[Column3]]=\"T1013\",\"Y\",\"N\")","v":"N"},{"$f":"IF(Table1[[#This Row],[Column3]]=90785,\"Y\",\"N\")","v":"N"}]
[null,null,null,null,null,null,null,null,null,null,{"$f":"IF(Table1[[#This Row],[Column3]]=\"T1013\",\"Y\",\"N\")","v":"N"},{"$f":"IF(Table1[[#This Row],[Column3]]=90785,\"Y\",\"N\")","v":"N"}]
[null,null,null,null,null,null,null,null,null,null,{"$f":"IF(Table1[[#This Row],[Column3]]=\"T1013\",\"Y\",\"N\")","v":"N"},{"$f":"IF(Table1[[#This Row],[Column3]]=90785,\"Y\",\"N\")","v":"N"}]
[null,null,null,null,null,null,null,null,null,null,{"$f":"IF(Table1[[#This Row],[Column3]]=\"T1013\",\"Y\",\"N\")","v":"N"},{"$f":"IF(Table1[[#This Row],[Column3]]=90785,\"Y\",\"N\")","v":"N"}]
[null,null,null,null,null,null,null,null,null,null,{"$f":"IF(Table1[[#This Row],[Column3]]=\"T1013\",\"Y\",\"N\")","v":"N"},{"$f":"IF(Table1[[#This Row],[Column3]]=90785,\"Y\",\"N\")","v":"N"}]
[null,null,null,null,null,null,null,null,null,null,{"$f":"IF(Table1[[#This Row],[Column3]]=\"T1013\",\"Y\",\"N\")","v":"N"},{"$f":"IF(Table1[[#This Row],[Column3]]=90785,\"Y\",\"N\")","v":"N"}]
[null,null,null,null,null,null,null,null,null,null,{"$f":"IF(Table1[[#This Row],[Column3]]=\"T1013\",\"Y\",\"N\")","v":"N"},{"$f":"IF(Table1[[#This Row],[Column3]]=90785,\"Y\",\"N\")","v":"N"}]
[null,null,null,null,null,null,null,null,null,null,{"$f":"IF(Table1[[#This Row],[Column3]]=\"T1013\",\"Y\",\"N\")","v":"N"},{"$f":"IF(Table1[[#This Row],[Column3]]=90785,\"Y\",\"N\")","v":"N"}]
[null,null,null,null,null,null,null,null,null,null,{"$f":"IF(Table1[[#This Row],[Column3]]=\"T1013\",\"Y\",\"N\")","v":"N"},{"$f":"IF(Table1[[#This Row],[Column3]]=90785,\"Y\",\"N\")","v":"N"}]
[null,null,null,null,null,null,null,null,null,null,{"$f":"IF(Table1[[#This Row],[Column3]]=\"T1013\",\"Y\",\"N\")","v":"N"},{"$f":"IF(Table1[[#This Row],[Column3]]=90785,\"Y\",\"N\")","v":"N"}]
[null,null,null,null,null,null,null,null,null,null,{"$f":"IF(Table1[[#This Row],[Column3]]=\"T1013\",\"Y\",\"N\")","v":"N"},{"$f":"IF(Table1[[#This Row],[Column3]]=90785,\"Y\",\"N\")","v":"N"}]
[null,null,null,null,null,null,null,null,null,null,{"$f":"IF(Table1[[#This Row],[Column3]]=\"T1013\",\"Y\",\"N\")","v":"N"},{"$f":"IF(Table1[[#This Row],[Column3]]=90785,\"Y\",\"N\")","v":"N"}]
[null,null,null,null,null,null,null,null,null,null,{"$f":"IF(Table1[[#This Row],[Column3]]=\"T1013\",\"Y\",\"N\")","v":"N"},{"$f":"IF(Table1[[#This Row],[Column3]]=90785,\"Y\",\"N\")","v":"N"}]
[null,null,null,null,null,null,null,null,null,null,{"$f":"IF(Table1[[#This Row],[Column3]]=\"T1013\",\"Y\",\"N\")","v":"N"},{"$f":"IF(Table1[[#This Row],[Column3]]=90785,\"Y\",\"N\")","v":"N"}]
[null,null,null,null,null,null,null,null,null,null,{"$f":"IF(Table1[[#This Row],[Column3]]=\"T1013\",\"Y\",\"N\")","v":"N"},{"$f":"IF(Table1[[#This Row],[Column3]]=90785,\"Y\",\"N\")","v":"N"}]
[null,null,null,null,null,null,null,null,null,null,{"$f":"IF(Table1[[#This Row],[Column3]]=\"T1013\",\"Y\",\"N\")","v":"N"},{"$f":"IF(Table1[[#This Row],[Column3]]=90785,\"Y\",\"N\")","v":"N"}]
[null,null,null,null,null,null,null,null,null,null,{"$f":"IF(Table1[[#This Row],[Column3]]=\"T1013\",\"Y\",\"N\")","v":"N"},{"$f":"IF(Table1[[#This Row],[Column3]]=90785,\"Y\",\"N\")","v":"N"}]
[null,null,null,null,null,null,null,null,null,null,{"$f":"IF(Table1[[#This Row],[Column3]]=\"T1013\",\"Y\",\"N\")","v":"N"},{"$f":"IF(Table1[[#This Row],[Column3]]=90785,\"Y\",\"N\")","v":"N"}]
[null,null,null,null,null,null,null,null,null,null,{"$f":"IF(Table1[[#This Row],[Column3]]=\"T1013\",\"Y\",\"N\")","v":"N"},{"$f":"IF(Table1[[#This Row],[Column3]]=90785,\"Y\",\"N\")","v":"N"}]
[null,null,null,null,null,null,null,null,null,null,{"$f":"IF(Table1[[#This Row],[Column3]]=\"T1013\",\"Y\",\"N\")","v":"N"},{"$f":"IF(Table1[[#This Row],[Column3]]=90785,\"Y\",\"N\")","v":"N"}]
[null,null,null,null,null,null,null,null,null,null,{"$f":"IF(Table1[[#This Row],[Column3]]=\"T1013\",\"Y\",\"N\")","v":"N"},{"$f":"IF(Table1[[#This Row],[Column3]]=90785,\"Y\",\"N\")","v":"N"}]
[null,null,null,null,null,null,null,null,null,null,{"$f":"IF(Table1[[#This Row],[Column3]]=\"T1013\",\"Y\",\"N\")","v":"N"},{"$f":"IF(Table1[[#This Row],[Column3]]=90785,\"Y\",\"N\")","v":"N"}]
[null,null,null,null,null,null,null,null,null,null,{"$f":"IF(Table1[[#This Row],[Column3]]=\"T1013\",\"Y\",\"N\")","v":"N"},{"$f":"IF(Table1[[#This Row],[Column3]]=90785,\"Y\",\"N\")","v":"N"}]
[null,null,null,null,null,null,null,null,null,null,{"$f":"IF(Table1[[#This Row],[Column3]]=\"T1013\",\"Y\",\"N\")","v":"N"},{"$f":"IF(Table1[[#This Row],[Column3]]=90785,\"Y\",\"N\")","v":"N"}]
[null,null,null,null,null,null,null,null,null,null,{"$f":"IF(Table1[[#This Row],[Column3]]=\"T1013\",\"Y\",\"N\")","v":"N"},{"$f":"IF(Table1[[#This Row],[Column3]]=90785,\"Y\",\"N\")","v":"N"}]
[null,null,null,null,null,null,null,null,null,null,{"$f":"IF(Table1[[#This Row],[Column3]]=\"T1013\",\"Y\",\"N\")","v":"N"},{"$f":"IF(Table1[[#This Row],[Column3]]=90785,\"Y\",\"N\")","v":"N"}]
[null,null,null,null,null,null,null,null,null,null,{"$f":"IF(Table1[[#This Row],[Column3]]=\"T1013\",\"Y\",\"N\")","v":"N"},{"$f":"IF(Table1[[#This Row],[Column3]]=90785,\"Y\",\"N\")","v":"N"}]
[null,null,null,null,null,null,null,null,null,null,{"$f":"IF(Table1[[#This Row],[Column3]]=\"T1013\",\"Y\",\"N\")","v":"N"},{"$f":"IF(Table1[[#This Row],[Column3]]=90785,\"Y\",\"N\")","v":"N"}]
[null,null,null,null,null,null,null,null,null,null,{"$f":"IF(Table1[[#This Row],[Column3]]=\"T1013\",\"Y\",\"N\")","v":"N"},{"$f":"IF(Table1[[#This Row],[Column3]]=90785,\"Y\",\"N\")","v":"N"}]
[null,null,null,null,null,null,null,null,null,null,{"$f":"IF(Table1[[#This Row],[Column3]]=\"T1013\",\"Y\",\"N\")","v":"N"},{"$f":"IF(Table1[[#This Row],[Column3]]=90785,\"Y\",\"N\")","v":"N"}]
[null,null,null,null,null,null,null,null,null,null,{"$f":"IF(Table1[[#This Row],[Column3]]=\"T1013\",\"Y\",\"N\")","v":"N"},{"$f":"IF(Table1[[#This Row],[Column3]]=90785,\"Y\",\"N\")","v":"N"}]
[null,null,null,null,null,null,null,null,null,null,{"$f":"IF(Table1[[#This Row],[Column3]]=\"T1013\",\"Y\",\"N\")","v":"N"},{"$f":"IF(Table1[[#This Row],[Column3]]=90785,\"Y\",\"N\")","v":"N"}]
[null,null,null,null,null,null,null,null,null,null,{"$f":"IF(Table1[[#This Row],[Column3]]=\"T1013\",\"Y\",\"N\")","v":"N"},{"$f":"IF(Table1[[#This Row],[Column3]]=90785,\"Y\",\"N\")","v":"N"}]
[null,null,null,null,null,null,null,null,null,null,{"$f":"IF(Table1[[#This Row],[Column3]]=\"T1013\",\"Y\",\"N\")","v":"N"},{"$f":"IF(Table1[[#This Row],[Column3]]=90785,\"Y\",\"N\")","v":"N"}]
[null,null,null,null,null,null,null,null,null,null,{"$f":"IF(Table1[[#This Row],[Column3]]=\"T1013\",\"Y\",\"N\")","v":"N"},{"$f":"IF(Table1[[#This Row],[Column3]]=90785,\"Y\",\"N\")","v":"N"}]
[null,null,null,null,null,null,null,null,null,null,{"$f":"IF(Table1[[#This Row],[Column3]]=\"T1013\",\"Y\",\"N\")","v":"N"},{"$f":"IF(Table1[[#This Row],[Column3]]=90785,\"Y\",\"N\")","v":"N"}]
[null,null,null,null,null,null,null,null,null,null,{"$f":"IF(Table1[[#This Row],[Column3]]=\"T1013\",\"Y\",\"N\")","v":"N"},{"$f":"IF(Table1[[#This Row],[Column3]]=90785,\"Y\",\"N\")","v":"N"}]
[null,null,null,null,null,null,null,null,null,null,{"$f":"IF(Table1[[#This Row],[Column3]]=\"T1013\",\"Y\",\"N\")","v":"N"},{"$f":"IF(Table1[[#This Row],[Column3]]=90785,\"Y\",\"N\")","v":"N"}]
[null,null,null,null,null,null,null,null,null,null,{"$f":"IF(Table1[[#This Row],[Column3]]=\"T1013\",\"Y\",\"N\")","v":"N"},{"$f":"IF(Table1[[#This Row],[Column3]]=90785,\"Y\",\"N\")","v":"N"}]
[null,null,null,null,null,null,null,null,null,null,{"$f":"IF(Table1[[#This Row],[Column3]]=\"T1013\",\"Y\",\"N\")","v":"N"},{"$f":"IF(Table1[[#This Row],[Column3]]=90785,\"Y\",\"N\")","v":"N"}]
[null,null,null,null,null,null,null,null,null,null,{"$f":"IF(Table1[[#This Row],[Column3]]=\"T1013\",\"Y\",\"N\")","v":"N"},{"$f":"IF(Table1[[#This Row],[Column3]]=90785,\"Y\",\"N\")","v":"N"}]
[null,null,null,null,null,null,null,null,null,null,{"$f":"IF(Table1[[#This Row],[Column3]]=\"T1013\",\"Y\",\"N\")","v":"N"},{"$f":"IF(Table1[[#This Row],[Column3]]=90785,\"Y\",\"N\")","v":"N"}]
[null,null,null,null,null,null,null,null,null,null,{"$f":"IF(Table1[[#This Row],[Column3]]=\"T1013\",\"Y\",\"N\")","v":"N"},{"$f":"IF(Table1[[#This Row],[Column3]]=90785,\"Y\",\"N\")","v":"N"}]
[null,null,null,null,null,null,null,null,null,null,{"$f":"IF(Table1[[#This Row],[Column3]]=\"T1013\",\"Y\",\"N\")","v":"N"},{"$f":"IF(Table1[[#This Row],[Column3]]=90785,\"Y\",\"N\")","v":"N"}]
[null,null,null,null,null,null,null,null,null,null,{"$f":"IF(Table1[[#This Row],[Column3]]=\"T1013\",\"Y\",\"N\")","v":"N"},{"$f":"IF(Table1[[#This Row],[Column3]]=90785,\"Y\",\"N\")","v":"N"}]
[null,null,null,null,null,null,null,null,null,null,{"$f":"IF(Table1[[#This Row],[Column3]]=\"T1013\",\"Y\",\"N\")","v":"N"},{"$f":"IF(Table1[[#This Row],[Column3]]=90785,\"Y\",\"N\")","v":"N"}]
[null,null,null,null,null,null,null,null,null,null,{"$f":"IF(Table1[[#This Row],[Column3]]=\"T1013\",\"Y\",\"N\")","v":"N"},{"$f":"IF(Table1[[#This Row],[Column3]]=90785,\"Y\",\"N\")","v":"N"}]
[null,null,null,null,null,null,null,null,null,null,{"$f":"IF(Table1[[#This Row],[Column3]]=\"T1013\",\"Y\",\"N\")","v":"N"},{"$f":"IF(Table1[[#This Row],[Column3]]=90785,\"Y\",\"N\")","v":"N"}]
[null,null,null,null,null,null,null,null,null,null,{"$f":"IF(Table1[[#This Row],[Column3]]=\"T1013\",\"Y\",\"N\")","v":"N"},{"$f":"IF(Table1[[#This Row],[Column3]]=90785,\"Y\",\"N\")","v":"N"}]
[null,null,null,null,null,null,null,null,null,null,{"$f":"IF(Table1[[#This Row],[Column3]]=\"T1013\",\"Y\",\"N\")","v":"N"},{"$f":"IF(Table1[[#This Row],[Column3]]=90785,\"Y\",\"N\")","v":"N"}]
[null,null,null,null,null,null,null,null,null,null,{"$f":"IF(Table1[[#This Row],[Column3]]=\"T1013\",\"Y\",\"N\")","v":"N"},{"$f":"IF(Table1[[#This Row],[Column3]]=90785,\"Y\",\"N\")","v":"N"}]
[null,null,null,null,null,null,null,null,null,null,{"$f":"IF(Table1[[#This Row],[Column3]]=\"T1013\",\"Y\",\"N\")","v":"N"},{"$f":"IF(Table1[[#This Row],[Column3]]=90785,\"Y\",\"N\")","v":"N"}]
[null,null,null,null,null,null,null,null,null,null,{"$f":"IF(Table1[[#This Row],[Column3]]=\"T1013\",\"Y\",\"N\")","v":"N"},{"$f":"IF(Table1[[#This Row],[Column3]]=90785,\"Y\",\"N\")","v":"N"}]
[null,null,null,null,null,null,null,null,null,null,{"$f":"IF(Table1[[#This Row],[Column3]]=\"T1013\",\"Y\",\"N\")","v":"N"},{"$f":"IF(Table1[[#This Row],[Column3]]=90785,\"Y\",\"N\")","v":"N"}]
[null,null,null,null,null,null,null,null,null,null,{"$f":"IF(Table1[[#This Row],[Column3]]=\"T1013\",\"Y\",\"N\")","v":"N"},{"$f":"IF(Table1[[#This Row],[Column3]]=90785,\"Y\",\"N\")","v":"N"}]
[null,null,null,null,null,null,null,null,null,null,{"$f":"IF(Table1[[#This Row],[Column3]]=\"T1013\",\"Y\",\"N\")","v":"N"},{"$f":"IF(Table1[[#This Row],[Column3]]=90785,\"Y\",\"N\")","v":"N"}]
[null,null,null,null,null,null,null,null,null,null,{"$f":"IF(Table1[[#This Row],[Column3]]=\"T1013\",\"Y\",\"N\")","v":"N"},{"$f":"IF(Table1[[#This Row],[Column3]]=90785,\"Y\",\"N\")","v":"N"}]
[null,null,null,null,null,null,null,null,null,null,{"$f":"IF(Table1[[#This Row],[Column3]]=\"T1013\",\"Y\",\"N\")","v":"N"},{"$f":"IF(Table1[[#This Row],[Column3]]=90785,\"Y\",\"N\")","v":"N"}]
[null,null,null,null,null,null,null,null,null,null,{"$f":"IF(Table1[[#This Row],[Column3]]=\"T1013\",\"Y\",\"N\")","v":"N"},{"$f":"IF(Table1[[#This Row],[Column3]]=90785,\"Y\",\"N\")","v":"N"}]
[null,null,null,null,null,null,null,null,null,null,{"$f":"IF(Table1[[#This Row],[Column3]]=\"T1013\",\"Y\",\"N\")","v":"N"},{"$f":"IF(Table1[[#This Row],[Column3]]=90785,\"Y\",\"N\")","v":"N"}]
[null,null,null,null,null,null,null,null,null,null,{"$f":"IF(Table1[[#This Row],[Column3]]=\"T1013\",\"Y\",\"N\")","v":"N"},{"$f":"IF(Table1[[#This Row],[Column3]]=90785,\"Y\",\"N\")","v":"N"}]
[null,null,null,null,null,null,null,null,null,null,{"$f":"IF(Table1[[#This Row],[Column3]]=\"T1013\",\"Y\",\"N\")","v":"N"},{"$f":"IF(Table1[[#This Row],[Column3]]=90785,\"Y\",\"N\")","v":"N"}]
[null,null,null,null,null,null,null,null,null,null,{"$f":"IF(Table1[[#This Row],[Column3]]=\"T1013\",\"Y\",\"N\")","v":"N"},{"$f":"IF(Table1[[#This Row],[Column3]]=90785,\"Y\",\"N\")","v":"N"}]
[null,null,null,null,null,null,null,null,null,null,{"$f":"IF(Table1[[#This Row],[Column3]]=\"T1013\",\"Y\",\"N\")","v":"N"},{"$f":"IF(Table1[[#This Row],[Column3]]=90785,\"Y\",\"N\")","v":"N"}]
[null,null,null,null,null,null,null,null,null,null,{"$f":"IF(Table1[[#This Row],[Column3]]=\"T1013\",\"Y\",\"N\")","v":"N"},{"$f":"IF(Table1[[#This Row],[Column3]]=90785,\"Y\",\"N\")","v":"N"}]
[null,null,null,null,null,null,null,null,null,null,{"$f":"IF(Table1[[#This Row],[Column3]]=\"T1013\",\"Y\",\"N\")","v":"N"},{"$f":"IF(Table1[[#This Row],[Column3]]=90785,\"Y\",\"N\")","v":"N"}]
[null,null,null,null,null,null,null,null,null,null,{"$f":"IF(Table1[[#This Row],[Column3]]=\"T1013\",\"Y\",\"N\")","v":"N"},{"$f":"IF(Table1[[#This Row],[Column3]]=90785,\"Y\",\"N\")","v":"N"}]
[null,null,null,null,null,null,null,null,null,null,{"$f":"IF(Table1[[#This Row],[Column3]]=\"T1013\",\"Y\",\"N\")","v":"N"},{"$f":"IF(Table1[[#This Row],[Column3]]=90785,\"Y\",\"N\")","v":"N"}]
[null,null,null,null,null,null,null,null,null,null,{"$f":"IF(Table1[[#This Row],[Column3]]=\"T1013\",\"Y\",\"N\")","v":"N"},{"$f":"IF(Table1[[#This Row],[Column3]]=90785,\"Y\",\"N\")","v":"N"}]
[null,null,null,null,null,null,null,null,null,null,{"$f":"IF(Table1[[#This Row],[Column3]]=\"T1013\",\"Y\",\"N\")","v":"N"},{"$f":"IF(Table1[[#This Row],[Column3]]=90785,\"Y\",\"N\")","v":"N"}]
[null,null,null,null,null,null,null,null,null,null,{"$f":"IF(Table1[[#This Row],[Column3]]=\"T1013\",\"Y\",\"N\")","v":"N"},{"$f":"IF(Table1[[#This Row],[Column3]]=90785,\"Y\",\"N\")","v":"N"}]
[null,null,null,null,null,null,null,null,null,null,{"$f":"IF(Table1[[#This Row],[Column3]]=\"T1013\",\"Y\",\"N\")","v":"N"},{"$f":"IF(Table1[[#This Row],[Column3]]=90785,\"Y\",\"N\")","v":"N"}]
[null,null,null,null,null,null,null,null,null,null,{"$f":"IF(Table1[[#This Row],[Column3]]=\"T1013\",\"Y\",\"N\")","v":"N"},{"$f":"IF(Table1[[#This Row],[Column3]]=90785,\"Y\",\"N\")","v":"N"}]
[null,null,null,null,null,null,null,null,null,null,{"$f":"IF(Table1[[#This Row],[Column3]]=\"T1013\",\"Y\",\"N\")","v":"N"},{"$f":"IF(Table1[[#This Row],[Column3]]=90785,\"Y\",\"N\")","v":"N"}]
[null,null,null,null,null,null,null,null,null,null,{"$f":"IF(Table1[[#This Row],[Column3]]=\"T1013\",\"Y\",\"N\")","v":"N"},{"$f":"IF(Table1[[#This Row],[Column3]]=90785,\"Y\",\"N\")","v":"N"}]
[null,null,null,null,null,null,null,null,null,null,{"$f":"IF(Table1[[#This Row],[Column3]]=\"T1013\",\"Y\",\"N\")","v":"N"},{"$f":"IF(Table1[[#This Row],[Column3]]=90785,\"Y\",\"N\")","v":"N"}]
[null,null,null,null,null,null,null,null,null,null,{"$f":"IF(Table1[[#This Row],[Column3]]=\"T1013\",\"Y\",\"N\")","v":"N"},{"$f":"IF(Table1[[#This Row],[Column3]]=90785,\"Y\",\"N\")","v":"N"}]
[null,null,null,null,null,null,null,null,null,null,{"$f":"IF(Table1[[#This Row],[Column3]]=\"T1013\",\"Y\",\"N\")","v":"N"},{"$f":"IF(Table1[[#This Row],[Column3]]=90785,\"Y\",\"N\")","v":"N"}]
[null,null,null,null,null,null,null,null,null,null,{"$f":"IF(Table1[[#This Row],[Column3]]=\"T1013\",\"Y\",\"N\")","v":"N"},{"$f":"IF(Table1[[#This Row],[Column3]]=90785,\"Y\",\"N\")","v":"N"}]
[null,null,null,null,null,null,null,null,null,null,{"$f":"IF(Table1[[#This Row],[Column3]]=\"T1013\",\"Y\",\"N\")","v":"N"},{"$f":"IF(Table1[[#This Row],[Column3]]=90785,\"Y\",\"N\")","v":"N"}]
[null,null,null,null,null,null,null,null,null,null,{"$f":"IF(Table1[[#This Row],[Column3]]=\"T1013\",\"Y\",\"N\")","v":"N"},{"$f":"IF(Table1[[#This Row],[Column3]]=90785,\"Y\",\"N\")","v":"N"}]
[null,null,null,null,null,null,null,null,null,null,{"$f":"IF(Table1[[#This Row],[Column3]]=\"T1013\",\"Y\",\"N\")","v":"N"},{"$f":"IF(Table1[[#This Row],[Column3]]=90785,\"Y\",\"N\")","v":"N"}]
[null,null,null,null,null,null,null,null,null,null,{"$f":"IF(Table1[[#This Row],[Column3]]=\"T1013\",\"Y\",\"N\")","v":"N"},{"$f":"IF(Table1[[#This Row],[Column3]]=90785,\"Y\",\"N\")","v":"N"}]
[null,null,null,null,null,null,null,null,null,null,{"$f":"IF(Table1[[#This Row],[Column3]]=\"T1013\",\"Y\",\"N\")","v":"N"},{"$f":"IF(Table1[[#This Row],[Column3]]=90785,\"Y\",\"N\")","v":"N"}]
[null,null,null,null,null,null,null,null,null,null,{"$f":"IF(Table1[[#This Row],[Column3]]=\"T1013\",\"Y\",\"N\")","v":"N"},{"$f":"IF(Table1[[#This Row],[Column3]]=90785,\"Y\",\"N\")","v":"N"}]
[null,null,null,null,null,null,null,null,null,null,{"$f":"IF(Table1[[#This Row],[Column3]]=\"T1013\",\"Y\",\"N\")","v":"N"},{"$f":"IF(Table1[[#This Row],[Column3]]=90785,\"Y\",\"N\")","v":"N"}]
[null,null,null,null,null,null,null,null,null,null,{"$f":"IF(Table1[[#This Row],[Column3]]=\"T1013\",\"Y\",\"N\")","v":"N"},{"$f":"IF(Table1[[#This Row],[Column3]]=90785,\"Y\",\"N\")","v":"N"}]
[null,null,null,null,null,null,null,null,null,null,{"$f":"IF(Table1[[#This Row],[Column3]]=\"T1013\",\"Y\",\"N\")","v":"N"},{"$f":"IF(Table1[[#This Row],[Column3]]=90785,\"Y\",\"N\")","v":"N"}]
[null,null,null,null,null,null,null,null,null,null,{"$f":"IF(Table1[[#This Row],[Column3]]=\"T1013\",\"Y\",\"N\")","v":"N"},{"$f":"IF(Table1[[#This Row],[Column3]]=90785,\"Y\",\"N\")","v":"N"}]
[null,null,null,null,null,null,null,null,null,null,{"$f":"IF(Table1[[#This Row],[Column3]]=\"T1013\",\"Y\",\"N\")","v":"N"},{"$f":"IF(Table1[[#This Row],[Column3]]=90785,\"Y\",\"N\")","v":"N"}]
[null,null,null,null,null,null,null,null,null,null,{"$f":"IF(Table1[[#This Row],[Column3]]=\"T1013\",\"Y\",\"N\")","v":"N"},{"$f":"IF(Table1[[#This Row],[Column3]]=90785,\"Y\",\"N\")","v":"N"}]
[null,null,null,null,null,null,null,null,null,null,{"$f":"IF(Table1[[#This Row],[Column3]]=\"T1013\",\"Y\",\"N\")","v":"N"},{"$f":"IF(Table1[[#This Row],[Column3]]=90785,\"Y\",\"N\")","v":"N"}]
[null,null,null,null,null,null,null,null,null,null,{"$f":"IF(Table1[[#This Row],[Column3]]=\"T1013\",\"Y\",\"N\")","v":"N"},{"$f":"IF(Table1[[#This Row],[Column3]]=90785,\"Y\",\"N\")","v":"N"}]
[null,null,null,null,null,null,null,null,null,null,{"$f":"IF(Table1[[#This Row],[Column3]]=\"T1013\",\"Y\",\"N\")","v":"N"},{"$f":"IF(Table1[[#This Row],[Column3]]=90785,\"Y\",\"N\")","v":"N"}]
[null,null,null,null,null,null,null,null,null,null,{"$f":"IF(Table1[[#This Row],[Column3]]=\"T1013\",\"Y\",\"N\")","v":"N"},{"$f":"IF(Table1[[#This Row],[Column3]]=90785,\"Y\",\"N\")","v":"N"}]
[null,null,null,null,null,null,null,null,null,null,{"$f":"IF(Table1[[#This Row],[Column3]]=\"T1013\",\"Y\",\"N\")","v":"N"},{"$f":"IF(Table1[[#This Row],[Column3]]=90785,\"Y\",\"N\")","v":"N"}]
[null,null,null,null,null,null,null,null,null,null,{"$f":"IF(Table1[[#This Row],[Column3]]=\"T1013\",\"Y\",\"N\")","v":"N"},{"$f":"IF(Table1[[#This Row],[Column3]]=90785,\"Y\",\"N\")","v":"N"}]
[null,null,null,null,null,null,null,null,null,null,{"$f":"IF(Table1[[#This Row],[Column3]]=\"T1013\",\"Y\",\"N\")","v":"N"},{"$f":"IF(Table1[[#This Row],[Column3]]=90785,\"Y\",\"N\")","v":"N"}]
[null,null,null,null,null,null,null,null,null,null,{"$f":"IF(Table1[[#This Row],[Column3]]=\"T1013\",\"Y\",\"N\")","v":"N"},{"$f":"IF(Table1[[#This Row],[Column3]]=90785,\"Y\",\"N\")","v":"N"}]
[null,null,null,null,null,null,null,null,null,null,{"$f":"IF(Table1[[#This Row],[Column3]]=\"T1013\",\"Y\",\"N\")","v":"N"},{"$f":"IF(Table1[[#This Row],[Column3]]=90785,\"Y\",\"N\")","v":"N"}]
[null,null,null,null,null,null,null,null,null,null,{"$f":"IF(Table1[[#This Row],[Column3]]=\"T1013\",\"Y\",\"N\")","v":"N"},{"$f":"IF(Table1[[#This Row],[Column3]]=90785,\"Y\",\"N\")","v":"N"}]
[null,null,null,null,null,null,null,null,null,null,{"$f":"IF(Table1[[#This Row],[Column3]]=\"T1013\",\"Y\",\"N\")","v":"N"},{"$f":"IF(Table1[[#This Row],[Column3]]=90785,\"Y\",\"N\")","v":"N"}]
[null,null,null,null,null,null,null,null,null,null,{"$f":"IF(Table1[[#This Row],[Column3]]=\"T1013\",\"Y\",\"N\")","v":"N"},{"$f":"IF(Table1[[#This Row],[Column3]]=90785,\"Y\",\"N\")","v":"N"}]
[null,null,null,null,null,null,null,null,null,null,{"$f":"IF(Table1[[#This Row],[Column3]]=\"T1013\",\"Y\",\"N\")","v":"N"},{"$f":"IF(Table1[[#This Row],[Column3]]=90785,\"Y\",\"N\")","v":"N"}]
[null,null,null,null,null,null,null,null,null,null,{"$f":"IF(Table1[[#This Row],[Column3]]=\"T1013\",\"Y\",\"N\")","v":"N"},{"$f":"IF(Table1[[#This Row],[Column3]]=90785,\"Y\",\"N\")","v":"N"}]
[null,null,null,null,null,null,null,null,null,null,{"$f":"IF(Table1[[#This Row],[Column3]]=\"T1013\",\"Y\",\"N\")","v":"N"},{"$f":"IF(Table1[[#This Row],[Column3]]=90785,\"Y\",\"N\")","v":"N"}]
[null,null,null,null,null,null,null,null,null,null,{"$f":"IF(Table1[[#This Row],[Column3]]=\"T1013\",\"Y\",\"N\")","v":"N"},{"$f":"IF(Table1[[#This Row],[Column3]]=90785,\"Y\",\"N\")","v":"N"}]
[null,null,null,null,null,null,null,null,null,null,{"$f":"IF(Table1[[#This Row],[Column3]]=\"T1013\",\"Y\",\"N\")","v":"N"},{"$f":"IF(Table1[[#This Row],[Column3]]=90785,\"Y\",\"N\")","v":"N"}]
[null,null,null,null,null,null,null,null,null,null,{"$f":"IF(Table1[[#This Row],[Column3]]=\"T1013\",\"Y\",\"N\")","v":"N"},{"$f":"IF(Table1[[#This Row],[Column3]]=90785,\"Y\",\"N\")","v":"N"}]
[null,null,null,null,null,null,null,null,null,null,{"$f":"IF(Table1[[#This Row],[Column3]]=\"T1013\",\"Y\",\"N\")","v":"N"},{"$f":"IF(Table1[[#This Row],[Column3]]=90785,\"Y\",\"N\")","v":"N"}]
[null,null,null,null,null,null,null,null,null,null,{"$f":"IF(Table1[[#This Row],[Column3]]=\"T1013\",\"Y\",\"N\")","v":"N"},{"$f":"IF(Table1[[#This Row],[Column3]]=90785,\"Y\",\"N\")","v":"N"}]
[null,null,null,null,null,null,null,null,null,null,{"$f":"IF(Table1[[#This Row],[Column3]]=\"T1013\",\"Y\",\"N\")","v":"N"},{"$f":"IF(Table1[[#This Row],[Column3]]=90785,\"Y\",\"N\")","v":"N"}]
[null,null,null,null,null,null,null,null,null,null,{"$f":"IF(Table1[[#This Row],[Column3]]=\"T1013\",\"Y\",\"N\")","v":"N"},{"$f":"IF(Table1[[#This Row],[Column3]]=90785,\"Y\",\"N\")","v":"N"}]
[null,null,null,null,null,null,null,null,null,null,{"$f":"IF(Table1[[#This Row],[Column3]]=\"T1013\",\"Y\",\"N\")","v":"N"},{"$f":"IF(Table1[[#This Row],[Column3]]=90785,\"Y\",\"N\")","v":"N"}]
[null,null,null,null,null,null,null,null,null,null,{"$f":"IF(Table1[[#This Row],[Column3]]=\"T1013\",\"Y\",\"N\")","v":"N"},{"$f":"IF(Table1[[#This Row],[Column3]]=90785,\"Y\",\"N\")","v":"N"}]
[null,null,null,null,null,null,null,null,null,null,{"$f":"IF(Table1[[#This Row],[Column3]]=\"T1013\",\"Y\",\"N\")","v":"N"},{"$f":"IF(Table1[[#This Row],[Column3]]=90785,\"Y\",\"N\")","v":"N"}]
[null,null,null,null,null,null,null,null,null,null,{"$f":"IF(Table1[[#This Row],[Column3]]=\"T1013\",\"Y\",\"N\")","v":"N"},{"$f":"IF(Table1[[#This Row],[Column3]]=90785,\"Y\",\"N\")","v":"N"}]
[null,null,null,null,null,null,null,null,null,null,{"$f":"IF(Table1[[#This Row],[Column3]]=\"T1013\",\"Y\",\"N\")","v":"N"},{"$f":"IF(Table1[[#This Row],[Column3]]=90785,\"Y\",\"N\")","v":"N"}]
[null,null,null,null,null,null,null,null,null,null,{"$f":"IF(Table1[[#This Row],[Column3]]=\"T1013\",\"Y\",\"N\")","v":"N"},{"$f":"IF(Table1[[#This Row],[Column3]]=90785,\"Y\",\"N\")","v":"N"}]
[null,null,null,null,null,null,null,null,null,null,{"$f":"IF(Table1[[#This Row],[Column3]]=\"T1013\",\"Y\",\"N\")","v":"N"},{"$f":"IF(Table1[[#This Row],[Column3]]=90785,\"Y\",\"N\")","v":"N"}]
[null,null,null,null,null,null,null,null,null,null,{"$f":"IF(Table1[[#This Row],[Column3]]=\"T1013\",\"Y\",\"N\")","v":"N"},{"$f":"IF(Table1[[#This Row],[Column3]]=90785,\"Y\",\"N\")","v":"N"}]
[null,null,null,null,null,null,null,null,null,null,{"$f":"IF(Table1[[#This Row],[Column3]]=\"T1013\",\"Y\",\"N\")","v":"N"},{"$f":"IF(Table1[[#This Row],[Column3]]=90785,\"Y\",\"N\")","v":"N"}]
[null,null,null,null,null,null,null,null,null,null,{"$f":"IF(Table1[[#This Row],[Column3]]=\"T1013\",\"Y\",\"N\")","v":"N"},{"$f":"IF(Table1[[#This Row],[Column3]]=90785,\"Y\",\"N\")","v":"N"}]
[null,null,null,null,null,null,null,null,null,null,{"$f":"IF(Table1[[#This Row],[Column3]]=\"T1013\",\"Y\",\"N\")","v":"N"},{"$f":"IF(Table1[[#This Row],[Column3]]=90785,\"Y\",\"N\")","v":"N"}]
[null,null,null,null,null,null,null,null,null,null,{"$f":"IF(Table1[[#This Row],[Column3]]=\"T1013\",\"Y\",\"N\")","v":"N"},{"$f":"IF(Table1[[#This Row],[Column3]]=90785,\"Y\",\"N\")","v":"N"}]
[null,null,null,null,null,null,null,null,null,null,{"$f":"IF(Table1[[#This Row],[Column3]]=\"T1013\",\"Y\",\"N\")","v":"N"},{"$f":"IF(Table1[[#This Row],[Column3]]=90785,\"Y\",\"N\")","v":"N"}]
[null,null,null,null,null,null,null,null,null,null,{"$f":"IF(Table1[[#This Row],[Column3]]=\"T1013\",\"Y\",\"N\")","v":"N"},{"$f":"IF(Table1[[#This Row],[Column3]]=90785,\"Y\",\"N\")","v":"N"}]
[null,null,null,null,null,null,null,null,null,null,{"$f":"IF(Table1[[#This Row],[Column3]]=\"T1013\",\"Y\",\"N\")","v":"N"},{"$f":"IF(Table1[[#This Row],[Column3]]=90785,\"Y\",\"N\")","v":"N"}]
[null,null,null,null,null,null,null,null,null,null,{"$f":"IF(Table1[[#This Row],[Column3]]=\"T1013\",\"Y\",\"N\")","v":"N"},{"$f":"IF(Table1[[#This Row],[Column3]]=90785,\"Y\",\"N\")","v":"N"}]
[null,null,null,null,null,null,null,null,null,null,{"$f":"IF(Table1[[#This Row],[Column3]]=\"T1013\",\"Y\",\"N\")","v":"N"},{"$f":"IF(Table1[[#This Row],[Column3]]=90785,\"Y\",\"N\")","v":"N"}]
[null,null,null,null,null,null,null,null,null,null,{"$f":"IF(Table1[[#This Row],[Column3]]=\"T1013\",\"Y\",\"N\")","v":"N"},{"$f":"IF(Table1[[#This Row],[Column3]]=90785,\"Y\",\"N\")","v":"N"}]
[null,null,null,null,null,null,null,null,null,null,{"$f":"IF(Table1[[#This Row],[Column3]]=\"T1013\",\"Y\",\"N\")","v":"N"},{"$f":"IF(Table1[[#This Row],[Column3]]=90785,\"Y\",\"N\")","v":"N"}]
[null,null,null,null,null,null,null,null,null,null,{"$f":"IF(Table1[[#This Row],[Column3]]=\"T1013\",\"Y\",\"N\")","v":"N"},{"$f":"IF(Table1[[#This Row],[Column3]]=90785,\"Y\",\"N\")","v":"N"}]
[null,null,null,null,null,null,null,null,null,null,{"$f":"IF(Table1[[#This Row],[Column3]]=\"T1013\",\"Y\",\"N\")","v":"N"},{"$f":"IF(Table1[[#This Row],[Column3]]=90785,\"Y\",\"N\")","v":"N"}]
[null,null,null,null,null,null,null,null,null,null,{"$f":"IF(Table1[[#This Row],[Column3]]=\"T1013\",\"Y\",\"N\")","v":"N"},{"$f":"IF(Table1[[#This Row],[Column3]]=90785,\"Y\",\"N\")","v":"N"}]
[null,null,null,null,null,null,null,null,null,null,{"$f":"IF(Table1[[#This Row],[Column3]]=\"T1013\",\"Y\",\"N\")","v":"N"},{"$f":"IF(Table1[[#This Row],[Column3]]=90785,\"Y\",\"N\")","v":"N"}]
[null,null,null,null,null,null,null,null,null,null,{"$f":"IF(Table1[[#This Row],[Column3]]=\"T1013\",\"Y\",\"N\")","v":"N"},{"$f":"IF(Table1[[#This Row],[Column3]]=90785,\"Y\",\"N\")","v":"N"}]
[null,null,null,null,null,null,null,null,null,null,{"$f":"IF(Table1[[#This Row],[Column3]]=\"T1013\",\"Y\",\"N\")","v":"N"},{"$f":"IF(Table1[[#This Row],[Column3]]=90785,\"Y\",\"N\")","v":"N"}]
[null,null,null,null,null,null,null,null,null,null,{"$f":"IF(Table1[[#This Row],[Column3]]=\"T1013\",\"Y\",\"N\")","v":"N"},{"$f":"IF(Table1[[#This Row],[Column3]]=90785,\"Y\",\"N\")","v":"N"}]
[null,null,null,null,null,null,null,null,null,null,{"$f":"IF(Table1[[#This Row],[Column3]]=\"T1013\",\"Y\",\"N\")","v":"N"},{"$f":"IF(Table1[[#This Row],[Column3]]=90785,\"Y\",\"N\")","v":"N"}]
[null,null,null,null,null,null,null,null,null,null,{"$f":"IF(Table1[[#This Row],[Column3]]=\"T1013\",\"Y\",\"N\")","v":"N"},{"$f":"IF(Table1[[#This Row],[Column3]]=90785,\"Y\",\"N\")","v":"N"}]
[null,null,null,null,null,null,null,null,null,null,{"$f":"IF(Table1[[#This Row],[Column3]]=\"T1013\",\"Y\",\"N\")","v":"N"},{"$f":"IF(Table1[[#This Row],[Column3]]=90785,\"Y\",\"N\")","v":"N"}]
[null,null,null,null,null,null,null,null,null,null,{"$f":"IF(Table1[[#This Row],[Column3]]=\"T1013\",\"Y\",\"N\")","v":"N"},{"$f":"IF(Table1[[#This Row],[Column3]]=90785,\"Y\",\"N\")","v":"N"}]
[null,null,null,null,null,null,null,null,null,null,{"$f":"IF(Table1[[#This Row],[Column3]]=\"T1013\",\"Y\",\"N\")","v":"N"},{"$f":"IF(Table1[[#This Row],[Column3]]=90785,\"Y\",\"N\")","v":"N"}]
[null,null,null,null,null,null,null,null,null,null,{"$f":"IF(Table1[[#This Row],[Column3]]=\"T1013\",\"Y\",\"N\")","v":"N"},{"$f":"IF(Table1[[#This Row],[Column3]]=90785,\"Y\",\"N\")","v":"N"}]
[null,null,null,null,null,null,null,null,null,null,{"$f":"IF(Table1[[#This Row],[Column3]]=\"T1013\",\"Y\",\"N\")","v":"N"},{"$f":"IF(Table1[[#This Row],[Column3]]=90785,\"Y\",\"N\")","v":"N"}]
[null,null,null,null,null,null,null,null,null,null,{"$f":"IF(Table1[[#This Row],[Column3]]=\"T1013\",\"Y\",\"N\")","v":"N"},{"$f":"IF(Table1[[#This Row],[Column3]]=90785,\"Y\",\"N\")","v":"N"}]
[null,null,null,null,null,null,null,null,null,null,{"$f":"IF(Table1[[#This Row],[Column3]]=\"T1013\",\"Y\",\"N\")","v":"N"},{"$f":"IF(Table1[[#This Row],[Column3]]=90785,\"Y\",\"N\")","v":"N"}]
[null,null,null,null,null,null,null,null,null,null,{"$f":"IF(Table1[[#This Row],[Column3]]=\"T1013\",\"Y\",\"N\")","v":"N"},{"$f":"IF(Table1[[#This Row],[Column3]]=90785,\"Y\",\"N\")","v":"N"}]
[null,null,null,null,null,null,null,null,null,null,{"$f":"IF(Table1[[#This Row],[Column3]]=\"T1013\",\"Y\",\"N\")","v":"N"},{"$f":"IF(Table1[[#This Row],[Column3]]=90785,\"Y\",\"N\")","v":"N"}]
[null,null,null,null,null,null,null,null,null,null,{"$f":"IF(Table1[[#This Row],[Column3]]=\"T1013\",\"Y\",\"N\")","v":"N"},{"$f":"IF(Table1[[#This Row],[Column3]]=90785,\"Y\",\"N\")","v":"N"}]
[null,null,null,null,null,null,null,null,null,null,{"$f":"IF(Table1[[#This Row],[Column3]]=\"T1013\",\"Y\",\"N\")","v":"N"},{"$f":"IF(Table1[[#This Row],[Column3]]=90785,\"Y\",\"N\")","v":"N"}]
[null,null,null,null,null,null,null,null,null,null,{"$f":"IF(Table1[[#This Row],[Column3]]=\"T1013\",\"Y\",\"N\")","v":"N"},{"$f":"IF(Table1[[#This Row],[Column3]]=90785,\"Y\",\"N\")","v":"N"}]
[null,null,null,null,null,null,null,null,null,null,{"$f":"IF(Table1[[#This Row],[Column3]]=\"T1013\",\"Y\",\"N\")","v":"N"},{"$f":"IF(Table1[[#This Row],[Column3]]=90785,\"Y\",\"N\")","v":"N"}]
[null,null,null,null,null,null,null,null,null,null,{"$f":"IF(Table1[[#This Row],[Column3]]=\"T1013\",\"Y\",\"N\")","v":"N"},{"$f":"IF(Table1[[#This Row],[Column3]]=90785,\"Y\",\"N\")","v":"N"}]
[null,null,null,null,null,null,null,null,null,null,{"$f":"IF(Table1[[#This Row],[Column3]]=\"T1013\",\"Y\",\"N\")","v":"N"},{"$f":"IF(Table1[[#This Row],[Column3]]=90785,\"Y\",\"N\")","v":"N"}]
[null,null,null,null,null,null,null,null,null,null,{"$f":"IF(Table1[[#This Row],[Column3]]=\"T1013\",\"Y\",\"N\")","v":"N"},{"$f":"IF(Table1[[#This Row],[Column3]]=90785,\"Y\",\"N\")","v":"N"}]
[null,null,null,null,null,null,null,null,null,null,{"$f":"IF(Table1[[#This Row],[Column3]]=\"T1013\",\"Y\",\"N\")","v":"N"},{"$f":"IF(Table1[[#This Row],[Column3]]=90785,\"Y\",\"N\")","v":"N"}]
[null,null,null,null,null,null,null,null,null,null,{"$f":"IF(Table1[[#This Row],[Column3]]=\"T1013\",\"Y\",\"N\")","v":"N"},{"$f":"IF(Table1[[#This Row],[Column3]]=90785,\"Y\",\"N\")","v":"N"}]
[null,null,null,null,null,null,null,null,null,null,{"$f":"IF(Table1[[#This Row],[Column3]]=\"T1013\",\"Y\",\"N\")","v":"N"},{"$f":"IF(Table1[[#This Row],[Column3]]=90785,\"Y\",\"N\")","v":"N"}]
[null,null,null,null,null,null,null,null,null,null,{"$f":"IF(Table1[[#This Row],[Column3]]=\"T1013\",\"Y\",\"N\")","v":"N"},{"$f":"IF(Table1[[#This Row],[Column3]]=90785,\"Y\",\"N\")","v":"N"}]
[null,null,null,null,null,null,null,null,null,null,{"$f":"IF(Table1[[#This Row],[Column3]]=\"T1013\",\"Y\",\"N\")","v":"N"},{"$f":"IF(Table1[[#This Row],[Column3]]=90785,\"Y\",\"N\")","v":"N"}]
[null,null,null,null,null,null,null,null,null,null,{"$f":"IF(Table1[[#This Row],[Column3]]=\"T1013\",\"Y\",\"N\")","v":"N"},{"$f":"IF(Table1[[#This Row],[Column3]]=90785,\"Y\",\"N\")","v":"N"}]
[null,null,null,null,null,null,null,null,null,null,{"$f":"IF(Table1[[#This Row],[Column3]]=\"T1013\",\"Y\",\"N\")","v":"N"},{"$f":"IF(Table1[[#This Row],[Column3]]=90785,\"Y\",\"N\")","v":"N"}]
[null,null,null,null,null,null,null,null,null,null,{"$f":"IF(Table1[[#This Row],[Column3]]=\"T1013\",\"Y\",\"N\")","v":"N"},{"$f":"IF(Table1[[#This Row],[Column3]]=90785,\"Y\",\"N\")","v":"N"}]
[null,null,null,null,null,null,null,null,null,null,{"$f":"IF(Table1[[#This Row],[Column3]]=\"T1013\",\"Y\",\"N\")","v":"N"},{"$f":"IF(Table1[[#This Row],[Column3]]=90785,\"Y\",\"N\")","v":"N"}]
[null,null,null,null,null,null,null,null,null,null,{"$f":"IF(Table1[[#This Row],[Column3]]=\"T1013\",\"Y\",\"N\")","v":"N"},{"$f":"IF(Table1[[#This Row],[Column3]]=90785,\"Y\",\"N\")","v":"N"}]
[null,null,null,null,null,null,null,null,null,null,{"$f":"IF(Table1[[#This Row],[Column3]]=\"T1013\",\"Y\",\"N\")","v":"N"},{"$f":"IF(Table1[[#This Row],[Column3]]=90785,\"Y\",\"N\")","v":"N"}]
[null,null,null,null,null,null,null,null,null,null,{"$f":"IF(Table1[[#This Row],[Column3]]=\"T1013\",\"Y\",\"N\")","v":"N"},{"$f":"IF(Table1[[#This Row],[Column3]]=90785,\"Y\",\"N\")","v":"N"}]
[null,null,null,null,null,null,null,null,null,null,{"$f":"IF(Table1[[#This Row],[Column3]]=\"T1013\",\"Y\",\"N\")","v":"N"},{"$f":"IF(Table1[[#This Row],[Column3]]=90785,\"Y\",\"N\")","v":"N"}]
[null,null,null,null,null,null,null,null,null,null,{"$f":"IF(Table1[[#This Row],[Column3]]=\"T1013\",\"Y\",\"N\")","v":"N"},{"$f":"IF(Table1[[#This Row],[Column3]]=90785,\"Y\",\"N\")","v":"N"}]
[null,null,null,null,null,null,null,null,null,null,{"$f":"IF(Table1[[#This Row],[Column3]]=\"T1013\",\"Y\",\"N\")","v":"N"},{"$f":"IF(Table1[[#This Row],[Column3]]=90785,\"Y\",\"N\")","v":"N"}]
[null,null,null,null,null,null,null,null,null,null,{"$f":"IF(Table1[[#This Row],[Column3]]=\"T1013\",\"Y\",\"N\")","v":"N"},{"$f":"IF(Table1[[#This Row],[Column3]]=90785,\"Y\",\"N\")","v":"N"}]
[null,null,null,null,null,null,null,null,null,null,{"$f":"IF(Table1[[#This Row],[Column3]]=\"T1013\",\"Y\",\"N\")","v":"N"},{"$f":"IF(Table1[[#This Row],[Column3]]=90785,\"Y\",\"N\")","v":"N"}]
[null,null,null,null,null,null,null,null,null,null,{"$f":"IF(Table1[[#This Row],[Column3]]=\"T1013\",\"Y\",\"N\")","v":"N"},{"$f":"IF(Table1[[#This Row],[Column3]]=90785,\"Y\",\"N\")","v":"N"}]
[null,null,null,null,null,null,null,null,null,null,{"$f":"IF(Table1[[#This Row],[Column3]]=\"T1013\",\"Y\",\"N\")","v":"N"},{"$f":"IF(Table1[[#This Row],[Column3]]=90785,\"Y\",\"N\")","v":"N"}]
[null,null,null,null,null,null,null,null,null,null,{"$f":"IF(Table1[[#This Row],[Column3]]=\"T1013\",\"Y\",\"N\")","v":"N"},{"$f":"IF(Table1[[#This Row],[Column3]]=90785,\"Y\",\"N\")","v":"N"}]
[null,null,null,null,null,null,null,null,null,null,{"$f":"IF(Table1[[#This Row],[Column3]]=\"T1013\",\"Y\",\"N\")","v":"N"},{"$f":"IF(Table1[[#This Row],[Column3]]=90785,\"Y\",\"N\")","v":"N"}]
[null,null,null,null,null,null,null,null,null,null,{"$f":"IF(Table1[[#This Row],[Column3]]=\"T1013\",\"Y\",\"N\")","v":"N"},{"$f":"IF(Table1[[#This Row],[Column3]]=90785,\"Y\",\"N\")","v":"N"}]
[null,null,null,null,null,null,null,null,null,null,{"$f":"IF(Table1[[#This Row],[Column3]]=\"T1013\",\"Y\",\"N\")","v":"N"},{"$f":"IF(Table1[[#This Row],[Column3]]=90785,\"Y\",\"N\")","v":"N"}]
[null,null,null,null,null,null,null,null,null,null,{"$f":"IF(Table1[[#This Row],[Column3]]=\"T1013\",\"Y\",\"N\")","v":"N"},{"$f":"IF(Table1[[#This Row],[Column3]]=90785,\"Y\",\"N\")","v":"N"}]
[null,null,null,null,null,null,null,null,null,null,{"$f":"IF(Table1[[#This Row],[Column3]]=\"T1013\",\"Y\",\"N\")","v":"N"},{"$f":"IF(Table1[[#This Row],[Column3]]=90785,\"Y\",\"N\")","v":"N"}]
[null,null,null,null,null,null,null,null,null,null,{"$f":"IF(Table1[[#This Row],[Column3]]=\"T1013\",\"Y\",\"N\")","v":"N"},{"$f":"IF(Table1[[#This Row],[Column3]]=90785,\"Y\",\"N\")","v":"N"}]
[null,null,null,null,null,null,null,null,null,null,{"$f":"IF(Table1[[#This Row],[Column3]]=\"T1013\",\"Y\",\"N\")","v":"N"},{"$f":"IF(Table1[[#This Row],[Column3]]=90785,\"Y\",\"N\")","v":"N"}]
[null,null,null,null,null,null,null,null,null,null,{"$f":"IF(Table1[[#This Row],[Column3]]=\"T1013\",\"Y\",\"N\")","v":"N"},{"$f":"IF(Table1[[#This Row],[Column3]]=90785,\"Y\",\"N\")","v":"N"}]
[null,null,null,null,null,null,null,null,null,null,{"$f":"IF(Table1[[#This Row],[Column3]]=\"T1013\",\"Y\",\"N\")","v":"N"},{"$f":"IF(Table1[[#This Row],[Column3]]=90785,\"Y\",\"N\")","v":"N"}]
[null,null,null,null,null,null,null,null,null,null,{"$f":"IF(Table1[[#This Row],[Column3]]=\"T1013\",\"Y\",\"N\")","v":"N"},{"$f":"IF(Table1[[#This Row],[Column3]]=90785,\"Y\",\"N\")","v":"N"}]
[null,null,null,null,null,null,null,null,null,null,{"$f":"IF(Table1[[#This Row],[Column3]]=\"T1013\",\"Y\",\"N\")","v":"N"},{"$f":"IF(Table1[[#This Row],[Column3]]=90785,\"Y\",\"N\")","v":"N"}]
[null,null,null,null,null,null,null,null,null,null,{"$f":"IF(Table1[[#This Row],[Column3]]=\"T1013\",\"Y\",\"N\")","v":"N"},{"$f":"IF(Table1[[#This Row],[Column3]]=90785,\"Y\",\"N\")","v":"N"}]
[null,null,null,null,null,null,null,null,null,null,{"$f":"IF(Table1[[#This Row],[Column3]]=\"T1013\",\"Y\",\"N\")","v":"N"},{"$f":"IF(Table1[[#This Row],[Column3]]=90785,\"Y\",\"N\")","v":"N"}]
[null,null,null,null,null,null,null,null,null,null,{"$f":"IF(Table1[[#This Row],[Column3]]=\"T1013\",\"Y\",\"N\")","v":"N"},{"$f":"IF(Table1[[#This Row],[Column3]]=90785,\"Y\",\"N\")","v":"N"}]
[null,null,null,null,null,null,null,null,null,null,{"$f":"IF(Table1[[#This Row],[Column3]]=\"T1013\",\"Y\",\"N\")","v":"N"},{"$f":"IF(Table1[[#This Row],[Column3]]=90785,\"Y\",\"N\")","v":"N"}]
[null,null,null,null,null,null,null,null,null,null,{"$f":"IF(Table1[[#This Row],[Column3]]=\"T1013\",\"Y\",\"N\")","v":"N"},{"$f":"IF(Table1[[#This Row],[Column3]]=90785,\"Y\",\"N\")","v":"N"}]
[null,null,null,null,null,null,null,null,null,null,{"$f":"IF(Table1[[#This Row],[Column3]]=\"T1013\",\"Y\",\"N\")","v":"N"},{"$f":"IF(Table1[[#This Row],[Column3]]=90785,\"Y\",\"N\")","v":"N"}]
[null,null,null,null,null,null,null,null,null,null,{"$f":"IF(Table1[[#This Row],[Column3]]=\"T1013\",\"Y\",\"N\")","v":"N"},{"$f":"IF(Table1[[#This Row],[Column3]]=90785,\"Y\",\"N\")","v":"N"}]
[null,null,null,null,null,null,null,null,null,null,{"$f":"IF(Table1[[#This Row],[Column3]]=\"T1013\",\"Y\",\"N\")","v":"N"},{"$f":"IF(Table1[[#This Row],[Column3]]=90785,\"Y\",\"N\")","v":"N"}]
[null,null,null,null,null,null,null,null,null,null,{"$f":"IF(Table1[[#This Row],[Column3]]=\"T1013\",\"Y\",\"N\")","v":"N"},{"$f":"IF(Table1[[#This Row],[Column3]]=90785,\"Y\",\"N\")","v":"N"}]
[null,null,null,null,null,null,null,null,null,null,{"$f":"IF(Table1[[#This Row],[Column3]]=\"T1013\",\"Y\",\"N\")","v":"N"},{"$f":"IF(Table1[[#This Row],[Column3]]=90785,\"Y\",\"N\")","v":"N"}]
[null,null,null,null,null,null,null,null,null,null,{"$f":"IF(Table1[[#This Row],[Column3]]=\"T1013\",\"Y\",\"N\")","v":"N"},{"$f":"IF(Table1[[#This Row],[Column3]]=90785,\"Y\",\"N\")","v":"N"}]
[null,null,null,null,null,null,null,null,null,null,{"$f":"IF(Table1[[#This Row],[Column3]]=\"T1013\",\"Y\",\"N\")","v":"N"},{"$f":"IF(Table1[[#This Row],[Column3]]=90785,\"Y\",\"N\")","v":"N"}]
[null,null,null,null,null,null,null,null,null,null,{"$f":"IF(Table1[[#This Row],[Column3]]=\"T1013\",\"Y\",\"N\")","v":"N"},{"$f":"IF(Table1[[#This Row],[Column3]]=90785,\"Y\",\"N\")","v":"N"}]
[null,null,null,null,null,null,null,null,null,null,{"$f":"IF(Table1[[#This Row],[Column3]]=\"T1013\",\"Y\",\"N\")","v":"N"},{"$f":"IF(Table1[[#This Row],[Column3]]=90785,\"Y\",\"N\")","v":"N"}]
[null,null,null,null,null,null,null,null,null,null,{"$f":"IF(Table1[[#This Row],[Column3]]=\"T1013\",\"Y\",\"N\")","v":"N"},{"$f":"IF(Table1[[#This Row],[Column3]]=90785,\"Y\",\"N\")","v":"N"}]
[null,null,null,null,null,null,null,null,null,null,{"$f":"IF(Table1[[#This Row],[Column3]]=\"T1013\",\"Y\",\"N\")","v":"N"},{"$f":"IF(Table1[[#This Row],[Column3]]=90785,\"Y\",\"N\")","v":"N"}]
[null,null,null,null,null,null,null,null,null,null,{"$f":"IF(Table1[[#This Row],[Column3]]=\"T1013\",\"Y\",\"N\")","v":"N"},{"$f":"IF(Table1[[#This Row],[Column3]]=90785,\"Y\",\"N\")","v":"N"}]
[null,null,null,null,null,null,null,null,null,null,{"$f":"IF(Table1[[#This Row],[Column3]]=\"T1013\",\"Y\",\"N\")","v":"N"},{"$f":"IF(Table1[[#This Row],[Column3]]=90785,\"Y\",\"N\")","v":"N"}]
[null,null,null,null,null,null,null,null,null,null,{"$f":"IF(Table1[[#This Row],[Column3]]=\"T1013\",\"Y\",\"N\")","v":"N"},{"$f":"IF(Table1[[#This Row],[Column3]]=90785,\"Y\",\"N\")","v":"N"}]
[null,null,null,null,null,null,null,null,null,null,{"$f":"IF(Table1[[#This Row],[Column3]]=\"T1013\",\"Y\",\"N\")","v":"N"},{"$f":"IF(Table1[[#This Row],[Column3]]=90785,\"Y\",\"N\")","v":"N"}]
[null,null,null,null,null,null,null,null,null,null,{"$f":"IF(Table1[[#This Row],[Column3]]=\"T1013\",\"Y\",\"N\")","v":"N"},{"$f":"IF(Table1[[#This Row],[Column3]]=90785,\"Y\",\"N\")","v":"N"}]
[null,null,null,null,null,null,null,null,null,null,{"$f":"IF(Table1[[#This Row],[Column3]]=\"T1013\",\"Y\",\"N\")","v":"N"},{"$f":"IF(Table1[[#This Row],[Column3]]=90785,\"Y\",\"N\")","v":"N"}]
[null,null,null,null,null,null,null,null,null,null,{"$f":"IF(Table1[[#This Row],[Column3]]=\"T1013\",\"Y\",\"N\")","v":"N"},{"$f":"IF(Table1[[#This Row],[Column3]]=90785,\"Y\",\"N\")","v":"N"}]
[null,null,null,null,null,null,null,null,null,null,{"$f":"IF(Table1[[#This Row],[Column3]]=\"T1013\",\"Y\",\"N\")","v":"N"},{"$f":"IF(Table1[[#This Row],[Column3]]=90785,\"Y\",\"N\")","v":"N"}]
[null,null,null,null,null,null,null,null,null,null,{"$f":"IF(Table1[[#This Row],[Column3]]=\"T1013\",\"Y\",\"N\")","v":"N"},{"$f":"IF(Table1[[#This Row],[Column3]]=90785,\"Y\",\"N\")","v":"N"}]
[null,null,null,null,null,null,null,null,null,null,{"$f":"IF(Table1[[#This Row],[Column3]]=\"T1013\",\"Y\",\"N\")","v":"N"},{"$f":"IF(Table1[[#This Row],[Column3]]=90785,\"Y\",\"N\")","v":"N"}]
[null,null,null,null,null,null,null,null,null,null,{"$f":"IF(Table1[[#This Row],[Column3]]=\"T1013\",\"Y\",\"N\")","v":"N"},{"$f":"IF(Table1[[#This Row],[Column3]]=90785,\"Y\",\"N\")","v":"N"}]
[null,null,null,null,null,null,null,null,null,null,{"$f":"IF(Table1[[#This Row],[Column3]]=\"T1013\",\"Y\",\"N\")","v":"N"},{"$f":"IF(Table1[[#This Row],[Column3]]=90785,\"Y\",\"N\")","v":"N"}]
[null,null,null,null,null,null,null,null,null,null,{"$f":"IF(Table1[[#This Row],[Column3]]=\"T1013\",\"Y\",\"N\")","v":"N"},{"$f":"IF(Table1[[#This Row],[Column3]]=90785,\"Y\",\"N\")","v":"N"}]
[null,null,null,null,null,null,null,null,null,null,{"$f":"IF(Table1[[#This Row],[Column3]]=\"T1013\",\"Y\",\"N\")","v":"N"},{"$f":"IF(Table1[[#This Row],[Column3]]=90785,\"Y\",\"N\")","v":"N"}]
[null,null,null,null,null,null,null,null,null,null,{"$f":"IF(Table1[[#This Row],[Column3]]=\"T1013\",\"Y\",\"N\")","v":"N"},{"$f":"IF(Table1[[#This Row],[Column3]]=90785,\"Y\",\"N\")","v":"N"}]
[null,null,null,null,null,null,null,null,null,null,{"$f":"IF(Table1[[#This Row],[Column3]]=\"T1013\",\"Y\",\"N\")","v":"N"},{"$f":"IF(Table1[[#This Row],[Column3]]=90785,\"Y\",\"N\")","v":"N"}]
[null,null,null,null,null,null,null,null,null,null,{"$f":"IF(Table1[[#This Row],[Column3]]=\"T1013\",\"Y\",\"N\")","v":"N"},{"$f":"IF(Table1[[#This Row],[Column3]]=90785,\"Y\",\"N\")","v":"N"}]
[null,null,null,null,null,null,null,null,null,null,{"$f":"IF(Table1[[#This Row],[Column3]]=\"T1013\",\"Y\",\"N\")","v":"N"},{"$f":"IF(Table1[[#This Row],[Column3]]=90785,\"Y\",\"N\")","v":"N"}]
[null,null,null,null,null,null,null,null,null,null,{"$f":"IF(Table1[[#This Row],[Column3]]=\"T1013\",\"Y\",\"N\")","v":"N"},{"$f":"IF(Table1[[#This Row],[Column3]]=90785,\"Y\",\"N\")","v":"N"}]
[null,null,null,null,null,null,null,null,null,null,{"$f":"IF(Table1[[#This Row],[Column3]]=\"T1013\",\"Y\",\"N\")","v":"N"},{"$f":"IF(Table1[[#This Row],[Column3]]=90785,\"Y\",\"N\")","v":"N"}]
[null,null,null,null,null,null,null,null,null,null,{"$f":"IF(Table1[[#This Row],[Column3]]=\"T1013\",\"Y\",\"N\")","v":"N"},{"$f":"IF(Table1[[#This Row],[Column3]]=90785,\"Y\",\"N\")","v":"N"}]
[null,null,null,null,null,null,null,null,null,null,{"$f":"IF(Table1[[#This Row],[Column3]]=\"T1013\",\"Y\",\"N\")","v":"N"},{"$f":"IF(Table1[[#This Row],[Column3]]=90785,\"Y\",\"N\")","v":"N"}]
[null,null,null,null,null,null,null,null,null,null,{"$f":"IF(Table1[[#This Row],[Column3]]=\"T1013\",\"Y\",\"N\")","v":"N"},{"$f":"IF(Table1[[#This Row],[Column3]]=90785,\"Y\",\"N\")","v":"N"}]
[null,null,null,null,null,null,null,null,null,null,{"$f":"IF(Table1[[#This Row],[Column3]]=\"T1013\",\"Y\",\"N\")","v":"N"},{"$f":"IF(Table1[[#This Row],[Column3]]=90785,\"Y\",\"N\")","v":"N"}]
[null,null,null,null,null,null,null,null,null,null,{"$f":"IF(Table1[[#This Row],[Column3]]=\"T1013\",\"Y\",\"N\")","v":"N"},{"$f":"IF(Table1[[#This Row],[Column3]]=90785,\"Y\",\"N\")","v":"N"}]
[null,null,null,null,null,null,null,null,null,null,{"$f":"IF(Table1[[#This Row],[Column3]]=\"T1013\",\"Y\",\"N\")","v":"N"},{"$f":"IF(Table1[[#This Row],[Column3]]=90785,\"Y\",\"N\")","v":"N"}]
[null,null,null,null,null,null,null,null,null,null,{"$f":"IF(Table1[[#This Row],[Column3]]=\"T1013\",\"Y\",\"N\")","v":"N"},{"$f":"IF(Table1[[#This Row],[Column3]]=90785,\"Y\",\"N\")","v":"N"}]
[null,null,null,null,null,null,null,null,null,null,{"$f":"IF(Table1[[#This Row],[Column3]]=\"T1013\",\"Y\",\"N\")","v":"N"},{"$f":"IF(Table1[[#This Row],[Column3]]=90785,\"Y\",\"N\")","v":"N"}]
[null,null,null,null,null,null,null,null,null,null,{"$f":"IF(Table1[[#This Row],[Column3]]=\"T1013\",\"Y\",\"N\")","v":"N"},{"$f":"IF(Table1[[#This Row],[Column3]]=90785,\"Y\",\"N\")","v":"N"}]
[null,null,null,null,null,null,null,null,null,null,{"$f":"IF(Table1[[#This Row],[Column3]]=\"T1013\",\"Y\",\"N\")","v":"N"},{"$f":"IF(Table1[[#This Row],[Column3]]=90785,\"Y\",\"N\")","v":"N"}]
[null,null,null,null,null,null,null,null,null,null,{"$f":"IF(Table1[[#This Row],[Column3]]=\"T1013\",\"Y\",\"N\")","v":"N"},{"$f":"IF(Table1[[#This Row],[Column3]]=90785,\"Y\",\"N\")","v":"N"}]
[null,null,null,null,null,null,null,null,null,null,{"$f":"IF(Table1[[#This Row],[Column3]]=\"T1013\",\"Y\",\"N\")","v":"N"},{"$f":"IF(Table1[[#This Row],[Column3]]=90785,\"Y\",\"N\")","v":"N"}]
[null,null,null,null,null,null,null,null,null,null,{"$f":"IF(Table1[[#This Row],[Column3]]=\"T1013\",\"Y\",\"N\")","v":"N"},{"$f":"IF(Table1[[#This Row],[Column3]]=90785,\"Y\",\"N\")","v":"N"}]
[null,null,null,null,null,null,null,null,null,null,{"$f":"IF(Table1[[#This Row],[Column3]]=\"T1013\",\"Y\",\"N\")","v":"N"},{"$f":"IF(Table1[[#This Row],[Column3]]=90785,\"Y\",\"N\")","v":"N"}]
[null,null,null,null,null,null,null,null,null,null,{"$f":"IF(Table1[[#This Row],[Column3]]=\"T1013\",\"Y\",\"N\")","v":"N"},{"$f":"IF(Table1[[#This Row],[Column3]]=90785,\"Y\",\"N\")","v":"N"}]
[null,null,null,null,null,null,null,null,null,null,{"$f":"IF(Table1[[#This Row],[Column3]]=\"T1013\",\"Y\",\"N\")","v":"N"},{"$f":"IF(Table1[[#This Row],[Column3]]=90785,\"Y\",\"N\")","v":"N"}]
[null,null,null,null,null,null,null,null,null,null,{"$f":"IF(Table1[[#This Row],[Column3]]=\"T1013\",\"Y\",\"N\")","v":"N"},{"$f":"IF(Table1[[#This Row],[Column3]]=90785,\"Y\",\"N\")","v":"N"}]
[null,null,null,null,null,null,null,null,null,null,{"$f":"IF(Table1[[#This Row],[Column3]]=\"T1013\",\"Y\",\"N\")","v":"N"},{"$f":"IF(Table1[[#This Row],[Column3]]=90785,\"Y\",\"N\")","v":"N"}]
[null,null,null,null,null,null,null,null,null,null,{"$f":"IF(Table1[[#This Row],[Column3]]=\"T1013\",\"Y\",\"N\")","v":"N"},{"$f":"IF(Table1[[#This Row],[Column3]]=90785,\"Y\",\"N\")","v":"N"}]
[null,null,null,null,null,null,null,null,null,null,{"$f":"IF(Table1[[#This Row],[Column3]]=\"T1013\",\"Y\",\"N\")","v":"N"},{"$f":"IF(Table1[[#This Row],[Column3]]=90785,\"Y\",\"N\")","v":"N"}]
[null,null,null,null,null,null,null,null,null,null,{"$f":"IF(Table1[[#This Row],[Column3]]=\"T1013\",\"Y\",\"N\")","v":"N"},{"$f":"IF(Table1[[#This Row],[Column3]]=90785,\"Y\",\"N\")","v":"N"}]
[null,null,null,null,null,null,null,null,null,null,{"$f":"IF(Table1[[#This Row],[Column3]]=\"T1013\",\"Y\",\"N\")","v":"N"},{"$f":"IF(Table1[[#This Row],[Column3]]=90785,\"Y\",\"N\")","v":"N"}]
[null,null,null,null,null,null,null,null,null,null,{"$f":"IF(Table1[[#This Row],[Column3]]=\"T1013\",\"Y\",\"N\")","v":"N"},{"$f":"IF(Table1[[#This Row],[Column3]]=90785,\"Y\",\"N\")","v":"N"}]
[null,null,null,null,null,null,null,null,null,null,{"$f":"IF(Table1[[#This Row],[Column3]]=\"T1013\",\"Y\",\"N\")","v":"N"},{"$f":"IF(Table1[[#This Row],[Column3]]=90785,\"Y\",\"N\")","v":"N"}]
[null,null,null,null,null,null,null,null,null,null,{"$f":"IF(Table1[[#This Row],[Column3]]=\"T1013\",\"Y\",\"N\")","v":"N"},{"$f":"IF(Table1[[#This Row],[Column3]]=90785,\"Y\",\"N\")","v":"N"}]
[null,null,null,null,null,null,null,null,null,null,{"$f":"IF(Table1[[#This Row],[Column3]]=\"T1013\",\"Y\",\"N\")","v":"N"},{"$f":"IF(Table1[[#This Row],[Column3]]=90785,\"Y\",\"N\")","v":"N"}]
[null,null,null,null,null,null,null,null,null,null,{"$f":"IF(Table1[[#This Row],[Column3]]=\"T1013\",\"Y\",\"N\")","v":"N"},{"$f":"IF(Table1[[#This Row],[Column3]]=90785,\"Y\",\"N\")","v":"N"}]
[null,null,null,null,null,null,null,null,null,null,{"$f":"IF(Table1[[#This Row],[Column3]]=\"T1013\",\"Y\",\"N\")","v":"N"},{"$f":"IF(Table1[[#This Row],[Column3]]=90785,\"Y\",\"N\")","v":"N"}]
[null,null,null,null,null,null,null,null,null,null,{"$f":"IF(Table1[[#This Row],[Column3]]=\"T1013\",\"Y\",\"N\")","v":"N"},{"$f":"IF(Table1[[#This Row],[Column3]]=90785,\"Y\",\"N\")","v":"N"}]
[null,null,null,null,null,null,null,null,null,null,{"$f":"IF(Table1[[#This Row],[Column3]]=\"T1013\",\"Y\",\"N\")","v":"N"},{"$f":"IF(Table1[[#This Row],[Column3]]=90785,\"Y\",\"N\")","v":"N"}]
[null,null,null,null,null,null,null,null,null,null,{"$f":"IF(Table1[[#This Row],[Column3]]=\"T1013\",\"Y\",\"N\")","v":"N"},{"$f":"IF(Table1[[#This Row],[Column3]]=90785,\"Y\",\"N\")","v":"N"}]
[null,null,null,null,null,null,null,null,null,null,{"$f":"IF(Table1[[#This Row],[Column3]]=\"T1013\",\"Y\",\"N\")","v":"N"},{"$f":"IF(Table1[[#This Row],[Column3]]=90785,\"Y\",\"N\")","v":"N"}]
[null,null,null,null,null,null,null,null,null,null,{"$f":"IF(Table1[[#This Row],[Column3]]=\"T1013\",\"Y\",\"N\")","v":"N"},{"$f":"IF(Table1[[#This Row],[Column3]]=90785,\"Y\",\"N\")","v":"N"}]
[null,null,null,null,null,null,null,null,null,null,{"$f":"IF(Table1[[#This Row],[Column3]]=\"T1013\",\"Y\",\"N\")","v":"N"},{"$f":"IF(Table1[[#This Row],[Column3]]=90785,\"Y\",\"N\")","v":"N"}]
[null,null,null,null,null,null,null,null,null,null,{"$f":"IF(Table1[[#This Row],[Column3]]=\"T1013\",\"Y\",\"N\")","v":"N"},{"$f":"IF(Table1[[#This Row],[Column3]]=90785,\"Y\",\"N\")","v":"N"}]
[null,null,null,null,null,null,null,null,null,null,{"$f":"IF(Table1[[#This Row],[Column3]]=\"T1013\",\"Y\",\"N\")","v":"N"},{"$f":"IF(Table1[[#This Row],[Column3]]=90785,\"Y\",\"N\")","v":"N"}]
[null,null,null,null,null,null,null,null,null,null,{"$f":"IF(Table1[[#This Row],[Column3]]=\"T1013\",\"Y\",\"N\")","v":"N"},{"$f":"IF(Table1[[#This Row],[Column3]]=90785,\"Y\",\"N\")","v":"N"}]
[null,null,null,null,null,null,null,null,null,null,{"$f":"IF(Table1[[#This Row],[Column3]]=\"T1013\",\"Y\",\"N\")","v":"N"},{"$f":"IF(Table1[[#This Row],[Column3]]=90785,\"Y\",\"N\")","v":"N"}]
[null,null,null,null,null,null,null,null,null,null,{"$f":"IF(Table1[[#This Row],[Column3]]=\"T1013\",\"Y\",\"N\")","v":"N"},{"$f":"IF(Table1[[#This Row],[Column3]]=90785,\"Y\",\"N\")","v":"N"}]
[null,null,null,null,null,null,null,null,null,null,{"$f":"IF(Table1[[#This Row],[Column3]]=\"T1013\",\"Y\",\"N\")","v":"N"},{"$f":"IF(Table1[[#This Row],[Column3]]=90785,\"Y\",\"N\")","v":"N"}]
[null,null,null,null,null,null,null,null,null,null,{"$f":"IF(Table1[[#This Row],[Column3]]=\"T1013\",\"Y\",\"N\")","v":"N"},{"$f":"IF(Table1[[#This Row],[Column3]]=90785,\"Y\",\"N\")","v":"N"}]
[null,null,null,null,null,null,null,null,null,null,{"$f":"IF(Table1[[#This Row],[Column3]]=\"T1013\",\"Y\",\"N\")","v":"N"},{"$f":"IF(Table1[[#This Row],[Column3]]=90785,\"Y\",\"N\")","v":"N"}]
[null,null,null,null,null,null,null,null,null,null,{"$f":"IF(Table1[[#This Row],[Column3]]=\"T1013\",\"Y\",\"N\")","v":"N"},{"$f":"IF(Table1[[#This Row],[Column3]]=90785,\"Y\",\"N\")","v":"N"}]
[null,null,null,null,null,null,null,null,null,null,{"$f":"IF(Table1[[#This Row],[Column3]]=\"T1013\",\"Y\",\"N\")","v":"N"},{"$f":"IF(Table1[[#This Row],[Column3]]=90785,\"Y\",\"N\")","v":"N"}]
[null,null,null,null,null,null,null,null,null,null,{"$f":"IF(Table1[[#This Row],[Column3]]=\"T1013\",\"Y\",\"N\")","v":"N"},{"$f":"IF(Table1[[#This Row],[Column3]]=90785,\"Y\",\"N\")","v":"N"}]
[null,null,null,null,null,null,null,null,null,null,{"$f":"IF(Table1[[#This Row],[Column3]]=\"T1013\",\"Y\",\"N\")","v":"N"},{"$f":"IF(Table1[[#This Row],[Column3]]=90785,\"Y\",\"N\")","v":"N"}]
[null,null,null,null,null,null,null,null,null,null,{"$f":"IF(Table1[[#This Row],[Column3]]=\"T1013\",\"Y\",\"N\")","v":"N"},{"$f":"IF(Table1[[#This Row],[Column3]]=90785,\"Y\",\"N\")","v":"N"}]
[null,null,null,null,null,null,null,null,null,null,{"$f":"IF(Table1[[#This Row],[Column3]]=\"T1013\",\"Y\",\"N\")","v":"N"},{"$f":"IF(Table1[[#This Row],[Column3]]=90785,\"Y\",\"N\")","v":"N"}]
[null,null,null,null,null,null,null,null,null,null,{"$f":"IF(Table1[[#This Row],[Column3]]=\"T1013\",\"Y\",\"N\")","v":"N"},{"$f":"IF(Table1[[#This Row],[Column3]]=90785,\"Y\",\"N\")","v":"N"}]
[null,null,null,null,null,null,null,null,null,null,{"$f":"IF(Table1[[#This Row],[Column3]]=\"T1013\",\"Y\",\"N\")","v":"N"},{"$f":"IF(Table1[[#This Row],[Column3]]=90785,\"Y\",\"N\")","v":"N"}]
[null,null,null,null,null,null,null,null,null,null,{"$f":"IF(Table1[[#This Row],[Column3]]=\"T1013\",\"Y\",\"N\")","v":"N"},{"$f":"IF(Table1[[#This Row],[Column3]]=90785,\"Y\",\"N\")","v":"N"}]
[null,null,null,null,null,null,null,null,null,null,{"$f":"IF(Table1[[#This Row],[Column3]]=\"T1013\",\"Y\",\"N\")","v":"N"},{"$f":"IF(Table1[[#This Row],[Column3]]=90785,\"Y\",\"N\")","v":"N"}]
[null,null,null,null,null,null,null,null,null,null,{"$f":"IF(Table1[[#This Row],[Column3]]=\"T1013\",\"Y\",\"N\")","v":"N"},{"$f":"IF(Table1[[#This Row],[Column3]]=90785,\"Y\",\"N\")","v":"N"}]
[null,null,null,null,null,null,null,null,null,null,{"$f":"IF(Table1[[#This Row],[Column3]]=\"T1013\",\"Y\",\"N\")","v":"N"},{"$f":"IF(Table1[[#This Row],[Column3]]=90785,\"Y\",\"N\")","v":"N"}]
[null,null,null,null,null,null,null,null,null,null,{"$f":"IF(Table1[[#This Row],[Column3]]=\"T1013\",\"Y\",\"N\")","v":"N"},{"$f":"IF(Table1[[#This Row],[Column3]]=90785,\"Y\",\"N\")","v":"N"}]
[null,null,null,null,null,null,null,null,null,null,{"$f":"IF(Table1[[#This Row],[Column3]]=\"T1013\",\"Y\",\"N\")","v":"N"},{"$f":"IF(Table1[[#This Row],[Column3]]=90785,\"Y\",\"N\")","v":"N"}]
[null,null,null,null,null,null,null,null,null,null,{"$f":"IF(Table1[[#This Row],[Column3]]=\"T1013\",\"Y\",\"N\")","v":"N"},{"$f":"IF(Table1[[#This Row],[Column3]]=90785,\"Y\",\"N\")","v":"N"}]
[null,null,null,null,null,null,null,null,null,null,{"$f":"IF(Table1[[#This Row],[Column3]]=\"T1013\",\"Y\",\"N\")","v":"N"},{"$f":"IF(Table1[[#This Row],[Column3]]=90785,\"Y\",\"N\")","v":"N"}]
[null,null,null,null,null,null,null,null,null,null,{"$f":"IF(Table1[[#This Row],[Column3]]=\"T1013\",\"Y\",\"N\")","v":"N"},{"$f":"IF(Table1[[#This Row],[Column3]]=90785,\"Y\",\"N\")","v":"N"}]
[null,null,null,null,null,null,null,null,null,null,{"$f":"IF(Table1[[#This Row],[Column3]]=\"T1013\",\"Y\",\"N\")","v":"N"},{"$f":"IF(Table1[[#This Row],[Column3]]=90785,\"Y\",\"N\")","v":"N"}]
[null,null,null,null,null,null,null,null,null,null,{"$f":"IF(Table1[[#This Row],[Column3]]=\"T1013\",\"Y\",\"N\")","v":"N"},{"$f":"IF(Table1[[#This Row],[Column3]]=90785,\"Y\",\"N\")","v":"N"}]
[null,null,null,null,null,null,null,null,null,null,{"$f":"IF(Table1[[#This Row],[Column3]]=\"T1013\",\"Y\",\"N\")","v":"N"},{"$f":"IF(Table1[[#This Row],[Column3]]=90785,\"Y\",\"N\")","v":"N"}]
[null,null,null,null,null,null,null,null,null,null,{"$f":"IF(Table1[[#This Row],[Column3]]=\"T1013\",\"Y\",\"N\")","v":"N"},{"$f":"IF(Table1[[#This Row],[Column3]]=90785,\"Y\",\"N\")","v":"N"}]
[null,null,null,null,null,null,null,null,null,null,{"$f":"IF(Table1[[#This Row],[Column3]]=\"T1013\",\"Y\",\"N\")","v":"N"},{"$f":"IF(Table1[[#This Row],[Column3]]=90785,\"Y\",\"N\")","v":"N"}]
[null,null,null,null,null,null,null,null,null,null,{"$f":"IF(Table1[[#This Row],[Column3]]=\"T1013\",\"Y\",\"N\")","v":"N"},{"$f":"IF(Table1[[#This Row],[Column3]]=90785,\"Y\",\"N\")","v":"N"}]
[null,null,null,null,null,null,null,null,null,null,{"$f":"IF(Table1[[#This Row],[Column3]]=\"T1013\",\"Y\",\"N\")","v":"N"},{"$f":"IF(Table1[[#This Row],[Column3]]=90785,\"Y\",\"N\")","v":"N"}]
[null,null,null,null,null,null,null,null,null,null,{"$f":"IF(Table1[[#This Row],[Column3]]=\"T1013\",\"Y\",\"N\")","v":"N"},{"$f":"IF(Table1[[#This Row],[Column3]]=90785,\"Y\",\"N\")","v":"N"}]
[null,null,null,null,null,null,null,null,null,null,{"$f":"IF(Table1[[#This Row],[Column3]]=\"T1013\",\"Y\",\"N\")","v":"N"},{"$f":"IF(Table1[[#This Row],[Column3]]=90785,\"Y\",\"N\")","v":"N"}]
[null,null,null,null,null,null,null,null,null,null,{"$f":"IF(Table1[[#This Row],[Column3]]=\"T1013\",\"Y\",\"N\")","v":"N"},{"$f":"IF(Table1[[#This Row],[Column3]]=90785,\"Y\",\"N\")","v":"N"}]
[null,null,null,null,null,null,null,null,null,null,{"$f":"IF(Table1[[#This Row],[Column3]]=\"T1013\",\"Y\",\"N\")","v":"N"},{"$f":"IF(Table1[[#This Row],[Column3]]=90785,\"Y\",\"N\")","v":"N"}]
[null,null,null,null,null,null,null,null,null,null,{"$f":"IF(Table1[[#This Row],[Column3]]=\"T1013\",\"Y\",\"N\")","v":"N"},{"$f":"IF(Table1[[#This Row],[Column3]]=90785,\"Y\",\"N\")","v":"N"}]
[null,null,null,null,null,null,null,null,null,null,{"$f":"IF(Table1[[#This Row],[Column3]]=\"T1013\",\"Y\",\"N\")","v":"N"},{"$f":"IF(Table1[[#This Row],[Column3]]=90785,\"Y\",\"N\")","v":"N"}]
[null,null,null,null,null,null,null,null,null,null,{"$f":"IF(Table1[[#This Row],[Column3]]=\"T1013\",\"Y\",\"N\")","v":"N"},{"$f":"IF(Table1[[#This Row],[Column3]]=90785,\"Y\",\"N\")","v":"N"}]
[null,null,null,null,null,null,null,null,null,null,{"$f":"IF(Table1[[#This Row],[Column3]]=\"T1013\",\"Y\",\"N\")","v":"N"},{"$f":"IF(Table1[[#This Row],[Column3]]=90785,\"Y\",\"N\")","v":"N"}]
[null,null,null,null,null,null,null,null,null,null,{"$f":"IF(Table1[[#This Row],[Column3]]=\"T1013\",\"Y\",\"N\")","v":"N"},{"$f":"IF(Table1[[#This Row],[Column3]]=90785,\"Y\",\"N\")","v":"N"}]
[null,null,null,null,null,null,null,null,null,null,{"$f":"IF(Table1[[#This Row],[Column3]]=\"T1013\",\"Y\",\"N\")","v":"N"},{"$f":"IF(Table1[[#This Row],[Column3]]=90785,\"Y\",\"N\")","v":"N"}]
[null,null,null,null,null,null,null,null,null,null,{"$f":"IF(Table1[[#This Row],[Column3]]=\"T1013\",\"Y\",\"N\")","v":"N"},{"$f":"IF(Table1[[#This Row],[Column3]]=90785,\"Y\",\"N\")","v":"N"}]
[null,null,null,null,null,null,null,null,null,null,{"$f":"IF(Table1[[#This Row],[Column3]]=\"T1013\",\"Y\",\"N\")","v":"N"},{"$f":"IF(Table1[[#This Row],[Column3]]=90785,\"Y\",\"N\")","v":"N"}]
[null,null,null,null,null,null,null,null,null,null,{"$f":"IF(Table1[[#This Row],[Column3]]=\"T1013\",\"Y\",\"N\")","v":"N"},{"$f":"IF(Table1[[#This Row],[Column3]]=90785,\"Y\",\"N\")","v":"N"}]
[null,null,null,null,null,null,null,null,null,null,{"$f":"IF(Table1[[#This Row],[Column3]]=\"T1013\",\"Y\",\"N\")","v":"N"},{"$f":"IF(Table1[[#This Row],[Column3]]=90785,\"Y\",\"N\")","v":"N"}]
[null,null,null,null,null,null,null,null,null,null,{"$f":"IF(Table1[[#This Row],[Column3]]=\"T1013\",\"Y\",\"N\")","v":"N"},{"$f":"IF(Table1[[#This Row],[Column3]]=90785,\"Y\",\"N\")","v":"N"}]
[null,null,null,null,null,null,null,null,null,null,{"$f":"IF(Table1[[#This Row],[Column3]]=\"T1013\",\"Y\",\"N\")","v":"N"},{"$f":"IF(Table1[[#This Row],[Column3]]=90785,\"Y\",\"N\")","v":"N"}]
[null,null,null,null,null,null,null,null,null,null,{"$f":"IF(Table1[[#This Row],[Column3]]=\"T1013\",\"Y\",\"N\")","v":"N"},{"$f":"IF(Table1[[#This Row],[Column3]]=90785,\"Y\",\"N\")","v":"N"}]
[null,null,null,null,null,null,null,null,null,null,{"$f":"IF(Table1[[#This Row],[Column3]]=\"T1013\",\"Y\",\"N\")","v":"N"},{"$f":"IF(Table1[[#This Row],[Column3]]=90785,\"Y\",\"N\")","v":"N"}]
[null,null,null,null,null,null,null,null,null,null,{"$f":"IF(Table1[[#This Row],[Column3]]=\"T1013\",\"Y\",\"N\")","v":"N"},{"$f":"IF(Table1[[#This Row],[Column3]]=90785,\"Y\",\"N\")","v":"N"}]
[null,null,null,null,null,null,null,null,null,null,{"$f":"IF(Table1[[#This Row],[Column3]]=\"T1013\",\"Y\",\"N\")","v":"N"},{"$f":"IF(Table1[[#This Row],[Column3]]=90785,\"Y\",\"N\")","v":"N"}]
[null,null,null,null,null,null,null,null,null,null,{"$f":"IF(Table1[[#This Row],[Column3]]=\"T1013\",\"Y\",\"N\")","v":"N"},{"$f":"IF(Table1[[#This Row],[Column3]]=90785,\"Y\",\"N\")","v":"N"}]
[null,null,null,null,null,null,null,null,null,null,{"$f":"IF(Table1[[#This Row],[Column3]]=\"T1013\",\"Y\",\"N\")","v":"N"},{"$f":"IF(Table1[[#This Row],[Column3]]=90785,\"Y\",\"N\")","v":"N"}]
[null,null,null,null,null,null,null,null,null,null,{"$f":"IF(Table1[[#This Row],[Column3]]=\"T1013\",\"Y\",\"N\")","v":"N"},{"$f":"IF(Table1[[#This Row],[Column3]]=90785,\"Y\",\"N\")","v":"N"}]
[null,null,null,null,null,null,null,null,null,null,{"$f":"IF(Table1[[#This Row],[Column3]]=\"T1013\",\"Y\",\"N\")","v":"N"},{"$f":"IF(Table1[[#This Row],[Column3]]=90785,\"Y\",\"N\")","v":"N"}]
[null,null,null,null,null,null,null,null,null,null,{"$f":"IF(Table1[[#This Row],[Column3]]=\"T1013\",\"Y\",\"N\")","v":"N"},{"$f":"IF(Table1[[#This Row],[Column3]]=90785,\"Y\",\"N\")","v":"N"}]
[null,null,null,null,null,null,null,null,null,null,{"$f":"IF(Table1[[#This Row],[Column3]]=\"T1013\",\"Y\",\"N\")","v":"N"},{"$f":"IF(Table1[[#This Row],[Column3]]=90785,\"Y\",\"N\")","v":"N"}]
[null,null,null,null,null,null,null,null,null,null,{"$f":"IF(Table1[[#This Row],[Column3]]=\"T1013\",\"Y\",\"N\")","v":"N"},{"$f":"IF(Table1[[#This Row],[Column3]]=90785,\"Y\",\"N\")","v":"N"}]
[null,null,null,null,null,null,null,null,null,null,{"$f":"IF(Table1[[#This Row],[Column3]]=\"T1013\",\"Y\",\"N\")","v":"N"},{"$f":"IF(Table1[[#This Row],[Column3]]=90785,\"Y\",\"N\")","v":"N"}]
[null,null,null,null,null,null,null,null,null,null,{"$f":"IF(Table1[[#This Row],[Column3]]=\"T1013\",\"Y\",\"N\")","v":"N"},{"$f":"IF(Table1[[#This Row],[Column3]]=90785,\"Y\",\"N\")","v":"N"}]
[null,null,null,null,null,null,null,null,null,null,{"$f":"IF(Table1[[#This Row],[Column3]]=\"T1013\",\"Y\",\"N\")","v":"N"},{"$f":"IF(Table1[[#This Row],[Column3]]=90785,\"Y\",\"N\")","v":"N"}]
[null,null,null,null,null,null,null,null,null,null,{"$f":"IF(Table1[[#This Row],[Column3]]=\"T1013\",\"Y\",\"N\")","v":"N"},{"$f":"IF(Table1[[#This Row],[Column3]]=90785,\"Y\",\"N\")","v":"N"}]
[null,null,null,null,null,null,null,null,null,null,{"$f":"IF(Table1[[#This Row],[Column3]]=\"T1013\",\"Y\",\"N\")","v":"N"},{"$f":"IF(Table1[[#This Row],[Column3]]=90785,\"Y\",\"N\")","v":"N"}]
[null,null,null,null,null,null,null,null,null,null,{"$f":"IF(Table1[[#This Row],[Column3]]=\"T1013\",\"Y\",\"N\")","v":"N"},{"$f":"IF(Table1[[#This Row],[Column3]]=90785,\"Y\",\"N\")","v":"N"}]
[null,null,null,null,null,null,null,null,null,null,{"$f":"IF(Table1[[#This Row],[Column3]]=\"T1013\",\"Y\",\"N\")","v":"N"},{"$f":"IF(Table1[[#This Row],[Column3]]=90785,\"Y\",\"N\")","v":"N"}]
[null,null,null,null,null,null,null,null,null,null,{"$f":"IF(Table1[[#This Row],[Column3]]=\"T1013\",\"Y\",\"N\")","v":"N"},{"$f":"IF(Table1[[#This Row],[Column3]]=90785,\"Y\",\"N\")","v":"N"}]
[null,null,null,null,null,null,null,null,null,null,{"$f":"IF(Table1[[#This Row],[Column3]]=\"T1013\",\"Y\",\"N\")","v":"N"},{"$f":"IF(Table1[[#This Row],[Column3]]=90785,\"Y\",\"N\")","v":"N"}]
[null,null,null,null,null,null,null,null,null,null,{"$f":"IF(Table1[[#This Row],[Column3]]=\"T1013\",\"Y\",\"N\")","v":"N"},{"$f":"IF(Table1[[#This Row],[Column3]]=90785,\"Y\",\"N\")","v":"N"}]
[null,null,null,null,null,null,null,null,null,null,{"$f":"IF(Table1[[#This Row],[Column3]]=\"T1013\",\"Y\",\"N\")","v":"N"},{"$f":"IF(Table1[[#This Row],[Column3]]=90785,\"Y\",\"N\")","v":"N"}]
[null,null,null,null,null,null,null,null,null,null,{"$f":"IF(Table1[[#This Row],[Column3]]=\"T1013\",\"Y\",\"N\")","v":"N"},{"$f":"IF(Table1[[#This Row],[Column3]]=90785,\"Y\",\"N\")","v":"N"}]
[null,null,null,null,null,null,null,null,null,null,{"$f":"IF(Table1[[#This Row],[Column3]]=\"T1013\",\"Y\",\"N\")","v":"N"},{"$f":"IF(Table1[[#This Row],[Column3]]=90785,\"Y\",\"N\")","v":"N"}]
[null,null,null,null,null,null,null,null,null,null,{"$f":"IF(Table1[[#This Row],[Column3]]=\"T1013\",\"Y\",\"N\")","v":"N"},{"$f":"IF(Table1[[#This Row],[Column3]]=90785,\"Y\",\"N\")","v":"N"}]
[null,null,null,null,null,null,null,null,null,null,{"$f":"IF(Table1[[#This Row],[Column3]]=\"T1013\",\"Y\",\"N\")","v":"N"},{"$f":"IF(Table1[[#This Row],[Column3]]=90785,\"Y\",\"N\")","v":"N"}]
[null,null,null,null,null,null,null,null,null,null,{"$f":"IF(Table1[[#This Row],[Column3]]=\"T1013\",\"Y\",\"N\")","v":"N"},{"$f":"IF(Table1[[#This Row],[Column3]]=90785,\"Y\",\"N\")","v":"N"}]
[null,null,null,null,null,null,null,null,null,null,{"$f":"IF(Table1[[#This Row],[Column3]]=\"T1013\",\"Y\",\"N\")","v":"N"},{"$f":"IF(Table1[[#This Row],[Column3]]=90785,\"Y\",\"N\")","v":"N"}]
[null,null,null,null,null,null,null,null,null,null,{"$f":"IF(Table1[[#This Row],[Column3]]=\"T1013\",\"Y\",\"N\")","v":"N"},{"$f":"IF(Table1[[#This Row],[Column3]]=90785,\"Y\",\"N\")","v":"N"}]
[null,null,null,null,null,null,null,null,null,null,{"$f":"IF(Table1[[#This Row],[Column3]]=\"T1013\",\"Y\",\"N\")","v":"N"},{"$f":"IF(Table1[[#This Row],[Column3]]=90785,\"Y\",\"N\")","v":"N"}]
[null,null,null,null,null,null,null,null,null,null,{"$f":"IF(Table1[[#This Row],[Column3]]=\"T1013\",\"Y\",\"N\")","v":"N"},{"$f":"IF(Table1[[#This Row],[Column3]]=90785,\"Y\",\"N\")","v":"N"}]
[null,null,null,null,null,null,null,null,null,null,{"$f":"IF(Table1[[#This Row],[Column3]]=\"T1013\",\"Y\",\"N\")","v":"N"},{"$f":"IF(Table1[[#This Row],[Column3]]=90785,\"Y\",\"N\")","v":"N"}]
[null,null,null,null,null,null,null,null,null,null,{"$f":"IF(Table1[[#This Row],[Column3]]=\"T1013\",\"Y\",\"N\")","v":"N"},{"$f":"IF(Table1[[#This Row],[Column3]]=90785,\"Y\",\"N\")","v":"N"}]
[null,null,null,null,null,null,null,null,null,null,{"$f":"IF(Table1[[#This Row],[Column3]]=\"T1013\",\"Y\",\"N\")","v":"N"},{"$f":"IF(Table1[[#This Row],[Column3]]=90785,\"Y\",\"N\")","v":"N"}]
[null,null,null,null,null,null,null,null,null,null,{"$f":"IF(Table1[[#This Row],[Column3]]=\"T1013\",\"Y\",\"N\")","v":"N"},{"$f":"IF(Table1[[#This Row],[Column3]]=90785,\"Y\",\"N\")","v":"N"}]
[null,null,null,null,null,null,null,null,null,null,{"$f":"IF(Table1[[#This Row],[Column3]]=\"T1013\",\"Y\",\"N\")","v":"N"},{"$f":"IF(Table1[[#This Row],[Column3]]=90785,\"Y\",\"N\")","v":"N"}]
[null,null,null,null,null,null,null,null,null,null,{"$f":"IF(Table1[[#This Row],[Column3]]=\"T1013\",\"Y\",\"N\")","v":"N"},{"$f":"IF(Table1[[#This Row],[Column3]]=90785,\"Y\",\"N\")","v":"N"}]
[null,null,null,null,null,null,null,null,null,null,{"$f":"IF(Table1[[#This Row],[Column3]]=\"T1013\",\"Y\",\"N\")","v":"N"},{"$f":"IF(Table1[[#This Row],[Column3]]=90785,\"Y\",\"N\")","v":"N"}]
[null,null,null,null,null,null,null,null,null,null,{"$f":"IF(Table1[[#This Row],[Column3]]=\"T1013\",\"Y\",\"N\")","v":"N"},{"$f":"IF(Table1[[#This Row],[Column3]]=90785,\"Y\",\"N\")","v":"N"}]
[null,null,null,null,null,null,null,null,null,null,{"$f":"IF(Table1[[#This Row],[Column3]]=\"T1013\",\"Y\",\"N\")","v":"N"},{"$f":"IF(Table1[[#This Row],[Column3]]=90785,\"Y\",\"N\")","v":"N"}]
[null,null,null,null,null,null,null,null,null,null,{"$f":"IF(Table1[[#This Row],[Column3]]=\"T1013\",\"Y\",\"N\")","v":"N"},{"$f":"IF(Table1[[#This Row],[Column3]]=90785,\"Y\",\"N\")","v":"N"}]
[null,null,null,null,null,null,null,null,null,null,{"$f":"IF(Table1[[#This Row],[Column3]]=\"T1013\",\"Y\",\"N\")","v":"N"},{"$f":"IF(Table1[[#This Row],[Column3]]=90785,\"Y\",\"N\")","v":"N"}]
[null,null,null,null,null,null,null,null,null,null,{"$f":"IF(Table1[[#This Row],[Column3]]=\"T1013\",\"Y\",\"N\")","v":"N"},{"$f":"IF(Table1[[#This Row],[Column3]]=90785,\"Y\",\"N\")","v":"N"}]
[null,null,null,null,null,null,null,null,null,null,{"$f":"IF(Table1[[#This Row],[Column3]]=\"T1013\",\"Y\",\"N\")","v":"N"},{"$f":"IF(Table1[[#This Row],[Column3]]=90785,\"Y\",\"N\")","v":"N"}]
[null,null,null,null,null,null,null,null,null,null,{"$f":"IF(Table1[[#This Row],[Column3]]=\"T1013\",\"Y\",\"N\")","v":"N"},{"$f":"IF(Table1[[#This Row],[Column3]]=90785,\"Y\",\"N\")","v":"N"}]
[null,null,null,null,null,null,null,null,null,null,{"$f":"IF(Table1[[#This Row],[Column3]]=\"T1013\",\"Y\",\"N\")","v":"N"},{"$f":"IF(Table1[[#This Row],[Column3]]=90785,\"Y\",\"N\")","v":"N"}]
[null,null,null,null,null,null,null,null,null,null,{"$f":"IF(Table1[[#This Row],[Column3]]=\"T1013\",\"Y\",\"N\")","v":"N"},{"$f":"IF(Table1[[#This Row],[Column3]]=90785,\"Y\",\"N\")","v":"N"}]
[null,null,null,null,null,null,null,null,null,null,{"$f":"IF(Table1[[#This Row],[Column3]]=\"T1013\",\"Y\",\"N\")","v":"N"},{"$f":"IF(Table1[[#This Row],[Column3]]=90785,\"Y\",\"N\")","v":"N"}]
[null,null,null,null,null,null,null,null,null,null,{"$f":"IF(Table1[[#This Row],[Column3]]=\"T1013\",\"Y\",\"N\")","v":"N"},{"$f":"IF(Table1[[#This Row],[Column3]]=90785,\"Y\",\"N\")","v":"N"}]
[null,null,null,null,null,null,null,null,null,null,{"$f":"IF(Table1[[#This Row],[Column3]]=\"T1013\",\"Y\",\"N\")","v":"N"},{"$f":"IF(Table1[[#This Row],[Column3]]=90785,\"Y\",\"N\")","v":"N"}]
[null,null,null,null,null,null,null,null,null,null,{"$f":"IF(Table1[[#This Row],[Column3]]=\"T1013\",\"Y\",\"N\")","v":"N"},{"$f":"IF(Table1[[#This Row],[Column3]]=90785,\"Y\",\"N\")","v":"N"}]
[null,null,null,null,null,null,null,null,null,null,{"$f":"IF(Table1[[#This Row],[Column3]]=\"T1013\",\"Y\",\"N\")","v":"N"},{"$f":"IF(Table1[[#This Row],[Column3]]=90785,\"Y\",\"N\")","v":"N"}]
[null,null,null,null,null,null,null,null,null,null,{"$f":"IF(Table1[[#This Row],[Column3]]=\"T1013\",\"Y\",\"N\")","v":"N"},{"$f":"IF(Table1[[#This Row],[Column3]]=90785,\"Y\",\"N\")","v":"N"}]
[null,null,null,null,null,null,null,null,null,null,{"$f":"IF(Table1[[#This Row],[Column3]]=\"T1013\",\"Y\",\"N\")","v":"N"},{"$f":"IF(Table1[[#This Row],[Column3]]=90785,\"Y\",\"N\")","v":"N"}]
[null,null,null,null,null,null,null,null,null,null,{"$f":"IF(Table1[[#This Row],[Column3]]=\"T1013\",\"Y\",\"N\")","v":"N"},{"$f":"IF(Table1[[#This Row],[Column3]]=90785,\"Y\",\"N\")","v":"N"}]
[null,null,null,null,null,null,null,null,null,null,{"$f":"IF(Table1[[#This Row],[Column3]]=\"T1013\",\"Y\",\"N\")","v":"N"},{"$f":"IF(Table1[[#This Row],[Column3]]=90785,\"Y\",\"N\")","v":"N"}]
[null,null,null,null,null,null,null,null,null,null,{"$f":"IF(Table1[[#This Row],[Column3]]=\"T1013\",\"Y\",\"N\")","v":"N"},{"$f":"IF(Table1[[#This Row],[Column3]]=90785,\"Y\",\"N\")","v":"N"}]
[null,null,null,null,null,null,null,null,null,null,{"$f":"IF(Table1[[#This Row],[Column3]]=\"T1013\",\"Y\",\"N\")","v":"N"},{"$f":"IF(Table1[[#This Row],[Column3]]=90785,\"Y\",\"N\")","v":"N"}]
[null,null,null,null,null,null,null,null,null,null,{"$f":"IF(Table1[[#This Row],[Column3]]=\"T1013\",\"Y\",\"N\")","v":"N"},{"$f":"IF(Table1[[#This Row],[Column3]]=90785,\"Y\",\"N\")","v":"N"}]
[null,null,null,null,null,null,null,null,null,null,{"$f":"IF(Table1[[#This Row],[Column3]]=\"T1013\",\"Y\",\"N\")","v":"N"},{"$f":"IF(Table1[[#This Row],[Column3]]=90785,\"Y\",\"N\")","v":"N"}]
[null,null,null,null,null,null,null,null,null,null,{"$f":"IF(Table1[[#This Row],[Column3]]=\"T1013\",\"Y\",\"N\")","v":"N"},{"$f":"IF(Table1[[#This Row],[Column3]]=90785,\"Y\",\"N\")","v":"N"}]
[null,null,null,null,null,null,null,null,null,null,{"$f":"IF(Table1[[#This Row],[Column3]]=\"T1013\",\"Y\",\"N\")","v":"N"},{"$f":"IF(Table1[[#This Row],[Column3]]=90785,\"Y\",\"N\")","v":"N"}]
[null,null,null,null,null,null,null,null,null,null,{"$f":"IF(Table1[[#This Row],[Column3]]=\"T1013\",\"Y\",\"N\")","v":"N"},{"$f":"IF(Table1[[#This Row],[Column3]]=90785,\"Y\",\"N\")","v":"N"}]
[null,null,null,null,null,null,null,null,null,null,{"$f":"IF(Table1[[#This Row],[Column3]]=\"T1013\",\"Y\",\"N\")","v":"N"},{"$f":"IF(Table1[[#This Row],[Column3]]=90785,\"Y\",\"N\")","v":"N"}]
[null,null,null,null,null,null,null,null,null,null,{"$f":"IF(Table1[[#This Row],[Column3]]=\"T1013\",\"Y\",\"N\")","v":"N"},{"$f":"IF(Table1[[#This Row],[Column3]]=90785,\"Y\",\"N\")","v":"N"}]
[null,null,null,null,null,null,null,null,null,null,{"$f":"IF(Table1[[#This Row],[Column3]]=\"T1013\",\"Y\",\"N\")","v":"N"},{"$f":"IF(Table1[[#This Row],[Column3]]=90785,\"Y\",\"N\")","v":"N"}]
[null,null,null,null,null,null,null,null,null,null,{"$f":"IF(Table1[[#This Row],[Column3]]=\"T1013\",\"Y\",\"N\")","v":"N"},{"$f":"IF(Table1[[#This Row],[Column3]]=90785,\"Y\",\"N\")","v":"N"}]
[null,null,null,null,null,null,null,null,null,null,{"$f":"IF(Table1[[#This Row],[Column3]]=\"T1013\",\"Y\",\"N\")","v":"N"},{"$f":"IF(Table1[[#This Row],[Column3]]=90785,\"Y\",\"N\")","v":"N"}]
[null,null,null,null,null,null,null,null,null,null,{"$f":"IF(Table1[[#This Row],[Column3]]=\"T1013\",\"Y\",\"N\")","v":"N"},{"$f":"IF(Table1[[#This Row],[Column3]]=90785,\"Y\",\"N\")","v":"N"}]
[null,null,null,null,null,null,null,null,null,null,{"$f":"IF(Table1[[#This Row],[Column3]]=\"T1013\",\"Y\",\"N\")","v":"N"},{"$f":"IF(Table1[[#This Row],[Column3]]=90785,\"Y\",\"N\")","v":"N"}]
[null,null,null,null,null,null,null,null,null,null,{"$f":"IF(Table1[[#This Row],[Column3]]=\"T1013\",\"Y\",\"N\")","v":"N"},{"$f":"IF(Table1[[#This Row],[Column3]]=90785,\"Y\",\"N\")","v":"N"}]
[null,null,null,null,null,null,null,null,null,null,{"$f":"IF(Table1[[#This Row],[Column3]]=\"T1013\",\"Y\",\"N\")","v":"N"},{"$f":"IF(Table1[[#This Row],[Column3]]=90785,\"Y\",\"N\")","v":"N"}]
[null,null,null,null,null,null,null,null,null,null,{"$f":"IF(Table1[[#This Row],[Column3]]=\"T1013\",\"Y\",\"N\")","v":"N"},{"$f":"IF(Table1[[#This Row],[Column3]]=90785,\"Y\",\"N\")","v":"N"}]
[null,null,null,null,null,null,null,null,null,null,{"$f":"IF(Table1[[#This Row],[Column3]]=\"T1013\",\"Y\",\"N\")","v":"N"},{"$f":"IF(Table1[[#This Row],[Column3]]=90785,\"Y\",\"N\")","v":"N"}]
[null,null,null,null,null,null,null,null,null,null,{"$f":"IF(Table1[[#This Row],[Column3]]=\"T1013\",\"Y\",\"N\")","v":"N"},{"$f":"IF(Table1[[#This Row],[Column3]]=90785,\"Y\",\"N\")","v":"N"}]
[null,null,null,null,null,null,null,null,null,null,{"$f":"IF(Table1[[#This Row],[Column3]]=\"T1013\",\"Y\",\"N\")","v":"N"},{"$f":"IF(Table1[[#This Row],[Column3]]=90785,\"Y\",\"N\")","v":"N"}]
[null,null,null,null,null,null,null,null,null,null,{"$f":"IF(Table1[[#This Row],[Column3]]=\"T1013\",\"Y\",\"N\")","v":"N"},{"$f":"IF(Table1[[#This Row],[Column3]]=90785,\"Y\",\"N\")","v":"N"}]
[null,null,null,null,null,null,null,null,null,null,{"$f":"IF(Table1[[#This Row],[Column3]]=\"T1013\",\"Y\",\"N\")","v":"N"},{"$f":"IF(Table1[[#This Row],[Column3]]=90785,\"Y\",\"N\")","v":"N"}]
[null,null,null,null,null,null,null,null,null,null,{"$f":"IF(Table1[[#This Row],[Column3]]=\"T1013\",\"Y\",\"N\")","v":"N"},{"$f":"IF(Table1[[#This Row],[Column3]]=90785,\"Y\",\"N\")","v":"N"}]
[null,null,null,null,null,null,null,null,null,null,{"$f":"IF(Table1[[#This Row],[Column3]]=\"T1013\",\"Y\",\"N\")","v":"N"},{"$f":"IF(Table1[[#This Row],[Column3]]=90785,\"Y\",\"N\")","v":"N"}]
[null,null,null,null,null,null,null,null,null,null,{"$f":"IF(Table1[[#This Row],[Column3]]=\"T1013\",\"Y\",\"N\")","v":"N"},{"$f":"IF(Table1[[#This Row],[Column3]]=90785,\"Y\",\"N\")","v":"N"}]
[null,null,null,null,null,null,null,null,null,null,{"$f":"IF(Table1[[#This Row],[Column3]]=\"T1013\",\"Y\",\"N\")","v":"N"},{"$f":"IF(Table1[[#This Row],[Column3]]=90785,\"Y\",\"N\")","v":"N"}]
[null,null,null,null,null,null,null,null,null,null,{"$f":"IF(Table1[[#This Row],[Column3]]=\"T1013\",\"Y\",\"N\")","v":"N"},{"$f":"IF(Table1[[#This Row],[Column3]]=90785,\"Y\",\"N\")","v":"N"}]
[null,null,null,null,null,null,null,null,null,null,{"$f":"IF(Table1[[#This Row],[Column3]]=\"T1013\",\"Y\",\"N\")","v":"N"},{"$f":"IF(Table1[[#This Row],[Column3]]=90785,\"Y\",\"N\")","v":"N"}]
[null,null,null,null,null,null,null,null,null,null,{"$f":"IF(Table1[[#This Row],[Column3]]=\"T1013\",\"Y\",\"N\")","v":"N"},{"$f":"IF(Table1[[#This Row],[Column3]]=90785,\"Y\",\"N\")","v":"N"}]
[null,null,null,null,null,null,null,null,null,null,{"$f":"IF(Table1[[#This Row],[Column3]]=\"T1013\",\"Y\",\"N\")","v":"N"},{"$f":"IF(Table1[[#This Row],[Column3]]=90785,\"Y\",\"N\")","v":"N"}]
[null,null,null,null,null,null,null,null,null,null,{"$f":"IF(Table1[[#This Row],[Column3]]=\"T1013\",\"Y\",\"N\")","v":"N"},{"$f":"IF(Table1[[#This Row],[Column3]]=90785,\"Y\",\"N\")","v":"N"}]
[null,null,null,null,null,null,null,null,null,null,{"$f":"IF(Table1[[#This Row],[Column3]]=\"T1013\",\"Y\",\"N\")","v":"N"},{"$f":"IF(Table1[[#This Row],[Column3]]=90785,\"Y\",\"N\")","v":"N"}]
[null,null,null,null,null,null,null,null,null,null,{"$f":"IF(Table1[[#This Row],[Column3]]=\"T1013\",\"Y\",\"N\")","v":"N"},{"$f":"IF(Table1[[#This Row],[Column3]]=90785,\"Y\",\"N\")","v":"N"}]
[null,null,null,null,null,null,null,null,null,null,{"$f":"IF(Table1[[#This Row],[Column3]]=\"T1013\",\"Y\",\"N\")","v":"N"},{"$f":"IF(Table1[[#This Row],[Column3]]=90785,\"Y\",\"N\")","v":"N"}]
[null,null,null,null,null,null,null,null,null,null,{"$f":"IF(Table1[[#This Row],[Column3]]=\"T1013\",\"Y\",\"N\")","v":"N"},{"$f":"IF(Table1[[#This Row],[Column3]]=90785,\"Y\",\"N\")","v":"N"}]
[null,null,null,null,null,null,null,null,null,null,{"$f":"IF(Table1[[#This Row],[Column3]]=\"T1013\",\"Y\",\"N\")","v":"N"},{"$f":"IF(Table1[[#This Row],[Column3]]=90785,\"Y\",\"N\")","v":"N"}]
[null,null,null,null,null,null,null,null,null,null,{"$f":"IF(Table1[[#This Row],[Column3]]=\"T1013\",\"Y\",\"N\")","v":"N"},{"$f":"IF(Table1[[#This Row],[Column3]]=90785,\"Y\",\"N\")","v":"N"}]
[null,null,null,null,null,null,null,null,null,null,{"$f":"IF(Table1[[#This Row],[Column3]]=\"T1013\",\"Y\",\"N\")","v":"N"},{"$f":"IF(Table1[[#This Row],[Column3]]=90785,\"Y\",\"N\")","v":"N"}]
[null,null,null,null,null,null,null,null,null,null,{"$f":"IF(Table1[[#This Row],[Column3]]=\"T1013\",\"Y\",\"N\")","v":"N"},{"$f":"IF(Table1[[#This Row],[Column3]]=90785,\"Y\",\"N\")","v":"N"}]
[null,null,null,null,null,null,null,null,null,null,{"$f":"IF(Table1[[#This Row],[Column3]]=\"T1013\",\"Y\",\"N\")","v":"N"},{"$f":"IF(Table1[[#This Row],[Column3]]=90785,\"Y\",\"N\")","v":"N"}]
[null,null,null,null,null,null,null,null,null,null,{"$f":"IF(Table1[[#This Row],[Column3]]=\"T1013\",\"Y\",\"N\")","v":"N"},{"$f":"IF(Table1[[#This Row],[Column3]]=90785,\"Y\",\"N\")","v":"N"}]
[null,null,null,null,null,null,null,null,null,null,{"$f":"IF(Table1[[#This Row],[Column3]]=\"T1013\",\"Y\",\"N\")","v":"N"},{"$f":"IF(Table1[[#This Row],[Column3]]=90785,\"Y\",\"N\")","v":"N"}]
[null,null,null,null,null,null,null,null,null,null,{"$f":"IF(Table1[[#This Row],[Column3]]=\"T1013\",\"Y\",\"N\")","v":"N"},{"$f":"IF(Table1[[#This Row],[Column3]]=90785,\"Y\",\"N\")","v":"N"}]
[null,null,null,null,null,null,null,null,null,null,{"$f":"IF(Table1[[#This Row],[Column3]]=\"T1013\",\"Y\",\"N\")","v":"N"},{"$f":"IF(Table1[[#This Row],[Column3]]=90785,\"Y\",\"N\")","v":"N"}]
[null,null,null,null,null,null,null,null,null,null,{"$f":"IF(Table1[[#This Row],[Column3]]=\"T1013\",\"Y\",\"N\")","v":"N"},{"$f":"IF(Table1[[#This Row],[Column3]]=90785,\"Y\",\"N\")","v":"N"}]
[null,null,null,null,null,null,null,null,null,null,{"$f":"IF(Table1[[#This Row],[Column3]]=\"T1013\",\"Y\",\"N\")","v":"N"},{"$f":"IF(Table1[[#This Row],[Column3]]=90785,\"Y\",\"N\")","v":"N"}]
[null,null,null,null,null,null,null,null,null,null,{"$f":"IF(Table1[[#This Row],[Column3]]=\"T1013\",\"Y\",\"N\")","v":"N"},{"$f":"IF(Table1[[#This Row],[Column3]]=90785,\"Y\",\"N\")","v":"N"}]
[null,null,null,null,null,null,null,null,null,null,{"$f":"IF(Table1[[#This Row],[Column3]]=\"T1013\",\"Y\",\"N\")","v":"N"},{"$f":"IF(Table1[[#This Row],[Column3]]=90785,\"Y\",\"N\")","v":"N"}]
[null,null,null,null,null,null,null,null,null,null,{"$f":"IF(Table1[[#This Row],[Column3]]=\"T1013\",\"Y\",\"N\")","v":"N"},{"$f":"IF(Table1[[#This Row],[Column3]]=90785,\"Y\",\"N\")","v":"N"}]
[null,null,null,null,null,null,null,null,null,null,{"$f":"IF(Table1[[#This Row],[Column3]]=\"T1013\",\"Y\",\"N\")","v":"N"},{"$f":"IF(Table1[[#This Row],[Column3]]=90785,\"Y\",\"N\")","v":"N"}]
[null,null,null,null,null,null,null,null,null,null,{"$f":"IF(Table1[[#This Row],[Column3]]=\"T1013\",\"Y\",\"N\")","v":"N"},{"$f":"IF(Table1[[#This Row],[Column3]]=90785,\"Y\",\"N\")","v":"N"}]
[null,null,null,null,null,null,null,null,null,null,{"$f":"IF(Table1[[#This Row],[Column3]]=\"T1013\",\"Y\",\"N\")","v":"N"},{"$f":"IF(Table1[[#This Row],[Column3]]=90785,\"Y\",\"N\")","v":"N"}]
[null,null,null,null,null,null,null,null,null,null,{"$f":"IF(Table1[[#This Row],[Column3]]=\"T1013\",\"Y\",\"N\")","v":"N"},{"$f":"IF(Table1[[#This Row],[Column3]]=90785,\"Y\",\"N\")","v":"N"}]
[null,null,null,null,null,null,null,null,null,null,{"$f":"IF(Table1[[#This Row],[Column3]]=\"T1013\",\"Y\",\"N\")","v":"N"},{"$f":"IF(Table1[[#This Row],[Column3]]=90785,\"Y\",\"N\")","v":"N"}]
[null,null,null,null,null,null,null,null,null,null,{"$f":"IF(Table1[[#This Row],[Column3]]=\"T1013\",\"Y\",\"N\")","v":"N"},{"$f":"IF(Table1[[#This Row],[Column3]]=90785,\"Y\",\"N\")","v":"N"}]
[null,null,null,null,null,null,null,null,null,null,{"$f":"IF(Table1[[#This Row],[Column3]]=\"T1013\",\"Y\",\"N\")","v":"N"},{"$f":"IF(Table1[[#This Row],[Column3]]=90785,\"Y\",\"N\")","v":"N"}]
[null,null,null,null,null,null,null,null,null,null,{"$f":"IF(Table1[[#This Row],[Column3]]=\"T1013\",\"Y\",\"N\")","v":"N"},{"$f":"IF(Table1[[#This Row],[Column3]]=90785,\"Y\",\"N\")","v":"N"}]
[null,null,null,null,null,null,null,null,null,null,{"$f":"IF(Table1[[#This Row],[Column3]]=\"T1013\",\"Y\",\"N\")","v":"N"},{"$f":"IF(Table1[[#This Row],[Column3]]=90785,\"Y\",\"N\")","v":"N"}]
[null,null,null,null,null,null,null,null,null,null,{"$f":"IF(Table1[[#This Row],[Column3]]=\"T1013\",\"Y\",\"N\")","v":"N"},{"$f":"IF(Table1[[#This Row],[Column3]]=90785,\"Y\",\"N\")","v":"N"}]
[null,null,null,null,null,null,null,null,null,null,{"$f":"IF(Table1[[#This Row],[Column3]]=\"T1013\",\"Y\",\"N\")","v":"N"},{"$f":"IF(Table1[[#This Row],[Column3]]=90785,\"Y\",\"N\")","v":"N"}]
[null,null,null,null,null,null,null,null,null,null,{"$f":"IF(Table1[[#This Row],[Column3]]=\"T1013\",\"Y\",\"N\")","v":"N"},{"$f":"IF(Table1[[#This Row],[Column3]]=90785,\"Y\",\"N\")","v":"N"}]
[null,null,null,null,null,null,null,null,null,null,{"$f":"IF(Table1[[#This Row],[Column3]]=\"T1013\",\"Y\",\"N\")","v":"N"},{"$f":"IF(Table1[[#This Row],[Column3]]=90785,\"Y\",\"N\")","v":"N"}]
[null,null,null,null,null,null,null,null,null,null,{"$f":"IF(Table1[[#This Row],[Column3]]=\"T1013\",\"Y\",\"N\")","v":"N"},{"$f":"IF(Table1[[#This Row],[Column3]]=90785,\"Y\",\"N\")","v":"N"}]
[null,null,null,null,null,null,null,null,null,null,{"$f":"IF(Table1[[#This Row],[Column3]]=\"T1013\",\"Y\",\"N\")","v":"N"},{"$f":"IF(Table1[[#This Row],[Column3]]=90785,\"Y\",\"N\")","v":"N"}]
[null,null,null,null,null,null,null,null,null,null,{"$f":"IF(Table1[[#This Row],[Column3]]=\"T1013\",\"Y\",\"N\")","v":"N"},{"$f":"IF(Table1[[#This Row],[Column3]]=90785,\"Y\",\"N\")","v":"N"}]
[null,null,null,null,null,null,null,null,null,null,{"$f":"IF(Table1[[#This Row],[Column3]]=\"T1013\",\"Y\",\"N\")","v":"N"},{"$f":"IF(Table1[[#This Row],[Column3]]=90785,\"Y\",\"N\")","v":"N"}]
[null,null,null,null,null,null,null,null,null,null,{"$f":"IF(Table1[[#This Row],[Column3]]=\"T1013\",\"Y\",\"N\")","v":"N"},{"$f":"IF(Table1[[#This Row],[Column3]]=90785,\"Y\",\"N\")","v":"N"}]
[null,null,null,null,null,null,null,null,null,null,{"$f":"IF(Table1[[#This Row],[Column3]]=\"T1013\",\"Y\",\"N\")","v":"N"},{"$f":"IF(Table1[[#This Row],[Column3]]=90785,\"Y\",\"N\")","v":"N"}]
[null,null,null,null,null,null,null,null,null,null,{"$f":"IF(Table1[[#This Row],[Column3]]=\"T1013\",\"Y\",\"N\")","v":"N"},{"$f":"IF(Table1[[#This Row],[Column3]]=90785,\"Y\",\"N\")","v":"N"}]
[null,null,null,null,null,null,null,null,null,null,{"$f":"IF(Table1[[#This Row],[Column3]]=\"T1013\",\"Y\",\"N\")","v":"N"},{"$f":"IF(Table1[[#This Row],[Column3]]=90785,\"Y\",\"N\")","v":"N"}]
[null,null,null,null,null,null,null,null,null,null,{"$f":"IF(Table1[[#This Row],[Column3]]=\"T1013\",\"Y\",\"N\")","v":"N"},{"$f":"IF(Table1[[#This Row],[Column3]]=90785,\"Y\",\"N\")","v":"N"}]
[null,null,null,null,null,null,null,null,null,null,{"$f":"IF(Table1[[#This Row],[Column3]]=\"T1013\",\"Y\",\"N\")","v":"N"},{"$f":"IF(Table1[[#This Row],[Column3]]=90785,\"Y\",\"N\")","v":"N"}]
[null,null,null,null,null,null,null,null,null,null,{"$f":"IF(Table1[[#This Row],[Column3]]=\"T1013\",\"Y\",\"N\")","v":"N"},{"$f":"IF(Table1[[#This Row],[Column3]]=90785,\"Y\",\"N\")","v":"N"}]
[null,null,null,null,null,null,null,null,null,null,{"$f":"IF(Table1[[#This Row],[Column3]]=\"T1013\",\"Y\",\"N\")","v":"N"},{"$f":"IF(Table1[[#This Row],[Column3]]=90785,\"Y\",\"N\")","v":"N"}]
[null,null,null,null,null,null,null,null,null,null,{"$f":"IF(Table1[[#This Row],[Column3]]=\"T1013\",\"Y\",\"N\")","v":"N"},{"$f":"IF(Table1[[#This Row],[Column3]]=90785,\"Y\",\"N\")","v":"N"}]
[null,null,null,null,null,null,null,null,null,null,{"$f":"IF(Table1[[#This Row],[Column3]]=\"T1013\",\"Y\",\"N\")","v":"N"},{"$f":"IF(Table1[[#This Row],[Column3]]=90785,\"Y\",\"N\")","v":"N"}]
[null,null,null,null,null,null,null,null,null,null,{"$f":"IF(Table1[[#This Row],[Column3]]=\"T1013\",\"Y\",\"N\")","v":"N"},{"$f":"IF(Table1[[#This Row],[Column3]]=90785,\"Y\",\"N\")","v":"N"}]
[null,null,null,null,null,null,null,null,null,null,{"$f":"IF(Table1[[#This Row],[Column3]]=\"T1013\",\"Y\",\"N\")","v":"N"},{"$f":"IF(Table1[[#This Row],[Column3]]=90785,\"Y\",\"N\")","v":"N"}]
[null,null,null,null,null,null,null,null,null,null,{"$f":"IF(Table1[[#This Row],[Column3]]=\"T1013\",\"Y\",\"N\")","v":"N"},{"$f":"IF(Table1[[#This Row],[Column3]]=90785,\"Y\",\"N\")","v":"N"}]
[null,null,null,null,null,null,null,null,null,null,{"$f":"IF(Table1[[#This Row],[Column3]]=\"T1013\",\"Y\",\"N\")","v":"N"},{"$f":"IF(Table1[[#This Row],[Column3]]=90785,\"Y\",\"N\")","v":"N"}]
[null,null,null,null,null,null,null,null,null,null,{"$f":"IF(Table1[[#This Row],[Column3]]=\"T1013\",\"Y\",\"N\")","v":"N"},{"$f":"IF(Table1[[#This Row],[Column3]]=90785,\"Y\",\"N\")","v":"N"}]
[null,null,null,null,null,null,null,null,null,null,{"$f":"IF(Table1[[#This Row],[Column3]]=\"T1013\",\"Y\",\"N\")","v":"N"},{"$f":"IF(Table1[[#This Row],[Column3]]=90785,\"Y\",\"N\")","v":"N"}]
[null,null,null,null,null,null,null,null,null,null,{"$f":"IF(Table1[[#This Row],[Column3]]=\"T1013\",\"Y\",\"N\")","v":"N"},{"$f":"IF(Table1[[#This Row],[Column3]]=90785,\"Y\",\"N\")","v":"N"}]
[null,null,null,null,null,null,null,null,null,null,{"$f":"IF(Table1[[#This Row],[Column3]]=\"T1013\",\"Y\",\"N\")","v":"N"},{"$f":"IF(Table1[[#This Row],[Column3]]=90785,\"Y\",\"N\")","v":"N"}]
[null,null,null,null,null,null,null,null,null,null,{"$f":"IF(Table1[[#This Row],[Column3]]=\"T1013\",\"Y\",\"N\")","v":"N"},{"$f":"IF(Table1[[#This Row],[Column3]]=90785,\"Y\",\"N\")","v":"N"}]
[null,null,null,null,null,null,null,null,null,null,{"$f":"IF(Table1[[#This Row],[Column3]]=\"T1013\",\"Y\",\"N\")","v":"N"},{"$f":"IF(Table1[[#This Row],[Column3]]=90785,\"Y\",\"N\")","v":"N"}]
[null,null,null,null,null,null,null,null,null,null,{"$f":"IF(Table1[[#This Row],[Column3]]=\"T1013\",\"Y\",\"N\")","v":"N"},{"$f":"IF(Table1[[#This Row],[Column3]]=90785,\"Y\",\"N\")","v":"N"}]
[null,null,null,null,null,null,null,null,null,null,{"$f":"IF(Table1[[#This Row],[Column3]]=\"T1013\",\"Y\",\"N\")","v":"N"},{"$f":"IF(Table1[[#This Row],[Column3]]=90785,\"Y\",\"N\")","v":"N"}]
[null,null,null,null,null,null,null,null,null,null,{"$f":"IF(Table1[[#This Row],[Column3]]=\"T1013\",\"Y\",\"N\")","v":"N"},{"$f":"IF(Table1[[#This Row],[Column3]]=90785,\"Y\",\"N\")","v":"N"}]
[null,null,null,null,null,null,null,null,null,null,{"$f":"IF(Table1[[#This Row],[Column3]]=\"T1013\",\"Y\",\"N\")","v":"N"},{"$f":"IF(Table1[[#This Row],[Column3]]=90785,\"Y\",\"N\")","v":"N"}]
[null,null,null,null,null,null,null,null,null,null,{"$f":"IF(Table1[[#This Row],[Column3]]=\"T1013\",\"Y\",\"N\")","v":"N"},{"$f":"IF(Table1[[#This Row],[Column3]]=90785,\"Y\",\"N\")","v":"N"}]
[null,null,null,null,null,null,null,null,null,null,{"$f":"IF(Table1[[#This Row],[Column3]]=\"T1013\",\"Y\",\"N\")","v":"N"},{"$f":"IF(Table1[[#This Row],[Column3]]=90785,\"Y\",\"N\")","v":"N"}]
[null,null,null,null,null,null,null,null,null,null,{"$f":"IF(Table1[[#This Row],[Column3]]=\"T1013\",\"Y\",\"N\")","v":"N"},{"$f":"IF(Table1[[#This Row],[Column3]]=90785,\"Y\",\"N\")","v":"N"}]
[null,null,null,null,null,null,null,null,null,null,{"$f":"IF(Table1[[#This Row],[Column3]]=\"T1013\",\"Y\",\"N\")","v":"N"},{"$f":"IF(Table1[[#This Row],[Column3]]=90785,\"Y\",\"N\")","v":"N"}]
[null,null,null,null,null,null,null,null,null,null,{"$f":"IF(Table1[[#This Row],[Column3]]=\"T1013\",\"Y\",\"N\")","v":"N"},{"$f":"IF(Table1[[#This Row],[Column3]]=90785,\"Y\",\"N\")","v":"N"}]
[null,null,null,null,null,null,null,null,null,null,{"$f":"IF(Table1[[#This Row],[Column3]]=\"T1013\",\"Y\",\"N\")","v":"N"},{"$f":"IF(Table1[[#This Row],[Column3]]=90785,\"Y\",\"N\")","v":"N"}]
[null,null,null,null,null,null,null,null,null,null,{"$f":"IF(Table1[[#This Row],[Column3]]=\"T1013\",\"Y\",\"N\")","v":"N"},{"$f":"IF(Table1[[#This Row],[Column3]]=90785,\"Y\",\"N\")","v":"N"}]
[null,null,null,null,null,null,null,null,null,null,{"$f":"IF(Table1[[#This Row],[Column3]]=\"T1013\",\"Y\",\"N\")","v":"N"},{"$f":"IF(Table1[[#This Row],[Column3]]=90785,\"Y\",\"N\")","v":"N"}]
[null,null,null,null,null,null,null,null,null,null,{"$f":"IF(Table1[[#This Row],[Column3]]=\"T1013\",\"Y\",\"N\")","v":"N"},{"$f":"IF(Table1[[#This Row],[Column3]]=90785,\"Y\",\"N\")","v":"N"}]
[null,null,null,null,null,null,null,null,null,null,{"$f":"IF(Table1[[#This Row],[Column3]]=\"T1013\",\"Y\",\"N\")","v":"N"},{"$f":"IF(Table1[[#This Row],[Column3]]=90785,\"Y\",\"N\")","v":"N"}]
[null,null,null,null,null,null,null,null,null,null,{"$f":"IF(Table1[[#This Row],[Column3]]=\"T1013\",\"Y\",\"N\")","v":"N"},{"$f":"IF(Table1[[#This Row],[Column3]]=90785,\"Y\",\"N\")","v":"N"}]
[null,null,null,null,null,null,null,null,null,null,{"$f":"IF(Table1[[#This Row],[Column3]]=\"T1013\",\"Y\",\"N\")","v":"N"},{"$f":"IF(Table1[[#This Row],[Column3]]=90785,\"Y\",\"N\")","v":"N"}]
[null,null,null,null,null,null,null,null,null,null,{"$f":"IF(Table1[[#This Row],[Column3]]=\"T1013\",\"Y\",\"N\")","v":"N"},{"$f":"IF(Table1[[#This Row],[Column3]]=90785,\"Y\",\"N\")","v":"N"}]
[null,null,null,null,null,null,null,null,null,null,{"$f":"IF(Table1[[#This Row],[Column3]]=\"T1013\",\"Y\",\"N\")","v":"N"},{"$f":"IF(Table1[[#This Row],[Column3]]=90785,\"Y\",\"N\")","v":"N"}]
[null,null,null,null,null,null,null,null,null,null,{"$f":"IF(Table1[[#This Row],[Column3]]=\"T1013\",\"Y\",\"N\")","v":"N"},{"$f":"IF(Table1[[#This Row],[Column3]]=90785,\"Y\",\"N\")","v":"N"}]
[null,null,null,null,null,null,null,null,null,null,{"$f":"IF(Table1[[#This Row],[Column3]]=\"T1013\",\"Y\",\"N\")","v":"N"},{"$f":"IF(Table1[[#This Row],[Column3]]=90785,\"Y\",\"N\")","v":"N"}]
[null,null,null,null,null,null,null,null,null,null,{"$f":"IF(Table1[[#This Row],[Column3]]=\"T1013\",\"Y\",\"N\")","v":"N"},{"$f":"IF(Table1[[#This Row],[Column3]]=90785,\"Y\",\"N\")","v":"N"}]
[null,null,null,null,null,null,null,null,null,null,{"$f":"IF(Table1[[#This Row],[Column3]]=\"T1013\",\"Y\",\"N\")","v":"N"},{"$f":"IF(Table1[[#This Row],[Column3]]=90785,\"Y\",\"N\")","v":"N"}]
[null,null,null,null,null,null,null,null,null,null,{"$f":"IF(Table1[[#This Row],[Column3]]=\"T1013\",\"Y\",\"N\")","v":"N"},{"$f":"IF(Table1[[#This Row],[Column3]]=90785,\"Y\",\"N\")","v":"N"}]
[null,null,null,null,null,null,null,null,null,null,{"$f":"IF(Table1[[#This Row],[Column3]]=\"T1013\",\"Y\",\"N\")","v":"N"},{"$f":"IF(Table1[[#This Row],[Column3]]=90785,\"Y\",\"N\")","v":"N"}]
[null,null,null,null,null,null,null,null,null,null,{"$f":"IF(Table1[[#This Row],[Column3]]=\"T1013\",\"Y\",\"N\")","v":"N"},{"$f":"IF(Table1[[#This Row],[Column3]]=90785,\"Y\",\"N\")","v":"N"}]
[null,null,null,null,null,null,null,null,null,null,{"$f":"IF(Table1[[#This Row],[Column3]]=\"T1013\",\"Y\",\"N\")","v":"N"},{"$f":"IF(Table1[[#This Row],[Column3]]=90785,\"Y\",\"N\")","v":"N"}]
[null,null,null,null,null,null,null,null,null,null,{"$f":"IF(Table1[[#This Row],[Column3]]=\"T1013\",\"Y\",\"N\")","v":"N"},{"$f":"IF(Table1[[#This Row],[Column3]]=90785,\"Y\",\"N\")","v":"N"}]
[null,null,null,null,null,null,null,null,null,null,{"$f":"IF(Table1[[#This Row],[Column3]]=\"T1013\",\"Y\",\"N\")","v":"N"},{"$f":"IF(Table1[[#This Row],[Column3]]=90785,\"Y\",\"N\")","v":"N"}]
[null,null,null,null,null,null,null,null,null,null,{"$f":"IF(Table1[[#This Row],[Column3]]=\"T1013\",\"Y\",\"N\")","v":"N"},{"$f":"IF(Table1[[#This Row],[Column3]]=90785,\"Y\",\"N\")","v":"N"}]
[null,null,null,null,null,null,null,null,null,null,{"$f":"IF(Table1[[#This Row],[Column3]]=\"T1013\",\"Y\",\"N\")","v":"N"},{"$f":"IF(Table1[[#This Row],[Column3]]=90785,\"Y\",\"N\")","v":"N"}]
[null,null,null,null,null,null,null,null,null,null,{"$f":"IF(Table1[[#This Row],[Column3]]=\"T1013\",\"Y\",\"N\")","v":"N"},{"$f":"IF(Table1[[#This Row],[Column3]]=90785,\"Y\",\"N\")","v":"N"}]
[null,null,null,null,null,null,null,null,null,null,{"$f":"IF(Table1[[#This Row],[Column3]]=\"T1013\",\"Y\",\"N\")","v":"N"},{"$f":"IF(Table1[[#This Row],[Column3]]=90785,\"Y\",\"N\")","v":"N"}]
[null,null,null,null,null,null,null,null,null,null,{"$f":"IF(Table1[[#This Row],[Column3]]=\"T1013\",\"Y\",\"N\")","v":"N"},{"$f":"IF(Table1[[#This Row],[Column3]]=90785,\"Y\",\"N\")","v":"N"}]
[null,null,null,null,null,null,null,null,null,null,{"$f":"IF(Table1[[#This Row],[Column3]]=\"T1013\",\"Y\",\"N\")","v":"N"},{"$f":"IF(Table1[[#This Row],[Column3]]=90785,\"Y\",\"N\")","v":"N"}]
[null,null,null,null,null,null,null,null,null,null,{"$f":"IF(Table1[[#This Row],[Column3]]=\"T1013\",\"Y\",\"N\")","v":"N"},{"$f":"IF(Table1[[#This Row],[Column3]]=90785,\"Y\",\"N\")","v":"N"}]
[null,null,null,null,null,null,null,null,null,null,{"$f":"IF(Table1[[#This Row],[Column3]]=\"T1013\",\"Y\",\"N\")","v":"N"},{"$f":"IF(Table1[[#This Row],[Column3]]=90785,\"Y\",\"N\")","v":"N"}]
[null,null,null,null,null,null,null,null,null,null,{"$f":"IF(Table1[[#This Row],[Column3]]=\"T1013\",\"Y\",\"N\")","v":"N"},{"$f":"IF(Table1[[#This Row],[Column3]]=90785,\"Y\",\"N\")","v":"N"}]
[null,null,null,null,null,null,null,null,null,null,{"$f":"IF(Table1[[#This Row],[Column3]]=\"T1013\",\"Y\",\"N\")","v":"N"},{"$f":"IF(Table1[[#This Row],[Column3]]=90785,\"Y\",\"N\")","v":"N"}]
[null,null,null,null,null,null,null,null,null,null,{"$f":"IF(Table1[[#This Row],[Column3]]=\"T1013\",\"Y\",\"N\")","v":"N"},{"$f":"IF(Table1[[#This Row],[Column3]]=90785,\"Y\",\"N\")","v":"N"}]
[null,null,null,null,null,null,null,null,null,null,{"$f":"IF(Table1[[#This Row],[Column3]]=\"T1013\",\"Y\",\"N\")","v":"N"},{"$f":"IF(Table1[[#This Row],[Column3]]=90785,\"Y\",\"N\")","v":"N"}]
[null,null,null,null,null,null,null,null,null,null,{"$f":"IF(Table1[[#This Row],[Column3]]=\"T1013\",\"Y\",\"N\")","v":"N"},{"$f":"IF(Table1[[#This Row],[Column3]]=90785,\"Y\",\"N\")","v":"N"}]
[null,null,null,null,null,null,null,null,null,null,{"$f":"IF(Table1[[#This Row],[Column3]]=\"T1013\",\"Y\",\"N\")","v":"N"},{"$f":"IF(Table1[[#This Row],[Column3]]=90785,\"Y\",\"N\")","v":"N"}]
[null,null,null,null,null,null,null,null,null,null,{"$f":"IF(Table1[[#This Row],[Column3]]=\"T1013\",\"Y\",\"N\")","v":"N"},{"$f":"IF(Table1[[#This Row],[Column3]]=90785,\"Y\",\"N\")","v":"N"}]
[null,null,null,null,null,null,null,null,null,null,{"$f":"IF(Table1[[#This Row],[Column3]]=\"T1013\",\"Y\",\"N\")","v":"N"},{"$f":"IF(Table1[[#This Row],[Column3]]=90785,\"Y\",\"N\")","v":"N"}]
[null,null,null,null,null,null,null,null,null,null,{"$f":"IF(Table1[[#This Row],[Column3]]=\"T1013\",\"Y\",\"N\")","v":"N"},{"$f":"IF(Table1[[#This Row],[Column3]]=90785,\"Y\",\"N\")","v":"N"}]
[null,null,null,null,null,null,null,null,null,null,{"$f":"IF(Table1[[#This Row],[Column3]]=\"T1013\",\"Y\",\"N\")","v":"N"},{"$f":"IF(Table1[[#This Row],[Column3]]=90785,\"Y\",\"N\")","v":"N"}]
[null,null,null,null,null,null,null,null,null,null,{"$f":"IF(Table1[[#This Row],[Column3]]=\"T1013\",\"Y\",\"N\")","v":"N"},{"$f":"IF(Table1[[#This Row],[Column3]]=90785,\"Y\",\"N\")","v":"N"}]
[null,null,null,null,null,null,null,null,null,null,{"$f":"IF(Table1[[#This Row],[Column3]]=\"T1013\",\"Y\",\"N\")","v":"N"},{"$f":"IF(Table1[[#This Row],[Column3]]=90785,\"Y\",\"N\")","v":"N"}]
[null,null,null,null,null,null,null,null,null,null,{"$f":"IF(Table1[[#This Row],[Column3]]=\"T1013\",\"Y\",\"N\")","v":"N"},{"$f":"IF(Table1[[#This Row],[Column3]]=90785,\"Y\",\"N\")","v":"N"}]
[null,null,null,null,null,null,null,null,null,null,{"$f":"IF(Table1[[#This Row],[Column3]]=\"T1013\",\"Y\",\"N\")","v":"N"},{"$f":"IF(Table1[[#This Row],[Column3]]=90785,\"Y\",\"N\")","v":"N"}]
[null,null,null,null,null,null,null,null,null,null,{"$f":"IF(Table1[[#This Row],[Column3]]=\"T1013\",\"Y\",\"N\")","v":"N"},{"$f":"IF(Table1[[#This Row],[Column3]]=90785,\"Y\",\"N\")","v":"N"}]
[null,null,null,null,null,null,null,null,null,null,{"$f":"IF(Table1[[#This Row],[Column3]]=\"T1013\",\"Y\",\"N\")","v":"N"},{"$f":"IF(Table1[[#This Row],[Column3]]=90785,\"Y\",\"N\")","v":"N"}]
[null,null,null,null,null,null,null,null,null,null,{"$f":"IF(Table1[[#This Row],[Column3]]=\"T1013\",\"Y\",\"N\")","v":"N"},{"$f":"IF(Table1[[#This Row],[Column3]]=90785,\"Y\",\"N\")","v":"N"}]
[null,null,null,null,null,null,null,null,null,null,{"$f":"IF(Table1[[#This Row],[Column3]]=\"T1013\",\"Y\",\"N\")","v":"N"},{"$f":"IF(Table1[[#This Row],[Column3]]=90785,\"Y\",\"N\")","v":"N"}]
[null,null,null,null,null,null,null,null,null,null,{"$f":"IF(Table1[[#This Row],[Column3]]=\"T1013\",\"Y\",\"N\")","v":"N"},{"$f":"IF(Table1[[#This Row],[Column3]]=90785,\"Y\",\"N\")","v":"N"}]
[null,null,null,null,null,null,null,null,null,null,{"$f":"IF(Table1[[#This Row],[Column3]]=\"T1013\",\"Y\",\"N\")","v":"N"},{"$f":"IF(Table1[[#This Row],[Column3]]=90785,\"Y\",\"N\")","v":"N"}]
[null,null,null,null,null,null,null,null,null,null,{"$f":"IF(Table1[[#This Row],[Column3]]=\"T1013\",\"Y\",\"N\")","v":"N"},{"$f":"IF(Table1[[#This Row],[Column3]]=90785,\"Y\",\"N\")","v":"N"}]
[null,null,null,null,null,null,null,null,null,null,{"$f":"IF(Table1[[#This Row],[Column3]]=\"T1013\",\"Y\",\"N\")","v":"N"},{"$f":"IF(Table1[[#This Row],[Column3]]=90785,\"Y\",\"N\")","v":"N"}]
[null,null,null,null,null,null,null,null,null,null,{"$f":"IF(Table1[[#This Row],[Column3]]=\"T1013\",\"Y\",\"N\")","v":"N"},{"$f":"IF(Table1[[#This Row],[Column3]]=90785,\"Y\",\"N\")","v":"N"}]
[null,null,null,null,null,null,null,null,null,null,{"$f":"IF(Table1[[#This Row],[Column3]]=\"T1013\",\"Y\",\"N\")","v":"N"},{"$f":"IF(Table1[[#This Row],[Column3]]=90785,\"Y\",\"N\")","v":"N"}]
[null,null,null,null,null,null,null,null,null,null,{"$f":"IF(Table1[[#This Row],[Column3]]=\"T1013\",\"Y\",\"N\")","v":"N"},{"$f":"IF(Table1[[#This Row],[Column3]]=90785,\"Y\",\"N\")","v":"N"}]
[null,null,null,null,null,null,null,null,null,null,{"$f":"IF(Table1[[#This Row],[Column3]]=\"T1013\",\"Y\",\"N\")","v":"N"},{"$f":"IF(Table1[[#This Row],[Column3]]=90785,\"Y\",\"N\")","v":"N"}]
[null,null,null,null,null,null,null,null,null,null,{"$f":"IF(Table1[[#This Row],[Column3]]=\"T1013\",\"Y\",\"N\")","v":"N"},{"$f":"IF(Table1[[#This Row],[Column3]]=90785,\"Y\",\"N\")","v":"N"}]
[null,null,null,null,null,null,null,null,null,null,{"$f":"IF(Table1[[#This Row],[Column3]]=\"T1013\",\"Y\",\"N\")","v":"N"},{"$f":"IF(Table1[[#This Row],[Column3]]=90785,\"Y\",\"N\")","v":"N"}]
[null,null,null,null,null,null,null,null,null,null,{"$f":"IF(Table1[[#This Row],[Column3]]=\"T1013\",\"Y\",\"N\")","v":"N"},{"$f":"IF(Table1[[#This Row],[Column3]]=90785,\"Y\",\"N\")","v":"N"}]
[null,null,null,null,null,null,null,null,null,null,{"$f":"IF(Table1[[#This Row],[Column3]]=\"T1013\",\"Y\",\"N\")","v":"N"},{"$f":"IF(Table1[[#This Row],[Column3]]=90785,\"Y\",\"N\")","v":"N"}]
[null,null,null,null,null,null,null,null,null,null,{"$f":"IF(Table1[[#This Row],[Column3]]=\"T1013\",\"Y\",\"N\")","v":"N"},{"$f":"IF(Table1[[#This Row],[Column3]]=90785,\"Y\",\"N\")","v":"N"}]
[null,null,null,null,null,null,null,null,null,null,{"$f":"IF(Table1[[#This Row],[Column3]]=\"T1013\",\"Y\",\"N\")","v":"N"},{"$f":"IF(Table1[[#This Row],[Column3]]=90785,\"Y\",\"N\")","v":"N"}]
[null,null,null,null,null,null,null,null,null,null,{"$f":"IF(Table1[[#This Row],[Column3]]=\"T1013\",\"Y\",\"N\")","v":"N"},{"$f":"IF(Table1[[#This Row],[Column3]]=90785,\"Y\",\"N\")","v":"N"}]
[null,null,null,null,null,null,null,null,null,null,{"$f":"IF(Table1[[#This Row],[Column3]]=\"T1013\",\"Y\",\"N\")","v":"N"},{"$f":"IF(Table1[[#This Row],[Column3]]=90785,\"Y\",\"N\")","v":"N"}]
[null,null,null,null,null,null,null,null,null,null,{"$f":"IF(Table1[[#This Row],[Column3]]=\"T1013\",\"Y\",\"N\")","v":"N"},{"$f":"IF(Table1[[#This Row],[Column3]]=90785,\"Y\",\"N\")","v":"N"}]
[null,null,null,null,null,null,null,null,null,null,{"$f":"IF(Table1[[#This Row],[Column3]]=\"T1013\",\"Y\",\"N\")","v":"N"},{"$f":"IF(Table1[[#This Row],[Column3]]=90785,\"Y\",\"N\")","v":"N"}]
[null,null,null,null,null,null,null,null,null,null,{"$f":"IF(Table1[[#This Row],[Column3]]=\"T1013\",\"Y\",\"N\")","v":"N"},{"$f":"IF(Table1[[#This Row],[Column3]]=90785,\"Y\",\"N\")","v":"N"}]
[null,null,null,null,null,null,null,null,null,null,{"$f":"IF(Table1[[#This Row],[Column3]]=\"T1013\",\"Y\",\"N\")","v":"N"},{"$f":"IF(Table1[[#This Row],[Column3]]=90785,\"Y\",\"N\")","v":"N"}]
[null,null,null,null,null,null,null,null,null,null,{"$f":"IF(Table1[[#This Row],[Column3]]=\"T1013\",\"Y\",\"N\")","v":"N"},{"$f":"IF(Table1[[#This Row],[Column3]]=90785,\"Y\",\"N\")","v":"N"}]
[null,null,null,null,null,null,null,null,null,null,{"$f":"IF(Table1[[#This Row],[Column3]]=\"T1013\",\"Y\",\"N\")","v":"N"},{"$f":"IF(Table1[[#This Row],[Column3]]=90785,\"Y\",\"N\")","v":"N"}]
[null,null,null,null,null,null,null,null,null,null,{"$f":"IF(Table1[[#This Row],[Column3]]=\"T1013\",\"Y\",\"N\")","v":"N"},{"$f":"IF(Table1[[#This Row],[Column3]]=90785,\"Y\",\"N\")","v":"N"}]
[null,null,null,null,null,null,null,null,null,null,{"$f":"IF(Table1[[#This Row],[Column3]]=\"T1013\",\"Y\",\"N\")","v":"N"},{"$f":"IF(Table1[[#This Row],[Column3]]=90785,\"Y\",\"N\")","v":"N"}]
[null,null,null,null,null,null,null,null,null,null,{"$f":"IF(Table1[[#This Row],[Column3]]=\"T1013\",\"Y\",\"N\")","v":"N"},{"$f":"IF(Table1[[#This Row],[Column3]]=90785,\"Y\",\"N\")","v":"N"}]
[null,null,null,null,null,null,null,null,null,null,{"$f":"IF(Table1[[#This Row],[Column3]]=\"T1013\",\"Y\",\"N\")","v":"N"},{"$f":"IF(Table1[[#This Row],[Column3]]=90785,\"Y\",\"N\")","v":"N"}]
[null,null,null,null,null,null,null,null,null,null,{"$f":"IF(Table1[[#This Row],[Column3]]=\"T1013\",\"Y\",\"N\")","v":"N"},{"$f":"IF(Table1[[#This Row],[Column3]]=90785,\"Y\",\"N\")","v":"N"}]
[null,null,null,null,null,null,null,null,null,null,{"$f":"IF(Table1[[#This Row],[Column3]]=\"T1013\",\"Y\",\"N\")","v":"N"},{"$f":"IF(Table1[[#This Row],[Column3]]=90785,\"Y\",\"N\")","v":"N"}]
[null,null,null,null,null,null,null,null,null,null,{"$f":"IF(Table1[[#This Row],[Column3]]=\"T1013\",\"Y\",\"N\")","v":"N"},{"$f":"IF(Table1[[#This Row],[Column3]]=90785,\"Y\",\"N\")","v":"N"}]
[null,null,null,null,null,null,null,null,null,null,{"$f":"IF(Table1[[#This Row],[Column3]]=\"T1013\",\"Y\",\"N\")","v":"N"},{"$f":"IF(Table1[[#This Row],[Column3]]=90785,\"Y\",\"N\")","v":"N"}]
[null,null,null,null,null,null,null,null,null,null,{"$f":"IF(Table1[[#This Row],[Column3]]=\"T1013\",\"Y\",\"N\")","v":"N"},{"$f":"IF(Table1[[#This Row],[Column3]]=90785,\"Y\",\"N\")","v":"N"}]
[null,null,null,null,null,null,null,null,null,null,{"$f":"IF(Table1[[#This Row],[Column3]]=\"T1013\",\"Y\",\"N\")","v":"N"},{"$f":"IF(Table1[[#This Row],[Column3]]=90785,\"Y\",\"N\")","v":"N"}]
[null,null,null,null,null,null,null,null,null,null,{"$f":"IF(Table1[[#This Row],[Column3]]=\"T1013\",\"Y\",\"N\")","v":"N"},{"$f":"IF(Table1[[#This Row],[Column3]]=90785,\"Y\",\"N\")","v":"N"}]
[null,null,null,null,null,null,null,null,null,null,{"$f":"IF(Table1[[#This Row],[Column3]]=\"T1013\",\"Y\",\"N\")","v":"N"},{"$f":"IF(Table1[[#This Row],[Column3]]=90785,\"Y\",\"N\")","v":"N"}]
[null,null,null,null,null,null,null,null,null,null,{"$f":"IF(Table1[[#This Row],[Column3]]=\"T1013\",\"Y\",\"N\")","v":"N"},{"$f":"IF(Table1[[#This Row],[Column3]]=90785,\"Y\",\"N\")","v":"N"}]
[null,null,null,null,null,null,null,null,null,null,{"$f":"IF(Table1[[#This Row],[Column3]]=\"T1013\",\"Y\",\"N\")","v":"N"},{"$f":"IF(Table1[[#This Row],[Column3]]=90785,\"Y\",\"N\")","v":"N"}]
[null,null,null,null,null,null,null,null,null,null,{"$f":"IF(Table1[[#This Row],[Column3]]=\"T1013\",\"Y\",\"N\")","v":"N"},{"$f":"IF(Table1[[#This Row],[Column3]]=90785,\"Y\",\"N\")","v":"N"}]
[null,null,null,null,null,null,null,null,null,null,{"$f":"IF(Table1[[#This Row],[Column3]]=\"T1013\",\"Y\",\"N\")","v":"N"},{"$f":"IF(Table1[[#This Row],[Column3]]=90785,\"Y\",\"N\")","v":"N"}]
[null,null,null,null,null,null,null,null,null,null,{"$f":"IF(Table1[[#This Row],[Column3]]=\"T1013\",\"Y\",\"N\")","v":"N"},{"$f":"IF(Table1[[#This Row],[Column3]]=90785,\"Y\",\"N\")","v":"N"}]
[null,null,null,null,null,null,null,null,null,null,{"$f":"IF(Table1[[#This Row],[Column3]]=\"T1013\",\"Y\",\"N\")","v":"N"},{"$f":"IF(Table1[[#This Row],[Column3]]=90785,\"Y\",\"N\")","v":"N"}]
[null,null,null,null,null,null,null,null,null,null,{"$f":"IF(Table1[[#This Row],[Column3]]=\"T1013\",\"Y\",\"N\")","v":"N"},{"$f":"IF(Table1[[#This Row],[Column3]]=90785,\"Y\",\"N\")","v":"N"}]
[null,null,null,null,null,null,null,null,null,null,{"$f":"IF(Table1[[#This Row],[Column3]]=\"T1013\",\"Y\",\"N\")","v":"N"},{"$f":"IF(Table1[[#This Row],[Column3]]=90785,\"Y\",\"N\")","v":"N"}]
[null,null,null,null,null,null,null,null,null,null,{"$f":"IF(Table1[[#This Row],[Column3]]=\"T1013\",\"Y\",\"N\")","v":"N"},{"$f":"IF(Table1[[#This Row],[Column3]]=90785,\"Y\",\"N\")","v":"N"}]
[null,null,null,null,null,null,null,null,null,null,{"$f":"IF(Table1[[#This Row],[Column3]]=\"T1013\",\"Y\",\"N\")","v":"N"},{"$f":"IF(Table1[[#This Row],[Column3]]=90785,\"Y\",\"N\")","v":"N"}]
[null,null,null,null,null,null,null,null,null,null,{"$f":"IF(Table1[[#This Row],[Column3]]=\"T1013\",\"Y\",\"N\")","v":"N"},{"$f":"IF(Table1[[#This Row],[Column3]]=90785,\"Y\",\"N\")","v":"N"}]
[null,null,null,null,null,null,null,null,null,null,{"$f":"IF(Table1[[#This Row],[Column3]]=\"T1013\",\"Y\",\"N\")","v":"N"},{"$f":"IF(Table1[[#This Row],[Column3]]=90785,\"Y\",\"N\")","v":"N"}]
[null,null,null,null,null,null,null,null,null,null,{"$f":"IF(Table1[[#This Row],[Column3]]=\"T1013\",\"Y\",\"N\")","v":"N"},{"$f":"IF(Table1[[#This Row],[Column3]]=90785,\"Y\",\"N\")","v":"N"}]
[null,null,null,null,null,null,null,null,null,null,{"$f":"IF(Table1[[#This Row],[Column3]]=\"T1013\",\"Y\",\"N\")","v":"N"},{"$f":"IF(Table1[[#This Row],[Column3]]=90785,\"Y\",\"N\")","v":"N"}]
[null,null,null,null,null,null,null,null,null,null,{"$f":"IF(Table1[[#This Row],[Column3]]=\"T1013\",\"Y\",\"N\")","v":"N"},{"$f":"IF(Table1[[#This Row],[Column3]]=90785,\"Y\",\"N\")","v":"N"}]
[null,null,null,null,null,null,null,null,null,null,{"$f":"IF(Table1[[#This Row],[Column3]]=\"T1013\",\"Y\",\"N\")","v":"N"},{"$f":"IF(Table1[[#This Row],[Column3]]=90785,\"Y\",\"N\")","v":"N"}]
[null,null,null,null,null,null,null,null,null,null,{"$f":"IF(Table1[[#This Row],[Column3]]=\"T1013\",\"Y\",\"N\")","v":"N"},{"$f":"IF(Table1[[#This Row],[Column3]]=90785,\"Y\",\"N\")","v":"N"}]
[null,null,null,null,null,null,null,null,null,null,{"$f":"IF(Table1[[#This Row],[Column3]]=\"T1013\",\"Y\",\"N\")","v":"N"},{"$f":"IF(Table1[[#This Row],[Column3]]=90785,\"Y\",\"N\")","v":"N"}]
[null,null,null,null,null,null,null,null,null,null,{"$f":"IF(Table1[[#This Row],[Column3]]=\"T1013\",\"Y\",\"N\")","v":"N"},{"$f":"IF(Table1[[#This Row],[Column3]]=90785,\"Y\",\"N\")","v":"N"}]
[null,null,null,null,null,null,null,null,null,null,{"$f":"IF(Table1[[#This Row],[Column3]]=\"T1013\",\"Y\",\"N\")","v":"N"},{"$f":"IF(Table1[[#This Row],[Column3]]=90785,\"Y\",\"N\")","v":"N"}]
[null,null,null,null,null,null,null,null,null,null,{"$f":"IF(Table1[[#This Row],[Column3]]=\"T1013\",\"Y\",\"N\")","v":"N"},{"$f":"IF(Table1[[#This Row],[Column3]]=90785,\"Y\",\"N\")","v":"N"}]
[null,null,null,null,null,null,null,null,null,null,{"$f":"IF(Table1[[#This Row],[Column3]]=\"T1013\",\"Y\",\"N\")","v":"N"},{"$f":"IF(Table1[[#This Row],[Column3]]=90785,\"Y\",\"N\")","v":"N"}]
[null,null,null,null,null,null,null,null,null,null,{"$f":"IF(Table1[[#This Row],[Column3]]=\"T1013\",\"Y\",\"N\")","v":"N"},{"$f":"IF(Table1[[#This Row],[Column3]]=90785,\"Y\",\"N\")","v":"N"}]
[null,null,null,null,null,null,null,null,null,null,{"$f":"IF(Table1[[#This Row],[Column3]]=\"T1013\",\"Y\",\"N\")","v":"N"},{"$f":"IF(Table1[[#This Row],[Column3]]=90785,\"Y\",\"N\")","v":"N"}]
[null,null,null,null,null,null,null,null,null,null,{"$f":"IF(Table1[[#This Row],[Column3]]=\"T1013\",\"Y\",\"N\")","v":"N"},{"$f":"IF(Table1[[#This Row],[Column3]]=90785,\"Y\",\"N\")","v":"N"}]
[null,null,null,null,null,null,null,null,null,null,{"$f":"IF(Table1[[#This Row],[Column3]]=\"T1013\",\"Y\",\"N\")","v":"N"},{"$f":"IF(Table1[[#This Row],[Column3]]=90785,\"Y\",\"N\")","v":"N"}]
[null,null,null,null,null,null,null,null,null,null,{"$f":"IF(Table1[[#This Row],[Column3]]=\"T1013\",\"Y\",\"N\")","v":"N"},{"$f":"IF(Table1[[#This Row],[Column3]]=90785,\"Y\",\"N\")","v":"N"}]
[null,null,null,null,null,null,null,null,null,null,{"$f":"IF(Table1[[#This Row],[Column3]]=\"T1013\",\"Y\",\"N\")","v":"N"},{"$f":"IF(Table1[[#This Row],[Column3]]=90785,\"Y\",\"N\")","v":"N"}]
[null,null,null,null,null,null,null,null,null,null,{"$f":"IF(Table1[[#This Row],[Column3]]=\"T1013\",\"Y\",\"N\")","v":"N"},{"$f":"IF(Table1[[#This Row],[Column3]]=90785,\"Y\",\"N\")","v":"N"}]
[null,null,null,null,null,null,null,null,null,null,{"$f":"IF(Table1[[#This Row],[Column3]]=\"T1013\",\"Y\",\"N\")","v":"N"},{"$f":"IF(Table1[[#This Row],[Column3]]=90785,\"Y\",\"N\")","v":"N"}]
[null,null,null,null,null,null,null,null,null,null,{"$f":"IF(Table1[[#This Row],[Column3]]=\"T1013\",\"Y\",\"N\")","v":"N"},{"$f":"IF(Table1[[#This Row],[Column3]]=90785,\"Y\",\"N\")","v":"N"}]
[null,null,null,null,null,null,null,null,null,null,{"$f":"IF(Table1[[#This Row],[Column3]]=\"T1013\",\"Y\",\"N\")","v":"N"},{"$f":"IF(Table1[[#This Row],[Column3]]=90785,\"Y\",\"N\")","v":"N"}]
[null,null,null,null,null,null,null,null,null,null,{"$f":"IF(Table1[[#This Row],[Column3]]=\"T1013\",\"Y\",\"N\")","v":"N"},{"$f":"IF(Table1[[#This Row],[Column3]]=90785,\"Y\",\"N\")","v":"N"}]
[null,null,null,null,null,null,null,null,null,null,{"$f":"IF(Table1[[#This Row],[Column3]]=\"T1013\",\"Y\",\"N\")","v":"N"},{"$f":"IF(Table1[[#This Row],[Column3]]=90785,\"Y\",\"N\")","v":"N"}]
[null,null,null,null,null,null,null,null,null,null,{"$f":"IF(Table1[[#This Row],[Column3]]=\"T1013\",\"Y\",\"N\")","v":"N"},{"$f":"IF(Table1[[#This Row],[Column3]]=90785,\"Y\",\"N\")","v":"N"}]
[null,null,null,null,null,null,null,null,null,null,{"$f":"IF(Table1[[#This Row],[Column3]]=\"T1013\",\"Y\",\"N\")","v":"N"},{"$f":"IF(Table1[[#This Row],[Column3]]=90785,\"Y\",\"N\")","v":"N"}]
[null,null,null,null,null,null,null,null,null,null,{"$f":"IF(Table1[[#This Row],[Column3]]=\"T1013\",\"Y\",\"N\")","v":"N"},{"$f":"IF(Table1[[#This Row],[Column3]]=90785,\"Y\",\"N\")","v":"N"}]
[null,null,null,null,null,null,null,null,null,null,{"$f":"IF(Table1[[#This Row],[Column3]]=\"T1013\",\"Y\",\"N\")","v":"N"},{"$f":"IF(Table1[[#This Row],[Column3]]=90785,\"Y\",\"N\")","v":"N"}]
[null,null,null,null,null,null,null,null,null,null,{"$f":"IF(Table1[[#This Row],[Column3]]=\"T1013\",\"Y\",\"N\")","v":"N"},{"$f":"IF(Table1[[#This Row],[Column3]]=90785,\"Y\",\"N\")","v":"N"}]
[null,null,null,null,null,null,null,null,null,null,{"$f":"IF(Table1[[#This Row],[Column3]]=\"T1013\",\"Y\",\"N\")","v":"N"},{"$f":"IF(Table1[[#This Row],[Column3]]=90785,\"Y\",\"N\")","v":"N"}]
[null,null,null,null,null,null,null,null,null,null,{"$f":"IF(Table1[[#This Row],[Column3]]=\"T1013\",\"Y\",\"N\")","v":"N"},{"$f":"IF(Table1[[#This Row],[Column3]]=90785,\"Y\",\"N\")","v":"N"}]
[null,null,null,null,null,null,null,null,null,null,{"$f":"IF(Table1[[#This Row],[Column3]]=\"T1013\",\"Y\",\"N\")","v":"N"},{"$f":"IF(Table1[[#This Row],[Column3]]=90785,\"Y\",\"N\")","v":"N"}]
[null,null,null,null,null,null,null,null,null,null,{"$f":"IF(Table1[[#This Row],[Column3]]=\"T1013\",\"Y\",\"N\")","v":"N"},{"$f":"IF(Table1[[#This Row],[Column3]]=90785,\"Y\",\"N\")","v":"N"}]
[null,null,null,null,null,null,null,null,null,null,{"$f":"IF(Table1[[#This Row],[Column3]]=\"T1013\",\"Y\",\"N\")","v":"N"},{"$f":"IF(Table1[[#This Row],[Column3]]=90785,\"Y\",\"N\")","v":"N"}]
[null,null,null,null,null,null,null,null,null,null,{"$f":"IF(Table1[[#This Row],[Column3]]=\"T1013\",\"Y\",\"N\")","v":"N"},{"$f":"IF(Table1[[#This Row],[Column3]]=90785,\"Y\",\"N\")","v":"N"}]
[null,null,null,null,null,null,null,null,null,null,{"$f":"IF(Table1[[#This Row],[Column3]]=\"T1013\",\"Y\",\"N\")","v":"N"},{"$f":"IF(Table1[[#This Row],[Column3]]=90785,\"Y\",\"N\")","v":"N"}]
[null,null,null,null,null,null,null,null,null,null,{"$f":"IF(Table1[[#This Row],[Column3]]=\"T1013\",\"Y\",\"N\")","v":"N"},{"$f":"IF(Table1[[#This Row],[Column3]]=90785,\"Y\",\"N\")","v":"N"}]
[null,null,null,null,null,null,null,null,null,null,{"$f":"IF(Table1[[#This Row],[Column3]]=\"T1013\",\"Y\",\"N\")","v":"N"},{"$f":"IF(Table1[[#This Row],[Column3]]=90785,\"Y\",\"N\")","v":"N"}]
[null,null,null,null,null,null,null,null,null,null,{"$f":"IF(Table1[[#This Row],[Column3]]=\"T1013\",\"Y\",\"N\")","v":"N"},{"$f":"IF(Table1[[#This Row],[Column3]]=90785,\"Y\",\"N\")","v":"N"}]
[null,null,null,null,null,null,null,null,null,null,{"$f":"IF(Table1[[#This Row],[Column3]]=\"T1013\",\"Y\",\"N\")","v":"N"},{"$f":"IF(Table1[[#This Row],[Column3]]=90785,\"Y\",\"N\")","v":"N"}]
[null,null,null,null,null,null,null,null,null,null,{"$f":"IF(Table1[[#This Row],[Column3]]=\"T1013\",\"Y\",\"N\")","v":"N"},{"$f":"IF(Table1[[#This Row],[Column3]]=90785,\"Y\",\"N\")","v":"N"}]
[null,null,null,null,null,null,null,null,null,null,{"$f":"IF(Table1[[#This Row],[Column3]]=\"T1013\",\"Y\",\"N\")","v":"N"},{"$f":"IF(Table1[[#This Row],[Column3]]=90785,\"Y\",\"N\")","v":"N"}]
[null,null,null,null,null,null,null,null,null,null,{"$f":"IF(Table1[[#This Row],[Column3]]=\"T1013\",\"Y\",\"N\")","v":"N"},{"$f":"IF(Table1[[#This Row],[Column3]]=90785,\"Y\",\"N\")","v":"N"}]
[null,null,null,null,null,null,null,null,null,null,{"$f":"IF(Table1[[#This Row],[Column3]]=\"T1013\",\"Y\",\"N\")","v":"N"},{"$f":"IF(Table1[[#This Row],[Column3]]=90785,\"Y\",\"N\")","v":"N"}]
[null,null,null,null,null,null,null,null,null,null,{"$f":"IF(Table1[[#This Row],[Column3]]=\"T1013\",\"Y\",\"N\")","v":"N"},{"$f":"IF(Table1[[#This Row],[Column3]]=90785,\"Y\",\"N\")","v":"N"}]
[null,null,null,null,null,null,null,null,null,null,{"$f":"IF(Table1[[#This Row],[Column3]]=\"T1013\",\"Y\",\"N\")","v":"N"},{"$f":"IF(Table1[[#This Row],[Column3]]=90785,\"Y\",\"N\")","v":"N"}]
[null,null,null,null,null,null,null,null,null,null,{"$f":"IF(Table1[[#This Row],[Column3]]=\"T1013\",\"Y\",\"N\")","v":"N"},{"$f":"IF(Table1[[#This Row],[Column3]]=90785,\"Y\",\"N\")","v":"N"}]
[null,null,null,null,null,null,null,null,null,null,{"$f":"IF(Table1[[#This Row],[Column3]]=\"T1013\",\"Y\",\"N\")","v":"N"},{"$f":"IF(Table1[[#This Row],[Column3]]=90785,\"Y\",\"N\")","v":"N"}]
[null,null,null,null,null,null,null,null,null,null,{"$f":"IF(Table1[[#This Row],[Column3]]=\"T1013\",\"Y\",\"N\")","v":"N"},{"$f":"IF(Table1[[#This Row],[Column3]]=90785,\"Y\",\"N\")","v":"N"}]
[null,null,null,null,null,null,null,null,null,null,{"$f":"IF(Table1[[#This Row],[Column3]]=\"T1013\",\"Y\",\"N\")","v":"N"},{"$f":"IF(Table1[[#This Row],[Column3]]=90785,\"Y\",\"N\")","v":"N"}]
[null,null,null,null,null,null,null,null,null,null,{"$f":"IF(Table1[[#This Row],[Column3]]=\"T1013\",\"Y\",\"N\")","v":"N"},{"$f":"IF(Table1[[#This Row],[Column3]]=90785,\"Y\",\"N\")","v":"N"}]
[null,null,null,null,null,null,null,null,null,null,{"$f":"IF(Table1[[#This Row],[Column3]]=\"T1013\",\"Y\",\"N\")","v":"N"},{"$f":"IF(Table1[[#This Row],[Column3]]=90785,\"Y\",\"N\")","v":"N"}]
[null,null,null,null,null,null,null,null,null,null,{"$f":"IF(Table1[[#This Row],[Column3]]=\"T1013\",\"Y\",\"N\")","v":"N"},{"$f":"IF(Table1[[#This Row],[Column3]]=90785,\"Y\",\"N\")","v":"N"}]
[null,null,null,null,null,null,null,null,null,null,{"$f":"IF(Table1[[#This Row],[Column3]]=\"T1013\",\"Y\",\"N\")","v":"N"},{"$f":"IF(Table1[[#This Row],[Column3]]=90785,\"Y\",\"N\")","v":"N"}]
[null,null,null,null,null,null,null,null,null,null,{"$f":"IF(Table1[[#This Row],[Column3]]=\"T1013\",\"Y\",\"N\")","v":"N"},{"$f":"IF(Table1[[#This Row],[Column3]]=90785,\"Y\",\"N\")","v":"N"}]
[null,null,null,null,null,null,null,null,null,null,{"$f":"IF(Table1[[#This Row],[Column3]]=\"T1013\",\"Y\",\"N\")","v":"N"},{"$f":"IF(Table1[[#This Row],[Column3]]=90785,\"Y\",\"N\")","v":"N"}]
[null,null,null,null,null,null,null,null,null,null,{"$f":"IF(Table1[[#This Row],[Column3]]=\"T1013\",\"Y\",\"N\")","v":"N"},{"$f":"IF(Table1[[#This Row],[Column3]]=90785,\"Y\",\"N\")","v":"N"}]
[null,null,null,null,null,null,null,null,null,null,{"$f":"IF(Table1[[#This Row],[Column3]]=\"T1013\",\"Y\",\"N\")","v":"N"},{"$f":"IF(Table1[[#This Row],[Column3]]=90785,\"Y\",\"N\")","v":"N"}]
[null,null,null,null,null,null,null,null,null,null,{"$f":"IF(Table1[[#This Row],[Column3]]=\"T1013\",\"Y\",\"N\")","v":"N"},{"$f":"IF(Table1[[#This Row],[Column3]]=90785,\"Y\",\"N\")","v":"N"}]
[null,null,null,null,null,null,null,null,null,null,{"$f":"IF(Table1[[#This Row],[Column3]]=\"T1013\",\"Y\",\"N\")","v":"N"},{"$f":"IF(Table1[[#This Row],[Column3]]=90785,\"Y\",\"N\")","v":"N"}]
[null,null,null,null,null,null,null,null,null,null,{"$f":"IF(Table1[[#This Row],[Column3]]=\"T1013\",\"Y\",\"N\")","v":"N"},{"$f":"IF(Table1[[#This Row],[Column3]]=90785,\"Y\",\"N\")","v":"N"}]
[null,null,null,null,null,null,null,null,null,null,{"$f":"IF(Table1[[#This Row],[Column3]]=\"T1013\",\"Y\",\"N\")","v":"N"},{"$f":"IF(Table1[[#This Row],[Column3]]=90785,\"Y\",\"N\")","v":"N"}]
[null,null,null,null,null,null,null,null,null,null,{"$f":"IF(Table1[[#This Row],[Column3]]=\"T1013\",\"Y\",\"N\")","v":"N"},{"$f":"IF(Table1[[#This Row],[Column3]]=90785,\"Y\",\"N\")","v":"N"}]
[null,null,null,null,null,null,null,null,null,null,{"$f":"IF(Table1[[#This Row],[Column3]]=\"T1013\",\"Y\",\"N\")","v":"N"},{"$f":"IF(Table1[[#This Row],[Column3]]=90785,\"Y\",\"N\")","v":"N"}]
[null,null,null,null,null,null,null,null,null,null,{"$f":"IF(Table1[[#This Row],[Column3]]=\"T1013\",\"Y\",\"N\")","v":"N"},{"$f":"IF(Table1[[#This Row],[Column3]]=90785,\"Y\",\"N\")","v":"N"}]
[null,null,null,null,null,null,null,null,null,null,{"$f":"IF(Table1[[#This Row],[Column3]]=\"T1013\",\"Y\",\"N\")","v":"N"},{"$f":"IF(Table1[[#This Row],[Column3]]=90785,\"Y\",\"N\")","v":"N"}]
[null,null,null,null,null,null,null,null,null,null,{"$f":"IF(Table1[[#This Row],[Column3]]=\"T1013\",\"Y\",\"N\")","v":"N"},{"$f":"IF(Table1[[#This Row],[Column3]]=90785,\"Y\",\"N\")","v":"N"}]
[null,null,null,null,null,null,null,null,null,null,{"$f":"IF(Table1[[#This Row],[Column3]]=\"T1013\",\"Y\",\"N\")","v":"N"},{"$f":"IF(Table1[[#This Row],[Column3]]=90785,\"Y\",\"N\")","v":"N"}]
[null,null,null,null,null,null,null,null,null,null,{"$f":"IF(Table1[[#This Row],[Column3]]=\"T1013\",\"Y\",\"N\")","v":"N"},{"$f":"IF(Table1[[#This Row],[Column3]]=90785,\"Y\",\"N\")","v":"N"}]
[null,null,null,null,null,null,null,null,null,null,{"$f":"IF(Table1[[#This Row],[Column3]]=\"T1013\",\"Y\",\"N\")","v":"N"},{"$f":"IF(Table1[[#This Row],[Column3]]=90785,\"Y\",\"N\")","v":"N"}]
[null,null,null,null,null,null,null,null,null,null,{"$f":"IF(Table1[[#This Row],[Column3]]=\"T1013\",\"Y\",\"N\")","v":"N"},{"$f":"IF(Table1[[#This Row],[Column3]]=90785,\"Y\",\"N\")","v":"N"}]
[null,null,null,null,null,null,null,null,null,null,{"$f":"IF(Table1[[#This Row],[Column3]]=\"T1013\",\"Y\",\"N\")","v":"N"},{"$f":"IF(Table1[[#This Row],[Column3]]=90785,\"Y\",\"N\")","v":"N"}]
[null,null,null,null,null,null,null,null,null,null,{"$f":"IF(Table1[[#This Row],[Column3]]=\"T1013\",\"Y\",\"N\")","v":"N"},{"$f":"IF(Table1[[#This Row],[Column3]]=90785,\"Y\",\"N\")","v":"N"}]
[null,null,null,null,null,null,null,null,null,null,{"$f":"IF(Table1[[#This Row],[Column3]]=\"T1013\",\"Y\",\"N\")","v":"N"},{"$f":"IF(Table1[[#This Row],[Column3]]=90785,\"Y\",\"N\")","v":"N"}]
[null,null,null,null,null,null,null,null,null,null,{"$f":"IF(Table1[[#This Row],[Column3]]=\"T1013\",\"Y\",\"N\")","v":"N"},{"$f":"IF(Table1[[#This Row],[Column3]]=90785,\"Y\",\"N\")","v":"N"}]
[null,null,null,null,null,null,null,null,null,null,{"$f":"IF(Table1[[#This Row],[Column3]]=\"T1013\",\"Y\",\"N\")","v":"N"},{"$f":"IF(Table1[[#This Row],[Column3]]=90785,\"Y\",\"N\")","v":"N"}]
[null,null,null,null,null,null,null,null,null,null,{"$f":"IF(Table1[[#This Row],[Column3]]=\"T1013\",\"Y\",\"N\")","v":"N"},{"$f":"IF(Table1[[#This Row],[Column3]]=90785,\"Y\",\"N\")","v":"N"}]
[null,null,null,null,null,null,null,null,null,null,{"$f":"IF(Table1[[#This Row],[Column3]]=\"T1013\",\"Y\",\"N\")","v":"N"},{"$f":"IF(Table1[[#This Row],[Column3]]=90785,\"Y\",\"N\")","v":"N"}]
[null,null,null,null,null,null,null,null,null,null,{"$f":"IF(Table1[[#This Row],[Column3]]=\"T1013\",\"Y\",\"N\")","v":"N"},{"$f":"IF(Table1[[#This Row],[Column3]]=90785,\"Y\",\"N\")","v":"N"}]
[null,null,null,null,null,null,null,null,null,null,{"$f":"IF(Table1[[#This Row],[Column3]]=\"T1013\",\"Y\",\"N\")","v":"N"},{"$f":"IF(Table1[[#This Row],[Column3]]=90785,\"Y\",\"N\")","v":"N"}]
[null,null,null,null,null,null,null,null,null,null,{"$f":"IF(Table1[[#This Row],[Column3]]=\"T1013\",\"Y\",\"N\")","v":"N"},{"$f":"IF(Table1[[#This Row],[Column3]]=90785,\"Y\",\"N\")","v":"N"}]
[null,null,null,null,null,null,null,null,null,null,{"$f":"IF(Table1[[#This Row],[Column3]]=\"T1013\",\"Y\",\"N\")","v":"N"},{"$f":"IF(Table1[[#This Row],[Column3]]=90785,\"Y\",\"N\")","v":"N"}]
[null,null,null,null,null,null,null,null,null,null,{"$f":"IF(Table1[[#This Row],[Column3]]=\"T1013\",\"Y\",\"N\")","v":"N"},{"$f":"IF(Table1[[#This Row],[Column3]]=90785,\"Y\",\"N\")","v":"N"}]
[null,null,null,null,null,null,null,null,null,null,{"$f":"IF(Table1[[#This Row],[Column3]]=\"T1013\",\"Y\",\"N\")","v":"N"},{"$f":"IF(Table1[[#This Row],[Column3]]=90785,\"Y\",\"N\")","v":"N"}]
[null,null,null,null,null,null,null,null,null,null,{"$f":"IF(Table1[[#This Row],[Column3]]=\"T1013\",\"Y\",\"N\")","v":"N"},{"$f":"IF(Table1[[#This Row],[Column3]]=90785,\"Y\",\"N\")","v":"N"}]
[null,null,null,null,null,null,null,null,null,null,{"$f":"IF(Table1[[#This Row],[Column3]]=\"T1013\",\"Y\",\"N\")","v":"N"},{"$f":"IF(Table1[[#This Row],[Column3]]=90785,\"Y\",\"N\")","v":"N"}]
[null,null,null,null,null,null,null,null,null,null,{"$f":"IF(Table1[[#This Row],[Column3]]=\"T1013\",\"Y\",\"N\")","v":"N"},{"$f":"IF(Table1[[#This Row],[Column3]]=90785,\"Y\",\"N\")","v":"N"}]
[null,null,null,null,null,null,null,null,null,null,{"$f":"IF(Table1[[#This Row],[Column3]]=\"T1013\",\"Y\",\"N\")","v":"N"},{"$f":"IF(Table1[[#This Row],[Column3]]=90785,\"Y\",\"N\")","v":"N"}]
[null,null,null,null,null,null,null,null,null,null,{"$f":"IF(Table1[[#This Row],[Column3]]=\"T1013\",\"Y\",\"N\")","v":"N"},{"$f":"IF(Table1[[#This Row],[Column3]]=90785,\"Y\",\"N\")","v":"N"}]
[null,null,null,null,null,null,null,null,null,null,{"$f":"IF(Table1[[#This Row],[Column3]]=\"T1013\",\"Y\",\"N\")","v":"N"},{"$f":"IF(Table1[[#This Row],[Column3]]=90785,\"Y\",\"N\")","v":"N"}]
[null,null,null,null,null,null,null,null,null,null,{"$f":"IF(Table1[[#This Row],[Column3]]=\"T1013\",\"Y\",\"N\")","v":"N"},{"$f":"IF(Table1[[#This Row],[Column3]]=90785,\"Y\",\"N\")","v":"N"}]
[null,null,null,null,null,null,null,null,null,null,{"$f":"IF(Table1[[#This Row],[Column3]]=\"T1013\",\"Y\",\"N\")","v":"N"},{"$f":"IF(Table1[[#This Row],[Column3]]=90785,\"Y\",\"N\")","v":"N"}]
[null,null,null,null,null,null,null,null,null,null,{"$f":"IF(Table1[[#This Row],[Column3]]=\"T1013\",\"Y\",\"N\")","v":"N"},{"$f":"IF(Table1[[#This Row],[Column3]]=90785,\"Y\",\"N\")","v":"N"}]
[null,null,null,null,null,null,null,null,null,null,{"$f":"IF(Table1[[#This Row],[Column3]]=\"T1013\",\"Y\",\"N\")","v":"N"},{"$f":"IF(Table1[[#This Row],[Column3]]=90785,\"Y\",\"N\")","v":"N"}]
[null,null,null,null,null,null,null,null,null,null,{"$f":"IF(Table1[[#This Row],[Column3]]=\"T1013\",\"Y\",\"N\")","v":"N"},{"$f":"IF(Table1[[#This Row],[Column3]]=90785,\"Y\",\"N\")","v":"N"}]
[null,null,null,null,null,null,null,null,null,null,{"$f":"IF(Table1[[#This Row],[Column3]]=\"T1013\",\"Y\",\"N\")","v":"N"},{"$f":"IF(Table1[[#This Row],[Column3]]=90785,\"Y\",\"N\")","v":"N"}]
[null,null,null,null,null,null,null,null,null,null,{"$f":"IF(Table1[[#This Row],[Column3]]=\"T1013\",\"Y\",\"N\")","v":"N"},{"$f":"IF(Table1[[#This Row],[Column3]]=90785,\"Y\",\"N\")","v":"N"}]
[null,null,null,null,null,null,null,null,null,null,{"$f":"IF(Table1[[#This Row],[Column3]]=\"T1013\",\"Y\",\"N\")","v":"N"},{"$f":"IF(Table1[[#This Row],[Column3]]=90785,\"Y\",\"N\")","v":"N"}]
[null,null,null,null,null,null,null,null,null,null,{"$f":"IF(Table1[[#This Row],[Column3]]=\"T1013\",\"Y\",\"N\")","v":"N"},{"$f":"IF(Table1[[#This Row],[Column3]]=90785,\"Y\",\"N\")","v":"N"}]
[null,null,null,null,null,null,null,null,null,null,{"$f":"IF(Table1[[#This Row],[Column3]]=\"T1013\",\"Y\",\"N\")","v":"N"},{"$f":"IF(Table1[[#This Row],[Column3]]=90785,\"Y\",\"N\")","v":"N"}]
[null,null,null,null,null,null,null,null,null,null,{"$f":"IF(Table1[[#This Row],[Column3]]=\"T1013\",\"Y\",\"N\")","v":"N"},{"$f":"IF(Table1[[#This Row],[Column3]]=90785,\"Y\",\"N\")","v":"N"}]
[null,null,null,null,null,null,null,null,null,null,{"$f":"IF(Table1[[#This Row],[Column3]]=\"T1013\",\"Y\",\"N\")","v":"N"},{"$f":"IF(Table1[[#This Row],[Column3]]=90785,\"Y\",\"N\")","v":"N"}]
[null,null,null,null,null,null,null,null,null,null,{"$f":"IF(Table1[[#This Row],[Column3]]=\"T1013\",\"Y\",\"N\")","v":"N"},{"$f":"IF(Table1[[#This Row],[Column3]]=90785,\"Y\",\"N\")","v":"N"}]
[null,null,null,null,null,null,null,null,null,null,{"$f":"IF(Table1[[#This Row],[Column3]]=\"T1013\",\"Y\",\"N\")","v":"N"},{"$f":"IF(Table1[[#This Row],[Column3]]=90785,\"Y\",\"N\")","v":"N"}]
[null,null,null,null,null,null,null,null,null,null,{"$f":"IF(Table1[[#This Row],[Column3]]=\"T1013\",\"Y\",\"N\")","v":"N"},{"$f":"IF(Table1[[#This Row],[Column3]]=90785,\"Y\",\"N\")","v":"N"}]
[null,null,null,null,null,null,null,null,null,null,{"$f":"IF(Table1[[#This Row],[Column3]]=\"T1013\",\"Y\",\"N\")","v":"N"},{"$f":"IF(Table1[[#This Row],[Column3]]=90785,\"Y\",\"N\")","v":"N"}]
[null,null,null,null,null,null,null,null,null,null,{"$f":"IF(Table1[[#This Row],[Column3]]=\"T1013\",\"Y\",\"N\")","v":"N"},{"$f":"IF(Table1[[#This Row],[Column3]]=90785,\"Y\",\"N\")","v":"N"}]
[null,null,null,null,null,null,null,null,null,null,{"$f":"IF(Table1[[#This Row],[Column3]]=\"T1013\",\"Y\",\"N\")","v":"N"},{"$f":"IF(Table1[[#This Row],[Column3]]=90785,\"Y\",\"N\")","v":"N"}]
[null,null,null,null,null,null,null,null,null,null,{"$f":"IF(Table1[[#This Row],[Column3]]=\"T1013\",\"Y\",\"N\")","v":"N"},{"$f":"IF(Table1[[#This Row],[Column3]]=90785,\"Y\",\"N\")","v":"N"}]
[null,null,null,null,null,null,null,null,null,null,{"$f":"IF(Table1[[#This Row],[Column3]]=\"T1013\",\"Y\",\"N\")","v":"N"},{"$f":"IF(Table1[[#This Row],[Column3]]=90785,\"Y\",\"N\")","v":"N"}]
[null,null,null,null,null,null,null,null,null,null,{"$f":"IF(Table1[[#This Row],[Column3]]=\"T1013\",\"Y\",\"N\")","v":"N"},{"$f":"IF(Table1[[#This Row],[Column3]]=90785,\"Y\",\"N\")","v":"N"}]
[null,null,null,null,null,null,null,null,null,null,{"$f":"IF(Table1[[#This Row],[Column3]]=\"T1013\",\"Y\",\"N\")","v":"N"},{"$f":"IF(Table1[[#This Row],[Column3]]=90785,\"Y\",\"N\")","v":"N"}]
[null,null,null,null,null,null,null,null,null,null,{"$f":"IF(Table1[[#This Row],[Column3]]=\"T1013\",\"Y\",\"N\")","v":"N"},{"$f":"IF(Table1[[#This Row],[Column3]]=90785,\"Y\",\"N\")","v":"N"}]
[null,null,null,null,null,null,null,null,null,null,{"$f":"IF(Table1[[#This Row],[Column3]]=\"T1013\",\"Y\",\"N\")","v":"N"},{"$f":"IF(Table1[[#This Row],[Column3]]=90785,\"Y\",\"N\")","v":"N"}]
[null,null,null,null,null,null,null,null,null,null,{"$f":"IF(Table1[[#This Row],[Column3]]=\"T1013\",\"Y\",\"N\")","v":"N"},{"$f":"IF(Table1[[#This Row],[Column3]]=90785,\"Y\",\"N\")","v":"N"}]
[null,null,null,null,null,null,null,null,null,null,{"$f":"IF(Table1[[#This Row],[Column3]]=\"T1013\",\"Y\",\"N\")","v":"N"},{"$f":"IF(Table1[[#This Row],[Column3]]=90785,\"Y\",\"N\")","v":"N"}]
[null,null,null,null,null,null,null,null,null,null,{"$f":"IF(Table1[[#This Row],[Column3]]=\"T1013\",\"Y\",\"N\")","v":"N"},{"$f":"IF(Table1[[#This Row],[Column3]]=90785,\"Y\",\"N\")","v":"N"}]
[null,null,null,null,null,null,null,null,null,null,{"$f":"IF(Table1[[#This Row],[Column3]]=\"T1013\",\"Y\",\"N\")","v":"N"},{"$f":"IF(Table1[[#This Row],[Column3]]=90785,\"Y\",\"N\")","v":"N"}]
[null,null,null,null,null,null,null,null,null,null,{"$f":"IF(Table1[[#This Row],[Column3]]=\"T1013\",\"Y\",\"N\")","v":"N"},{"$f":"IF(Table1[[#This Row],[Column3]]=90785,\"Y\",\"N\")","v":"N"}]
[null,null,null,null,null,null,null,null,null,null,{"$f":"IF(Table1[[#This Row],[Column3]]=\"T1013\",\"Y\",\"N\")","v":"N"},{"$f":"IF(Table1[[#This Row],[Column3]]=90785,\"Y\",\"N\")","v":"N"}]
[null,null,null,null,null,null,null,null,null,null,{"$f":"IF(Table1[[#This Row],[Column3]]=\"T1013\",\"Y\",\"N\")","v":"N"},{"$f":"IF(Table1[[#This Row],[Column3]]=90785,\"Y\",\"N\")","v":"N"}]
[null,null,null,null,null,null,null,null,null,null,{"$f":"IF(Table1[[#This Row],[Column3]]=\"T1013\",\"Y\",\"N\")","v":"N"},{"$f":"IF(Table1[[#This Row],[Column3]]=90785,\"Y\",\"N\")","v":"N"}]
[null,null,null,null,null,null,null,null,null,null,{"$f":"IF(Table1[[#This Row],[Column3]]=\"T1013\",\"Y\",\"N\")","v":"N"},{"$f":"IF(Table1[[#This Row],[Column3]]=90785,\"Y\",\"N\")","v":"N"}]
[null,null,null,null,null,null,null,null,null,null,{"$f":"IF(Table1[[#This Row],[Column3]]=\"T1013\",\"Y\",\"N\")","v":"N"},{"$f":"IF(Table1[[#This Row],[Column3]]=90785,\"Y\",\"N\")","v":"N"}]
[null,null,null,null,null,null,null,null,null,null,{"$f":"IF(Table1[[#This Row],[Column3]]=\"T1013\",\"Y\",\"N\")","v":"N"},{"$f":"IF(Table1[[#This Row],[Column3]]=90785,\"Y\",\"N\")","v":"N"}]
[null,null,null,null,null,null,null,null,null,null,{"$f":"IF(Table1[[#This Row],[Column3]]=\"T1013\",\"Y\",\"N\")","v":"N"},{"$f":"IF(Table1[[#This Row],[Column3]]=90785,\"Y\",\"N\")","v":"N"}]
[null,null,null,null,null,null,null,null,null,null,{"$f":"IF(Table1[[#This Row],[Column3]]=\"T1013\",\"Y\",\"N\")","v":"N"},{"$f":"IF(Table1[[#This Row],[Column3]]=90785,\"Y\",\"N\")","v":"N"}]
[null,null,null,null,null,null,null,null,null,null,{"$f":"IF(Table1[[#This Row],[Column3]]=\"T1013\",\"Y\",\"N\")","v":"N"},{"$f":"IF(Table1[[#This Row],[Column3]]=90785,\"Y\",\"N\")","v":"N"}]
[null,null,null,null,null,null,null,null,null,null,{"$f":"IF(Table1[[#This Row],[Column3]]=\"T1013\",\"Y\",\"N\")","v":"N"},{"$f":"IF(Table1[[#This Row],[Column3]]=90785,\"Y\",\"N\")","v":"N"}]
[null,null,null,null,null,null,null,null,null,null,{"$f":"IF(Table1[[#This Row],[Column3]]=\"T1013\",\"Y\",\"N\")","v":"N"},{"$f":"IF(Table1[[#This Row],[Column3]]=90785,\"Y\",\"N\")","v":"N"}]
[null,null,null,null,null,null,null,null,null,null,{"$f":"IF(Table1[[#This Row],[Column3]]=\"T1013\",\"Y\",\"N\")","v":"N"},{"$f":"IF(Table1[[#This Row],[Column3]]=90785,\"Y\",\"N\")","v":"N"}]
[null,null,null,null,null,null,null,null,null,null,{"$f":"IF(Table1[[#This Row],[Column3]]=\"T1013\",\"Y\",\"N\")","v":"N"},{"$f":"IF(Table1[[#This Row],[Column3]]=90785,\"Y\",\"N\")","v":"N"}]
[null,null,null,null,null,null,null,null,null,null,{"$f":"IF(Table1[[#This Row],[Column3]]=\"T1013\",\"Y\",\"N\")","v":"N"},{"$f":"IF(Table1[[#This Row],[Column3]]=90785,\"Y\",\"N\")","v":"N"}]
[null,null,null,null,null,null,null,null,null,null,{"$f":"IF(Table1[[#This Row],[Column3]]=\"T1013\",\"Y\",\"N\")","v":"N"},{"$f":"IF(Table1[[#This Row],[Column3]]=90785,\"Y\",\"N\")","v":"N"}]
[null,null,null,null,null,null,null,null,null,null,{"$f":"IF(Table1[[#This Row],[Column3]]=\"T1013\",\"Y\",\"N\")","v":"N"},{"$f":"IF(Table1[[#This Row],[Column3]]=90785,\"Y\",\"N\")","v":"N"}]
[null,null,null,null,null,null,null,null,null,null,{"$f":"IF(Table1[[#This Row],[Column3]]=\"T1013\",\"Y\",\"N\")","v":"N"},{"$f":"IF(Table1[[#This Row],[Column3]]=90785,\"Y\",\"N\")","v":"N"}]
[null,null,null,null,null,null,null,null,null,null,{"$f":"IF(Table1[[#This Row],[Column3]]=\"T1013\",\"Y\",\"N\")","v":"N"},{"$f":"IF(Table1[[#This Row],[Column3]]=90785,\"Y\",\"N\")","v":"N"}]
[null,null,null,null,null,null,null,null,null,null,{"$f":"IF(Table1[[#This Row],[Column3]]=\"T1013\",\"Y\",\"N\")","v":"N"},{"$f":"IF(Table1[[#This Row],[Column3]]=90785,\"Y\",\"N\")","v":"N"}]
[null,null,null,null,null,null,null,null,null,null,{"$f":"IF(Table1[[#This Row],[Column3]]=\"T1013\",\"Y\",\"N\")","v":"N"},{"$f":"IF(Table1[[#This Row],[Column3]]=90785,\"Y\",\"N\")","v":"N"}]
[null,null,null,null,null,null,null,null,null,null,{"$f":"IF(Table1[[#This Row],[Column3]]=\"T1013\",\"Y\",\"N\")","v":"N"},{"$f":"IF(Table1[[#This Row],[Column3]]=90785,\"Y\",\"N\")","v":"N"}]
[null,null,null,null,null,null,null,null,null,null,{"$f":"IF(Table1[[#This Row],[Column3]]=\"T1013\",\"Y\",\"N\")","v":"N"},{"$f":"IF(Table1[[#This Row],[Column3]]=90785,\"Y\",\"N\")","v":"N"}]
[null,null,null,null,null,null,null,null,null,null,{"$f":"IF(Table1[[#This Row],[Column3]]=\"T1013\",\"Y\",\"N\")","v":"N"},{"$f":"IF(Table1[[#This Row],[Column3]]=90785,\"Y\",\"N\")","v":"N"}]
[null,null,null,null,null,null,null,null,null,null,{"$f":"IF(Table1[[#This Row],[Column3]]=\"T1013\",\"Y\",\"N\")","v":"N"},{"$f":"IF(Table1[[#This Row],[Column3]]=90785,\"Y\",\"N\")","v":"N"}]
[null,null,null,null,null,null,null,null,null,null,{"$f":"IF(Table1[[#This Row],[Column3]]=\"T1013\",\"Y\",\"N\")","v":"N"},{"$f":"IF(Table1[[#This Row],[Column3]]=90785,\"Y\",\"N\")","v":"N"}]
[null,null,null,null,null,null,null,null,null,null,{"$f":"IF(Table1[[#This Row],[Column3]]=\"T1013\",\"Y\",\"N\")","v":"N"},{"$f":"IF(Table1[[#This Row],[Column3]]=90785,\"Y\",\"N\")","v":"N"}]
[null,null,null,null,null,null,null,null,null,null,{"$f":"IF(Table1[[#This Row],[Column3]]=\"T1013\",\"Y\",\"N\")","v":"N"},{"$f":"IF(Table1[[#This Row],[Column3]]=90785,\"Y\",\"N\")","v":"N"}]
[null,null,null,null,null,null,null,null,null,null,{"$f":"IF(Table1[[#This Row],[Column3]]=\"T1013\",\"Y\",\"N\")","v":"N"},{"$f":"IF(Table1[[#This Row],[Column3]]=90785,\"Y\",\"N\")","v":"N"}]
[null,null,null,null,null,null,null,null,null,null,{"$f":"IF(Table1[[#This Row],[Column3]]=\"T1013\",\"Y\",\"N\")","v":"N"},{"$f":"IF(Table1[[#This Row],[Column3]]=90785,\"Y\",\"N\")","v":"N"}]
[null,null,null,null,null,null,null,null,null,null,{"$f":"IF(Table1[[#This Row],[Column3]]=\"T1013\",\"Y\",\"N\")","v":"N"},{"$f":"IF(Table1[[#This Row],[Column3]]=90785,\"Y\",\"N\")","v":"N"}]
[null,null,null,null,null,null,null,null,null,null,{"$f":"IF(Table1[[#This Row],[Column3]]=\"T1013\",\"Y\",\"N\")","v":"N"},{"$f":"IF(Table1[[#This Row],[Column3]]=90785,\"Y\",\"N\")","v":"N"}]
[null,null,null,null,null,null,null,null,null,null,{"$f":"IF(Table1[[#This Row],[Column3]]=\"T1013\",\"Y\",\"N\")","v":"N"},{"$f":"IF(Table1[[#This Row],[Column3]]=90785,\"Y\",\"N\")","v":"N"}]
[null,null,null,null,null,null,null,null,null,null,{"$f":"IF(Table1[[#This Row],[Column3]]=\"T1013\",\"Y\",\"N\")","v":"N"},{"$f":"IF(Table1[[#This Row],[Column3]]=90785,\"Y\",\"N\")","v":"N"}]
[null,null,null,null,null,null,null,null,null,null,{"$f":"IF(Table1[[#This Row],[Column3]]=\"T1013\",\"Y\",\"N\")","v":"N"},{"$f":"IF(Table1[[#This Row],[Column3]]=90785,\"Y\",\"N\")","v":"N"}]
[null,null,null,null,null,null,null,null,null,null,{"$f":"IF(Table1[[#This Row],[Column3]]=\"T1013\",\"Y\",\"N\")","v":"N"},{"$f":"IF(Table1[[#This Row],[Column3]]=90785,\"Y\",\"N\")","v":"N"}]
[null,null,null,null,null,null,null,null,null,null,{"$f":"IF(Table1[[#This Row],[Column3]]=\"T1013\",\"Y\",\"N\")","v":"N"},{"$f":"IF(Table1[[#This Row],[Column3]]=90785,\"Y\",\"N\")","v":"N"}]
[null,null,null,null,null,null,null,null,null,null,{"$f":"IF(Table1[[#This Row],[Column3]]=\"T1013\",\"Y\",\"N\")","v":"N"},{"$f":"IF(Table1[[#This Row],[Column3]]=90785,\"Y\",\"N\")","v":"N"}]
[null,null,null,null,null,null,null,null,null,null,{"$f":"IF(Table1[[#This Row],[Column3]]=\"T1013\",\"Y\",\"N\")","v":"N"},{"$f":"IF(Table1[[#This Row],[Column3]]=90785,\"Y\",\"N\")","v":"N"}]
[null,null,null,null,null,null,null,null,null,null,{"$f":"IF(Table1[[#This Row],[Column3]]=\"T1013\",\"Y\",\"N\")","v":"N"},{"$f":"IF(Table1[[#This Row],[Column3]]=90785,\"Y\",\"N\")","v":"N"}]
[null,null,null,null,null,null,null,null,null,null,{"$f":"IF(Table1[[#This Row],[Column3]]=\"T1013\",\"Y\",\"N\")","v":"N"},{"$f":"IF(Table1[[#This Row],[Column3]]=90785,\"Y\",\"N\")","v":"N"}]
[null,null,null,null,null,null,null,null,null,null,{"$f":"IF(Table1[[#This Row],[Column3]]=\"T1013\",\"Y\",\"N\")","v":"N"},{"$f":"IF(Table1[[#This Row],[Column3]]=90785,\"Y\",\"N\")","v":"N"}]
[null,null,null,null,null,null,null,null,null,null,{"$f":"IF(Table1[[#This Row],[Column3]]=\"T1013\",\"Y\",\"N\")","v":"N"},{"$f":"IF(Table1[[#This Row],[Column3]]=90785,\"Y\",\"N\")","v":"N"}]
[null,null,null,null,null,null,null,null,null,null,{"$f":"IF(Table1[[#This Row],[Column3]]=\"T1013\",\"Y\",\"N\")","v":"N"},{"$f":"IF(Table1[[#This Row],[Column3]]=90785,\"Y\",\"N\")","v":"N"}]
[null,null,null,null,null,null,null,null,null,null,{"$f":"IF(Table1[[#This Row],[Column3]]=\"T1013\",\"Y\",\"N\")","v":"N"},{"$f":"IF(Table1[[#This Row],[Column3]]=90785,\"Y\",\"N\")","v":"N"}]
[null,null,null,null,null,null,null,null,null,null,{"$f":"IF(Table1[[#This Row],[Column3]]=\"T1013\",\"Y\",\"N\")","v":"N"},{"$f":"IF(Table1[[#This Row],[Column3]]=90785,\"Y\",\"N\")","v":"N"}]
[null,null,null,null,null,null,null,null,null,null,{"$f":"IF(Table1[[#This Row],[Column3]]=\"T1013\",\"Y\",\"N\")","v":"N"},{"$f":"IF(Table1[[#This Row],[Column3]]=90785,\"Y\",\"N\")","v":"N"}]
[null,null,null,null,null,null,null,null,null,null,{"$f":"IF(Table1[[#This Row],[Column3]]=\"T1013\",\"Y\",\"N\")","v":"N"},{"$f":"IF(Table1[[#This Row],[Column3]]=90785,\"Y\",\"N\")","v":"N"}]
[null,null,null,null,null,null,null,null,null,null,{"$f":"IF(Table1[[#This Row],[Column3]]=\"T1013\",\"Y\",\"N\")","v":"N"},{"$f":"IF(Table1[[#This Row],[Column3]]=90785,\"Y\",\"N\")","v":"N"}]
[null,null,null,null,null,null,null,null,null,null,{"$f":"IF(Table1[[#This Row],[Column3]]=\"T1013\",\"Y\",\"N\")","v":"N"},{"$f":"IF(Table1[[#This Row],[Column3]]=90785,\"Y\",\"N\")","v":"N"}]
[null,null,null,null,null,null,null,null,null,null,{"$f":"IF(Table1[[#This Row],[Column3]]=\"T1013\",\"Y\",\"N\")","v":"N"},{"$f":"IF(Table1[[#This Row],[Column3]]=90785,\"Y\",\"N\")","v":"N"}]
[null,null,null,null,null,null,null,null,null,null,{"$f":"IF(Table1[[#This Row],[Column3]]=\"T1013\",\"Y\",\"N\")","v":"N"},{"$f":"IF(Table1[[#This Row],[Column3]]=90785,\"Y\",\"N\")","v":"N"}]
[null,null,null,null,null,null,null,null,null,null,{"$f":"IF(Table1[[#This Row],[Column3]]=\"T1013\",\"Y\",\"N\")","v":"N"},{"$f":"IF(Table1[[#This Row],[Column3]]=90785,\"Y\",\"N\")","v":"N"}]
[null,null,null,null,null,null,null,null,null,null,{"$f":"IF(Table1[[#This Row],[Column3]]=\"T1013\",\"Y\",\"N\")","v":"N"},{"$f":"IF(Table1[[#This Row],[Column3]]=90785,\"Y\",\"N\")","v":"N"}]
[null,null,null,null,null,null,null,null,null,null,{"$f":"IF(Table1[[#This Row],[Column3]]=\"T1013\",\"Y\",\"N\")","v":"N"},{"$f":"IF(Table1[[#This Row],[Column3]]=90785,\"Y\",\"N\")","v":"N"}]
[null,null,null,null,null,null,null,null,null,null,{"$f":"IF(Table1[[#This Row],[Column3]]=\"T1013\",\"Y\",\"N\")","v":"N"},{"$f":"IF(Table1[[#This Row],[Column3]]=90785,\"Y\",\"N\")","v":"N"}]
[null,null,null,null,null,null,null,null,null,null,{"$f":"IF(Table1[[#This Row],[Column3]]=\"T1013\",\"Y\",\"N\")","v":"N"},{"$f":"IF(Table1[[#This Row],[Column3]]=90785,\"Y\",\"N\")","v":"N"}]
[null,null,null,null,null,null,null,null,null,null,{"$f":"IF(Table1[[#This Row],[Column3]]=\"T1013\",\"Y\",\"N\")","v":"N"},{"$f":"IF(Table1[[#This Row],[Column3]]=90785,\"Y\",\"N\")","v":"N"}]
[null,null,null,null,null,null,null,null,null,null,{"$f":"IF(Table1[[#This Row],[Column3]]=\"T1013\",\"Y\",\"N\")","v":"N"},{"$f":"IF(Table1[[#This Row],[Column3]]=90785,\"Y\",\"N\")","v":"N"}]
[null,null,null,null,null,null,null,null,null,null,{"$f":"IF(Table1[[#This Row],[Column3]]=\"T1013\",\"Y\",\"N\")","v":"N"},{"$f":"IF(Table1[[#This Row],[Column3]]=90785,\"Y\",\"N\")","v":"N"}]
[null,null,null,null,null,null,null,null,null,null,{"$f":"IF(Table1[[#This Row],[Column3]]=\"T1013\",\"Y\",\"N\")","v":"N"},{"$f":"IF(Table1[[#This Row],[Column3]]=90785,\"Y\",\"N\")","v":"N"}]
[null,null,null,null,null,null,null,null,null,null,{"$f":"IF(Table1[[#This Row],[Column3]]=\"T1013\",\"Y\",\"N\")","v":"N"},{"$f":"IF(Table1[[#This Row],[Column3]]=90785,\"Y\",\"N\")","v":"N"}]
[null,null,null,null,null,null,null,null,null,null,{"$f":"IF(Table1[[#This Row],[Column3]]=\"T1013\",\"Y\",\"N\")","v":"N"},{"$f":"IF(Table1[[#This Row],[Column3]]=90785,\"Y\",\"N\")","v":"N"}]
[null,null,null,null,null,null,null,null,null,null,{"$f":"IF(Table1[[#This Row],[Column3]]=\"T1013\",\"Y\",\"N\")","v":"N"},{"$f":"IF(Table1[[#This Row],[Column3]]=90785,\"Y\",\"N\")","v":"N"}]
[null,null,null,null,null,null,null,null,null,null,{"$f":"IF(Table1[[#This Row],[Column3]]=\"T1013\",\"Y\",\"N\")","v":"N"},{"$f":"IF(Table1[[#This Row],[Column3]]=90785,\"Y\",\"N\")","v":"N"}]
[null,null,null,null,null,null,null,null,null,null,{"$f":"IF(Table1[[#This Row],[Column3]]=\"T1013\",\"Y\",\"N\")","v":"N"},{"$f":"IF(Table1[[#This Row],[Column3]]=90785,\"Y\",\"N\")","v":"N"}]
[null,null,null,null,null,null,null,null,null,null,{"$f":"IF(Table1[[#This Row],[Column3]]=\"T1013\",\"Y\",\"N\")","v":"N"},{"$f":"IF(Table1[[#This Row],[Column3]]=90785,\"Y\",\"N\")","v":"N"}]
[null,null,null,null,null,null,null,null,null,null,{"$f":"IF(Table1[[#This Row],[Column3]]=\"T1013\",\"Y\",\"N\")","v":"N"},{"$f":"IF(Table1[[#This Row],[Column3]]=90785,\"Y\",\"N\")","v":"N"}]
[null,null,null,null,null,null,null,null,null,null,{"$f":"IF(Table1[[#This Row],[Column3]]=\"T1013\",\"Y\",\"N\")","v":"N"},{"$f":"IF(Table1[[#This Row],[Column3]]=90785,\"Y\",\"N\")","v":"N"}]
[null,null,null,null,null,null,null,null,null,null,{"$f":"IF(Table1[[#This Row],[Column3]]=\"T1013\",\"Y\",\"N\")","v":"N"},{"$f":"IF(Table1[[#This Row],[Column3]]=90785,\"Y\",\"N\")","v":"N"}]
[null,null,null,null,null,null,null,null,null,null,{"$f":"IF(Table1[[#This Row],[Column3]]=\"T1013\",\"Y\",\"N\")","v":"N"},{"$f":"IF(Table1[[#This Row],[Column3]]=90785,\"Y\",\"N\")","v":"N"}]
[null,null,null,null,null,null,null,null,null,null,{"$f":"IF(Table1[[#This Row],[Column3]]=\"T1013\",\"Y\",\"N\")","v":"N"},{"$f":"IF(Table1[[#This Row],[Column3]]=90785,\"Y\",\"N\")","v":"N"}]
[null,null,null,null,null,null,null,null,null,null,{"$f":"IF(Table1[[#This Row],[Column3]]=\"T1013\",\"Y\",\"N\")","v":"N"},{"$f":"IF(Table1[[#This Row],[Column3]]=90785,\"Y\",\"N\")","v":"N"}]
[null,null,null,null,null,null,null,null,null,null,{"$f":"IF(Table1[[#This Row],[Column3]]=\"T1013\",\"Y\",\"N\")","v":"N"},{"$f":"IF(Table1[[#This Row],[Column3]]=90785,\"Y\",\"N\")","v":"N"}]
[null,null,null,null,null,null,null,null,null,null,{"$f":"IF(Table1[[#This Row],[Column3]]=\"T1013\",\"Y\",\"N\")","v":"N"},{"$f":"IF(Table1[[#This Row],[Column3]]=90785,\"Y\",\"N\")","v":"N"}]
[null,null,null,null,null,null,null,null,null,null,{"$f":"IF(Table1[[#This Row],[Column3]]=\"T1013\",\"Y\",\"N\")","v":"N"},{"$f":"IF(Table1[[#This Row],[Column3]]=90785,\"Y\",\"N\")","v":"N"}]
[null,null,null,null,null,null,null,null,null,null,{"$f":"IF(Table1[[#This Row],[Column3]]=\"T1013\",\"Y\",\"N\")","v":"N"},{"$f":"IF(Table1[[#This Row],[Column3]]=90785,\"Y\",\"N\")","v":"N"}]
[null,null,null,null,null,null,null,null,null,null,{"$f":"IF(Table1[[#This Row],[Column3]]=\"T1013\",\"Y\",\"N\")","v":"N"},{"$f":"IF(Table1[[#This Row],[Column3]]=90785,\"Y\",\"N\")","v":"N"}]
[null,null,null,null,null,null,null,null,null,null,{"$f":"IF(Table1[[#This Row],[Column3]]=\"T1013\",\"Y\",\"N\")","v":"N"},{"$f":"IF(Table1[[#This Row],[Column3]]=90785,\"Y\",\"N\")","v":"N"}]
[null,null,null,null,null,null,null,null,null,null,{"$f":"IF(Table1[[#This Row],[Column3]]=\"T1013\",\"Y\",\"N\")","v":"N"},{"$f":"IF(Table1[[#This Row],[Column3]]=90785,\"Y\",\"N\")","v":"N"}]
[null,null,null,null,null,null,null,null,null,null,{"$f":"IF(Table1[[#This Row],[Column3]]=\"T1013\",\"Y\",\"N\")","v":"N"},{"$f":"IF(Table1[[#This Row],[Column3]]=90785,\"Y\",\"N\")","v":"N"}]
[null,null,null,null,null,null,null,null,null,null,{"$f":"IF(Table1[[#This Row],[Column3]]=\"T1013\",\"Y\",\"N\")","v":"N"},{"$f":"IF(Table1[[#This Row],[Column3]]=90785,\"Y\",\"N\")","v":"N"}]
[null,null,null,null,null,null,null,null,null,null,{"$f":"IF(Table1[[#This Row],[Column3]]=\"T1013\",\"Y\",\"N\")","v":"N"},{"$f":"IF(Table1[[#This Row],[Column3]]=90785,\"Y\",\"N\")","v":"N"}]
[null,null,null,null,null,null,null,null,null,null,{"$f":"IF(Table1[[#This Row],[Column3]]=\"T1013\",\"Y\",\"N\")","v":"N"},{"$f":"IF(Table1[[#This Row],[Column3]]=90785,\"Y\",\"N\")","v":"N"}]
[null,null,null,null,null,null,null,null,null,null,{"$f":"IF(Table1[[#This Row],[Column3]]=\"T1013\",\"Y\",\"N\")","v":"N"},{"$f":"IF(Table1[[#This Row],[Column3]]=90785,\"Y\",\"N\")","v":"N"}]
[null,null,null,null,null,null,null,null,null,null,{"$f":"IF(Table1[[#This Row],[Column3]]=\"T1013\",\"Y\",\"N\")","v":"N"},{"$f":"IF(Table1[[#This Row],[Column3]]=90785,\"Y\",\"N\")","v":"N"}]
[null,null,null,null,null,null,null,null,null,null,{"$f":"IF(Table1[[#This Row],[Column3]]=\"T1013\",\"Y\",\"N\")","v":"N"},{"$f":"IF(Table1[[#This Row],[Column3]]=90785,\"Y\",\"N\")","v":"N"}]
[null,null,null,null,null,null,null,null,null,null,{"$f":"IF(Table1[[#This Row],[Column3]]=\"T1013\",\"Y\",\"N\")","v":"N"},{"$f":"IF(Table1[[#This Row],[Column3]]=90785,\"Y\",\"N\")","v":"N"}]
[null,null,null,null,null,null,null,null,null,null,{"$f":"IF(Table1[[#This Row],[Column3]]=\"T1013\",\"Y\",\"N\")","v":"N"},{"$f":"IF(Table1[[#This Row],[Column3]]=90785,\"Y\",\"N\")","v":"N"}]
[null,null,null,null,null,null,null,null,null,null,{"$f":"IF(Table1[[#This Row],[Column3]]=\"T1013\",\"Y\",\"N\")","v":"N"},{"$f":"IF(Table1[[#This Row],[Column3]]=90785,\"Y\",\"N\")","v":"N"}]
[null,null,null,null,null,null,null,null,null,null,{"$f":"IF(Table1[[#This Row],[Column3]]=\"T1013\",\"Y\",\"N\")","v":"N"},{"$f":"IF(Table1[[#This Row],[Column3]]=90785,\"Y\",\"N\")","v":"N"}]
[null,null,null,null,null,null,null,null,null,null,{"$f":"IF(Table1[[#This Row],[Column3]]=\"T1013\",\"Y\",\"N\")","v":"N"},{"$f":"IF(Table1[[#This Row],[Column3]]=90785,\"Y\",\"N\")","v":"N"}]
[null,null,null,null,null,null,null,null,null,null,{"$f":"IF(Table1[[#This Row],[Column3]]=\"T1013\",\"Y\",\"N\")","v":"N"},{"$f":"IF(Table1[[#This Row],[Column3]]=90785,\"Y\",\"N\")","v":"N"}]
[null,null,null,null,null,null,null,null,null,null,{"$f":"IF(Table1[[#This Row],[Column3]]=\"T1013\",\"Y\",\"N\")","v":"N"},{"$f":"IF(Table1[[#This Row],[Column3]]=90785,\"Y\",\"N\")","v":"N"}]
[null,null,null,null,null,null,null,null,null,null,{"$f":"IF(Table1[[#This Row],[Column3]]=\"T1013\",\"Y\",\"N\")","v":"N"},{"$f":"IF(Table1[[#This Row],[Column3]]=90785,\"Y\",\"N\")","v":"N"}]
[null,null,null,null,null,null,null,null,null,null,{"$f":"IF(Table1[[#This Row],[Column3]]=\"T1013\",\"Y\",\"N\")","v":"N"},{"$f":"IF(Table1[[#This Row],[Column3]]=90785,\"Y\",\"N\")","v":"N"}]
[null,null,null,null,null,null,null,null,null,null,{"$f":"IF(Table1[[#This Row],[Column3]]=\"T1013\",\"Y\",\"N\")","v":"N"},{"$f":"IF(Table1[[#This Row],[Column3]]=90785,\"Y\",\"N\")","v":"N"}]
[null,null,null,null,null,null,null,null,null,null,{"$f":"IF(Table1[[#This Row],[Column3]]=\"T1013\",\"Y\",\"N\")","v":"N"},{"$f":"IF(Table1[[#This Row],[Column3]]=90785,\"Y\",\"N\")","v":"N"}]
[null,null,null,null,null,null,null,null,null,null,{"$f":"IF(Table1[[#This Row],[Column3]]=\"T1013\",\"Y\",\"N\")","v":"N"},{"$f":"IF(Table1[[#This Row],[Column3]]=90785,\"Y\",\"N\")","v":"N"}]
[null,null,null,null,null,null,null,null,null,null,{"$f":"IF(Table1[[#This Row],[Column3]]=\"T1013\",\"Y\",\"N\")","v":"N"},{"$f":"IF(Table1[[#This Row],[Column3]]=90785,\"Y\",\"N\")","v":"N"}]
[null,null,null,null,null,null,null,null,null,null,{"$f":"IF(Table1[[#This Row],[Column3]]=\"T1013\",\"Y\",\"N\")","v":"N"},{"$f":"IF(Table1[[#This Row],[Column3]]=90785,\"Y\",\"N\")","v":"N"}]
[null,null,null,null,null,null,null,null,null,null,{"$f":"IF(Table1[[#This Row],[Column3]]=\"T1013\",\"Y\",\"N\")","v":"N"},{"$f":"IF(Table1[[#This Row],[Column3]]=90785,\"Y\",\"N\")","v":"N"}]
[null,null,null,null,null,null,null,null,null,null,{"$f":"IF(Table1[[#This Row],[Column3]]=\"T1013\",\"Y\",\"N\")","v":"N"},{"$f":"IF(Table1[[#This Row],[Column3]]=90785,\"Y\",\"N\")","v":"N"}]
[null,null,null,null,null,null,null,null,null,null,{"$f":"IF(Table1[[#This Row],[Column3]]=\"T1013\",\"Y\",\"N\")","v":"N"},{"$f":"IF(Table1[[#This Row],[Column3]]=90785,\"Y\",\"N\")","v":"N"}]
[null,null,null,null,null,null,null,null,null,null,{"$f":"IF(Table1[[#This Row],[Column3]]=\"T1013\",\"Y\",\"N\")","v":"N"},{"$f":"IF(Table1[[#This Row],[Column3]]=90785,\"Y\",\"N\")","v":"N"}]
[null,null,null,null,null,null,null,null,null,null,{"$f":"IF(Table1[[#This Row],[Column3]]=\"T1013\",\"Y\",\"N\")","v":"N"},{"$f":"IF(Table1[[#This Row],[Column3]]=90785,\"Y\",\"N\")","v":"N"}]
[null,null,null,null,null,null,null,null,null,null,{"$f":"IF(Table1[[#This Row],[Column3]]=\"T1013\",\"Y\",\"N\")","v":"N"},{"$f":"IF(Table1[[#This Row],[Column3]]=90785,\"Y\",\"N\")","v":"N"}]
[null,null,null,null,null,null,null,null,null,null,{"$f":"IF(Table1[[#This Row],[Column3]]=\"T1013\",\"Y\",\"N\")","v":"N"},{"$f":"IF(Table1[[#This Row],[Column3]]=90785,\"Y\",\"N\")","v":"N"}]
[null,null,null,null,null,null,null,null,null,null,{"$f":"IF(Table1[[#This Row],[Column3]]=\"T1013\",\"Y\",\"N\")","v":"N"},{"$f":"IF(Table1[[#This Row],[Column3]]=90785,\"Y\",\"N\")","v":"N"}]
[null,null,null,null,null,null,null,null,null,null,{"$f":"IF(Table1[[#This Row],[Column3]]=\"T1013\",\"Y\",\"N\")","v":"N"},{"$f":"IF(Table1[[#This Row],[Column3]]=90785,\"Y\",\"N\")","v":"N"}]
[null,null,null,null,null,null,null,null,null,null,{"$f":"IF(Table1[[#This Row],[Column3]]=\"T1013\",\"Y\",\"N\")","v":"N"},{"$f":"IF(Table1[[#This Row],[Column3]]=90785,\"Y\",\"N\")","v":"N"}]
[null,null,null,null,null,null,null,null,null,null,{"$f":"IF(Table1[[#This Row],[Column3]]=\"T1013\",\"Y\",\"N\")","v":"N"},{"$f":"IF(Table1[[#This Row],[Column3]]=90785,\"Y\",\"N\")","v":"N"}]
[null,null,null,null,null,null,null,null,null,null,{"$f":"IF(Table1[[#This Row],[Column3]]=\"T1013\",\"Y\",\"N\")","v":"N"},{"$f":"IF(Table1[[#This Row],[Column3]]=90785,\"Y\",\"N\")","v":"N"}]
[null,null,null,null,null,null,null,null,null,null,{"$f":"IF(Table1[[#This Row],[Column3]]=\"T1013\",\"Y\",\"N\")","v":"N"},{"$f":"IF(Table1[[#This Row],[Column3]]=90785,\"Y\",\"N\")","v":"N"}]
[null,null,null,null,null,null,null,null,null,null,{"$f":"IF(Table1[[#This Row],[Column3]]=\"T1013\",\"Y\",\"N\")","v":"N"},{"$f":"IF(Table1[[#This Row],[Column3]]=90785,\"Y\",\"N\")","v":"N"}]
[null,null,null,null,null,null,null,null,null,null,{"$f":"IF(Table1[[#This Row],[Column3]]=\"T1013\",\"Y\",\"N\")","v":"N"},{"$f":"IF(Table1[[#This Row],[Column3]]=90785,\"Y\",\"N\")","v":"N"}]
[null,null,null,null,null,null,null,null,null,null,{"$f":"IF(Table1[[#This Row],[Column3]]=\"T1013\",\"Y\",\"N\")","v":"N"},{"$f":"IF(Table1[[#This Row],[Column3]]=90785,\"Y\",\"N\")","v":"N"}]
[null,null,null,null,null,null,null,null,null,null,{"$f":"IF(Table1[[#This Row],[Column3]]=\"T1013\",\"Y\",\"N\")","v":"N"},{"$f":"IF(Table1[[#This Row],[Column3]]=90785,\"Y\",\"N\")","v":"N"}]
[null,null,null,null,null,null,null,null,null,null,{"$f":"IF(Table1[[#This Row],[Column3]]=\"T1013\",\"Y\",\"N\")","v":"N"},{"$f":"IF(Table1[[#This Row],[Column3]]=90785,\"Y\",\"N\")","v":"N"}]
[null,null,null,null,null,null,null,null,null,null,{"$f":"IF(Table1[[#This Row],[Column3]]=\"T1013\",\"Y\",\"N\")","v":"N"},{"$f":"IF(Table1[[#This Row],[Column3]]=90785,\"Y\",\"N\")","v":"N"}]
[null,null,null,null,null,null,null,null,null,null,{"$f":"IF(Table1[[#This Row],[Column3]]=\"T1013\",\"Y\",\"N\")","v":"N"},{"$f":"IF(Table1[[#This Row],[Column3]]=90785,\"Y\",\"N\")","v":"N"}]
[null,null,null,null,null,null,null,null,null,null,{"$f":"IF(Table1[[#This Row],[Column3]]=\"T1013\",\"Y\",\"N\")","v":"N"},{"$f":"IF(Table1[[#This Row],[Column3]]=90785,\"Y\",\"N\")","v":"N"}]
[null,null,null,null,null,null,null,null,null,null,{"$f":"IF(Table1[[#This Row],[Column3]]=\"T1013\",\"Y\",\"N\")","v":"N"},{"$f":"IF(Table1[[#This Row],[Column3]]=90785,\"Y\",\"N\")","v":"N"}]
[null,null,null,null,null,null,null,null,null,null,{"$f":"IF(Table1[[#This Row],[Column3]]=\"T1013\",\"Y\",\"N\")","v":"N"},{"$f":"IF(Table1[[#This Row],[Column3]]=90785,\"Y\",\"N\")","v":"N"}]
[null,null,null,null,null,null,null,null,null,null,{"$f":"IF(Table1[[#This Row],[Column3]]=\"T1013\",\"Y\",\"N\")","v":"N"},{"$f":"IF(Table1[[#This Row],[Column3]]=90785,\"Y\",\"N\")","v":"N"}]
[null,null,null,null,null,null,null,null,null,null,{"$f":"IF(Table1[[#This Row],[Column3]]=\"T1013\",\"Y\",\"N\")","v":"N"},{"$f":"IF(Table1[[#This Row],[Column3]]=90785,\"Y\",\"N\")","v":"N"}]
[null,null,null,null,null,null,null,null,null,null,{"$f":"IF(Table1[[#This Row],[Column3]]=\"T1013\",\"Y\",\"N\")","v":"N"},{"$f":"IF(Table1[[#This Row],[Column3]]=90785,\"Y\",\"N\")","v":"N"}]
[null,null,null,null,null,null,null,null,null,null,{"$f":"IF(Table1[[#This Row],[Column3]]=\"T1013\",\"Y\",\"N\")","v":"N"},{"$f":"IF(Table1[[#This Row],[Column3]]=90785,\"Y\",\"N\")","v":"N"}]
[null,null,null,null,null,null,null,null,null,null,{"$f":"IF(Table1[[#This Row],[Column3]]=\"T1013\",\"Y\",\"N\")","v":"N"},{"$f":"IF(Table1[[#This Row],[Column3]]=90785,\"Y\",\"N\")","v":"N"}]
[null,null,null,null,null,null,null,null,null,null,{"$f":"IF(Table1[[#This Row],[Column3]]=\"T1013\",\"Y\",\"N\")","v":"N"},{"$f":"IF(Table1[[#This Row],[Column3]]=90785,\"Y\",\"N\")","v":"N"}]
[null,null,null,null,null,null,null,null,null,null,{"$f":"IF(Table1[[#This Row],[Column3]]=\"T1013\",\"Y\",\"N\")","v":"N"},{"$f":"IF(Table1[[#This Row],[Column3]]=90785,\"Y\",\"N\")","v":"N"}]
[null,null,null,null,null,null,null,null,null,null,{"$f":"IF(Table1[[#This Row],[Column3]]=\"T1013\",\"Y\",\"N\")","v":"N"},{"$f":"IF(Table1[[#This Row],[Column3]]=90785,\"Y\",\"N\")","v":"N"}]
[null,null,null,null,null,null,null,null,null,null,{"$f":"IF(Table1[[#This Row],[Column3]]=\"T1013\",\"Y\",\"N\")","v":"N"},{"$f":"IF(Table1[[#This Row],[Column3]]=90785,\"Y\",\"N\")","v":"N"}]
[null,null,null,null,null,null,null,null,null,null,{"$f":"IF(Table1[[#This Row],[Column3]]=\"T1013\",\"Y\",\"N\")","v":"N"},{"$f":"IF(Table1[[#This Row],[Column3]]=90785,\"Y\",\"N\")","v":"N"}]
[null,null,null,null,null,null,null,null,null,null,{"$f":"IF(Table1[[#This Row],[Column3]]=\"T1013\",\"Y\",\"N\")","v":"N"},{"$f":"IF(Table1[[#This Row],[Column3]]=90785,\"Y\",\"N\")","v":"N"}]
[null,null,null,null,null,null,null,null,null,null,{"$f":"IF(Table1[[#This Row],[Column3]]=\"T1013\",\"Y\",\"N\")","v":"N"},{"$f":"IF(Table1[[#This Row],[Column3]]=90785,\"Y\",\"N\")","v":"N"}]
[null,null,null,null,null,null,null,null,null,null,{"$f":"IF(Table1[[#This Row],[Column3]]=\"T1013\",\"Y\",\"N\")","v":"N"},{"$f":"IF(Table1[[#This Row],[Column3]]=90785,\"Y\",\"N\")","v":"N"}]
[null,null,null,null,null,null,null,null,null,null,{"$f":"IF(Table1[[#This Row],[Column3]]=\"T1013\",\"Y\",\"N\")","v":"N"},{"$f":"IF(Table1[[#This Row],[Column3]]=90785,\"Y\",\"N\")","v":"N"}]
[null,null,null,null,null,null,null,null,null,null,{"$f":"IF(Table1[[#This Row],[Column3]]=\"T1013\",\"Y\",\"N\")","v":"N"},{"$f":"IF(Table1[[#This Row],[Column3]]=90785,\"Y\",\"N\")","v":"N"}]
[null,null,null,null,null,null,null,null,null,null,{"$f":"IF(Table1[[#This Row],[Column3]]=\"T1013\",\"Y\",\"N\")","v":"N"},{"$f":"IF(Table1[[#This Row],[Column3]]=90785,\"Y\",\"N\")","v":"N"}]
[null,null,null,null,null,null,null,null,null,null,{"$f":"IF(Table1[[#This Row],[Column3]]=\"T1013\",\"Y\",\"N\")","v":"N"},{"$f":"IF(Table1[[#This Row],[Column3]]=90785,\"Y\",\"N\")","v":"N"}]
[null,null,null,null,null,null,null,null,null,null,{"$f":"IF(Table1[[#This Row],[Column3]]=\"T1013\",\"Y\",\"N\")","v":"N"},{"$f":"IF(Table1[[#This Row],[Column3]]=90785,\"Y\",\"N\")","v":"N"}]
[null,null,null,null,null,null,null,null,null,null,{"$f":"IF(Table1[[#This Row],[Column3]]=\"T1013\",\"Y\",\"N\")","v":"N"},{"$f":"IF(Table1[[#This Row],[Column3]]=90785,\"Y\",\"N\")","v":"N"}]
[null,null,null,null,null,null,null,null,null,null,{"$f":"IF(Table1[[#This Row],[Column3]]=\"T1013\",\"Y\",\"N\")","v":"N"},{"$f":"IF(Table1[[#This Row],[Column3]]=90785,\"Y\",\"N\")","v":"N"}]
[null,null,null,null,null,null,null,null,null,null,{"$f":"IF(Table1[[#This Row],[Column3]]=\"T1013\",\"Y\",\"N\")","v":"N"},{"$f":"IF(Table1[[#This Row],[Column3]]=90785,\"Y\",\"N\")","v":"N"}]
[null,null,null,null,null,null,null,null,null,null,{"$f":"IF(Table1[[#This Row],[Column3]]=\"T1013\",\"Y\",\"N\")","v":"N"},{"$f":"IF(Table1[[#This Row],[Column3]]=90785,\"Y\",\"N\")","v":"N"}]
[null,null,null,null,null,null,null,null,null,null,{"$f":"IF(Table1[[#This Row],[Column3]]=\"T1013\",\"Y\",\"N\")","v":"N"},{"$f":"IF(Table1[[#This Row],[Column3]]=90785,\"Y\",\"N\")","v":"N"}]
[null,null,null,null,null,null,null,null,null,null,{"$f":"IF(Table1[[#This Row],[Column3]]=\"T1013\",\"Y\",\"N\")","v":"N"},{"$f":"IF(Table1[[#This Row],[Column3]]=90785,\"Y\",\"N\")","v":"N"}]
[null,null,null,null,null,null,null,null,null,null,{"$f":"IF(Table1[[#This Row],[Column3]]=\"T1013\",\"Y\",\"N\")","v":"N"},{"$f":"IF(Table1[[#This Row],[Column3]]=90785,\"Y\",\"N\")","v":"N"}]
[null,null,null,null,null,null,null,null,null,null,{"$f":"IF(Table1[[#This Row],[Column3]]=\"T1013\",\"Y\",\"N\")","v":"N"},{"$f":"IF(Table1[[#This Row],[Column3]]=90785,\"Y\",\"N\")","v":"N"}]
[null,null,null,null,null,null,null,null,null,null,{"$f":"IF(Table1[[#This Row],[Column3]]=\"T1013\",\"Y\",\"N\")","v":"N"},{"$f":"IF(Table1[[#This Row],[Column3]]=90785,\"Y\",\"N\")","v":"N"}]
[null,null,null,null,null,null,null,null,null,null,{"$f":"IF(Table1[[#This Row],[Column3]]=\"T1013\",\"Y\",\"N\")","v":"N"},{"$f":"IF(Table1[[#This Row],[Column3]]=90785,\"Y\",\"N\")","v":"N"}]
[null,null,null,null,null,null,null,null,null,null,{"$f":"IF(Table1[[#This Row],[Column3]]=\"T1013\",\"Y\",\"N\")","v":"N"},{"$f":"IF(Table1[[#This Row],[Column3]]=90785,\"Y\",\"N\")","v":"N"}]
[null,null,null,null,null,null,null,null,null,null,{"$f":"IF(Table1[[#This Row],[Column3]]=\"T1013\",\"Y\",\"N\")","v":"N"},{"$f":"IF(Table1[[#This Row],[Column3]]=90785,\"Y\",\"N\")","v":"N"}]
[null,null,null,null,null,null,null,null,null,null,{"$f":"IF(Table1[[#This Row],[Column3]]=\"T1013\",\"Y\",\"N\")","v":"N"},{"$f":"IF(Table1[[#This Row],[Column3]]=90785,\"Y\",\"N\")","v":"N"}]
[null,null,null,null,null,null,null,null,null,null,{"$f":"IF(Table1[[#This Row],[Column3]]=\"T1013\",\"Y\",\"N\")","v":"N"},{"$f":"IF(Table1[[#This Row],[Column3]]=90785,\"Y\",\"N\")","v":"N"}]
[null,null,null,null,null,null,null,null,null,null,{"$f":"IF(Table1[[#This Row],[Column3]]=\"T1013\",\"Y\",\"N\")","v":"N"},{"$f":"IF(Table1[[#This Row],[Column3]]=90785,\"Y\",\"N\")","v":"N"}]
[null,null,null,null,null,null,null,null,null,null,{"$f":"IF(Table1[[#This Row],[Column3]]=\"T1013\",\"Y\",\"N\")","v":"N"},{"$f":"IF(Table1[[#This Row],[Column3]]=90785,\"Y\",\"N\")","v":"N"}]
[null,null,null,null,null,null,null,null,null,null,{"$f":"IF(Table1[[#This Row],[Column3]]=\"T1013\",\"Y\",\"N\")","v":"N"},{"$f":"IF(Table1[[#This Row],[Column3]]=90785,\"Y\",\"N\")","v":"N"}]
[null,null,null,null,null,null,null,null,null,null,{"$f":"IF(Table1[[#This Row],[Column3]]=\"T1013\",\"Y\",\"N\")","v":"N"},{"$f":"IF(Table1[[#This Row],[Column3]]=90785,\"Y\",\"N\")","v":"N"}]
[null,null,null,null,null,null,null,null,null,null,{"$f":"IF(Table1[[#This Row],[Column3]]=\"T1013\",\"Y\",\"N\")","v":"N"},{"$f":"IF(Table1[[#This Row],[Column3]]=90785,\"Y\",\"N\")","v":"N"}]
[null,null,null,null,null,null,null,null,null,null,{"$f":"IF(Table1[[#This Row],[Column3]]=\"T1013\",\"Y\",\"N\")","v":"N"},{"$f":"IF(Table1[[#This Row],[Column3]]=90785,\"Y\",\"N\")","v":"N"}]
[null,null,null,null,null,null,null,null,null,null,{"$f":"IF(Table1[[#This Row],[Column3]]=\"T1013\",\"Y\",\"N\")","v":"N"},{"$f":"IF(Table1[[#This Row],[Column3]]=90785,\"Y\",\"N\")","v":"N"}]
[null,null,null,null,null,null,null,null,null,null,{"$f":"IF(Table1[[#This Row],[Column3]]=\"T1013\",\"Y\",\"N\")","v":"N"},{"$f":"IF(Table1[[#This Row],[Column3]]=90785,\"Y\",\"N\")","v":"N"}]
[null,null,null,null,null,null,null,null,null,null,{"$f":"IF(Table1[[#This Row],[Column3]]=\"T1013\",\"Y\",\"N\")","v":"N"},{"$f":"IF(Table1[[#This Row],[Column3]]=90785,\"Y\",\"N\")","v":"N"}]
[null,null,null,null,null,null,null,null,null,null,{"$f":"IF(Table1[[#This Row],[Column3]]=\"T1013\",\"Y\",\"N\")","v":"N"},{"$f":"IF(Table1[[#This Row],[Column3]]=90785,\"Y\",\"N\")","v":"N"}]
[null,null,null,null,null,null,null,null,null,null,{"$f":"IF(Table1[[#This Row],[Column3]]=\"T1013\",\"Y\",\"N\")","v":"N"},{"$f":"IF(Table1[[#This Row],[Column3]]=90785,\"Y\",\"N\")","v":"N"}]
[null,null,null,null,null,null,null,null,null,null,{"$f":"IF(Table1[[#This Row],[Column3]]=\"T1013\",\"Y\",\"N\")","v":"N"},{"$f":"IF(Table1[[#This Row],[Column3]]=90785,\"Y\",\"N\")","v":"N"}]
[null,null,null,null,null,null,null,null,null,null,{"$f":"IF(Table1[[#This Row],[Column3]]=\"T1013\",\"Y\",\"N\")","v":"N"},{"$f":"IF(Table1[[#This Row],[Column3]]=90785,\"Y\",\"N\")","v":"N"}]
[null,null,null,null,null,null,null,null,null,null,{"$f":"IF(Table1[[#This Row],[Column3]]=\"T1013\",\"Y\",\"N\")","v":"N"},{"$f":"IF(Table1[[#This Row],[Column3]]=90785,\"Y\",\"N\")","v":"N"}]
[null,null,null,null,null,null,null,null,null,null,{"$f":"IF(Table1[[#This Row],[Column3]]=\"T1013\",\"Y\",\"N\")","v":"N"},{"$f":"IF(Table1[[#This Row],[Column3]]=90785,\"Y\",\"N\")","v":"N"}]
[null,null,null,null,null,null,null,null,null,null,{"$f":"IF(Table1[[#This Row],[Column3]]=\"T1013\",\"Y\",\"N\")","v":"N"},{"$f":"IF(Table1[[#This Row],[Column3]]=90785,\"Y\",\"N\")","v":"N"}]
[null,null,null,null,null,null,null,null,null,null,{"$f":"IF(Table1[[#This Row],[Column3]]=\"T1013\",\"Y\",\"N\")","v":"N"},{"$f":"IF(Table1[[#This Row],[Column3]]=90785,\"Y\",\"N\")","v":"N"}]
[null,null,null,null,null,null,null,null,null,null,{"$f":"IF(Table1[[#This Row],[Column3]]=\"T1013\",\"Y\",\"N\")","v":"N"},{"$f":"IF(Table1[[#This Row],[Column3]]=90785,\"Y\",\"N\")","v":"N"}]
[null,null,null,null,null,null,null,null,null,null,{"$f":"IF(Table1[[#This Row],[Column3]]=\"T1013\",\"Y\",\"N\")","v":"N"},{"$f":"IF(Table1[[#This Row],[Column3]]=90785,\"Y\",\"N\")","v":"N"}]
[null,null,null,null,null,null,null,null,null,null,{"$f":"IF(Table1[[#This Row],[Column3]]=\"T1013\",\"Y\",\"N\")","v":"N"},{"$f":"IF(Table1[[#This Row],[Column3]]=90785,\"Y\",\"N\")","v":"N"}]
[null,null,null,null,null,null,null,null,null,null,{"$f":"IF(Table1[[#This Row],[Column3]]=\"T1013\",\"Y\",\"N\")","v":"N"},{"$f":"IF(Table1[[#This Row],[Column3]]=90785,\"Y\",\"N\")","v":"N"}]
[null,null,null,null,null,null,null,null,null,null,{"$f":"IF(Table1[[#This Row],[Column3]]=\"T1013\",\"Y\",\"N\")","v":"N"},{"$f":"IF(Table1[[#This Row],[Column3]]=90785,\"Y\",\"N\")","v":"N"}]
[null,null,null,null,null,null,null,null,null,null,{"$f":"IF(Table1[[#This Row],[Column3]]=\"T1013\",\"Y\",\"N\")","v":"N"},{"$f":"IF(Table1[[#This Row],[Column3]]=90785,\"Y\",\"N\")","v":"N"}]
[null,null,null,null,null,null,null,null,null,null,{"$f":"IF(Table1[[#This Row],[Column3]]=\"T1013\",\"Y\",\"N\")","v":"N"},{"$f":"IF(Table1[[#This Row],[Column3]]=90785,\"Y\",\"N\")","v":"N"}]
[null,null,null,null,null,null,null,null,null,null,{"$f":"IF(Table1[[#This Row],[Column3]]=\"T1013\",\"Y\",\"N\")","v":"N"},{"$f":"IF(Table1[[#This Row],[Column3]]=90785,\"Y\",\"N\")","v":"N"}]
[null,null,null,null,null,null,null,null,null,null,{"$f":"IF(Table1[[#This Row],[Column3]]=\"T1013\",\"Y\",\"N\")","v":"N"},{"$f":"IF(Table1[[#This Row],[Column3]]=90785,\"Y\",\"N\")","v":"N"}]
[null,null,null,null,null,null,null,null,null,null,{"$f":"IF(Table1[[#This Row],[Column3]]=\"T1013\",\"Y\",\"N\")","v":"N"},{"$f":"IF(Table1[[#This Row],[Column3]]=90785,\"Y\",\"N\")","v":"N"}]
[null,null,null,null,null,null,null,null,null,null,{"$f":"IF(Table1[[#This Row],[Column3]]=\"T1013\",\"Y\",\"N\")","v":"N"},{"$f":"IF(Table1[[#This Row],[Column3]]=90785,\"Y\",\"N\")","v":"N"}]
[null,null,null,null,null,null,null,null,null,null,{"$f":"IF(Table1[[#This Row],[Column3]]=\"T1013\",\"Y\",\"N\")","v":"N"},{"$f":"IF(Table1[[#This Row],[Column3]]=90785,\"Y\",\"N\")","v":"N"}]
[null,null,null,null,null,null,null,null,null,null,{"$f":"IF(Table1[[#This Row],[Column3]]=\"T1013\",\"Y\",\"N\")","v":"N"},{"$f":"IF(Table1[[#This Row],[Column3]]=90785,\"Y\",\"N\")","v":"N"}]
[null,null,null,null,null,null,null,null,null,null,{"$f":"IF(Table1[[#This Row],[Column3]]=\"T1013\",\"Y\",\"N\")","v":"N"},{"$f":"IF(Table1[[#This Row],[Column3]]=90785,\"Y\",\"N\")","v":"N"}]
[null,null,null,null,null,null,null,null,null,null,{"$f":"IF(Table1[[#This Row],[Column3]]=\"T1013\",\"Y\",\"N\")","v":"N"},{"$f":"IF(Table1[[#This Row],[Column3]]=90785,\"Y\",\"N\")","v":"N"}]
[null,null,null,null,null,null,null,null,null,null,{"$f":"IF(Table1[[#This Row],[Column3]]=\"T1013\",\"Y\",\"N\")","v":"N"},{"$f":"IF(Table1[[#This Row],[Column3]]=90785,\"Y\",\"N\")","v":"N"}]
[null,null,null,null,null,null,null,null,null,null,{"$f":"IF(Table1[[#This Row],[Column3]]=\"T1013\",\"Y\",\"N\")","v":"N"},{"$f":"IF(Table1[[#This Row],[Column3]]=90785,\"Y\",\"N\")","v":"N"}]
[null,null,null,null,null,null,null,null,null,null,{"$f":"IF(Table1[[#This Row],[Column3]]=\"T1013\",\"Y\",\"N\")","v":"N"},{"$f":"IF(Table1[[#This Row],[Column3]]=90785,\"Y\",\"N\")","v":"N"}]
[null,null,null,null,null,null,null,null,null,null,{"$f":"IF(Table1[[#This Row],[Column3]]=\"T1013\",\"Y\",\"N\")","v":"N"},{"$f":"IF(Table1[[#This Row],[Column3]]=90785,\"Y\",\"N\")","v":"N"}]
[null,null,null,null,null,null,null,null,null,null,{"$f":"IF(Table1[[#This Row],[Column3]]=\"T1013\",\"Y\",\"N\")","v":"N"},{"$f":"IF(Table1[[#This Row],[Column3]]=90785,\"Y\",\"N\")","v":"N"}]
[null,null,null,null,null,null,null,null,null,null,{"$f":"IF(Table1[[#This Row],[Column3]]=\"T1013\",\"Y\",\"N\")","v":"N"},{"$f":"IF(Table1[[#This Row],[Column3]]=90785,\"Y\",\"N\")","v":"N"}]
[null,null,null,null,null,null,null,null,null,null,{"$f":"IF(Table1[[#This Row],[Column3]]=\"T1013\",\"Y\",\"N\")","v":"N"},{"$f":"IF(Table1[[#This Row],[Column3]]=90785,\"Y\",\"N\")","v":"N"}]
[null,null,null,null,null,null,null,null,null,null,{"$f":"IF(Table1[[#This Row],[Column3]]=\"T1013\",\"Y\",\"N\")","v":"N"},{"$f":"IF(Table1[[#This Row],[Column3]]=90785,\"Y\",\"N\")","v":"N"}]
[null,null,null,null,null,null,null,null,null,null,{"$f":"IF(Table1[[#This Row],[Column3]]=\"T1013\",\"Y\",\"N\")","v":"N"},{"$f":"IF(Table1[[#This Row],[Column3]]=90785,\"Y\",\"N\")","v":"N"}]
[null,null,null,null,null,null,null,null,null,null,{"$f":"IF(Table1[[#This Row],[Column3]]=\"T1013\",\"Y\",\"N\")","v":"N"},{"$f":"IF(Table1[[#This Row],[Column3]]=90785,\"Y\",\"N\")","v":"N"}]
[null,null,null,null,null,null,null,null,null,null,{"$f":"IF(Table1[[#This Row],[Column3]]=\"T1013\",\"Y\",\"N\")","v":"N"},{"$f":"IF(Table1[[#This Row],[Column3]]=90785,\"Y\",\"N\")","v":"N"}]
[null,null,null,null,null,null,null,null,null,null,{"$f":"IF(Table1[[#This Row],[Column3]]=\"T1013\",\"Y\",\"N\")","v":"N"},{"$f":"IF(Table1[[#This Row],[Column3]]=90785,\"Y\",\"N\")","v":"N"}]
[null,null,null,null,null,null,null,null,null,null,{"$f":"IF(Table1[[#This Row],[Column3]]=\"T1013\",\"Y\",\"N\")","v":"N"},{"$f":"IF(Table1[[#This Row],[Column3]]=90785,\"Y\",\"N\")","v":"N"}]
[null,null,null,null,null,null,null,null,null,null,{"$f":"IF(Table1[[#This Row],[Column3]]=\"T1013\",\"Y\",\"N\")","v":"N"},{"$f":"IF(Table1[[#This Row],[Column3]]=90785,\"Y\",\"N\")","v":"N"}]
[null,null,null,null,null,null,null,null,null,null,{"$f":"IF(Table1[[#This Row],[Column3]]=\"T1013\",\"Y\",\"N\")","v":"N"},{"$f":"IF(Table1[[#This Row],[Column3]]=90785,\"Y\",\"N\")","v":"N"}]
[null,null,null,null,null,null,null,null,null,null,{"$f":"IF(Table1[[#This Row],[Column3]]=\"T1013\",\"Y\",\"N\")","v":"N"},{"$f":"IF(Table1[[#This Row],[Column3]]=90785,\"Y\",\"N\")","v":"N"}]
[null,null,null,null,null,null,null,null,null,null,{"$f":"IF(Table1[[#This Row],[Column3]]=\"T1013\",\"Y\",\"N\")","v":"N"},{"$f":"IF(Table1[[#This Row],[Column3]]=90785,\"Y\",\"N\")","v":"N"}]
[null,null,null,null,null,null,null,null,null,null,{"$f":"IF(Table1[[#This Row],[Column3]]=\"T1013\",\"Y\",\"N\")","v":"N"},{"$f":"IF(Table1[[#This Row],[Column3]]=90785,\"Y\",\"N\")","v":"N"}]
[null,null,null,null,null,null,null,null,null,null,{"$f":"IF(Table1[[#This Row],[Column3]]=\"T1013\",\"Y\",\"N\")","v":"N"},{"$f":"IF(Table1[[#This Row],[Column3]]=90785,\"Y\",\"N\")","v":"N"}]
[null,null,null,null,null,null,null,null,null,null,{"$f":"IF(Table1[[#This Row],[Column3]]=\"T1013\",\"Y\",\"N\")","v":"N"},{"$f":"IF(Table1[[#This Row],[Column3]]=90785,\"Y\",\"N\")","v":"N"}]
[null,null,null,null,null,null,null,null,null,null,{"$f":"IF(Table1[[#This Row],[Column3]]=\"T1013\",\"Y\",\"N\")","v":"N"},{"$f":"IF(Table1[[#This Row],[Column3]]=90785,\"Y\",\"N\")","v":"N"}]
[null,null,null,null,null,null,null,null,null,null,{"$f":"IF(Table1[[#This Row],[Column3]]=\"T1013\",\"Y\",\"N\")","v":"N"},{"$f":"IF(Table1[[#This Row],[Column3]]=90785,\"Y\",\"N\")","v":"N"}]
[null,null,null,null,null,null,null,null,null,null,{"$f":"IF(Table1[[#This Row],[Column3]]=\"T1013\",\"Y\",\"N\")","v":"N"},{"$f":"IF(Table1[[#This Row],[Column3]]=90785,\"Y\",\"N\")","v":"N"}]
[null,null,null,null,null,null,null,null,null,null,{"$f":"IF(Table1[[#This Row],[Column3]]=\"T1013\",\"Y\",\"N\")","v":"N"},{"$f":"IF(Table1[[#This Row],[Column3]]=90785,\"Y\",\"N\")","v":"N"}]
[null,null,null,null,null,null,null,null,null,null,{"$f":"IF(Table1[[#This Row],[Column3]]=\"T1013\",\"Y\",\"N\")","v":"N"},{"$f":"IF(Table1[[#This Row],[Column3]]=90785,\"Y\",\"N\")","v":"N"}]
[null,null,null,null,null,null,null,null,null,null,{"$f":"IF(Table1[[#This Row],[Column3]]=\"T1013\",\"Y\",\"N\")","v":"N"},{"$f":"IF(Table1[[#This Row],[Column3]]=90785,\"Y\",\"N\")","v":"N"}]
[null,null,null,null,null,null,null,null,null,null,{"$f":"IF(Table1[[#This Row],[Column3]]=\"T1013\",\"Y\",\"N\")","v":"N"},{"$f":"IF(Table1[[#This Row],[Column3]]=90785,\"Y\",\"N\")","v":"N"}]
[null,null,null,null,null,null,null,null,null,null,{"$f":"IF(Table1[[#This Row],[Column3]]=\"T1013\",\"Y\",\"N\")","v":"N"},{"$f":"IF(Table1[[#This Row],[Column3]]=90785,\"Y\",\"N\")","v":"N"}]
[null,null,null,null,null,null,null,null,null,null,{"$f":"IF(Table1[[#This Row],[Column3]]=\"T1013\",\"Y\",\"N\")","v":"N"},{"$f":"IF(Table1[[#This Row],[Column3]]=90785,\"Y\",\"N\")","v":"N"}]
[null,null,null,null,null,null,null,null,null,null,{"$f":"IF(Table1[[#This Row],[Column3]]=\"T1013\",\"Y\",\"N\")","v":"N"},{"$f":"IF(Table1[[#This Row],[Column3]]=90785,\"Y\",\"N\")","v":"N"}]
[null,null,null,null,null,null,null,null,null,null,{"$f":"IF(Table1[[#This Row],[Column3]]=\"T1013\",\"Y\",\"N\")","v":"N"},{"$f":"IF(Table1[[#This Row],[Column3]]=90785,\"Y\",\"N\")","v":"N"}]
[null,null,null,null,null,null,null,null,null,null,{"$f":"IF(Table1[[#This Row],[Column3]]=\"T1013\",\"Y\",\"N\")","v":"N"},{"$f":"IF(Table1[[#This Row],[Column3]]=90785,\"Y\",\"N\")","v":"N"}]
[null,null,null,null,null,null,null,null,null,null,{"$f":"IF(Table1[[#This Row],[Column3]]=\"T1013\",\"Y\",\"N\")","v":"N"},{"$f":"IF(Table1[[#This Row],[Column3]]=90785,\"Y\",\"N\")","v":"N"}]
[null,null,null,null,null,null,null,null,null,null,{"$f":"IF(Table1[[#This Row],[Column3]]=\"T1013\",\"Y\",\"N\")","v":"N"},{"$f":"IF(Table1[[#This Row],[Column3]]=90785,\"Y\",\"N\")","v":"N"}]
[null,null,null,null,null,null,null,null,null,null,{"$f":"IF(Table1[[#This Row],[Column3]]=\"T1013\",\"Y\",\"N\")","v":"N"},{"$f":"IF(Table1[[#This Row],[Column3]]=90785,\"Y\",\"N\")","v":"N"}]
[null,null,null,null,null,null,null,null,null,null,{"$f":"IF(Table1[[#This Row],[Column3]]=\"T1013\",\"Y\",\"N\")","v":"N"},{"$f":"IF(Table1[[#This Row],[Column3]]=90785,\"Y\",\"N\")","v":"N"}]
[null,null,null,null,null,null,null,null,null,null,{"$f":"IF(Table1[[#This Row],[Column3]]=\"T1013\",\"Y\",\"N\")","v":"N"},{"$f":"IF(Table1[[#This Row],[Column3]]=90785,\"Y\",\"N\")","v":"N"}]
[null,null,null,null,null,null,null,null,null,null,{"$f":"IF(Table1[[#This Row],[Column3]]=\"T1013\",\"Y\",\"N\")","v":"N"},{"$f":"IF(Table1[[#This Row],[Column3]]=90785,\"Y\",\"N\")","v":"N"}]
[null,null,null,null,null,null,null,null,null,null,{"$f":"IF(Table1[[#This Row],[Column3]]=\"T1013\",\"Y\",\"N\")","v":"N"},{"$f":"IF(Table1[[#This Row],[Column3]]=90785,\"Y\",\"N\")","v":"N"}]
[null,null,null,null,null,null,null,null,null,null,{"$f":"IF(Table1[[#This Row],[Column3]]=\"T1013\",\"Y\",\"N\")","v":"N"},{"$f":"IF(Table1[[#This Row],[Column3]]=90785,\"Y\",\"N\")","v":"N"}]
[null,null,null,null,null,null,null,null,null,null,{"$f":"IF(Table1[[#This Row],[Column3]]=\"T1013\",\"Y\",\"N\")","v":"N"},{"$f":"IF(Table1[[#This Row],[Column3]]=90785,\"Y\",\"N\")","v":"N"}]
[null,null,null,null,null,null,null,null,null,null,{"$f":"IF(Table1[[#This Row],[Column3]]=\"T1013\",\"Y\",\"N\")","v":"N"},{"$f":"IF(Table1[[#This Row],[Column3]]=90785,\"Y\",\"N\")","v":"N"}]
[null,null,null,null,null,null,null,null,null,null,{"$f":"IF(Table1[[#This Row],[Column3]]=\"T1013\",\"Y\",\"N\")","v":"N"},{"$f":"IF(Table1[[#This Row],[Column3]]=90785,\"Y\",\"N\")","v":"N"}]
[null,null,null,null,null,null,null,null,null,null,{"$f":"IF(Table1[[#This Row],[Column3]]=\"T1013\",\"Y\",\"N\")","v":"N"},{"$f":"IF(Table1[[#This Row],[Column3]]=90785,\"Y\",\"N\")","v":"N"}]
[null,null,null,null,null,null,null,null,null,null,{"$f":"IF(Table1[[#This Row],[Column3]]=\"T1013\",\"Y\",\"N\")","v":"N"},{"$f":"IF(Table1[[#This Row],[Column3]]=90785,\"Y\",\"N\")","v":"N"}]
[null,null,null,null,null,null,null,null,null,null,{"$f":"IF(Table1[[#This Row],[Column3]]=\"T1013\",\"Y\",\"N\")","v":"N"},{"$f":"IF(Table1[[#This Row],[Column3]]=90785,\"Y\",\"N\")","v":"N"}]
[null,null,null,null,null,null,null,null,null,null,{"$f":"IF(Table1[[#This Row],[Column3]]=\"T1013\",\"Y\",\"N\")","v":"N"},{"$f":"IF(Table1[[#This Row],[Column3]]=90785,\"Y\",\"N\")","v":"N"}]
[null,null,null,null,null,null,null,null,null,null,{"$f":"IF(Table1[[#This Row],[Column3]]=\"T1013\",\"Y\",\"N\")","v":"N"},{"$f":"IF(Table1[[#This Row],[Column3]]=90785,\"Y\",\"N\")","v":"N"}]
[null,null,null,null,null,null,null,null,null,null,{"$f":"IF(Table1[[#This Row],[Column3]]=\"T1013\",\"Y\",\"N\")","v":"N"},{"$f":"IF(Table1[[#This Row],[Column3]]=90785,\"Y\",\"N\")","v":"N"}]
[null,null,null,null,null,null,null,null,null,null,{"$f":"IF(Table1[[#This Row],[Column3]]=\"T1013\",\"Y\",\"N\")","v":"N"},{"$f":"IF(Table1[[#This Row],[Column3]]=90785,\"Y\",\"N\")","v":"N"}]
[null,null,null,null,null,null,null,null,null,null,{"$f":"IF(Table1[[#This Row],[Column3]]=\"T1013\",\"Y\",\"N\")","v":"N"},{"$f":"IF(Table1[[#This Row],[Column3]]=90785,\"Y\",\"N\")","v":"N"}]
[null,null,null,null,null,null,null,null,null,null,{"$f":"IF(Table1[[#This Row],[Column3]]=\"T1013\",\"Y\",\"N\")","v":"N"},{"$f":"IF(Table1[[#This Row],[Column3]]=90785,\"Y\",\"N\")","v":"N"}]
[null,null,null,null,null,null,null,null,null,null,{"$f":"IF(Table1[[#This Row],[Column3]]=\"T1013\",\"Y\",\"N\")","v":"N"},{"$f":"IF(Table1[[#This Row],[Column3]]=90785,\"Y\",\"N\")","v":"N"}]
[null,null,null,null,null,null,null,null,null,null,{"$f":"IF(Table1[[#This Row],[Column3]]=\"T1013\",\"Y\",\"N\")","v":"N"},{"$f":"IF(Table1[[#This Row],[Column3]]=90785,\"Y\",\"N\")","v":"N"}]
[null,null,null,null,null,null,null,null,null,null,{"$f":"IF(Table1[[#This Row],[Column3]]=\"T1013\",\"Y\",\"N\")","v":"N"},{"$f":"IF(Table1[[#This Row],[Column3]]=90785,\"Y\",\"N\")","v":"N"}]
[null,null,null,null,null,null,null,null,null,null,{"$f":"IF(Table1[[#This Row],[Column3]]=\"T1013\",\"Y\",\"N\")","v":"N"},{"$f":"IF(Table1[[#This Row],[Column3]]=90785,\"Y\",\"N\")","v":"N"}]
[null,null,null,null,null,null,null,null,null,null,{"$f":"IF(Table1[[#This Row],[Column3]]=\"T1013\",\"Y\",\"N\")","v":"N"},{"$f":"IF(Table1[[#This Row],[Column3]]=90785,\"Y\",\"N\")","v":"N"}]
[null,null,null,null,null,null,null,null,null,null,{"$f":"IF(Table1[[#This Row],[Column3]]=\"T1013\",\"Y\",\"N\")","v":"N"},{"$f":"IF(Table1[[#This Row],[Column3]]=90785,\"Y\",\"N\")","v":"N"}]
[null,null,null,null,null,null,null,null,null,null,{"$f":"IF(Table1[[#This Row],[Column3]]=\"T1013\",\"Y\",\"N\")","v":"N"},{"$f":"IF(Table1[[#This Row],[Column3]]=90785,\"Y\",\"N\")","v":"N"}]
[null,null,null,null,null,null,null,null,null,null,{"$f":"IF(Table1[[#This Row],[Column3]]=\"T1013\",\"Y\",\"N\")","v":"N"},{"$f":"IF(Table1[[#This Row],[Column3]]=90785,\"Y\",\"N\")","v":"N"}]
[null,null,null,null,null,null,null,null,null,null,{"$f":"IF(Table1[[#This Row],[Column3]]=\"T1013\",\"Y\",\"N\")","v":"N"},{"$f":"IF(Table1[[#This Row],[Column3]]=90785,\"Y\",\"N\")","v":"N"}]
[null,null,null,null,null,null,null,null,null,null,{"$f":"IF(Table1[[#This Row],[Column3]]=\"T1013\",\"Y\",\"N\")","v":"N"},{"$f":"IF(Table1[[#This Row],[Column3]]=90785,\"Y\",\"N\")","v":"N"}]
[null,null,null,null,null,null,null,null,null,null,{"$f":"IF(Table1[[#This Row],[Column3]]=\"T1013\",\"Y\",\"N\")","v":"N"},{"$f":"IF(Table1[[#This Row],[Column3]]=90785,\"Y\",\"N\")","v":"N"}]
[null,null,null,null,null,null,null,null,null,null,{"$f":"IF(Table1[[#This Row],[Column3]]=\"T1013\",\"Y\",\"N\")","v":"N"},{"$f":"IF(Table1[[#This Row],[Column3]]=90785,\"Y\",\"N\")","v":"N"}]
[null,null,null,null,null,null,null,null,null,null,{"$f":"IF(Table1[[#This Row],[Column3]]=\"T1013\",\"Y\",\"N\")","v":"N"},{"$f":"IF(Table1[[#This Row],[Column3]]=90785,\"Y\",\"N\")","v":"N"}]
[null,null,null,null,null,null,null,null,null,null,{"$f":"IF(Table1[[#This Row],[Column3]]=\"T1013\",\"Y\",\"N\")","v":"N"},{"$f":"IF(Table1[[#This Row],[Column3]]=90785,\"Y\",\"N\")","v":"N"}]
[null,null,null,null,null,null,null,null,null,null,{"$f":"IF(Table1[[#This Row],[Column3]]=\"T1013\",\"Y\",\"N\")","v":"N"},{"$f":"IF(Table1[[#This Row],[Column3]]=90785,\"Y\",\"N\")","v":"N"}]
[null,null,null,null,null,null,null,null,null,null,{"$f":"IF(Table1[[#This Row],[Column3]]=\"T1013\",\"Y\",\"N\")","v":"N"},{"$f":"IF(Table1[[#This Row],[Column3]]=90785,\"Y\",\"N\")","v":"N"}]
[null,null,null,null,null,null,null,null,null,null,{"$f":"IF(Table1[[#This Row],[Column3]]=\"T1013\",\"Y\",\"N\")","v":"N"},{"$f":"IF(Table1[[#This Row],[Column3]]=90785,\"Y\",\"N\")","v":"N"}]
[null,null,null,null,null,null,null,null,null,null,{"$f":"IF(Table1[[#This Row],[Column3]]=\"T1013\",\"Y\",\"N\")","v":"N"},{"$f":"IF(Table1[[#This Row],[Column3]]=90785,\"Y\",\"N\")","v":"N"}]
[null,null,null,null,null,null,null,null,null,null,{"$f":"IF(Table1[[#This Row],[Column3]]=\"T1013\",\"Y\",\"N\")","v":"N"},{"$f":"IF(Table1[[#This Row],[Column3]]=90785,\"Y\",\"N\")","v":"N"}]
[null,null,null,null,null,null,null,null,null,null,{"$f":"IF(Table1[[#This Row],[Column3]]=\"T1013\",\"Y\",\"N\")","v":"N"},{"$f":"IF(Table1[[#This Row],[Column3]]=90785,\"Y\",\"N\")","v":"N"}]
[null,null,null,null,null,null,null,null,null,null,{"$f":"IF(Table1[[#This Row],[Column3]]=\"T1013\",\"Y\",\"N\")","v":"N"},{"$f":"IF(Table1[[#This Row],[Column3]]=90785,\"Y\",\"N\")","v":"N"}]
[null,null,null,null,null,null,null,null,null,null,{"$f":"IF(Table1[[#This Row],[Column3]]=\"T1013\",\"Y\",\"N\")","v":"N"},{"$f":"IF(Table1[[#This Row],[Column3]]=90785,\"Y\",\"N\")","v":"N"}]
[null,null,null,null,null,null,null,null,null,null,{"$f":"IF(Table1[[#This Row],[Column3]]=\"T1013\",\"Y\",\"N\")","v":"N"},{"$f":"IF(Table1[[#This Row],[Column3]]=90785,\"Y\",\"N\")","v":"N"}]
[null,null,null,null,null,null,null,null,null,null,{"$f":"IF(Table1[[#This Row],[Column3]]=\"T1013\",\"Y\",\"N\")","v":"N"},{"$f":"IF(Table1[[#This Row],[Column3]]=90785,\"Y\",\"N\")","v":"N"}]
[null,null,null,null,null,null,null,null,null,null,{"$f":"IF(Table1[[#This Row],[Column3]]=\"T1013\",\"Y\",\"N\")","v":"N"},{"$f":"IF(Table1[[#This Row],[Column3]]=90785,\"Y\",\"N\")","v":"N"}]
[null,null,null,null,null,null,null,null,null,null,{"$f":"IF(Table1[[#This Row],[Column3]]=\"T1013\",\"Y\",\"N\")","v":"N"},{"$f":"IF(Table1[[#This Row],[Column3]]=90785,\"Y\",\"N\")","v":"N"}]
[null,null,null,null,null,null,null,null,null,null,{"$f":"IF(Table1[[#This Row],[Column3]]=\"T1013\",\"Y\",\"N\")","v":"N"},{"$f":"IF(Table1[[#This Row],[Column3]]=90785,\"Y\",\"N\")","v":"N"}]
[null,null,null,null,null,null,null,null,null,null,{"$f":"IF(Table1[[#This Row],[Column3]]=\"T1013\",\"Y\",\"N\")","v":"N"},{"$f":"IF(Table1[[#This Row],[Column3]]=90785,\"Y\",\"N\")","v":"N"}]
[null,null,null,null,null,null,null,null,null,null,{"$f":"IF(Table1[[#This Row],[Column3]]=\"T1013\",\"Y\",\"N\")","v":"N"},{"$f":"IF(Table1[[#This Row],[Column3]]=90785,\"Y\",\"N\")","v":"N"}]
[null,null,null,null,null,null,null,null,null,null,{"$f":"IF(Table1[[#This Row],[Column3]]=\"T1013\",\"Y\",\"N\")","v":"N"},{"$f":"IF(Table1[[#This Row],[Column3]]=90785,\"Y\",\"N\")","v":"N"}]
[null,null,null,null,null,null,null,null,null,null,{"$f":"IF(Table1[[#This Row],[Column3]]=\"T1013\",\"Y\",\"N\")","v":"N"},{"$f":"IF(Table1[[#This Row],[Column3]]=90785,\"Y\",\"N\")","v":"N"}]
[null,null,null,null,null,null,null,null,null,null,{"$f":"IF(Table1[[#This Row],[Column3]]=\"T1013\",\"Y\",\"N\")","v":"N"},{"$f":"IF(Table1[[#This Row],[Column3]]=90785,\"Y\",\"N\")","v":"N"}]
[null,null,null,null,null,null,null,null,null,null,{"$f":"IF(Table1[[#This Row],[Column3]]=\"T1013\",\"Y\",\"N\")","v":"N"},{"$f":"IF(Table1[[#This Row],[Column3]]=90785,\"Y\",\"N\")","v":"N"}]
[null,null,null,null,null,null,null,null,null,null,{"$f":"IF(Table1[[#This Row],[Column3]]=\"T1013\",\"Y\",\"N\")","v":"N"},{"$f":"IF(Table1[[#This Row],[Column3]]=90785,\"Y\",\"N\")","v":"N"}]
[null,null,null,null,null,null,null,null,null,null,{"$f":"IF(Table1[[#This Row],[Column3]]=\"T1013\",\"Y\",\"N\")","v":"N"},{"$f":"IF(Table1[[#This Row],[Column3]]=90785,\"Y\",\"N\")","v":"N"}]
[null,null,null,null,null,null,null,null,null,null,{"$f":"IF(Table1[[#This Row],[Column3]]=\"T1013\",\"Y\",\"N\")","v":"N"},{"$f":"IF(Table1[[#This Row],[Column3]]=90785,\"Y\",\"N\")","v":"N"}]
[null,null,null,null,null,null,null,null,null,null,{"$f":"IF(Table1[[#This Row],[Column3]]=\"T1013\",\"Y\",\"N\")","v":"N"},{"$f":"IF(Table1[[#This Row],[Column3]]=90785,\"Y\",\"N\")","v":"N"}]
[null,null,null,null,null,null,null,null,null,null,{"$f":"IF(Table1[[#This Row],[Column3]]=\"T1013\",\"Y\",\"N\")","v":"N"},{"$f":"IF(Table1[[#This Row],[Column3]]=90785,\"Y\",\"N\")","v":"N"}]
[null,null,null,null,null,null,null,null,null,null,{"$f":"IF(Table1[[#This Row],[Column3]]=\"T1013\",\"Y\",\"N\")","v":"N"},{"$f":"IF(Table1[[#This Row],[Column3]]=90785,\"Y\",\"N\")","v":"N"}]
[null,null,null,null,null,null,null,null,null,null,{"$f":"IF(Table1[[#This Row],[Column3]]=\"T1013\",\"Y\",\"N\")","v":"N"},{"$f":"IF(Table1[[#This Row],[Column3]]=90785,\"Y\",\"N\")","v":"N"}]
[null,null,null,null,null,null,null,null,null,null,{"$f":"IF(Table1[[#This Row],[Column3]]=\"T1013\",\"Y\",\"N\")","v":"N"},{"$f":"IF(Table1[[#This Row],[Column3]]=90785,\"Y\",\"N\")","v":"N"}]
[null,null,null,null,null,null,null,null,null,null,{"$f":"IF(Table1[[#This Row],[Column3]]=\"T1013\",\"Y\",\"N\")","v":"N"},{"$f":"IF(Table1[[#This Row],[Column3]]=90785,\"Y\",\"N\")","v":"N"}]
[null,null,null,null,null,null,null,null,null,null,{"$f":"IF(Table1[[#This Row],[Column3]]=\"T1013\",\"Y\",\"N\")","v":"N"},{"$f":"IF(Table1[[#This Row],[Column3]]=90785,\"Y\",\"N\")","v":"N"}]
[null,null,null,null,null,null,null,null,null,null,{"$f":"IF(Table1[[#This Row],[Column3]]=\"T1013\",\"Y\",\"N\")","v":"N"},{"$f":"IF(Table1[[#This Row],[Column3]]=90785,\"Y\",\"N\")","v":"N"}]
[null,null,null,null,null,null,null,null,null,null,{"$f":"IF(Table1[[#This Row],[Column3]]=\"T1013\",\"Y\",\"N\")","v":"N"},{"$f":"IF(Table1[[#This Row],[Column3]]=90785,\"Y\",\"N\")","v":"N"}]
[null,null,null,null,null,null,null,null,null,null,{"$f":"IF(Table1[[#This Row],[Column3]]=\"T1013\",\"Y\",\"N\")","v":"N"},{"$f":"IF(Table1[[#This Row],[Column3]]=90785,\"Y\",\"N\")","v":"N"}]
[null,null,null,null,null,null,null,null,null,null,{"$f":"IF(Table1[[#This Row],[Column3]]=\"T1013\",\"Y\",\"N\")","v":"N"},{"$f":"IF(Table1[[#This Row],[Column3]]=90785,\"Y\",\"N\")","v":"N"}]
[null,null,null,null,null,null,null,null,null,null,{"$f":"IF(Table1[[#This Row],[Column3]]=\"T1013\",\"Y\",\"N\")","v":"N"},{"$f":"IF(Table1[[#This Row],[Column3]]=90785,\"Y\",\"N\")","v":"N"}]
[null,null,null,null,null,null,null,null,null,null,{"$f":"IF(Table1[[#This Row],[Column3]]=\"T1013\",\"Y\",\"N\")","v":"N"},{"$f":"IF(Table1[[#This Row],[Column3]]=90785,\"Y\",\"N\")","v":"N"}]
[null,null,null,null,null,null,null,null,null,null,{"$f":"IF(Table1[[#This Row],[Column3]]=\"T1013\",\"Y\",\"N\")","v":"N"},{"$f":"IF(Table1[[#This Row],[Column3]]=90785,\"Y\",\"N\")","v":"N"}]
[null,null,null,null,null,null,null,null,null,null,{"$f":"IF(Table1[[#This Row],[Column3]]=\"T1013\",\"Y\",\"N\")","v":"N"},{"$f":"IF(Table1[[#This Row],[Column3]]=90785,\"Y\",\"N\")","v":"N"}]
[null,null,null,null,null,null,null,null,null,null,{"$f":"IF(Table1[[#This Row],[Column3]]=\"T1013\",\"Y\",\"N\")","v":"N"},{"$f":"IF(Table1[[#This Row],[Column3]]=90785,\"Y\",\"N\")","v":"N"}]
[null,null,null,null,null,null,null,null,null,null,{"$f":"IF(Table1[[#This Row],[Column3]]=\"T1013\",\"Y\",\"N\")","v":"N"},{"$f":"IF(Table1[[#This Row],[Column3]]=90785,\"Y\",\"N\")","v":"N"}]
[null,null,null,null,null,null,null,null,null,null,{"$f":"IF(Table1[[#This Row],[Column3]]=\"T1013\",\"Y\",\"N\")","v":"N"},{"$f":"IF(Table1[[#This Row],[Column3]]=90785,\"Y\",\"N\")","v":"N"}]
[null,null,null,null,null,null,null,null,null,null,{"$f":"IF(Table1[[#This Row],[Column3]]=\"T1013\",\"Y\",\"N\")","v":"N"},{"$f":"IF(Table1[[#This Row],[Column3]]=90785,\"Y\",\"N\")","v":"N"}]
[null,null,null,null,null,null,null,null,null,null,{"$f":"IF(Table1[[#This Row],[Column3]]=\"T1013\",\"Y\",\"N\")","v":"N"},{"$f":"IF(Table1[[#This Row],[Column3]]=90785,\"Y\",\"N\")","v":"N"}]
[null,null,null,null,null,null,null,null,null,null,{"$f":"IF(Table1[[#This Row],[Column3]]=\"T1013\",\"Y\",\"N\")","v":"N"},{"$f":"IF(Table1[[#This Row],[Column3]]=90785,\"Y\",\"N\")","v":"N"}]
[null,null,null,null,null,null,null,null,null,null,{"$f":"IF(Table1[[#This Row],[Column3]]=\"T1013\",\"Y\",\"N\")","v":"N"},{"$f":"IF(Table1[[#This Row],[Column3]]=90785,\"Y\",\"N\")","v":"N"}]
[null,null,null,null,null,null,null,null,null,null,{"$f":"IF(Table1[[#This Row],[Column3]]=\"T1013\",\"Y\",\"N\")","v":"N"},{"$f":"IF(Table1[[#This Row],[Column3]]=90785,\"Y\",\"N\")","v":"N"}]
[null,null,null,null,null,null,null,null,null,null,{"$f":"IF(Table1[[#This Row],[Column3]]=\"T1013\",\"Y\",\"N\")","v":"N"},{"$f":"IF(Table1[[#This Row],[Column3]]=90785,\"Y\",\"N\")","v":"N"}]
[null,null,null,null,null,null,null,null,null,null,{"$f":"IF(Table1[[#This Row],[Column3]]=\"T1013\",\"Y\",\"N\")","v":"N"},{"$f":"IF(Table1[[#This Row],[Column3]]=90785,\"Y\",\"N\")","v":"N"}]
[null,null,null,null,null,null,null,null,null,null,{"$f":"IF(Table1[[#This Row],[Column3]]=\"T1013\",\"Y\",\"N\")","v":"N"},{"$f":"IF(Table1[[#This Row],[Column3]]=90785,\"Y\",\"N\")","v":"N"}]
[null,null,null,null,null,null,null,null,null,null,{"$f":"IF(Table1[[#This Row],[Column3]]=\"T1013\",\"Y\",\"N\")","v":"N"},{"$f":"IF(Table1[[#This Row],[Column3]]=90785,\"Y\",\"N\")","v":"N"}]
[null,null,null,null,null,null,null,null,null,null,{"$f":"IF(Table1[[#This Row],[Column3]]=\"T1013\",\"Y\",\"N\")","v":"N"},{"$f":"IF(Table1[[#This Row],[Column3]]=90785,\"Y\",\"N\")","v":"N"}]
[null,null,null,null,null,null,null,null,null,null,{"$f":"IF(Table1[[#This Row],[Column3]]=\"T1013\",\"Y\",\"N\")","v":"N"},{"$f":"IF(Table1[[#This Row],[Column3]]=90785,\"Y\",\"N\")","v":"N"}]
[null,null,null,null,null,null,null,null,null,null,{"$f":"IF(Table1[[#This Row],[Column3]]=\"T1013\",\"Y\",\"N\")","v":"N"},{"$f":"IF(Table1[[#This Row],[Column3]]=90785,\"Y\",\"N\")","v":"N"}]
[null,null,null,null,null,null,null,null,null,null,{"$f":"IF(Table1[[#This Row],[Column3]]=\"T1013\",\"Y\",\"N\")","v":"N"},{"$f":"IF(Table1[[#This Row],[Column3]]=90785,\"Y\",\"N\")","v":"N"}]
[null,null,null,null,null,null,null,null,null,null,{"$f":"IF(Table1[[#This Row],[Column3]]=\"T1013\",\"Y\",\"N\")","v":"N"},{"$f":"IF(Table1[[#This Row],[Column3]]=90785,\"Y\",\"N\")","v":"N"}]
[null,null,null,null,null,null,null,null,null,null,{"$f":"IF(Table1[[#This Row],[Column3]]=\"T1013\",\"Y\",\"N\")","v":"N"},{"$f":"IF(Table1[[#This Row],[Column3]]=90785,\"Y\",\"N\")","v":"N"}]
[null,null,null,null,null,null,null,null,null,null,{"$f":"IF(Table1[[#This Row],[Column3]]=\"T1013\",\"Y\",\"N\")","v":"N"},{"$f":"IF(Table1[[#This Row],[Column3]]=90785,\"Y\",\"N\")","v":"N"}]
[null,null,null,null,null,null,null,null,null,null,{"$f":"IF(Table1[[#This Row],[Column3]]=\"T1013\",\"Y\",\"N\")","v":"N"},{"$f":"IF(Table1[[#This Row],[Column3]]=90785,\"Y\",\"N\")","v":"N"}]
[null,null,null,null,null,null,null,null,null,null,{"$f":"IF(Table1[[#This Row],[Column3]]=\"T1013\",\"Y\",\"N\")","v":"N"},{"$f":"IF(Table1[[#This Row],[Column3]]=90785,\"Y\",\"N\")","v":"N"}]
[null,null,null,null,null,null,null,null,null,null,{"$f":"IF(Table1[[#This Row],[Column3]]=\"T1013\",\"Y\",\"N\")","v":"N"},{"$f":"IF(Table1[[#This Row],[Column3]]=90785,\"Y\",\"N\")","v":"N"}]
[null,null,null,null,null,null,null,null,null,null,{"$f":"IF(Table1[[#This Row],[Column3]]=\"T1013\",\"Y\",\"N\")","v":"N"},{"$f":"IF(Table1[[#This Row],[Column3]]=90785,\"Y\",\"N\")","v":"N"}]
[null,null,null,null,null,null,null,null,null,null,{"$f":"IF(Table1[[#This Row],[Column3]]=\"T1013\",\"Y\",\"N\")","v":"N"},{"$f":"IF(Table1[[#This Row],[Column3]]=90785,\"Y\",\"N\")","v":"N"}]
[null,null,null,null,null,null,null,null,null,null,{"$f":"IF(Table1[[#This Row],[Column3]]=\"T1013\",\"Y\",\"N\")","v":"N"},{"$f":"IF(Table1[[#This Row],[Column3]]=90785,\"Y\",\"N\")","v":"N"}]
[null,null,null,null,null,null,null,null,null,null,{"$f":"IF(Table1[[#This Row],[Column3]]=\"T1013\",\"Y\",\"N\")","v":"N"},{"$f":"IF(Table1[[#This Row],[Column3]]=90785,\"Y\",\"N\")","v":"N"}]
[null,null,null,null,null,null,null,null,null,null,{"$f":"IF(Table1[[#This Row],[Column3]]=\"T1013\",\"Y\",\"N\")","v":"N"},{"$f":"IF(Table1[[#This Row],[Column3]]=90785,\"Y\",\"N\")","v":"N"}]
[null,null,null,null,null,null,null,null,null,null,{"$f":"IF(Table1[[#This Row],[Column3]]=\"T1013\",\"Y\",\"N\")","v":"N"},{"$f":"IF(Table1[[#This Row],[Column3]]=90785,\"Y\",\"N\")","v":"N"}]
[null,null,null,null,null,null,null,null,null,null,{"$f":"IF(Table1[[#This Row],[Column3]]=\"T1013\",\"Y\",\"N\")","v":"N"},{"$f":"IF(Table1[[#This Row],[Column3]]=90785,\"Y\",\"N\")","v":"N"}]
[null,null,null,null,null,null,null,null,null,null,{"$f":"IF(Table1[[#This Row],[Column3]]=\"T1013\",\"Y\",\"N\")","v":"N"},{"$f":"IF(Table1[[#This Row],[Column3]]=90785,\"Y\",\"N\")","v":"N"}]
[null,null,null,null,null,null,null,null,null,null,{"$f":"IF(Table1[[#This Row],[Column3]]=\"T1013\",\"Y\",\"N\")","v":"N"},{"$f":"IF(Table1[[#This Row],[Column3]]=90785,\"Y\",\"N\")","v":"N"}]
[null,null,null,null,null,null,null,null,null,null,{"$f":"IF(Table1[[#This Row],[Column3]]=\"T1013\",\"Y\",\"N\")","v":"N"},{"$f":"IF(Table1[[#This Row],[Column3]]=90785,\"Y\",\"N\")","v":"N"}]
[null,null,null,null,null,null,null,null,null,null,{"$f":"IF(Table1[[#This Row],[Column3]]=\"T1013\",\"Y\",\"N\")","v":"N"},{"$f":"IF(Table1[[#This Row],[Column3]]=90785,\"Y\",\"N\")","v":"N"}]
[null,null,null,null,null,null,null,null,null,null,{"$f":"IF(Table1[[#This Row],[Column3]]=\"T1013\",\"Y\",\"N\")","v":"N"},{"$f":"IF(Table1[[#This Row],[Column3]]=90785,\"Y\",\"N\")","v":"N"}]
[null,null,null,null,null,null,null,null,null,null,{"$f":"IF(Table1[[#This Row],[Column3]]=\"T1013\",\"Y\",\"N\")","v":"N"},{"$f":"IF(Table1[[#This Row],[Column3]]=90785,\"Y\",\"N\")","v":"N"}]
[null,null,null,null,null,null,null,null,null,null,{"$f":"IF(Table1[[#This Row],[Column3]]=\"T1013\",\"Y\",\"N\")","v":"N"},{"$f":"IF(Table1[[#This Row],[Column3]]=90785,\"Y\",\"N\")","v":"N"}]
[null,null,null,null,null,null,null,null,null,null,{"$f":"IF(Table1[[#This Row],[Column3]]=\"T1013\",\"Y\",\"N\")","v":"N"},{"$f":"IF(Table1[[#This Row],[Column3]]=90785,\"Y\",\"N\")","v":"N"}]
[null,null,null,null,null,null,null,null,null,null,{"$f":"IF(Table1[[#This Row],[Column3]]=\"T1013\",\"Y\",\"N\")","v":"N"},{"$f":"IF(Table1[[#This Row],[Column3]]=90785,\"Y\",\"N\")","v":"N"}]
[null,null,null,null,null,null,null,null,null,null,{"$f":"IF(Table1[[#This Row],[Column3]]=\"T1013\",\"Y\",\"N\")","v":"N"},{"$f":"IF(Table1[[#This Row],[Column3]]=90785,\"Y\",\"N\")","v":"N"}]
[null,null,null,null,null,null,null,null,null,null,{"$f":"IF(Table1[[#This Row],[Column3]]=\"T1013\",\"Y\",\"N\")","v":"N"},{"$f":"IF(Table1[[#This Row],[Column3]]=90785,\"Y\",\"N\")","v":"N"}]
[null,null,null,null,null,null,null,null,null,null,{"$f":"IF(Table1[[#This Row],[Column3]]=\"T1013\",\"Y\",\"N\")","v":"N"},{"$f":"IF(Table1[[#This Row],[Column3]]=90785,\"Y\",\"N\")","v":"N"}]
[null,null,null,null,null,null,null,null,null,null,{"$f":"IF(Table1[[#This Row],[Column3]]=\"T1013\",\"Y\",\"N\")","v":"N"},{"$f":"IF(Table1[[#This Row],[Column3]]=90785,\"Y\",\"N\")","v":"N"}]
[null,null,null,null,null,null,null,null,null,null,{"$f":"IF(Table1[[#This Row],[Column3]]=\"T1013\",\"Y\",\"N\")","v":"N"},{"$f":"IF(Table1[[#This Row],[Column3]]=90785,\"Y\",\"N\")","v":"N"}]
[null,null,null,null,null,null,null,null,null,null,{"$f":"IF(Table1[[#This Row],[Column3]]=\"T1013\",\"Y\",\"N\")","v":"N"},{"$f":"IF(Table1[[#This Row],[Column3]]=90785,\"Y\",\"N\")","v":"N"}]
[null,null,null,null,null,null,null,null,null,null,{"$f":"IF(Table1[[#This Row],[Column3]]=\"T1013\",\"Y\",\"N\")","v":"N"},{"$f":"IF(Table1[[#This Row],[Column3]]=90785,\"Y\",\"N\")","v":"N"}]
[null,null,null,null,null,null,null,null,null,null,{"$f":"IF(Table1[[#This Row],[Column3]]=\"T1013\",\"Y\",\"N\")","v":"N"},{"$f":"IF(Table1[[#This Row],[Column3]]=90785,\"Y\",\"N\")","v":"N"}]
[null,null,null,null,null,null,null,null,null,null,{"$f":"IF(Table1[[#This Row],[Column3]]=\"T1013\",\"Y\",\"N\")","v":"N"},{"$f":"IF(Table1[[#This Row],[Column3]]=90785,\"Y\",\"N\")","v":"N"}]
[null,null,null,null,null,null,null,null,null,null,{"$f":"IF(Table1[[#This Row],[Column3]]=\"T1013\",\"Y\",\"N\")","v":"N"},{"$f":"IF(Table1[[#This Row],[Column3]]=90785,\"Y\",\"N\")","v":"N"}]
[null,null,null,null,null,null,null,null,null,null,{"$f":"IF(Table1[[#This Row],[Column3]]=\"T1013\",\"Y\",\"N\")","v":"N"},{"$f":"IF(Table1[[#This Row],[Column3]]=90785,\"Y\",\"N\")","v":"N"}]
[null,null,null,null,null,null,null,null,null,null,{"$f":"IF(Table1[[#This Row],[Column3]]=\"T1013\",\"Y\",\"N\")","v":"N"},{"$f":"IF(Table1[[#This Row],[Column3]]=90785,\"Y\",\"N\")","v":"N"}]
[null,null,null,null,null,null,null,null,null,null,{"$f":"IF(Table1[[#This Row],[Column3]]=\"T1013\",\"Y\",\"N\")","v":"N"},{"$f":"IF(Table1[[#This Row],[Column3]]=90785,\"Y\",\"N\")","v":"N"}]
[null,null,null,null,null,null,null,null,null,null,{"$f":"IF(Table1[[#This Row],[Column3]]=\"T1013\",\"Y\",\"N\")","v":"N"},{"$f":"IF(Table1[[#This Row],[Column3]]=90785,\"Y\",\"N\")","v":"N"}]
[null,null,null,null,null,null,null,null,null,null,{"$f":"IF(Table1[[#This Row],[Column3]]=\"T1013\",\"Y\",\"N\")","v":"N"},{"$f":"IF(Table1[[#This Row],[Column3]]=90785,\"Y\",\"N\")","v":"N"}]
[null,null,null,null,null,null,null,null,null,null,{"$f":"IF(Table1[[#This Row],[Column3]]=\"T1013\",\"Y\",\"N\")","v":"N"},{"$f":"IF(Table1[[#This Row],[Column3]]=90785,\"Y\",\"N\")","v":"N"}]
[null,null,null,null,null,null,null,null,null,null,{"$f":"IF(Table1[[#This Row],[Column3]]=\"T1013\",\"Y\",\"N\")","v":"N"},{"$f":"IF(Table1[[#This Row],[Column3]]=90785,\"Y\",\"N\")","v":"N"}]
[null,null,null,null,null,null,null,null,null,null,{"$f":"IF(Table1[[#This Row],[Column3]]=\"T1013\",\"Y\",\"N\")","v":"N"},{"$f":"IF(Table1[[#This Row],[Column3]]=90785,\"Y\",\"N\")","v":"N"}]
[null,null,null,null,null,null,null,null,null,null,{"$f":"IF(Table1[[#This Row],[Column3]]=\"T1013\",\"Y\",\"N\")","v":"N"},{"$f":"IF(Table1[[#This Row],[Column3]]=90785,\"Y\",\"N\")","v":"N"}]
[null,null,null,null,null,null,null,null,null,null,{"$f":"IF(Table1[[#This Row],[Column3]]=\"T1013\",\"Y\",\"N\")","v":"N"},{"$f":"IF(Table1[[#This Row],[Column3]]=90785,\"Y\",\"N\")","v":"N"}]
[null,null,null,null,null,null,null,null,null,null,{"$f":"IF(Table1[[#This Row],[Column3]]=\"T1013\",\"Y\",\"N\")","v":"N"},{"$f":"IF(Table1[[#This Row],[Column3]]=90785,\"Y\",\"N\")","v":"N"}]
[null,null,null,null,null,null,null,null,null,null,{"$f":"IF(Table1[[#This Row],[Column3]]=\"T1013\",\"Y\",\"N\")","v":"N"},{"$f":"IF(Table1[[#This Row],[Column3]]=90785,\"Y\",\"N\")","v":"N"}]
[null,null,null,null,null,null,null,null,null,null,{"$f":"IF(Table1[[#This Row],[Column3]]=\"T1013\",\"Y\",\"N\")","v":"N"},{"$f":"IF(Table1[[#This Row],[Column3]]=90785,\"Y\",\"N\")","v":"N"}]
[null,null,null,null,null,null,null,null,null,null,{"$f":"IF(Table1[[#This Row],[Column3]]=\"T1013\",\"Y\",\"N\")","v":"N"},{"$f":"IF(Table1[[#This Row],[Column3]]=90785,\"Y\",\"N\")","v":"N"}]
[null,null,null,null,null,null,null,null,null,null,{"$f":"IF(Table1[[#This Row],[Column3]]=\"T1013\",\"Y\",\"N\")","v":"N"},{"$f":"IF(Table1[[#This Row],[Column3]]=90785,\"Y\",\"N\")","v":"N"}]
[null,null,null,null,null,null,null,null,null,null,{"$f":"IF(Table1[[#This Row],[Column3]]=\"T1013\",\"Y\",\"N\")","v":"N"},{"$f":"IF(Table1[[#This Row],[Column3]]=90785,\"Y\",\"N\")","v":"N"}]
[null,null,null,null,null,null,null,null,null,null,{"$f":"IF(Table1[[#This Row],[Column3]]=\"T1013\",\"Y\",\"N\")","v":"N"},{"$f":"IF(Table1[[#This Row],[Column3]]=90785,\"Y\",\"N\")","v":"N"}]
[null,null,null,null,null,null,null,null,null,null,{"$f":"IF(Table1[[#This Row],[Column3]]=\"T1013\",\"Y\",\"N\")","v":"N"},{"$f":"IF(Table1[[#This Row],[Column3]]=90785,\"Y\",\"N\")","v":"N"}]
[null,null,null,null,null,null,null,null,null,null,{"$f":"IF(Table1[[#This Row],[Column3]]=\"T1013\",\"Y\",\"N\")","v":"N"},{"$f":"IF(Table1[[#This Row],[Column3]]=90785,\"Y\",\"N\")","v":"N"}]
[null,null,null,null,null,null,null,null,null,null,{"$f":"IF(Table1[[#This Row],[Column3]]=\"T1013\",\"Y\",\"N\")","v":"N"},{"$f":"IF(Table1[[#This Row],[Column3]]=90785,\"Y\",\"N\")","v":"N"}]
[null,null,null,null,null,null,null,null,null,null,{"$f":"IF(Table1[[#This Row],[Column3]]=\"T1013\",\"Y\",\"N\")","v":"N"},{"$f":"IF(Table1[[#This Row],[Column3]]=90785,\"Y\",\"N\")","v":"N"}]
[null,null,null,null,null,null,null,null,null,null,{"$f":"IF(Table1[[#This Row],[Column3]]=\"T1013\",\"Y\",\"N\")","v":"N"},{"$f":"IF(Table1[[#This Row],[Column3]]=90785,\"Y\",\"N\")","v":"N"}]
[null,null,null,null,null,null,null,null,null,null,{"$f":"IF(Table1[[#This Row],[Column3]]=\"T1013\",\"Y\",\"N\")","v":"N"},{"$f":"IF(Table1[[#This Row],[Column3]]=90785,\"Y\",\"N\")","v":"N"}]
[null,null,null,null,null,null,null,null,null,null,{"$f":"IF(Table1[[#This Row],[Column3]]=\"T1013\",\"Y\",\"N\")","v":"N"},{"$f":"IF(Table1[[#This Row],[Column3]]=90785,\"Y\",\"N\")","v":"N"}]
[null,null,null,null,null,null,null,null,null,null,{"$f":"IF(Table1[[#This Row],[Column3]]=\"T1013\",\"Y\",\"N\")","v":"N"},{"$f":"IF(Table1[[#This Row],[Column3]]=90785,\"Y\",\"N\")","v":"N"}]
[null,null,null,null,null,null,null,null,null,null,{"$f":"IF(Table1[[#This Row],[Column3]]=\"T1013\",\"Y\",\"N\")","v":"N"},{"$f":"IF(Table1[[#This Row],[Column3]]=90785,\"Y\",\"N\")","v":"N"}]
[null,null,null,null,null,null,null,null,null,null,{"$f":"IF(Table1[[#This Row],[Column3]]=\"T1013\",\"Y\",\"N\")","v":"N"},{"$f":"IF(Table1[[#This Row],[Column3]]=90785,\"Y\",\"N\")","v":"N"}]
[null,null,null,null,null,null,null,null,null,null,{"$f":"IF(Table1[[#This Row],[Column3]]=\"T1013\",\"Y\",\"N\")","v":"N"},{"$f":"IF(Table1[[#This Row],[Column3]]=90785,\"Y\",\"N\")","v":"N"}]
[null,null,null,null,null,null,null,null,null,null,{"$f":"IF(Table1[[#This Row],[Column3]]=\"T1013\",\"Y\",\"N\")","v":"N"},{"$f":"IF(Table1[[#This Row],[Column3]]=90785,\"Y\",\"N\")","v":"N"}]
[null,null,null,null,null,null,null,null,null,null,{"$f":"IF(Table1[[#This Row],[Column3]]=\"T1013\",\"Y\",\"N\")","v":"N"},{"$f":"IF(Table1[[#This Row],[Column3]]=90785,\"Y\",\"N\")","v":"N"}]
[null,null,null,null,null,null,null,null,null,null,{"$f":"IF(Table1[[#This Row],[Column3]]=\"T1013\",\"Y\",\"N\")","v":"N"},{"$f":"IF(Table1[[#This Row],[Column3]]=90785,\"Y\",\"N\")","v":"N"}]
[null,null,null,null,null,null,null,null,null,null,{"$f":"IF(Table1[[#This Row],[Column3]]=\"T1013\",\"Y\",\"N\")","v":"N"},{"$f":"IF(Table1[[#This Row],[Column3]]=90785,\"Y\",\"N\")","v":"N"}]
[null,null,null,null,null,null,null,null,null,null,{"$f":"IF(Table1[[#This Row],[Column3]]=\"T1013\",\"Y\",\"N\")","v":"N"},{"$f":"IF(Table1[[#This Row],[Column3]]=90785,\"Y\",\"N\")","v":"N"}]
[null,null,null,null,null,null,null,null,null,null,{"$f":"IF(Table1[[#This Row],[Column3]]=\"T1013\",\"Y\",\"N\")","v":"N"},{"$f":"IF(Table1[[#This Row],[Column3]]=90785,\"Y\",\"N\")","v":"N"}]
[null,null,null,null,null,null,null,null,null,null,{"$f":"IF(Table1[[#This Row],[Column3]]=\"T1013\",\"Y\",\"N\")","v":"N"},{"$f":"IF(Table1[[#This Row],[Column3]]=90785,\"Y\",\"N\")","v":"N"}]
[null,null,null,null,null,null,null,null,null,null,{"$f":"IF(Table1[[#This Row],[Column3]]=\"T1013\",\"Y\",\"N\")","v":"N"},{"$f":"IF(Table1[[#This Row],[Column3]]=90785,\"Y\",\"N\")","v":"N"}]
[null,null,null,null,null,null,null,null,null,null,{"$f":"IF(Table1[[#This Row],[Column3]]=\"T1013\",\"Y\",\"N\")","v":"N"},{"$f":"IF(Table1[[#This Row],[Column3]]=90785,\"Y\",\"N\")","v":"N"}]
[null,null,null,null,null,null,null,null,null,null,{"$f":"IF(Table1[[#This Row],[Column3]]=\"T1013\",\"Y\",\"N\")","v":"N"},{"$f":"IF(Table1[[#This Row],[Column3]]=90785,\"Y\",\"N\")","v":"N"}]
[null,null,null,null,null,null,null,null,null,null,{"$f":"IF(Table1[[#This Row],[Column3]]=\"T1013\",\"Y\",\"N\")","v":"N"},{"$f":"IF(Table1[[#This Row],[Column3]]=90785,\"Y\",\"N\")","v":"N"}]
[null,null,null,null,null,null,null,null,null,null,{"$f":"IF(Table1[[#This Row],[Column3]]=\"T1013\",\"Y\",\"N\")","v":"N"},{"$f":"IF(Table1[[#This Row],[Column3]]=90785,\"Y\",\"N\")","v":"N"}]
[null,null,null,null,null,null,null,null,null,null,{"$f":"IF(Table1[[#This Row],[Column3]]=\"T1013\",\"Y\",\"N\")","v":"N"},{"$f":"IF(Table1[[#This Row],[Column3]]=90785,\"Y\",\"N\")","v":"N"}]
[null,null,null,null,null,null,null,null,null,null,{"$f":"IF(Table1[[#This Row],[Column3]]=\"T1013\",\"Y\",\"N\")","v":"N"},{"$f":"IF(Table1[[#This Row],[Column3]]=90785,\"Y\",\"N\")","v":"N"}]
[null,null,null,null,null,null,null,null,null,null,{"$f":"IF(Table1[[#This Row],[Column3]]=\"T1013\",\"Y\",\"N\")","v":"N"},{"$f":"IF(Table1[[#This Row],[Column3]]=90785,\"Y\",\"N\")","v":"N"}]
[null,null,null,null,null,null,null,null,null,null,{"$f":"IF(Table1[[#This Row],[Column3]]=\"T1013\",\"Y\",\"N\")","v":"N"},{"$f":"IF(Table1[[#This Row],[Column3]]=90785,\"Y\",\"N\")","v":"N"}]
[null,null,null,null,null,null,null,null,null,null,{"$f":"IF(Table1[[#This Row],[Column3]]=\"T1013\",\"Y\",\"N\")","v":"N"},{"$f":"IF(Table1[[#This Row],[Column3]]=90785,\"Y\",\"N\")","v":"N"}]
[null,null,null,null,null,null,null,null,null,null,{"$f":"IF(Table1[[#This Row],[Column3]]=\"T1013\",\"Y\",\"N\")","v":"N"},{"$f":"IF(Table1[[#This Row],[Column3]]=90785,\"Y\",\"N\")","v":"N"}]
[null,null,null,null,null,null,null,null,null,null,{"$f":"IF(Table1[[#This Row],[Column3]]=\"T1013\",\"Y\",\"N\")","v":"N"},{"$f":"IF(Table1[[#This Row],[Column3]]=90785,\"Y\",\"N\")","v":"N"}]
[null,null,null,null,null,null,null,null,null,null,{"$f":"IF(Table1[[#This Row],[Column3]]=\"T1013\",\"Y\",\"N\")","v":"N"},{"$f":"IF(Table1[[#This Row],[Column3]]=90785,\"Y\",\"N\")","v":"N"}]
[null,null,null,null,null,null,null,null,null,null,{"$f":"IF(Table1[[#This Row],[Column3]]=\"T1013\",\"Y\",\"N\")","v":"N"},{"$f":"IF(Table1[[#This Row],[Column3]]=90785,\"Y\",\"N\")","v":"N"}]
[null,null,null,null,null,null,null,null,null,null,{"$f":"IF(Table1[[#This Row],[Column3]]=\"T1013\",\"Y\",\"N\")","v":"N"},{"$f":"IF(Table1[[#This Row],[Column3]]=90785,\"Y\",\"N\")","v":"N"}]
[null,null,null,null,null,null,null,null,null,null,{"$f":"IF(Table1[[#This Row],[Column3]]=\"T1013\",\"Y\",\"N\")","v":"N"},{"$f":"IF(Table1[[#This Row],[Column3]]=90785,\"Y\",\"N\")","v":"N"}]
[null,null,null,null,null,null,null,null,null,null,{"$f":"IF(Table1[[#This Row],[Column3]]=\"T1013\",\"Y\",\"N\")","v":"N"},{"$f":"IF(Table1[[#This Row],[Column3]]=90785,\"Y\",\"N\")","v":"N"}]
[null,null,null,null,null,null,null,null,null,null,{"$f":"IF(Table1[[#This Row],[Column3]]=\"T1013\",\"Y\",\"N\")","v":"N"},{"$f":"IF(Table1[[#This Row],[Column3]]=90785,\"Y\",\"N\")","v":"N"}]
[null,null,null,null,null,null,null,null,null,null,{"$f":"IF(Table1[[#This Row],[Column3]]=\"T1013\",\"Y\",\"N\")","v":"N"},{"$f":"IF(Table1[[#This Row],[Column3]]=90785,\"Y\",\"N\")","v":"N"}]
[null,null,null,null,null,null,null,null,null,null,{"$f":"IF(Table1[[#This Row],[Column3]]=\"T1013\",\"Y\",\"N\")","v":"N"},{"$f":"IF(Table1[[#This Row],[Column3]]=90785,\"Y\",\"N\")","v":"N"}]
[null,null,null,null,null,null,null,null,null,null,{"$f":"IF(Table1[[#This Row],[Column3]]=\"T1013\",\"Y\",\"N\")","v":"N"},{"$f":"IF(Table1[[#This Row],[Column3]]=90785,\"Y\",\"N\")","v":"N"}]
[null,null,null,null,null,null,null,null,null,null,{"$f":"IF(Table1[[#This Row],[Column3]]=\"T1013\",\"Y\",\"N\")","v":"N"},{"$f":"IF(Table1[[#This Row],[Column3]]=90785,\"Y\",\"N\")","v":"N"}]
[null,null,null,null,null,null,null,null,null,null,{"$f":"IF(Table1[[#This Row],[Column3]]=\"T1013\",\"Y\",\"N\")","v":"N"},{"$f":"IF(Table1[[#This Row],[Column3]]=90785,\"Y\",\"N\")","v":"N"}]
[null,null,null,null,null,null,null,null,null,null,{"$f":"IF(Table1[[#This Row],[Column3]]=\"T1013\",\"Y\",\"N\")","v":"N"},{"$f":"IF(Table1[[#This Row],[Column3]]=90785,\"Y\",\"N\")","v":"N"}]
[null,null,null,null,null,null,null,null,null,null,{"$f":"IF(Table1[[#This Row],[Column3]]=\"T1013\",\"Y\",\"N\")","v":"N"},{"$f":"IF(Table1[[#This Row],[Column3]]=90785,\"Y\",\"N\")","v":"N"}]
[null,null,null,null,null,null,null,null,null,null,{"$f":"IF(Table1[[#This Row],[Column3]]=\"T1013\",\"Y\",\"N\")","v":"N"},{"$f":"IF(Table1[[#This Row],[Column3]]=90785,\"Y\",\"N\")","v":"N"}]
[null,null,null,null,null,null,null,null,null,null,{"$f":"IF(Table1[[#This Row],[Column3]]=\"T1013\",\"Y\",\"N\")","v":"N"},{"$f":"IF(Table1[[#This Row],[Column3]]=90785,\"Y\",\"N\")","v":"N"}]
[null,null,null,null,null,null,null,null,null,null,{"$f":"IF(Table1[[#This Row],[Column3]]=\"T1013\",\"Y\",\"N\")","v":"N"},{"$f":"IF(Table1[[#This Row],[Column3]]=90785,\"Y\",\"N\")","v":"N"}]
[null,null,null,null,null,null,null,null,null,null,{"$f":"IF(Table1[[#This Row],[Column3]]=\"T1013\",\"Y\",\"N\")","v":"N"},{"$f":"IF(Table1[[#This Row],[Column3]]=90785,\"Y\",\"N\")","v":"N"}]
[null,null,null,null,null,null,null,null,null,null,{"$f":"IF(Table1[[#This Row],[Column3]]=\"T1013\",\"Y\",\"N\")","v":"N"},{"$f":"IF(Table1[[#This Row],[Column3]]=90785,\"Y\",\"N\")","v":"N"}]
[null,null,null,null,null,null,null,null,null,null,{"$f":"IF(Table1[[#This Row],[Column3]]=\"T1013\",\"Y\",\"N\")","v":"N"},{"$f":"IF(Table1[[#This Row],[Column3]]=90785,\"Y\",\"N\")","v":"N"}]
[null,null,null,null,null,null,null,null,null,null,{"$f":"IF(Table1[[#This Row],[Column3]]=\"T1013\",\"Y\",\"N\")","v":"N"},{"$f":"IF(Table1[[#This Row],[Column3]]=90785,\"Y\",\"N\")","v":"N"}]
[null,null,null,null,null,null,null,null,null,null,{"$f":"IF(Table1[[#This Row],[Column3]]=\"T1013\",\"Y\",\"N\")","v":"N"},{"$f":"IF(Table1[[#This Row],[Column3]]=90785,\"Y\",\"N\")","v":"N"}]
[null,null,null,null,null,null,null,null,null,null,{"$f":"IF(Table1[[#This Row],[Column3]]=\"T1013\",\"Y\",\"N\")","v":"N"},{"$f":"IF(Table1[[#This Row],[Column3]]=90785,\"Y\",\"N\")","v":"N"}]
[null,null,null,null,null,null,null,null,null,null,{"$f":"IF(Table1[[#This Row],[Column3]]=\"T1013\",\"Y\",\"N\")","v":"N"},{"$f":"IF(Table1[[#This Row],[Column3]]=90785,\"Y\",\"N\")","v":"N"}]
[null,null,null,null,null,null,null,null,null,null,{"$f":"IF(Table1[[#This Row],[Column3]]=\"T1013\",\"Y\",\"N\")","v":"N"},{"$f":"IF(Table1[[#This Row],[Column3]]=90785,\"Y\",\"N\")","v":"N"}]
[null,null,null,null,null,null,null,null,null,null,{"$f":"IF(Table1[[#This Row],[Column3]]=\"T1013\",\"Y\",\"N\")","v":"N"},{"$f":"IF(Table1[[#This Row],[Column3]]=90785,\"Y\",\"N\")","v":"N"}]
[null,null,null,null,null,null,null,null,null,null,{"$f":"IF(Table1[[#This Row],[Column3]]=\"T1013\",\"Y\",\"N\")","v":"N"},{"$f":"IF(Table1[[#This Row],[Column3]]=90785,\"Y\",\"N\")","v":"N"}]
[null,null,null,null,null,null,null,null,null,null,{"$f":"IF(Table1[[#This Row],[Column3]]=\"T1013\",\"Y\",\"N\")","v":"N"},{"$f":"IF(Table1[[#This Row],[Column3]]=90785,\"Y\",\"N\")","v":"N"}]
[null,null,null,null,null,null,null,null,null,null,{"$f":"IF(Table1[[#This Row],[Column3]]=\"T1013\",\"Y\",\"N\")","v":"N"},{"$f":"IF(Table1[[#This Row],[Column3]]=90785,\"Y\",\"N\")","v":"N"}]
[null,null,null,null,null,null,null,null,null,null,{"$f":"IF(Table1[[#This Row],[Column3]]=\"T1013\",\"Y\",\"N\")","v":"N"},{"$f":"IF(Table1[[#This Row],[Column3]]=90785,\"Y\",\"N\")","v":"N"}]
[null,null,null,null,null,null,null,null,null,null,{"$f":"IF(Table1[[#This Row],[Column3]]=\"T1013\",\"Y\",\"N\")","v":"N"},{"$f":"IF(Table1[[#This Row],[Column3]]=90785,\"Y\",\"N\")","v":"N"}]
[null,null,null,null,null,null,null,null,null,null,{"$f":"IF(Table1[[#This Row],[Column3]]=\"T1013\",\"Y\",\"N\")","v":"N"},{"$f":"IF(Table1[[#This Row],[Column3]]=90785,\"Y\",\"N\")","v":"N"}]
[null,null,null,null,null,null,null,null,null,null,{"$f":"IF(Table1[[#This Row],[Column3]]=\"T1013\",\"Y\",\"N\")","v":"N"},{"$f":"IF(Table1[[#This Row],[Column3]]=90785,\"Y\",\"N\")","v":"N"}]
[null,null,null,null,null,null,null,null,null,null,{"$f":"IF(Table1[[#This Row],[Column3]]=\"T1013\",\"Y\",\"N\")","v":"N"},{"$f":"IF(Table1[[#This Row],[Column3]]=90785,\"Y\",\"N\")","v":"N"}]
[null,null,null,null,null,null,null,null,null,null,{"$f":"IF(Table1[[#This Row],[Column3]]=\"T1013\",\"Y\",\"N\")","v":"N"},{"$f":"IF(Table1[[#This Row],[Column3]]=90785,\"Y\",\"N\")","v":"N"}]
[null,null,null,null,null,null,null,null,null,null,{"$f":"IF(Table1[[#This Row],[Column3]]=\"T1013\",\"Y\",\"N\")","v":"N"},{"$f":"IF(Table1[[#This Row],[Column3]]=90785,\"Y\",\"N\")","v":"N"}]
[null,null,null,null,null,null,null,null,null,null,{"$f":"IF(Table1[[#This Row],[Column3]]=\"T1013\",\"Y\",\"N\")","v":"N"},{"$f":"IF(Table1[[#This Row],[Column3]]=90785,\"Y\",\"N\")","v":"N"}]
[null,null,null,null,null,null,null,null,null,null,{"$f":"IF(Table1[[#This Row],[Column3]]=\"T1013\",\"Y\",\"N\")","v":"N"},{"$f":"IF(Table1[[#This Row],[Column3]]=90785,\"Y\",\"N\")","v":"N"}]
[null,null,null,null,null,null,null,null,null,null,{"$f":"IF(Table1[[#This Row],[Column3]]=\"T1013\",\"Y\",\"N\")","v":"N"},{"$f":"IF(Table1[[#This Row],[Column3]]=90785,\"Y\",\"N\")","v":"N"}]
[null,null,null,null,null,null,null,null,null,null,{"$f":"IF(Table1[[#This Row],[Column3]]=\"T1013\",\"Y\",\"N\")","v":"N"},{"$f":"IF(Table1[[#This Row],[Column3]]=90785,\"Y\",\"N\")","v":"N"}]
[null,null,null,null,null,null,null,null,null,null,{"$f":"IF(Table1[[#This Row],[Column3]]=\"T1013\",\"Y\",\"N\")","v":"N"},{"$f":"IF(Table1[[#This Row],[Column3]]=90785,\"Y\",\"N\")","v":"N"}]
[null,null,null,null,null,null,null,null,null,null,{"$f":"IF(Table1[[#This Row],[Column3]]=\"T1013\",\"Y\",\"N\")","v":"N"},{"$f":"IF(Table1[[#This Row],[Column3]]=90785,\"Y\",\"N\")","v":"N"}]
[null,null,null,null,null,null,null,null,null,null,{"$f":"IF(Table1[[#This Row],[Column3]]=\"T1013\",\"Y\",\"N\")","v":"N"},{"$f":"IF(Table1[[#This Row],[Column3]]=90785,\"Y\",\"N\")","v":"N"}]
[null,null,null,null,null,null,null,null,null,null,{"$f":"IF(Table1[[#This Row],[Column3]]=\"T1013\",\"Y\",\"N\")","v":"N"},{"$f":"IF(Table1[[#This Row],[Column3]]=90785,\"Y\",\"N\")","v":"N"}]
[null,null,null,null,null,null,null,null,null,null,{"$f":"IF(Table1[[#This Row],[Column3]]=\"T1013\",\"Y\",\"N\")","v":"N"},{"$f":"IF(Table1[[#This Row],[Column3]]=90785,\"Y\",\"N\")","v":"N"}]
[null,null,null,null,null,null,null,null,null,null,{"$f":"IF(Table1[[#This Row],[Column3]]=\"T1013\",\"Y\",\"N\")","v":"N"},{"$f":"IF(Table1[[#This Row],[Column3]]=90785,\"Y\",\"N\")","v":"N"}]
[null,null,null,null,null,null,null,null,null,null,{"$f":"IF(Table1[[#This Row],[Column3]]=\"T1013\",\"Y\",\"N\")","v":"N"},{"$f":"IF(Table1[[#This Row],[Column3]]=90785,\"Y\",\"N\")","v":"N"}]
[null,null,null,null,null,null,null,null,null,null,{"$f":"IF(Table1[[#This Row],[Column3]]=\"T1013\",\"Y\",\"N\")","v":"N"},{"$f":"IF(Table1[[#This Row],[Column3]]=90785,\"Y\",\"N\")","v":"N"}]
[null,null,null,null,null,null,null,null,null,null,{"$f":"IF(Table1[[#This Row],[Column3]]=\"T1013\",\"Y\",\"N\")","v":"N"},{"$f":"IF(Table1[[#This Row],[Column3]]=90785,\"Y\",\"N\")","v":"N"}]
[null,null,null,null,null,null,null,null,null,null,{"$f":"IF(Table1[[#This Row],[Column3]]=\"T1013\",\"Y\",\"N\")","v":"N"},{"$f":"IF(Table1[[#This Row],[Column3]]=90785,\"Y\",\"N\")","v":"N"}]
[null,null,null,null,null,null,null,null,null,null,{"$f":"IF(Table1[[#This Row],[Column3]]=\"T1013\",\"Y\",\"N\")","v":"N"},{"$f":"IF(Table1[[#This Row],[Column3]]=90785,\"Y\",\"N\")","v":"N"}]
[null,null,null,null,null,null,null,null,null,null,{"$f":"IF(Table1[[#This Row],[Column3]]=\"T1013\",\"Y\",\"N\")","v":"N"},{"$f":"IF(Table1[[#This Row],[Column3]]=90785,\"Y\",\"N\")","v":"N"}]
[null,null,null,null,null,null,null,null,null,null,{"$f":"IF(Table1[[#This Row],[Column3]]=\"T1013\",\"Y\",\"N\")","v":"N"},{"$f":"IF(Table1[[#This Row],[Column3]]=90785,\"Y\",\"N\")","v":"N"}]
[null,null,null,null,null,null,null,null,null,null,{"$f":"IF(Table1[[#This Row],[Column3]]=\"T1013\",\"Y\",\"N\")","v":"N"},{"$f":"IF(Table1[[#This Row],[Column3]]=90785,\"Y\",\"N\")","v":"N"}]
[null,null,null,null,null,null,null,null,null,null,{"$f":"IF(Table1[[#This Row],[Column3]]=\"T1013\",\"Y\",\"N\")","v":"N"},{"$f":"IF(Table1[[#This Row],[Column3]]=90785,\"Y\",\"N\")","v":"N"}]
[null,null,null,null,null,null,null,null,null,null,{"$f":"IF(Table1[[#This Row],[Column3]]=\"T1013\",\"Y\",\"N\")","v":"N"},{"$f":"IF(Table1[[#This Row],[Column3]]=90785,\"Y\",\"N\")","v":"N"}]
[null,null,null,null,null,null,null,null,null,null,{"$f":"IF(Table1[[#This Row],[Column3]]=\"T1013\",\"Y\",\"N\")","v":"N"},{"$f":"IF(Table1[[#This Row],[Column3]]=90785,\"Y\",\"N\")","v":"N"}]
[null,null,null,null,null,null,null,null,null,null,{"$f":"IF(Table1[[#This Row],[Column3]]=\"T1013\",\"Y\",\"N\")","v":"N"},{"$f":"IF(Table1[[#This Row],[Column3]]=90785,\"Y\",\"N\")","v":"N"}]
[null,null,null,null,null,null,null,null,null,null,{"$f":"IF(Table1[[#This Row],[Column3]]=\"T1013\",\"Y\",\"N\")","v":"N"},{"$f":"IF(Table1[[#This Row],[Column3]]=90785,\"Y\",\"N\")","v":"N"}]
[null,null,null,null,null,null,null,null,null,null,{"$f":"IF(Table1[[#This Row],[Column3]]=\"T1013\",\"Y\",\"N\")","v":"N"},{"$f":"IF(Table1[[#This Row],[Column3]]=90785,\"Y\",\"N\")","v":"N"}]
[null,null,null,null,null,null,null,null,null,null,{"$f":"IF(Table1[[#This Row],[Column3]]=\"T1013\",\"Y\",\"N\")","v":"N"},{"$f":"IF(Table1[[#This Row],[Column3]]=90785,\"Y\",\"N\")","v":"N"}]
[null,null,null,null,null,null,null,null,null,null,{"$f":"IF(Table1[[#This Row],[Column3]]=\"T1013\",\"Y\",\"N\")","v":"N"},{"$f":"IF(Table1[[#This Row],[Column3]]=90785,\"Y\",\"N\")","v":"N"}]
[null,null,null,null,null,null,null,null,null,null,{"$f":"IF(Table1[[#This Row],[Column3]]=\"T1013\",\"Y\",\"N\")","v":"N"},{"$f":"IF(Table1[[#This Row],[Column3]]=90785,\"Y\",\"N\")","v":"N"}]
[null,null,null,null,null,null,null,null,null,null,{"$f":"IF(Table1[[#This Row],[Column3]]=\"T1013\",\"Y\",\"N\")","v":"N"},{"$f":"IF(Table1[[#This Row],[Column3]]=90785,\"Y\",\"N\")","v":"N"}]
[null,null,null,null,null,null,null,null,null,null,{"$f":"IF(Table1[[#This Row],[Column3]]=\"T1013\",\"Y\",\"N\")","v":"N"},{"$f":"IF(Table1[[#This Row],[Column3]]=90785,\"Y\",\"N\")","v":"N"}]
[null,null,null,null,null,null,null,null,null,null,{"$f":"IF(Table1[[#This Row],[Column3]]=\"T1013\",\"Y\",\"N\")","v":"N"},{"$f":"IF(Table1[[#This Row],[Column3]]=90785,\"Y\",\"N\")","v":"N"}]
[null,null,null,null,null,null,null,null,null,null,{"$f":"IF(Table1[[#This Row],[Column3]]=\"T1013\",\"Y\",\"N\")","v":"N"},{"$f":"IF(Table1[[#This Row],[Column3]]=90785,\"Y\",\"N\")","v":"N"}]
[null,null,null,null,null,null,null,null,null,null,{"$f":"IF(Table1[[#This Row],[Column3]]=\"T1013\",\"Y\",\"N\")","v":"N"},{"$f":"IF(Table1[[#This Row],[Column3]]=90785,\"Y\",\"N\")","v":"N"}]
[null,null,null,null,null,null,null,null,null,null,{"$f":"IF(Table1[[#This Row],[Column3]]=\"T1013\",\"Y\",\"N\")","v":"N"},{"$f":"IF(Table1[[#This Row],[Column3]]=90785,\"Y\",\"N\")","v":"N"}]
[null,null,null,null,null,null,null,null,null,null,{"$f":"IF(Table1[[#This Row],[Column3]]=\"T1013\",\"Y\",\"N\")","v":"N"},{"$f":"IF(Table1[[#This Row],[Column3]]=90785,\"Y\",\"N\")","v":"N"}]
[null,null,null,null,null,null,null,null,null,null,{"$f":"IF(Table1[[#This Row],[Column3]]=\"T1013\",\"Y\",\"N\")","v":"N"},{"$f":"IF(Table1[[#This Row],[Column3]]=90785,\"Y\",\"N\")","v":"N"}]
[null,null,null,null,null,null,null,null,null,null,{"$f":"IF(Table1[[#This Row],[Column3]]=\"T1013\",\"Y\",\"N\")","v":"N"},{"$f":"IF(Table1[[#This Row],[Column3]]=90785,\"Y\",\"N\")","v":"N"}]
[null,null,null,null,null,null,null,null,null,null,{"$f":"IF(Table1[[#This Row],[Column3]]=\"T1013\",\"Y\",\"N\")","v":"N"},{"$f":"IF(Table1[[#This Row],[Column3]]=90785,\"Y\",\"N\")","v":"N"}]
[null,null,null,null,null,null,null,null,null,null,{"$f":"IF(Table1[[#This Row],[Column3]]=\"T1013\",\"Y\",\"N\")","v":"N"},{"$f":"IF(Table1[[#This Row],[Column3]]=90785,\"Y\",\"N\")","v":"N"}]
[null,null,null,null,null,null,null,null,null,null,{"$f":"IF(Table1[[#This Row],[Column3]]=\"T1013\",\"Y\",\"N\")","v":"N"},{"$f":"IF(Table1[[#This Row],[Column3]]=90785,\"Y\",\"N\")","v":"N"}]
[null,null,null,null,null,null,null,null,null,null,{"$f":"IF(Table1[[#This Row],[Column3]]=\"T1013\",\"Y\",\"N\")","v":"N"},{"$f":"IF(Table1[[#This Row],[Column3]]=90785,\"Y\",\"N\")","v":"N"}]
[null,null,null,null,null,null,null,null,null,null,{"$f":"IF(Table1[[#This Row],[Column3]]=\"T1013\",\"Y\",\"N\")","v":"N"},{"$f":"IF(Table1[[#This Row],[Column3]]=90785,\"Y\",\"N\")","v":"N"}]
[null,null,null,null,null,null,null,null,null,null,{"$f":"IF(Table1[[#This Row],[Column3]]=\"T1013\",\"Y\",\"N\")","v":"N"},{"$f":"IF(Table1[[#This Row],[Column3]]=90785,\"Y\",\"N\")","v":"N"}]
[null,null,null,null,null,null,null,null,null,null,{"$f":"IF(Table1[[#This Row],[Column3]]=\"T1013\",\"Y\",\"N\")","v":"N"},{"$f":"IF(Table1[[#This Row],[Column3]]=90785,\"Y\",\"N\")","v":"N"}]
[null,null,null,null,null,null,null,null,null,null,{"$f":"IF(Table1[[#This Row],[Column3]]=\"T1013\",\"Y\",\"N\")","v":"N"},{"$f":"IF(Table1[[#This Row],[Column3]]=90785,\"Y\",\"N\")","v":"N"}]
[null,null,null,null,null,null,null,null,null,null,{"$f":"IF(Table1[[#This Row],[Column3]]=\"T1013\",\"Y\",\"N\")","v":"N"},{"$f":"IF(Table1[[#This Row],[Column3]]=90785,\"Y\",\"N\")","v":"N"}]
[null,null,null,null,null,null,null,null,null,null,{"$f":"IF(Table1[[#This Row],[Column3]]=\"T1013\",\"Y\",\"N\")","v":"N"},{"$f":"IF(Table1[[#This Row],[Column3]]=90785,\"Y\",\"N\")","v":"N"}]
[null,null,null,null,null,null,null,null,null,null,{"$f":"IF(Table1[[#This Row],[Column3]]=\"T1013\",\"Y\",\"N\")","v":"N"},{"$f":"IF(Table1[[#This Row],[Column3]]=90785,\"Y\",\"N\")","v":"N"}]
[null,null,null,null,null,null,null,null,null,null,{"$f":"IF(Table1[[#This Row],[Column3]]=\"T1013\",\"Y\",\"N\")","v":"N"},{"$f":"IF(Table1[[#This Row],[Column3]]=90785,\"Y\",\"N\")","v":"N"}]
[null,null,null,null,null,null,null,null,null,null,{"$f":"IF(Table1[[#This Row],[Column3]]=\"T1013\",\"Y\",\"N\")","v":"N"},{"$f":"IF(Table1[[#This Row],[Column3]]=90785,\"Y\",\"N\")","v":"N"}]
[null,null,null,null,null,null,null,null,null,null,{"$f":"IF(Table1[[#This Row],[Column3]]=\"T1013\",\"Y\",\"N\")","v":"N"},{"$f":"IF(Table1[[#This Row],[Column3]]=90785,\"Y\",\"N\")","v":"N"}]
[null,null,null,null,null,null,null,null,null,null,{"$f":"IF(Table1[[#This Row],[Column3]]=\"T1013\",\"Y\",\"N\")","v":"N"},{"$f":"IF(Table1[[#This Row],[Column3]]=90785,\"Y\",\"N\")","v":"N"}]
[null,null,null,null,null,null,null,null,null,null,{"$f":"IF(Table1[[#This Row],[Column3]]=\"T1013\",\"Y\",\"N\")","v":"N"},{"$f":"IF(Table1[[#This Row],[Column3]]=90785,\"Y\",\"N\")","v":"N"}]
[null,null,null,null,null,null,null,null,null,null,{"$f":"IF(Table1[[#This Row],[Column3]]=\"T1013\",\"Y\",\"N\")","v":"N"},{"$f":"IF(Table1[[#This Row],[Column3]]=90785,\"Y\",\"N\")","v":"N"}]
[null,null,null,null,null,null,null,null,null,null,{"$f":"IF(Table1[[#This Row],[Column3]]=\"T1013\",\"Y\",\"N\")","v":"N"},{"$f":"IF(Table1[[#This Row],[Column3]]=90785,\"Y\",\"N\")","v":"N"}]
[null,null,null,null,null,null,null,null,null,null,{"$f":"IF(Table1[[#This Row],[Column3]]=\"T1013\",\"Y\",\"N\")","v":"N"},{"$f":"IF(Table1[[#This Row],[Column3]]=90785,\"Y\",\"N\")","v":"N"}]
[null,null,null,null,null,null,null,null,null,null,{"$f":"IF(Table1[[#This Row],[Column3]]=\"T1013\",\"Y\",\"N\")","v":"N"},{"$f":"IF(Table1[[#This Row],[Column3]]=90785,\"Y\",\"N\")","v":"N"}]
[null,null,null,null,null,null,null,null,null,null,{"$f":"IF(Table1[[#This Row],[Column3]]=\"T1013\",\"Y\",\"N\")","v":"N"},{"$f":"IF(Table1[[#This Row],[Column3]]=90785,\"Y\",\"N\")","v":"N"}]
[null,null,null,null,null,null,null,null,null,null,{"$f":"IF(Table1[[#This Row],[Column3]]=\"T1013\",\"Y\",\"N\")","v":"N"},{"$f":"IF(Table1[[#This Row],[Column3]]=90785,\"Y\",\"N\")","v":"N"}]
[null,null,null,null,null,null,null,null,null,null,{"$f":"IF(Table1[[#This Row],[Column3]]=\"T1013\",\"Y\",\"N\")","v":"N"},{"$f":"IF(Table1[[#This Row],[Column3]]=90785,\"Y\",\"N\")","v":"N"}]
[null,null,null,null,null,null,null,null,null,null,{"$f":"IF(Table1[[#This Row],[Column3]]=\"T1013\",\"Y\",\"N\")","v":"N"},{"$f":"IF(Table1[[#This Row],[Column3]]=90785,\"Y\",\"N\")","v":"N"}]
[null,null,null,null,null,null,null,null,null,null,{"$f":"IF(Table1[[#This Row],[Column3]]=\"T1013\",\"Y\",\"N\")","v":"N"},{"$f":"IF(Table1[[#This Row],[Column3]]=90785,\"Y\",\"N\")","v":"N"}]
[null,null,null,null,null,null,null,null,null,null,{"$f":"IF(Table1[[#This Row],[Column3]]=\"T1013\",\"Y\",\"N\")","v":"N"},{"$f":"IF(Table1[[#This Row],[Column3]]=90785,\"Y\",\"N\")","v":"N"}]
[null,null,null,null,null,null,null,null,null,null,{"$f":"IF(Table1[[#This Row],[Column3]]=\"T1013\",\"Y\",\"N\")","v":"N"},{"$f":"IF(Table1[[#This Row],[Column3]]=90785,\"Y\",\"N\")","v":"N"}]
[null,null,null,null,null,null,null,null,null,null,{"$f":"IF(Table1[[#This Row],[Column3]]=\"T1013\",\"Y\",\"N\")","v":"N"},{"$f":"IF(Table1[[#This Row],[Column3]]=90785,\"Y\",\"N\")","v":"N"}]
[null,null,null,null,null,null,null,null,null,null,{"$f":"IF(Table1[[#This Row],[Column3]]=\"T1013\",\"Y\",\"N\")","v":"N"},{"$f":"IF(Table1[[#This Row],[Column3]]=90785,\"Y\",\"N\")","v":"N"}]
[null,null,null,null,null,null,null,null,null,null,{"$f":"IF(Table1[[#This Row],[Column3]]=\"T1013\",\"Y\",\"N\")","v":"N"},{"$f":"IF(Table1[[#This Row],[Column3]]=90785,\"Y\",\"N\")","v":"N"}]
[null,null,null,null,null,null,null,null,null,null,{"$f":"IF(Table1[[#This Row],[Column3]]=\"T1013\",\"Y\",\"N\")","v":"N"},{"$f":"IF(Table1[[#This Row],[Column3]]=90785,\"Y\",\"N\")","v":"N"}]
[null,null,null,null,null,null,null,null,null,null,{"$f":"IF(Table1[[#This Row],[Column3]]=\"T1013\",\"Y\",\"N\")","v":"N"},{"$f":"IF(Table1[[#This Row],[Column3]]=90785,\"Y\",\"N\")","v":"N"}]
[null,null,null,null,null,null,null,null,null,null,{"$f":"IF(Table1[[#This Row],[Column3]]=\"T1013\",\"Y\",\"N\")","v":"N"},{"$f":"IF(Table1[[#This Row],[Column3]]=90785,\"Y\",\"N\")","v":"N"}]
[null,null,null,null,null,null,null,null,null,null,{"$f":"IF(Table1[[#This Row],[Column3]]=\"T1013\",\"Y\",\"N\")","v":"N"},{"$f":"IF(Table1[[#This Row],[Column3]]=90785,\"Y\",\"N\")","v":"N"}]
[null,null,null,null,null,null,null,null,null,null,{"$f":"IF(Table1[[#This Row],[Column3]]=\"T1013\",\"Y\",\"N\")","v":"N"},{"$f":"IF(Table1[[#This Row],[Column3]]=90785,\"Y\",\"N\")","v":"N"}]
[null,null,null,null,null,null,null,null,null,null,{"$f":"IF(Table1[[#This Row],[Column3]]=\"T1013\",\"Y\",\"N\")","v":"N"},{"$f":"IF(Table1[[#This Row],[Column3]]=90785,\"Y\",\"N\")","v":"N"}]
[null,null,null,null,null,null,null,null,null,null,{"$f":"IF(Table1[[#This Row],[Column3]]=\"T1013\",\"Y\",\"N\")","v":"N"},{"$f":"IF(Table1[[#This Row],[Column3]]=90785,\"Y\",\"N\")","v":"N"}]
[null,null,null,null,null,null,null,null,null,null,{"$f":"IF(Table1[[#This Row],[Column3]]=\"T1013\",\"Y\",\"N\")","v":"N"},{"$f":"IF(Table1[[#This Row],[Column3]]=90785,\"Y\",\"N\")","v":"N"}]
[null,null,null,null,null,null,null,null,null,null,{"$f":"IF(Table1[[#This Row],[Column3]]=\"T1013\",\"Y\",\"N\")","v":"N"},{"$f":"IF(Table1[[#This Row],[Column3]]=90785,\"Y\",\"N\")","v":"N"}]
[null,null,null,null,null,null,null,null,null,null,{"$f":"IF(Table1[[#This Row],[Column3]]=\"T1013\",\"Y\",\"N\")","v":"N"},{"$f":"IF(Table1[[#This Row],[Column3]]=90785,\"Y\",\"N\")","v":"N"}]
[null,null,null,null,null,null,null,null,null,null,{"$f":"IF(Table1[[#This Row],[Column3]]=\"T1013\",\"Y\",\"N\")","v":"N"},{"$f":"IF(Table1[[#This Row],[Column3]]=90785,\"Y\",\"N\")","v":"N"}]
[null,null,null,null,null,null,null,null,null,null,{"$f":"IF(Table1[[#This Row],[Column3]]=\"T1013\",\"Y\",\"N\")","v":"N"},{"$f":"IF(Table1[[#This Row],[Column3]]=90785,\"Y\",\"N\")","v":"N"}]
[null,null,null,null,null,null,null,null,null,null,{"$f":"IF(Table1[[#This Row],[Column3]]=\"T1013\",\"Y\",\"N\")","v":"N"},{"$f":"IF(Table1[[#This Row],[Column3]]=90785,\"Y\",\"N\")","v":"N"}]
[null,null,null,null,null,null,null,null,null,null,{"$f":"IF(Table1[[#This Row],[Column3]]=\"T1013\",\"Y\",\"N\")","v":"N"},{"$f":"IF(Table1[[#This Row],[Column3]]=90785,\"Y\",\"N\")","v":"N"}]
[null,null,null,null,null,null,null,null,null,null,{"$f":"IF(Table1[[#This Row],[Column3]]=\"T1013\",\"Y\",\"N\")","v":"N"},{"$f":"IF(Table1[[#This Row],[Column3]]=90785,\"Y\",\"N\")","v":"N"}]
[null,null,null,null,null,null,null,null,null,null,{"$f":"IF(Table1[[#This Row],[Column3]]=\"T1013\",\"Y\",\"N\")","v":"N"},{"$f":"IF(Table1[[#This Row],[Column3]]=90785,\"Y\",\"N\")","v":"N"}]
[null,null,null,null,null,null,null,null,null,null,{"$f":"IF(Table1[[#This Row],[Column3]]=\"T1013\",\"Y\",\"N\")","v":"N"},{"$f":"IF(Table1[[#This Row],[Column3]]=90785,\"Y\",\"N\")","v":"N"}]
[null,null,null,null,null,null,null,null,null,null,{"$f":"IF(Table1[[#This Row],[Column3]]=\"T1013\",\"Y\",\"N\")","v":"N"},{"$f":"IF(Table1[[#This Row],[Column3]]=90785,\"Y\",\"N\")","v":"N"}]
[null,null,null,null,null,null,null,null,null,null,{"$f":"IF(Table1[[#This Row],[Column3]]=\"T1013\",\"Y\",\"N\")","v":"N"},{"$f":"IF(Table1[[#This Row],[Column3]]=90785,\"Y\",\"N\")","v":"N"}]
[null,null,null,null,null,null,null,null,null,null,{"$f":"IF(Table1[[#This Row],[Column3]]=\"T1013\",\"Y\",\"N\")","v":"N"},{"$f":"IF(Table1[[#This Row],[Column3]]=90785,\"Y\",\"N\")","v":"N"}]
[null,null,null,null,null,null,null,null,null,null,{"$f":"IF(Table1[[#This Row],[Column3]]=\"T1013\",\"Y\",\"N\")","v":"N"},{"$f":"IF(Table1[[#This Row],[Column3]]=90785,\"Y\",\"N\")","v":"N"}]
[null,null,null,null,null,null,null,null,null,null,{"$f":"IF(Table1[[#This Row],[Column3]]=\"T1013\",\"Y\",\"N\")","v":"N"},{"$f":"IF(Table1[[#This Row],[Column3]]=90785,\"Y\",\"N\")","v":"N"}]
[null,null,null,null,null,null,null,null,null,null,{"$f":"IF(Table1[[#This Row],[Column3]]=\"T1013\",\"Y\",\"N\")","v":"N"},{"$f":"IF(Table1[[#This Row],[Column3]]=90785,\"Y\",\"N\")","v":"N"}]
[null,null,null,null,null,null,null,null,null,null,{"$f":"IF(Table1[[#This Row],[Column3]]=\"T1013\",\"Y\",\"N\")","v":"N"},{"$f":"IF(Table1[[#This Row],[Column3]]=90785,\"Y\",\"N\")","v":"N"}]
[null,null,null,null,null,null,null,null,null,null,{"$f":"IF(Table1[[#This Row],[Column3]]=\"T1013\",\"Y\",\"N\")","v":"N"},{"$f":"IF(Table1[[#This Row],[Column3]]=90785,\"Y\",\"N\")","v":"N"}]
[null,null,null,null,null,null,null,null,null,null,{"$f":"IF(Table1[[#This Row],[Column3]]=\"T1013\",\"Y\",\"N\")","v":"N"},{"$f":"IF(Table1[[#This Row],[Column3]]=90785,\"Y\",\"N\")","v":"N"}]
[null,null,null,null,null,null,null,null,null,null,{"$f":"IF(Table1[[#This Row],[Column3]]=\"T1013\",\"Y\",\"N\")","v":"N"},{"$f":"IF(Table1[[#This Row],[Column3]]=90785,\"Y\",\"N\")","v":"N"}]
[null,null,null,null,null,null,null,null,null,null,{"$f":"IF(Table1[[#This Row],[Column3]]=\"T1013\",\"Y\",\"N\")","v":"N"},{"$f":"IF(Table1[[#This Row],[Column3]]=90785,\"Y\",\"N\")","v":"N"}]
[null,null,null,null,null,null,null,null,null,null,{"$f":"IF(Table1[[#This Row],[Column3]]=\"T1013\",\"Y\",\"N\")","v":"N"},{"$f":"IF(Table1[[#This Row],[Column3]]=90785,\"Y\",\"N\")","v":"N"}]
[null,null,null,null,null,null,null,null,null,null,{"$f":"IF(Table1[[#This Row],[Column3]]=\"T1013\",\"Y\",\"N\")","v":"N"},{"$f":"IF(Table1[[#This Row],[Column3]]=90785,\"Y\",\"N\")","v":"N"}]
[null,null,null,null,null,null,null,null,null,null,{"$f":"IF(Table1[[#This Row],[Column3]]=\"T1013\",\"Y\",\"N\")","v":"N"},{"$f":"IF(Table1[[#This Row],[Column3]]=90785,\"Y\",\"N\")","v":"N"}]
[null,null,null,null,null,null,null,null,null,null,{"$f":"IF(Table1[[#This Row],[Column3]]=\"T1013\",\"Y\",\"N\")","v":"N"},{"$f":"IF(Table1[[#This Row],[Column3]]=90785,\"Y\",\"N\")","v":"N"}]
[null,null,null,null,null,null,null,null,null,null,{"$f":"IF(Table1[[#This Row],[Column3]]=\"T1013\",\"Y\",\"N\")","v":"N"},{"$f":"IF(Table1[[#This Row],[Column3]]=90785,\"Y\",\"N\")","v":"N"}]
[null,null,null,null,null,null,null,null,null,null,{"$f":"IF(Table1[[#This Row],[Column3]]=\"T1013\",\"Y\",\"N\")","v":"N"},{"$f":"IF(Table1[[#This Row],[Column3]]=90785,\"Y\",\"N\")","v":"N"}]
[null,null,null,null,null,null,null,null,null,null,{"$f":"IF(Table1[[#This Row],[Column3]]=\"T1013\",\"Y\",\"N\")","v":"N"},{"$f":"IF(Table1[[#This Row],[Column3]]=90785,\"Y\",\"N\")","v":"N"}]
[null,null,null,null,null,null,null,null,null,null,{"$f":"IF(Table1[[#This Row],[Column3]]=\"T1013\",\"Y\",\"N\")","v":"N"},{"$f":"IF(Table1[[#This Row],[Column3]]=90785,\"Y\",\"N\")","v":"N"}]
[null,null,null,null,null,null,null,null,null,null,{"$f":"IF(Table1[[#This Row],[Column3]]=\"T1013\",\"Y\",\"N\")","v":"N"},{"$f":"IF(Table1[[#This Row],[Column3]]=90785,\"Y\",\"N\")","v":"N"}]
[null,null,null,null,null,null,null,null,null,null,{"$f":"IF(Table1[[#This Row],[Column3]]=\"T1013\",\"Y\",\"N\")","v":"N"},{"$f":"IF(Table1[[#This Row],[Column3]]=90785,\"Y\",\"N\")","v":"N"}]
[null,null,null,null,null,null,null,null,null,null,{"$f":"IF(Table1[[#This Row],[Column3]]=\"T1013\",\"Y\",\"N\")","v":"N"},{"$f":"IF(Table1[[#This Row],[Column3]]=90785,\"Y\",\"N\")","v":"N"}]
[null,null,null,null,null,null,null,null,null,null,{"$f":"IF(Table1[[#This Row],[Column3]]=\"T1013\",\"Y\",\"N\")","v":"N"},{"$f":"IF(Table1[[#This Row],[Column3]]=90785,\"Y\",\"N\")","v":"N"}]
[null,null,null,null,null,null,null,null,null,null,{"$f":"IF(Table1[[#This Row],[Column3]]=\"T1013\",\"Y\",\"N\")","v":"N"},{"$f":"IF(Table1[[#This Row],[Column3]]=90785,\"Y\",\"N\")","v":"N"}]
[null,null,null,null,null,null,null,null,null,null,{"$f":"IF(Table1[[#This Row],[Column3]]=\"T1013\",\"Y\",\"N\")","v":"N"},{"$f":"IF(Table1[[#This Row],[Column3]]=90785,\"Y\",\"N\")","v":"N"}]
[null,null,null,null,null,null,null,null,null,null,{"$f":"IF(Table1[[#This Row],[Column3]]=\"T1013\",\"Y\",\"N\")","v":"N"},{"$f":"IF(Table1[[#This Row],[Column3]]=90785,\"Y\",\"N\")","v":"N"}]
[null,null,null,null,null,null,null,null,null,null,{"$f":"IF(Table1[[#This Row],[Column3]]=\"T1013\",\"Y\",\"N\")","v":"N"},{"$f":"IF(Table1[[#This Row],[Column3]]=90785,\"Y\",\"N\")","v":"N"}]
[null,null,null,null,null,null,null,null,null,null,{"$f":"IF(Table1[[#This Row],[Column3]]=\"T1013\",\"Y\",\"N\")","v":"N"},{"$f":"IF(Table1[[#This Row],[Column3]]=90785,\"Y\",\"N\")","v":"N"}]
[null,null,null,null,null,null,null,null,null,null,{"$f":"IF(Table1[[#This Row],[Column3]]=\"T1013\",\"Y\",\"N\")","v":"N"},{"$f":"IF(Table1[[#This Row],[Column3]]=90785,\"Y\",\"N\")","v":"N"}]
[null,null,null,null,null,null,null,null,null,null,{"$f":"IF(Table1[[#This Row],[Column3]]=\"T1013\",\"Y\",\"N\")","v":"N"},{"$f":"IF(Table1[[#This Row],[Column3]]=90785,\"Y\",\"N\")","v":"N"}]
[null,null,null,null,null,null,null,null,null,null,{"$f":"IF(Table1[[#This Row],[Column3]]=\"T1013\",\"Y\",\"N\")","v":"N"},{"$f":"IF(Table1[[#This Row],[Column3]]=90785,\"Y\",\"N\")","v":"N"}]
[null,null,null,null,null,null,null,null,null,null,{"$f":"IF(Table1[[#This Row],[Column3]]=\"T1013\",\"Y\",\"N\")","v":"N"},{"$f":"IF(Table1[[#This Row],[Column3]]=90785,\"Y\",\"N\")","v":"N"}]
[null,null,null,null,null,null,null,null,null,null,{"$f":"IF(Table1[[#This Row],[Column3]]=\"T1013\",\"Y\",\"N\")","v":"N"},{"$f":"IF(Table1[[#This Row],[Column3]]=90785,\"Y\",\"N\")","v":"N"}]
[null,null,null,null,null,null,null,null,null,null,{"$f":"IF(Table1[[#This Row],[Column3]]=\"T1013\",\"Y\",\"N\")","v":"N"},{"$f":"IF(Table1[[#This Row],[Column3]]=90785,\"Y\",\"N\")","v":"N"}]
[null,null,null,null,null,null,null,null,null,null,{"$f":"IF(Table1[[#This Row],[Column3]]=\"T1013\",\"Y\",\"N\")","v":"N"},{"$f":"IF(Table1[[#This Row],[Column3]]=90785,\"Y\",\"N\")","v":"N"}]
[null,null,null,null,null,null,null,null,null,null,{"$f":"IF(Table1[[#This Row],[Column3]]=\"T1013\",\"Y\",\"N\")","v":"N"},{"$f":"IF(Table1[[#This Row],[Column3]]=90785,\"Y\",\"N\")","v":"N"}]
[null,null,null,null,null,null,null,null,null,null,{"$f":"IF(Table1[[#This Row],[Column3]]=\"T1013\",\"Y\",\"N\")","v":"N"},{"$f":"IF(Table1[[#This Row],[Column3]]=90785,\"Y\",\"N\")","v":"N"}]
[null,null,null,null,null,null,null,null,null,null,{"$f":"IF(Table1[[#This Row],[Column3]]=\"T1013\",\"Y\",\"N\")","v":"N"},{"$f":"IF(Table1[[#This Row],[Column3]]=90785,\"Y\",\"N\")","v":"N"}]
[null,null,null,null,null,null,null,null,null,null,{"$f":"IF(Table1[[#This Row],[Column3]]=\"T1013\",\"Y\",\"N\")","v":"N"},{"$f":"IF(Table1[[#This Row],[Column3]]=90785,\"Y\",\"N\")","v":"N"}]
[null,null,null,null,null,null,null,null,null,null,{"$f":"IF(Table1[[#This Row],[Column3]]=\"T1013\",\"Y\",\"N\")","v":"N"},{"$f":"IF(Table1[[#This Row],[Column3]]=90785,\"Y\",\"N\")","v":"N"}]
[null,null,null,null,null,null,null,null,null,null,{"$f":"IF(Table1[[#This Row],[Column3]]=\"T1013\",\"Y\",\"N\")","v":"N"},{"$f":"IF(Table1[[#This Row],[Column3]]=90785,\"Y\",\"N\")","v":"N"}]
[null,null,null,null,null,null,null,null,null,null,{"$f":"IF(Table1[[#This Row],[Column3]]=\"T1013\",\"Y\",\"N\")","v":"N"},{"$f":"IF(Table1[[#This Row],[Column3]]=90785,\"Y\",\"N\")","v":"N"}]
[null,null,null,null,null,null,null,null,null,null,{"$f":"IF(Table1[[#This Row],[Column3]]=\"T1013\",\"Y\",\"N\")","v":"N"},{"$f":"IF(Table1[[#This Row],[Column3]]=90785,\"Y\",\"N\")","v":"N"}]
[null,null,null,null,null,null,null,null,null,null,{"$f":"IF(Table1[[#This Row],[Column3]]=\"T1013\",\"Y\",\"N\")","v":"N"},{"$f":"IF(Table1[[#This Row],[Column3]]=90785,\"Y\",\"N\")","v":"N"}]
[null,null,null,null,null,null,null,null,null,null,{"$f":"IF(Table1[[#This Row],[Column3]]=\"T1013\",\"Y\",\"N\")","v":"N"},{"$f":"IF(Table1[[#This Row],[Column3]]=90785,\"Y\",\"N\")","v":"N"}]
[null,null,null,null,null,null,null,null,null,null,{"$f":"IF(Table1[[#This Row],[Column3]]=\"T1013\",\"Y\",\"N\")","v":"N"},{"$f":"IF(Table1[[#This Row],[Column3]]=90785,\"Y\",\"N\")","v":"N"}]
[null,null,null,null,null,null,null,null,null,null,{"$f":"IF(Table1[[#This Row],[Column3]]=\"T1013\",\"Y\",\"N\")","v":"N"},{"$f":"IF(Table1[[#This Row],[Column3]]=90785,\"Y\",\"N\")","v":"N"}]
[null,null,null,null,null,null,null,null,null,null,{"$f":"IF(Table1[[#This Row],[Column3]]=\"T1013\",\"Y\",\"N\")","v":"N"},{"$f":"IF(Table1[[#This Row],[Column3]]=90785,\"Y\",\"N\")","v":"N"}]
[null,null,null,null,null,null,null,null,null,null,{"$f":"IF(Table1[[#This Row],[Column3]]=\"T1013\",\"Y\",\"N\")","v":"N"},{"$f":"IF(Table1[[#This Row],[Column3]]=90785,\"Y\",\"N\")","v":"N"}]
[null,null,null,null,null,null,null,null,null,null,{"$f":"IF(Table1[[#This Row],[Column3]]=\"T1013\",\"Y\",\"N\")","v":"N"},{"$f":"IF(Table1[[#This Row],[Column3]]=90785,\"Y\",\"N\")","v":"N"}]
[null,null,null,null,null,null,null,null,null,null,{"$f":"IF(Table1[[#This Row],[Column3]]=\"T1013\",\"Y\",\"N\")","v":"N"},{"$f":"IF(Table1[[#This Row],[Column3]]=90785,\"Y\",\"N\")","v":"N"}]
[null,null,null,null,null,null,null,null,null,null,{"$f":"IF(Table1[[#This Row],[Column3]]=\"T1013\",\"Y\",\"N\")","v":"N"},{"$f":"IF(Table1[[#This Row],[Column3]]=90785,\"Y\",\"N\")","v":"N"}]
[null,null,null,null,null,null,null,null,null,null,{"$f":"IF(Table1[[#This Row],[Column3]]=\"T1013\",\"Y\",\"N\")","v":"N"},{"$f":"IF(Table1[[#This Row],[Column3]]=90785,\"Y\",\"N\")","v":"N"}]
[null,null,null,null,null,null,null,null,null,null,{"$f":"IF(Table1[[#This Row],[Column3]]=\"T1013\",\"Y\",\"N\")","v":"N"},{"$f":"IF(Table1[[#This Row],[Column3]]=90785,\"Y\",\"N\")","v":"N"}]
[null,null,null,null,null,null,null,null,null,null,{"$f":"IF(Table1[[#This Row],[Column3]]=\"T1013\",\"Y\",\"N\")","v":"N"},{"$f":"IF(Table1[[#This Row],[Column3]]=90785,\"Y\",\"N\")","v":"N"}]
[null,null,null,null,null,null,null,null,null,null,{"$f":"IF(Table1[[#This Row],[Column3]]=\"T1013\",\"Y\",\"N\")","v":"N"},{"$f":"IF(Table1[[#This Row],[Column3]]=90785,\"Y\",\"N\")","v":"N"}]
[null,null,null,null,null,null,null,null,null,null,{"$f":"IF(Table1[[#This Row],[Column3]]=\"T1013\",\"Y\",\"N\")","v":"N"},{"$f":"IF(Table1[[#This Row],[Column3]]=90785,\"Y\",\"N\")","v":"N"}]
[null,null,null,null,null,null,null,null,null,null,{"$f":"IF(Table1[[#This Row],[Column3]]=\"T1013\",\"Y\",\"N\")","v":"N"},{"$f":"IF(Table1[[#This Row],[Column3]]=90785,\"Y\",\"N\")","v":"N"}]
[null,null,null,null,null,null,null,null,null,null,{"$f":"IF(Table1[[#This Row],[Column3]]=\"T1013\",\"Y\",\"N\")","v":"N"},{"$f":"IF(Table1[[#This Row],[Column3]]=90785,\"Y\",\"N\")","v":"N"}]
[null,null,null,null,null,null,null,null,null,null,{"$f":"IF(Table1[[#This Row],[Column3]]=\"T1013\",\"Y\",\"N\")","v":"N"},{"$f":"IF(Table1[[#This Row],[Column3]]=90785,\"Y\",\"N\")","v":"N"}]
[null,null,null,null,null,null,null,null,null,null,{"$f":"IF(Table1[[#This Row],[Column3]]=\"T1013\",\"Y\",\"N\")","v":"N"},{"$f":"IF(Table1[[#This Row],[Column3]]=90785,\"Y\",\"N\")","v":"N"}]
[null,null,null,null,null,null,null,null,null,null,{"$f":"IF(Table1[[#This Row],[Column3]]=\"T1013\",\"Y\",\"N\")","v":"N"},{"$f":"IF(Table1[[#This Row],[Column3]]=90785,\"Y\",\"N\")","v":"N"}]
[null,null,null,null,null,null,null,null,null,null,{"$f":"IF(Table1[[#This Row],[Column3]]=\"T1013\",\"Y\",\"N\")","v":"N"},{"$f":"IF(Table1[[#This Row],[Column3]]=90785,\"Y\",\"N\")","v":"N"}]
[null,null,null,null,null,null,null,null,null,null,{"$f":"IF(Table1[[#This Row],[Column3]]=\"T1013\",\"Y\",\"N\")","v":"N"},{"$f":"IF(Table1[[#This Row],[Column3]]=90785,\"Y\",\"N\")","v":"N"}]
[null,null,null,null,null,null,null,null,null,null,{"$f":"IF(Table1[[#This Row],[Column3]]=\"T1013\",\"Y\",\"N\")","v":"N"},{"$f":"IF(Table1[[#This Row],[Column3]]=90785,\"Y\",\"N\")","v":"N"}]
[null,null,null,null,null,null,null,null,null,null,{"$f":"IF(Table1[[#This Row],[Column3]]=\"T1013\",\"Y\",\"N\")","v":"N"},{"$f":"IF(Table1[[#This Row],[Column3]]=90785,\"Y\",\"N\")","v":"N"}]
[null,null,null,null,null,null,null,null,null,null,{"$f":"IF(Table1[[#This Row],[Column3]]=\"T1013\",\"Y\",\"N\")","v":"N"},{"$f":"IF(Table1[[#This Row],[Column3]]=90785,\"Y\",\"N\")","v":"N"}]
[null,null,null,null,null,null,null,null,null,null,{"$f":"IF(Table1[[#This Row],[Column3]]=\"T1013\",\"Y\",\"N\")","v":"N"},{"$f":"IF(Table1[[#This Row],[Column3]]=90785,\"Y\",\"N\")","v":"N"}]
[null,null,null,null,null,null,null,null,null,null,{"$f":"IF(Table1[[#This Row],[Column3]]=\"T1013\",\"Y\",\"N\")","v":"N"},{"$f":"IF(Table1[[#This Row],[Column3]]=90785,\"Y\",\"N\")","v":"N"}]
[null,null,null,null,null,null,null,null,null,null,{"$f":"IF(Table1[[#This Row],[Column3]]=\"T1013\",\"Y\",\"N\")","v":"N"},{"$f":"IF(Table1[[#This Row],[Column3]]=90785,\"Y\",\"N\")","v":"N"}]
[null,null,null,null,null,null,null,null,null,null,{"$f":"IF(Table1[[#This Row],[Column3]]=\"T1013\",\"Y\",\"N\")","v":"N"},{"$f":"IF(Table1[[#This Row],[Column3]]=90785,\"Y\",\"N\")","v":"N"}]
[null,null,null,null,null,null,null,null,null,null,{"$f":"IF(Table1[[#This Row],[Column3]]=\"T1013\",\"Y\",\"N\")","v":"N"},{"$f":"IF(Table1[[#This Row],[Column3]]=90785,\"Y\",\"N\")","v":"N"}]
[null,null,null,null,null,null,null,null,null,null,{"$f":"IF(Table1[[#This Row],[Column3]]=\"T1013\",\"Y\",\"N\")","v":"N"},{"$f":"IF(Table1[[#This Row],[Column3]]=90785,\"Y\",\"N\")","v":"N"}]
[null,null,null,null,null,null,null,null,null,null,{"$f":"IF(Table1[[#This Row],[Column3]]=\"T1013\",\"Y\",\"N\")","v":"N"},{"$f":"IF(Table1[[#This Row],[Column3]]=90785,\"Y\",\"N\")","v":"N"}]
[null,null,null,null,null,null,null,null,null,null,{"$f":"IF(Table1[[#This Row],[Column3]]=\"T1013\",\"Y\",\"N\")","v":"N"},{"$f":"IF(Table1[[#This Row],[Column3]]=90785,\"Y\",\"N\")","v":"N"}]
[null,null,null,null,null,null,null,null,null,null,{"$f":"IF(Table1[[#This Row],[Column3]]=\"T1013\",\"Y\",\"N\")","v":"N"},{"$f":"IF(Table1[[#This Row],[Column3]]=90785,\"Y\",\"N\")","v":"N"}]
[null,null,null,null,null,null,null,null,null,null,{"$f":"IF(Table1[[#This Row],[Column3]]=\"T1013\",\"Y\",\"N\")","v":"N"},{"$f":"IF(Table1[[#This Row],[Column3]]=90785,\"Y\",\"N\")","v":"N"}]
[null,null,null,null,null,null,null,null,null,null,{"$f":"IF(Table1[[#This Row],[Column3]]=\"T1013\",\"Y\",\"N\")","v":"N"},{"$f":"IF(Table1[[#This Row],[Column3]]=90785,\"Y\",\"N\")","v":"N"}]
[null,null,null,null,null,null,null,null,null,null,{"$f":"IF(Table1[[#This Row],[Column3]]=\"T1013\",\"Y\",\"N\")","v":"N"},{"$f":"IF(Table1[[#This Row],[Column3]]=90785,\"Y\",\"N\")","v":"N"}]
[null,null,null,null,null,null,null,null,null,null,{"$f":"IF(Table1[[#This Row],[Column3]]=\"T1013\",\"Y\",\"N\")","v":"N"},{"$f":"IF(Table1[[#This Row],[Column3]]=90785,\"Y\",\"N\")","v":"N"}]
[null,null,null,null,null,null,null,null,null,null,{"$f":"IF(Table1[[#This Row],[Column3]]=\"T1013\",\"Y\",\"N\")","v":"N"},{"$f":"IF(Table1[[#This Row],[Column3]]=90785,\"Y\",\"N\")","v":"N"}]
[null,null,null,null,null,null,null,null,null,null,{"$f":"IF(Table1[[#This Row],[Column3]]=\"T1013\",\"Y\",\"N\")","v":"N"},{"$f":"IF(Table1[[#This Row],[Column3]]=90785,\"Y\",\"N\")","v":"N"}]
[null,null,null,null,null,null,null,null,null,null,{"$f":"IF(Table1[[#This Row],[Column3]]=\"T1013\",\"Y\",\"N\")","v":"N"},{"$f":"IF(Table1[[#This Row],[Column3]]=90785,\"Y\",\"N\")","v":"N"}]
[null,null,null,null,null,null,null,null,null,null,{"$f":"IF(Table1[[#This Row],[Column3]]=\"T1013\",\"Y\",\"N\")","v":"N"},{"$f":"IF(Table1[[#This Row],[Column3]]=90785,\"Y\",\"N\")","v":"N"}]
[null,null,null,null,null,null,null,null,null,null,{"$f":"IF(Table1[[#This Row],[Column3]]=\"T1013\",\"Y\",\"N\")","v":"N"},{"$f":"IF(Table1[[#This Row],[Column3]]=90785,\"Y\",\"N\")","v":"N"}]
[null,null,null,null,null,null,null,null,null,null,{"$f":"IF(Table1[[#This Row],[Column3]]=\"T1013\",\"Y\",\"N\")","v":"N"},{"$f":"IF(Table1[[#This Row],[Column3]]=90785,\"Y\",\"N\")","v":"N"}]
[null,null,null,null,null,null,null,null,null,null,{"$f":"IF(Table1[[#This Row],[Column3]]=\"T1013\",\"Y\",\"N\")","v":"N"},{"$f":"IF(Table1[[#This Row],[Column3]]=90785,\"Y\",\"N\")","v":"N"}]
[null,null,null,null,null,null,null,null,null,null,{"$f":"IF(Table1[[#This Row],[Column3]]=\"T1013\",\"Y\",\"N\")","v":"N"},{"$f":"IF(Table1[[#This Row],[Column3]]=90785,\"Y\",\"N\")","v":"N"}]
[null,null,null,null,null,null,null,null,null,null,{"$f":"IF(Table1[[#This Row],[Column3]]=\"T1013\",\"Y\",\"N\")","v":"N"},{"$f":"IF(Table1[[#This Row],[Column3]]=90785,\"Y\",\"N\")","v":"N"}]
[null,null,null,null,null,null,null,null,null,null,{"$f":"IF(Table1[[#This Row],[Column3]]=\"T1013\",\"Y\",\"N\")","v":"N"},{"$f":"IF(Table1[[#This Row],[Column3]]=90785,\"Y\",\"N\")","v":"N"}]
[null,null,null,null,null,null,null,null,null,null,{"$f":"IF(Table1[[#This Row],[Column3]]=\"T1013\",\"Y\",\"N\")","v":"N"},{"$f":"IF(Table1[[#This Row],[Column3]]=90785,\"Y\",\"N\")","v":"N"}]
[null,null,null,null,null,null,null,null,null,null,{"$f":"IF(Table1[[#This Row],[Column3]]=\"T1013\",\"Y\",\"N\")","v":"N"},{"$f":"IF(Table1[[#This Row],[Column3]]=90785,\"Y\",\"N\")","v":"N"}]
[null,null,null,null,null,null,null,null,null,null,{"$f":"IF(Table1[[#This Row],[Column3]]=\"T1013\",\"Y\",\"N\")","v":"N"},{"$f":"IF(Table1[[#This Row],[Column3]]=90785,\"Y\",\"N\")","v":"N"}]
[null,null,null,null,null,null,null,null,null,null,{"$f":"IF(Table1[[#This Row],[Column3]]=\"T1013\",\"Y\",\"N\")","v":"N"},{"$f":"IF(Table1[[#This Row],[Column3]]=90785,\"Y\",\"N\")","v":"N"}]
[null,null,null,null,null,null,null,null,null,null,{"$f":"IF(Table1[[#This Row],[Column3]]=\"T1013\",\"Y\",\"N\")","v":"N"},{"$f":"IF(Table1[[#This Row],[Column3]]=90785,\"Y\",\"N\")","v":"N"}]
[null,null,null,null,null,null,null,null,null,null,{"$f":"IF(Table1[[#This Row],[Column3]]=\"T1013\",\"Y\",\"N\")","v":"N"},{"$f":"IF(Table1[[#This Row],[Column3]]=90785,\"Y\",\"N\")","v":"N"}]
[null,null,null,null,null,null,null,null,null,null,{"$f":"IF(Table1[[#This Row],[Column3]]=\"T1013\",\"Y\",\"N\")","v":"N"},{"$f":"IF(Table1[[#This Row],[Column3]]=90785,\"Y\",\"N\")","v":"N"}]
[null,null,null,null,null,null,null,null,null,null,{"$f":"IF(Table1[[#This Row],[Column3]]=\"T1013\",\"Y\",\"N\")","v":"N"},{"$f":"IF(Table1[[#This Row],[Column3]]=90785,\"Y\",\"N\")","v":"N"}]
[null,null,null,null,null,null,null,null,null,null,{"$f":"IF(Table1[[#This Row],[Column3]]=\"T1013\",\"Y\",\"N\")","v":"N"},{"$f":"IF(Table1[[#This Row],[Column3]]=90785,\"Y\",\"N\")","v":"N"}]
[null,null,null,null,null,null,null,null,null,null,{"$f":"IF(Table1[[#This Row],[Column3]]=\"T1013\",\"Y\",\"N\")","v":"N"},{"$f":"IF(Table1[[#This Row],[Column3]]=90785,\"Y\",\"N\")","v":"N"}]
[null,null,null,null,null,null,null,null,null,null,{"$f":"IF(Table1[[#This Row],[Column3]]=\"T1013\",\"Y\",\"N\")","v":"N"},{"$f":"IF(Table1[[#This Row],[Column3]]=90785,\"Y\",\"N\")","v":"N"}]
[null,null,null,null,null,null,null,null,null,null,{"$f":"IF(Table1[[#This Row],[Column3]]=\"T1013\",\"Y\",\"N\")","v":"N"},{"$f":"IF(Table1[[#This Row],[Column3]]=90785,\"Y\",\"N\")","v":"N"}]
[null,null,null,null,null,null,null,null,null,null,{"$f":"IF(Table1[[#This Row],[Column3]]=\"T1013\",\"Y\",\"N\")","v":"N"},{"$f":"IF(Table1[[#This Row],[Column3]]=90785,\"Y\",\"N\")","v":"N"}]
[null,null,null,null,null,null,null,null,null,null,{"$f":"IF(Table1[[#This Row],[Column3]]=\"T1013\",\"Y\",\"N\")","v":"N"},{"$f":"IF(Table1[[#This Row],[Column3]]=90785,\"Y\",\"N\")","v":"N"}]
[null,null,null,null,null,null,null,null,null,null,{"$f":"IF(Table1[[#This Row],[Column3]]=\"T1013\",\"Y\",\"N\")","v":"N"},{"$f":"IF(Table1[[#This Row],[Column3]]=90785,\"Y\",\"N\")","v":"N"}]
[null,null,null,null,null,null,null,null,null,null,{"$f":"IF(Table1[[#This Row],[Column3]]=\"T1013\",\"Y\",\"N\")","v":"N"},{"$f":"IF(Table1[[#This Row],[Column3]]=90785,\"Y\",\"N\")","v":"N"}]
[null,null,null,null,null,null,null,null,null,null,{"$f":"IF(Table1[[#This Row],[Column3]]=\"T1013\",\"Y\",\"N\")","v":"N"},{"$f":"IF(Table1[[#This Row],[Column3]]=90785,\"Y\",\"N\")","v":"N"}]
[null,null,null,null,null,null,null,null,null,null,{"$f":"IF(Table1[[#This Row],[Column3]]=\"T1013\",\"Y\",\"N\")","v":"N"},{"$f":"IF(Table1[[#This Row],[Column3]]=90785,\"Y\",\"N\")","v":"N"}]
[null,null,null,null,null,null,null,null,null,null,{"$f":"IF(Table1[[#This Row],[Column3]]=\"T1013\",\"Y\",\"N\")","v":"N"},{"$f":"IF(Table1[[#This Row],[Column3]]=90785,\"Y\",\"N\")","v":"N"}]
[null,null,null,null,null,null,null,null,null,null,{"$f":"IF(Table1[[#This Row],[Column3]]=\"T1013\",\"Y\",\"N\")","v":"N"},{"$f":"IF(Table1[[#This Row],[Column3]]=90785,\"Y\",\"N\")","v":"N"}]
[null,null,null,null,null,null,null,null,null,null,{"$f":"IF(Table1[[#This Row],[Column3]]=\"T1013\",\"Y\",\"N\")","v":"N"},{"$f":"IF(Table1[[#This Row],[Column3]]=90785,\"Y\",\"N\")","v":"N"}]
[null,null,null,null,null,null,null,null,null,null,{"$f":"IF(Table1[[#This Row],[Column3]]=\"T1013\",\"Y\",\"N\")","v":"N"},{"$f":"IF(Table1[[#This Row],[Column3]]=90785,\"Y\",\"N\")","v":"N"}]
[null,null,null,null,null,null,null,null,null,null,{"$f":"IF(Table1[[#This Row],[Column3]]=\"T1013\",\"Y\",\"N\")","v":"N"},{"$f":"IF(Table1[[#This Row],[Column3]]=90785,\"Y\",\"N\")","v":"N"}]
[null,null,null,null,null,null,null,null,null,null,{"$f":"IF(Table1[[#This Row],[Column3]]=\"T1013\",\"Y\",\"N\")","v":"N"},{"$f":"IF(Table1[[#This Row],[Column3]]=90785,\"Y\",\"N\")","v":"N"}]
[null,null,null,null,null,null,null,null,null,null,{"$f":"IF(Table1[[#This Row],[Column3]]=\"T1013\",\"Y\",\"N\")","v":"N"},{"$f":"IF(Table1[[#This Row],[Column3]]=90785,\"Y\",\"N\")","v":"N"}]
[null,null,null,null,null,null,null,null,null,null,{"$f":"IF(Table1[[#This Row],[Column3]]=\"T1013\",\"Y\",\"N\")","v":"N"},{"$f":"IF(Table1[[#This Row],[Column3]]=90785,\"Y\",\"N\")","v":"N"}]
[null,null,null,null,null,null,null,null,null,null,{"$f":"IF(Table1[[#This Row],[Column3]]=\"T1013\",\"Y\",\"N\")","v":"N"},{"$f":"IF(Table1[[#This Row],[Column3]]=90785,\"Y\",\"N\")","v":"N"}]
[null,null,null,null,null,null,null,null,null,null,{"$f":"IF(Table1[[#This Row],[Column3]]=\"T1013\",\"Y\",\"N\")","v":"N"},{"$f":"IF(Table1[[#This Row],[Column3]]=90785,\"Y\",\"N\")","v":"N"}]
[null,null,null,null,null,null,null,null,null,null,{"$f":"IF(Table1[[#This Row],[Column3]]=\"T1013\",\"Y\",\"N\")","v":"N"},{"$f":"IF(Table1[[#This Row],[Column3]]=90785,\"Y\",\"N\")","v":"N"}]
[null,null,null,null,null,null,null,null,null,null,{"$f":"IF(Table1[[#This Row],[Column3]]=\"T1013\",\"Y\",\"N\")","v":"N"},{"$f":"IF(Table1[[#This Row],[Column3]]=90785,\"Y\",\"N\")","v":"N"}]
[null,null,null,null,null,null,null,null,null,null,{"$f":"IF(Table1[[#This Row],[Column3]]=\"T1013\",\"Y\",\"N\")","v":"N"},{"$f":"IF(Table1[[#This Row],[Column3]]=90785,\"Y\",\"N\")","v":"N"}]
[null,null,null,null,null,null,null,null,null,null,{"$f":"IF(Table1[[#This Row],[Column3]]=\"T1013\",\"Y\",\"N\")","v":"N"},{"$f":"IF(Table1[[#This Row],[Column3]]=90785,\"Y\",\"N\")","v":"N"}]
[null,null,null,null,null,null,null,null,null,null,{"$f":"IF(Table1[[#This Row],[Column3]]=\"T1013\",\"Y\",\"N\")","v":"N"},{"$f":"IF(Table1[[#This Row],[Column3]]=90785,\"Y\",\"N\")","v":"N"}]
[null,null,null,null,null,null,null,null,null,null,{"$f":"IF(Table1[[#This Row],[Column3]]=\"T1013\",\"Y\",\"N\")","v":"N"},{"$f":"IF(Table1[[#This Row],[Column3]]=90785,\"Y\",\"N\")","v":"N"}]
[null,null,null,null,null,null,null,null,null,null,{"$f":"IF(Table1[[#This Row],[Column3]]=\"T1013\",\"Y\",\"N\")","v":"N"},{"$f":"IF(Table1[[#This Row],[Column3]]=90785,\"Y\",\"N\")","v":"N"}]
[null,null,null,null,null,null,null,null,null,null,{"$f":"IF(Table1[[#This Row],[Column3]]=\"T1013\",\"Y\",\"N\")","v":"N"},{"$f":"IF(Table1[[#This Row],[Column3]]=90785,\"Y\",\"N\")","v":"N"}]
[null,null,null,null,null,null,null,null,null,null,{"$f":"IF(Table1[[#This Row],[Column3]]=\"T1013\",\"Y\",\"N\")","v":"N"},{"$f":"IF(Table1[[#This Row],[Column3]]=90785,\"Y\",\"N\")","v":"N"}]
[null,null,null,null,null,null,null,null,null,null,{"$f":"IF(Table1[[#This Row],[Column3]]=\"T1013\",\"Y\",\"N\")","v":"N"},{"$f":"IF(Table1[[#This Row],[Column3]]=90785,\"Y\",\"N\")","v":"N"}]
[null,null,null,null,null,null,null,null,null,null,{"$f":"IF(Table1[[#This Row],[Column3]]=\"T1013\",\"Y\",\"N\")","v":"N"},{"$f":"IF(Table1[[#This Row],[Column3]]=90785,\"Y\",\"N\")","v":"N"}]
[null,null,null,null,null,null,null,null,null,null,{"$f":"IF(Table1[[#This Row],[Column3]]=\"T1013\",\"Y\",\"N\")","v":"N"},{"$f":"IF(Table1[[#This Row],[Column3]]=90785,\"Y\",\"N\")","v":"N"}]
[null,null,null,null,null,null,null,null,null,null,{"$f":"IF(Table1[[#This Row],[Column3]]=\"T1013\",\"Y\",\"N\")","v":"N"},{"$f":"IF(Table1[[#This Row],[Column3]]=90785,\"Y\",\"N\")","v":"N"}]
[null,null,null,null,null,null,null,null,null,null,{"$f":"IF(Table1[[#This Row],[Column3]]=\"T1013\",\"Y\",\"N\")","v":"N"},{"$f":"IF(Table1[[#This Row],[Column3]]=90785,\"Y\",\"N\")","v":"N"}]
[null,null,null,null,null,null,null,null,null,null,{"$f":"IF(Table1[[#This Row],[Column3]]=\"T1013\",\"Y\",\"N\")","v":"N"},{"$f":"IF(Table1[[#This Row],[Column3]]=90785,\"Y\",\"N\")","v":"N"}]
[null,null,null,null,null,null,null,null,null,null,{"$f":"IF(Table1[[#This Row],[Column3]]=\"T1013\",\"Y\",\"N\")","v":"N"},{"$f":"IF(Table1[[#This Row],[Column3]]=90785,\"Y\",\"N\")","v":"N"}]
[null,null,null,null,null,null,null,null,null,null,{"$f":"IF(Table1[[#This Row],[Column3]]=\"T1013\",\"Y\",\"N\")","v":"N"},{"$f":"IF(Table1[[#This Row],[Column3]]=90785,\"Y\",\"N\")","v":"N"}]
[null,null,null,null,null,null,null,null,null,null,{"$f":"IF(Table1[[#This Row],[Column3]]=\"T1013\",\"Y\",\"N\")","v":"N"},{"$f":"IF(Table1[[#This Row],[Column3]]=90785,\"Y\",\"N\")","v":"N"}]
[null,null,null,null,null,null,null,null,null,null,{"$f":"IF(Table1[[#This Row],[Column3]]=\"T1013\",\"Y\",\"N\")","v":"N"},{"$f":"IF(Table1[[#This Row],[Column3]]=90785,\"Y\",\"N\")","v":"N"}]
[null,null,null,null,null,null,null,null,null,null,{"$f":"IF(Table1[[#This Row],[Column3]]=\"T1013\",\"Y\",\"N\")","v":"N"},{"$f":"IF(Table1[[#This Row],[Column3]]=90785,\"Y\",\"N\")","v":"N"}]
[null,null,null,null,null,null,null,null,null,null,{"$f":"IF(Table1[[#This Row],[Column3]]=\"T1013\",\"Y\",\"N\")","v":"N"},{"$f":"IF(Table1[[#This Row],[Column3]]=90785,\"Y\",\"N\")","v":"N"}]
[null,null,null,null,null,null,null,null,null,null,{"$f":"IF(Table1[[#This Row],[Column3]]=\"T1013\",\"Y\",\"N\")","v":"N"},{"$f":"IF(Table1[[#This Row],[Column3]]=90785,\"Y\",\"N\")","v":"N"}]
[null,null,null,null,null,null,null,null,null,null,{"$f":"IF(Table1[[#This Row],[Column3]]=\"T1013\",\"Y\",\"N\")","v":"N"},{"$f":"IF(Table1[[#This Row],[Column3]]=90785,\"Y\",\"N\")","v":"N"}]
[null,null,null,null,null,null,null,null,null,null,{"$f":"IF(Table1[[#This Row],[Column3]]=\"T1013\",\"Y\",\"N\")","v":"N"},{"$f":"IF(Table1[[#This Row],[Column3]]=90785,\"Y\",\"N\")","v":"N"}]
[null,null,null,null,null,null,null,null,null,null,{"$f":"IF(Table1[[#This Row],[Column3]]=\"T1013\",\"Y\",\"N\")","v":"N"},{"$f":"IF(Table1[[#This Row],[Column3]]=90785,\"Y\",\"N\")","v":"N"}]
[null,null,null,null,null,null,null,null,null,null,{"$f":"IF(Table1[[#This Row],[Column3]]=\"T1013\",\"Y\",\"N\")","v":"N"},{"$f":"IF(Table1[[#This Row],[Column3]]=90785,\"Y\",\"N\")","v":"N"}]
[null,null,null,null,null,null,null,null,null,null,{"$f":"IF(Table1[[#This Row],[Column3]]=\"T1013\",\"Y\",\"N\")","v":"N"},{"$f":"IF(Table1[[#This Row],[Column3]]=90785,\"Y\",\"N\")","v":"N"}]
[null,null,null,null,null,null,null,null,null,null,{"$f":"IF(Table1[[#This Row],[Column3]]=\"T1013\",\"Y\",\"N\")","v":"N"},{"$f":"IF(Table1[[#This Row],[Column3]]=90785,\"Y\",\"N\")","v":"N"}]
[null,null,null,null,null,null,null,null,null,null,{"$f":"IF(Table1[[#This Row],[Column3]]=\"T1013\",\"Y\",\"N\")","v":"N"},{"$f":"IF(Table1[[#This Row],[Column3]]=90785,\"Y\",\"N\")","v":"N"}]
[null,null,null,null,null,null,null,null,null,null,{"$f":"IF(Table1[[#This Row],[Column3]]=\"T1013\",\"Y\",\"N\")","v":"N"},{"$f":"IF(Table1[[#This Row],[Column3]]=90785,\"Y\",\"N\")","v":"N"}]
[null,null,null,null,null,null,null,null,null,null,{"$f":"IF(Table1[[#This Row],[Column3]]=\"T1013\",\"Y\",\"N\")","v":"N"},{"$f":"IF(Table1[[#This Row],[Column3]]=90785,\"Y\",\"N\")","v":"N"}]
[null,null,null,null,null,null,null,null,null,null,{"$f":"IF(Table1[[#This Row],[Column3]]=\"T1013\",\"Y\",\"N\")","v":"N"},{"$f":"IF(Table1[[#This Row],[Column3]]=90785,\"Y\",\"N\")","v":"N"}]
[null,null,null,null,null,null,null,null,null,null,{"$f":"IF(Table1[[#This Row],[Column3]]=\"T1013\",\"Y\",\"N\")","v":"N"},{"$f":"IF(Table1[[#This Row],[Column3]]=90785,\"Y\",\"N\")","v":"N"}]
[null,null,null,null,null,null,null,null,null,null,{"$f":"IF(Table1[[#This Row],[Column3]]=\"T1013\",\"Y\",\"N\")","v":"N"},{"$f":"IF(Table1[[#This Row],[Column3]]=90785,\"Y\",\"N\")","v":"N"}]
[null,null,null,null,null,null,null,null,null,null,{"$f":"IF(Table1[[#This Row],[Column3]]=\"T1013\",\"Y\",\"N\")","v":"N"},{"$f":"IF(Table1[[#This Row],[Column3]]=90785,\"Y\",\"N\")","v":"N"}]
[null,null,null,null,null,null,null,null,null,null,{"$f":"IF(Table1[[#This Row],[Column3]]=\"T1013\",\"Y\",\"N\")","v":"N"},{"$f":"IF(Table1[[#This Row],[Column3]]=90785,\"Y\",\"N\")","v":"N"}]
[null,null,null,null,null,null,null,null,null,null,{"$f":"IF(Table1[[#This Row],[Column3]]=\"T1013\",\"Y\",\"N\")","v":"N"},{"$f":"IF(Table1[[#This Row],[Column3]]=90785,\"Y\",\"N\")","v":"N"}]
[null,null,null,null,null,null,null,null,null,null,{"$f":"IF(Table1[[#This Row],[Column3]]=\"T1013\",\"Y\",\"N\")","v":"N"},{"$f":"IF(Table1[[#This Row],[Column3]]=90785,\"Y\",\"N\")","v":"N"}]
[null,null,null,null,null,null,null,null,null,null,{"$f":"IF(Table1[[#This Row],[Column3]]=\"T1013\",\"Y\",\"N\")","v":"N"},{"$f":"IF(Table1[[#This Row],[Column3]]=90785,\"Y\",\"N\")","v":"N"}]
[null,null,null,null,null,null,null,null,null,null,{"$f":"IF(Table1[[#This Row],[Column3]]=\"T1013\",\"Y\",\"N\")","v":"N"},{"$f":"IF(Table1[[#This Row],[Column3]]=90785,\"Y\",\"N\")","v":"N"}]
[null,null,null,null,null,null,null,null,null,null,{"$f":"IF(Table1[[#This Row],[Column3]]=\"T1013\",\"Y\",\"N\")","v":"N"},{"$f":"IF(Table1[[#This Row],[Column3]]=90785,\"Y\",\"N\")","v":"N"}]
[null,null,null,null,null,null,null,null,null,null,{"$f":"IF(Table1[[#This Row],[Column3]]=\"T1013\",\"Y\",\"N\")","v":"N"},{"$f":"IF(Table1[[#This Row],[Column3]]=90785,\"Y\",\"N\")","v":"N"}]
[null,null,null,null,null,null,null,null,null,null,{"$f":"IF(Table1[[#This Row],[Column3]]=\"T1013\",\"Y\",\"N\")","v":"N"},{"$f":"IF(Table1[[#This Row],[Column3]]=90785,\"Y\",\"N\")","v":"N"}]
[null,null,null,null,null,null,null,null,null,null,{"$f":"IF(Table1[[#This Row],[Column3]]=\"T1013\",\"Y\",\"N\")","v":"N"},{"$f":"IF(Table1[[#This Row],[Column3]]=90785,\"Y\",\"N\")","v":"N"}]
[null,null,null,null,null,null,null,null,null,null,{"$f":"IF(Table1[[#This Row],[Column3]]=\"T1013\",\"Y\",\"N\")","v":"N"},{"$f":"IF(Table1[[#This Row],[Column3]]=90785,\"Y\",\"N\")","v":"N"}]
[null,null,null,null,null,null,null,null,null,null,{"$f":"IF(Table1[[#This Row],[Column3]]=\"T1013\",\"Y\",\"N\")","v":"N"},{"$f":"IF(Table1[[#This Row],[Column3]]=90785,\"Y\",\"N\")","v":"N"}]
[null,null,null,null,null,null,null,null,null,null,{"$f":"IF(Table1[[#This Row],[Column3]]=\"T1013\",\"Y\",\"N\")","v":"N"},{"$f":"IF(Table1[[#This Row],[Column3]]=90785,\"Y\",\"N\")","v":"N"}]
[null,null,null,null,null,null,null,null,null,null,{"$f":"IF(Table1[[#This Row],[Column3]]=\"T1013\",\"Y\",\"N\")","v":"N"},{"$f":"IF(Table1[[#This Row],[Column3]]=90785,\"Y\",\"N\")","v":"N"}]
[null,null,null,null,null,null,null,null,null,null,{"$f":"IF(Table1[[#This Row],[Column3]]=\"T1013\",\"Y\",\"N\")","v":"N"},{"$f":"IF(Table1[[#This Row],[Column3]]=90785,\"Y\",\"N\")","v":"N"}]
[null,null,null,null,null,null,null,null,null,null,{"$f":"IF(Table1[[#This Row],[Column3]]=\"T1013\",\"Y\",\"N\")","v":"N"},{"$f":"IF(Table1[[#This Row],[Column3]]=90785,\"Y\",\"N\")","v":"N"}]
[null,null,null,null,null,null,null,null,null,null,{"$f":"IF(Table1[[#This Row],[Column3]]=\"T1013\",\"Y\",\"N\")","v":"N"},{"$f":"IF(Table1[[#This Row],[Column3]]=90785,\"Y\",\"N\")","v":"N"}]
[null,null,null,null,null,null,null,null,null,null,{"$f":"IF(Table1[[#This Row],[Column3]]=\"T1013\",\"Y\",\"N\")","v":"N"},{"$f":"IF(Table1[[#This Row],[Column3]]=90785,\"Y\",\"N\")","v":"N"}]
[null,null,null,null,null,null,null,null,null,null,{"$f":"IF(Table1[[#This Row],[Column3]]=\"T1013\",\"Y\",\"N\")","v":"N"},{"$f":"IF(Table1[[#This Row],[Column3]]=90785,\"Y\",\"N\")","v":"N"}]
[null,null,null,null,null,null,null,null,null,null,{"$f":"IF(Table1[[#This Row],[Column3]]=\"T1013\",\"Y\",\"N\")","v":"N"},{"$f":"IF(Table1[[#This Row],[Column3]]=90785,\"Y\",\"N\")","v":"N"}]
[null,null,null,null,null,null,null,null,null,null,{"$f":"IF(Table1[[#This Row],[Column3]]=\"T1013\",\"Y\",\"N\")","v":"N"},{"$f":"IF(Table1[[#This Row],[Column3]]=90785,\"Y\",\"N\")","v":"N"}]
[null,null,null,null,null,null,null,null,null,null,{"$f":"IF(Table1[[#This Row],[Column3]]=\"T1013\",\"Y\",\"N\")","v":"N"},{"$f":"IF(Table1[[#This Row],[Column3]]=90785,\"Y\",\"N\")","v":"N"}]
[null,null,null,null,null,null,null,null,null,null,{"$f":"IF(Table1[[#This Row],[Column3]]=\"T1013\",\"Y\",\"N\")","v":"N"},{"$f":"IF(Table1[[#This Row],[Column3]]=90785,\"Y\",\"N\")","v":"N"}]
[null,null,null,null,null,null,null,null,null,null,{"$f":"IF(Table1[[#This Row],[Column3]]=\"T1013\",\"Y\",\"N\")","v":"N"},{"$f":"IF(Table1[[#This Row],[Column3]]=90785,\"Y\",\"N\")","v":"N"}]
[null,null,null,null,null,null,null,null,null,null,{"$f":"IF(Table1[[#This Row],[Column3]]=\"T1013\",\"Y\",\"N\")","v":"N"},{"$f":"IF(Table1[[#This Row],[Column3]]=90785,\"Y\",\"N\")","v":"N"}]
[null,null,null,null,null,null,null,null,null,null,{"$f":"IF(Table1[[#This Row],[Column3]]=\"T1013\",\"Y\",\"N\")","v":"N"},{"$f":"IF(Table1[[#This Row],[Column3]]=90785,\"Y\",\"N\")","v":"N"}]
[null,null,null,null,null,null,null,null,null,null,{"$f":"IF(Table1[[#This Row],[Column3]]=\"T1013\",\"Y\",\"N\")","v":"N"},{"$f":"IF(Table1[[#This Row],[Column3]]=90785,\"Y\",\"N\")","v":"N"}]
[null,null,null,null,null,null,null,null,null,null,{"$f":"IF(Table1[[#This Row],[Column3]]=\"T1013\",\"Y\",\"N\")","v":"N"},{"$f":"IF(Table1[[#This Row],[Column3]]=90785,\"Y\",\"N\")","v":"N"}]
[null,null,null,null,null,null,null,null,null,null,{"$f":"IF(Table1[[#This Row],[Column3]]=\"T1013\",\"Y\",\"N\")","v":"N"},{"$f":"IF(Table1[[#This Row],[Column3]]=90785,\"Y\",\"N\")","v":"N"}]
[null,null,null,null,null,null,null,null,null,null,{"$f":"IF(Table1[[#This Row],[Column3]]=\"T1013\",\"Y\",\"N\")","v":"N"},{"$f":"IF(Table1[[#This Row],[Column3]]=90785,\"Y\",\"N\")","v":"N"}]
[null,null,null,null,null,null,null,null,null,null,{"$f":"IF(Table1[[#This Row],[Column3]]=\"T1013\",\"Y\",\"N\")","v":"N"},{"$f":"IF(Table1[[#This Row],[Column3]]=90785,\"Y\",\"N\")","v":"N"}]
[null,null,null,null,null,null,null,null,null,null,{"$f":"IF(Table1[[#This Row],[Column3]]=\"T1013\",\"Y\",\"N\")","v":"N"},{"$f":"IF(Table1[[#This Row],[Column3]]=90785,\"Y\",\"N\")","v":"N"}]
[null,null,null,null,null,null,null,null,null,null,{"$f":"IF(Table1[[#This Row],[Column3]]=\"T1013\",\"Y\",\"N\")","v":"N"},{"$f":"IF(Table1[[#This Row],[Column3]]=90785,\"Y\",\"N\")","v":"N"}]
[null,null,null,null,null,null,null,null,null,null,{"$f":"IF(Table1[[#This Row],[Column3]]=\"T1013\",\"Y\",\"N\")","v":"N"},{"$f":"IF(Table1[[#This Row],[Column3]]=90785,\"Y\",\"N\")","v":"N"}]
[null,null,null,null,null,null,null,null,null,null,{"$f":"IF(Table1[[#This Row],[Column3]]=\"T1013\",\"Y\",\"N\")","v":"N"},{"$f":"IF(Table1[[#This Row],[Column3]]=90785,\"Y\",\"N\")","v":"N"}]
[null,null,null,null,null,null,null,null,null,null,{"$f":"IF(Table1[[#This Row],[Column3]]=\"T1013\",\"Y\",\"N\")","v":"N"},{"$f":"IF(Table1[[#This Row],[Column3]]=90785,\"Y\",\"N\")","v":"N"}]
[null,null,null,null,null,null,null,null,null,null,{"$f":"IF(Table1[[#This Row],[Column3]]=\"T1013\",\"Y\",\"N\")","v":"N"},{"$f":"IF(Table1[[#This Row],[Column3]]=90785,\"Y\",\"N\")","v":"N"}]
[null,null,null,null,null,null,null,null,null,null,{"$f":"IF(Table1[[#This Row],[Column3]]=\"T1013\",\"Y\",\"N\")","v":"N"},{"$f":"IF(Table1[[#This Row],[Column3]]=90785,\"Y\",\"N\")","v":"N"}]
[null,null,null,null,null,null,null,null,null,null,{"$f":"IF(Table1[[#This Row],[Column3]]=\"T1013\",\"Y\",\"N\")","v":"N"},{"$f":"IF(Table1[[#This Row],[Column3]]=90785,\"Y\",\"N\")","v":"N"}]
[null,null,null,null,null,null,null,null,null,null,{"$f":"IF(Table1[[#This Row],[Column3]]=\"T1013\",\"Y\",\"N\")","v":"N"},{"$f":"IF(Table1[[#This Row],[Column3]]=90785,\"Y\",\"N\")","v":"N"}]
[null,null,null,null,null,null,null,null,null,null,{"$f":"IF(Table1[[#This Row],[Column3]]=\"T1013\",\"Y\",\"N\")","v":"N"},{"$f":"IF(Table1[[#This Row],[Column3]]=90785,\"Y\",\"N\")","v":"N"}]
[null,null,null,null,null,null,null,null,null,null,{"$f":"IF(Table1[[#This Row],[Column3]]=\"T1013\",\"Y\",\"N\")","v":"N"},{"$f":"IF(Table1[[#This Row],[Column3]]=90785,\"Y\",\"N\")","v":"N"}]
[null,null,null,null,null,null,null,null,null,null,{"$f":"IF(Table1[[#This Row],[Column3]]=\"T1013\",\"Y\",\"N\")","v":"N"},{"$f":"IF(Table1[[#This Row],[Column3]]=90785,\"Y\",\"N\")","v":"N"}]
[null,null,null,null,null,null,null,null,null,null,{"$f":"IF(Table1[[#This Row],[Column3]]=\"T1013\",\"Y\",\"N\")","v":"N"},{"$f":"IF(Table1[[#This Row],[Column3]]=90785,\"Y\",\"N\")","v":"N"}]
[null,null,null,null,null,null,null,null,null,null,{"$f":"IF(Table1[[#This Row],[Column3]]=\"T1013\",\"Y\",\"N\")","v":"N"},{"$f":"IF(Table1[[#This Row],[Column3]]=90785,\"Y\",\"N\")","v":"N"}]
[null,null,null,null,null,null,null,null,null,null,{"$f":"IF(Table1[[#This Row],[Column3]]=\"T1013\",\"Y\",\"N\")","v":"N"},{"$f":"IF(Table1[[#This Row],[Column3]]=90785,\"Y\",\"N\")","v":"N"}]
[null,null,null,null,null,null,null,null,null,null,{"$f":"IF(Table1[[#This Row],[Column3]]=\"T1013\",\"Y\",\"N\")","v":"N"},{"$f":"IF(Table1[[#This Row],[Column3]]=90785,\"Y\",\"N\")","v":"N"}]
[null,null,null,null,null,null,null,null,null,null,{"$f":"IF(Table1[[#This Row],[Column3]]=\"T1013\",\"Y\",\"N\")","v":"N"},{"$f":"IF(Table1[[#This Row],[Column3]]=90785,\"Y\",\"N\")","v":"N"}]
[null,null,null,null,null,null,null,null,null,null,{"$f":"IF(Table1[[#This Row],[Column3]]=\"T1013\",\"Y\",\"N\")","v":"N"},{"$f":"IF(Table1[[#This Row],[Column3]]=90785,\"Y\",\"N\")","v":"N"}]
[null,null,null,null,null,null,null,null,null,null,{"$f":"IF(Table1[[#This Row],[Column3]]=\"T1013\",\"Y\",\"N\")","v":"N"},{"$f":"IF(Table1[[#This Row],[Column3]]=90785,\"Y\",\"N\")","v":"N"}]
[null,null,null,null,null,null,null,null,null,null,{"$f":"IF(Table1[[#This Row],[Column3]]=\"T1013\",\"Y\",\"N\")","v":"N"},{"$f":"IF(Table1[[#This Row],[Column3]]=90785,\"Y\",\"N\")","v":"N"}]
[null,null,null,null,null,null,null,null,null,null,{"$f":"IF(Table1[[#This Row],[Column3]]=\"T1013\",\"Y\",\"N\")","v":"N"},{"$f":"IF(Table1[[#This Row],[Column3]]=90785,\"Y\",\"N\")","v":"N"}]
[null,null,null,null,null,null,null,null,null,null,{"$f":"IF(Table1[[#This Row],[Column3]]=\"T1013\",\"Y\",\"N\")","v":"N"},{"$f":"IF(Table1[[#This Row],[Column3]]=90785,\"Y\",\"N\")","v":"N"}]
[null,null,null,null,null,null,null,null,null,null,{"$f":"IF(Table1[[#This Row],[Column3]]=\"T1013\",\"Y\",\"N\")","v":"N"},{"$f":"IF(Table1[[#This Row],[Column3]]=90785,\"Y\",\"N\")","v":"N"}]
[null,null,null,null,null,null,null,null,null,null,{"$f":"IF(Table1[[#This Row],[Column3]]=\"T1013\",\"Y\",\"N\")","v":"N"},{"$f":"IF(Table1[[#This Row],[Column3]]=90785,\"Y\",\"N\")","v":"N"}]
[null,null,null,null,null,null,null,null,null,null,{"$f":"IF(Table1[[#This Row],[Column3]]=\"T1013\",\"Y\",\"N\")","v":"N"},{"$f":"IF(Table1[[#This Row],[Column3]]=90785,\"Y\",\"N\")","v":"N"}]
[null,null,null,null,null,null,null,null,null,null,{"$f":"IF(Table1[[#This Row],[Column3]]=\"T1013\",\"Y\",\"N\")","v":"N"},{"$f":"IF(Table1[[#This Row],[Column3]]=90785,\"Y\",\"N\")","v":"N"}]
[null,null,null,null,null,null,null,null,null,null,{"$f":"IF(Table1[[#This Row],[Column3]]=\"T1013\",\"Y\",\"N\")","v":"N"},{"$f":"IF(Table1[[#This Row],[Column3]]=90785,\"Y\",\"N\")","v":"N"}]
[null,null,null,null,null,null,null,null,null,null,{"$f":"IF(Table1[[#This Row],[Column3]]=\"T1013\",\"Y\",\"N\")","v":"N"},{"$f":"IF(Table1[[#This Row],[Column3]]=90785,\"Y\",\"N\")","v":"N"}]
[null,null,null,null,null,null,null,null,null,null,{"$f":"IF(Table1[[#This Row],[Column3]]=\"T1013\",\"Y\",\"N\")","v":"N"},{"$f":"IF(Table1[[#This Row],[Column3]]=90785,\"Y\",\"N\")","v":"N"}]
[null,null,null,null,null,null,null,null,null,null,{"$f":"IF(Table1[[#This Row],[Column3]]=\"T1013\",\"Y\",\"N\")","v":"N"},{"$f":"IF(Table1[[#This Row],[Column3]]=90785,\"Y\",\"N\")","v":"N"}]
[null,null,null,null,null,null,null,null,null,null,{"$f":"IF(Table1[[#This Row],[Column3]]=\"T1013\",\"Y\",\"N\")","v":"N"},{"$f":"IF(Table1[[#This Row],[Column3]]=90785,\"Y\",\"N\")","v":"N"}]
[null,null,null,null,null,null,null,null,null,null,{"$f":"IF(Table1[[#This Row],[Column3]]=\"T1013\",\"Y\",\"N\")","v":"N"},{"$f":"IF(Table1[[#This Row],[Column3]]=90785,\"Y\",\"N\")","v":"N"}]
[null,null,null,null,null,null,null,null,null,null,{"$f":"IF(Table1[[#This Row],[Column3]]=\"T1013\",\"Y\",\"N\")","v":"N"},{"$f":"IF(Table1[[#This Row],[Column3]]=90785,\"Y\",\"N\")","v":"N"}]
[null,null,null,null,null,null,null,null,null,null,{"$f":"IF(Table1[[#This Row],[Column3]]=\"T1013\",\"Y\",\"N\")","v":"N"},{"$f":"IF(Table1[[#This Row],[Column3]]=90785,\"Y\",\"N\")","v":"N"}]
[null,null,null,null,null,null,null,null,null,null,{"$f":"IF(Table1[[#This Row],[Column3]]=\"T1013\",\"Y\",\"N\")","v":"N"},{"$f":"IF(Table1[[#This Row],[Column3]]=90785,\"Y\",\"N\")","v":"N"}]
[null,null,null,null,null,null,null,null,null,null,{"$f":"IF(Table1[[#This Row],[Column3]]=\"T1013\",\"Y\",\"N\")","v":"N"},{"$f":"IF(Table1[[#This Row],[Column3]]=90785,\"Y\",\"N\")","v":"N"}]
[null,null,null,null,null,null,null,null,null,null,{"$f":"IF(Table1[[#This Row],[Column3]]=\"T1013\",\"Y\",\"N\")","v":"N"},{"$f":"IF(Table1[[#This Row],[Column3]]=90785,\"Y\",\"N\")","v":"N"}]
[null,null,null,null,null,null,null,null,null,null,{"$f":"IF(Table1[[#This Row],[Column3]]=\"T1013\",\"Y\",\"N\")","v":"N"},{"$f":"IF(Table1[[#This Row],[Column3]]=90785,\"Y\",\"N\")","v":"N"}]
[null,null,null,null,null,null,null,null,null,null,{"$f":"IF(Table1[[#This Row],[Column3]]=\"T1013\",\"Y\",\"N\")","v":"N"},{"$f":"IF(Table1[[#This Row],[Column3]]=90785,\"Y\",\"N\")","v":"N"}]
[null,null,null,null,null,null,null,null,null,null,{"$f":"IF(Table1[[#This Row],[Column3]]=\"T1013\",\"Y\",\"N\")","v":"N"},{"$f":"IF(Table1[[#This Row],[Column3]]=90785,\"Y\",\"N\")","v":"N"}]
[null,null,null,null,null,null,null,null,null,null,{"$f":"IF(Table1[[#This Row],[Column3]]=\"T1013\",\"Y\",\"N\")","v":"N"},{"$f":"IF(Table1[[#This Row],[Column3]]=90785,\"Y\",\"N\")","v":"N"}]
[null,null,null,null,null,null,null,null,null,null,{"$f":"IF(Table1[[#This Row],[Column3]]=\"T1013\",\"Y\",\"N\")","v":"N"},{"$f":"IF(Table1[[#This Row],[Column3]]=90785,\"Y\",\"N\")","v":"N"}]
[null,null,null,null,null,null,null,null,null,null,{"$f":"IF(Table1[[#This Row],[Column3]]=\"T1013\",\"Y\",\"N\")","v":"N"},{"$f":"IF(Table1[[#This Row],[Column3]]=90785,\"Y\",\"N\")","v":"N"}]
[null,null,null,null,null,null,null,null,null,null,{"$f":"IF(Table1[[#This Row],[Column3]]=\"T1013\",\"Y\",\"N\")","v":"N"},{"$f":"IF(Table1[[#This Row],[Column3]]=90785,\"Y\",\"N\")","v":"N"}]
[null,null,null,null,null,null,null,null,null,null,{"$f":"IF(Table1[[#This Row],[Column3]]=\"T1013\",\"Y\",\"N\")","v":"N"},{"$f":"IF(Table1[[#This Row],[Column3]]=90785,\"Y\",\"N\")","v":"N"}]
[null,null,null,null,null,null,null,null,null,null,{"$f":"IF(Table1[[#This Row],[Column3]]=\"T1013\",\"Y\",\"N\")","v":"N"},{"$f":"IF(Table1[[#This Row],[Column3]]=90785,\"Y\",\"N\")","v":"N"}]
[null,null,null,null,null,null,null,null,null,null,{"$f":"IF(Table1[[#This Row],[Column3]]=\"T1013\",\"Y\",\"N\")","v":"N"},{"$f":"IF(Table1[[#This Row],[Column3]]=90785,\"Y\",\"N\")","v":"N"}]
[null,null,null,null,null,null,null,null,null,null,{"$f":"IF(Table1[[#This Row],[Column3]]=\"T1013\",\"Y\",\"N\")","v":"N"},{"$f":"IF(Table1[[#This Row],[Column3]]=90785,\"Y\",\"N\")","v":"N"}]
[null,null,null,null,null,null,null,null,null,null,{"$f":"IF(Table1[[#This Row],[Column3]]=\"T1013\",\"Y\",\"N\")","v":"N"},{"$f":"IF(Table1[[#This Row],[Column3]]=90785,\"Y\",\"N\")","v":"N"}]
[null,null,null,null,null,null,null,null,null,null,{"$f":"IF(Table1[[#This Row],[Column3]]=\"T1013\",\"Y\",\"N\")","v":"N"},{"$f":"IF(Table1[[#This Row],[Column3]]=90785,\"Y\",\"N\")","v":"N"}]
[null,null,null,null,null,null,null,null,null,null,{"$f":"IF(Table1[[#This Row],[Column3]]=\"T1013\",\"Y\",\"N\")","v":"N"},{"$f":"IF(Table1[[#This Row],[Column3]]=90785,\"Y\",\"N\")","v":"N"}]
[null,null,null,null,null,null,null,null,null,null,{"$f":"IF(Table1[[#This Row],[Column3]]=\"T1013\",\"Y\",\"N\")","v":"N"},{"$f":"IF(Table1[[#This Row],[Column3]]=90785,\"Y\",\"N\")","v":"N"}]
[null,null,null,null,null,null,null,null,null,null,{"$f":"IF(Table1[[#This Row],[Column3]]=\"T1013\",\"Y\",\"N\")","v":"N"},{"$f":"IF(Table1[[#This Row],[Column3]]=90785,\"Y\",\"N\")","v":"N"}]
[null,null,null,null,null,null,null,null,null,null,{"$f":"IF(Table1[[#This Row],[Column3]]=\"T1013\",\"Y\",\"N\")","v":"N"},{"$f":"IF(Table1[[#This Row],[Column3]]=90785,\"Y\",\"N\")","v":"N"}]
[null,null,null,null,null,null,null,null,null,null,{"$f":"IF(Table1[[#This Row],[Column3]]=\"T1013\",\"Y\",\"N\")","v":"N"},{"$f":"IF(Table1[[#This Row],[Column3]]=90785,\"Y\",\"N\")","v":"N"}]
[null,null,null,null,null,null,null,null,null,null,{"$f":"IF(Table1[[#This Row],[Column3]]=\"T1013\",\"Y\",\"N\")","v":"N"},{"$f":"IF(Table1[[#This Row],[Column3]]=90785,\"Y\",\"N\")","v":"N"}]
[null,null,null,null,null,null,null,null,null,null,{"$f":"IF(Table1[[#This Row],[Column3]]=\"T1013\",\"Y\",\"N\")","v":"N"},{"$f":"IF(Table1[[#This Row],[Column3]]=90785,\"Y\",\"N\")","v":"N"}]
[null,null,null,null,null,null,null,null,null,null,{"$f":"IF(Table1[[#This Row],[Column3]]=\"T1013\",\"Y\",\"N\")","v":"N"},{"$f":"IF(Table1[[#This Row],[Column3]]=90785,\"Y\",\"N\")","v":"N"}]
[null,null,null,null,null,null,null,null,null,null,{"$f":"IF(Table1[[#This Row],[Column3]]=\"T1013\",\"Y\",\"N\")","v":"N"},{"$f":"IF(Table1[[#This Row],[Column3]]=90785,\"Y\",\"N\")","v":"N"}]
[null,null,null,null,null,null,null,null,null,null,{"$f":"IF(Table1[[#This Row],[Column3]]=\"T1013\",\"Y\",\"N\")","v":"N"},{"$f":"IF(Table1[[#This Row],[Column3]]=90785,\"Y\",\"N\")","v":"N"}]
[null,null,null,null,null,null,null,null,null,null,{"$f":"IF(Table1[[#This Row],[Column3]]=\"T1013\",\"Y\",\"N\")","v":"N"},{"$f":"IF(Table1[[#This Row],[Column3]]=90785,\"Y\",\"N\")","v":"N"}]
[null,null,null,null,null,null,null,null,null,null,{"$f":"IF(Table1[[#This Row],[Column3]]=\"T1013\",\"Y\",\"N\")","v":"N"},{"$f":"IF(Table1[[#This Row],[Column3]]=90785,\"Y\",\"N\")","v":"N"}]
[null,null,null,null,null,null,null,null,null,null,{"$f":"IF(Table1[[#This Row],[Column3]]=\"T1013\",\"Y\",\"N\")","v":"N"},{"$f":"IF(Table1[[#This Row],[Column3]]=90785,\"Y\",\"N\")","v":"N"}]
[null,null,null,null,null,null,null,null,null,null,{"$f":"IF(Table1[[#This Row],[Column3]]=\"T1013\",\"Y\",\"N\")","v":"N"},{"$f":"IF(Table1[[#This Row],[Column3]]=90785,\"Y\",\"N\")","v":"N"}]
[null,null,null,null,null,null,null,null,null,null,{"$f":"IF(Table1[[#This Row],[Column3]]=\"T1013\",\"Y\",\"N\")","v":"N"},{"$f":"IF(Table1[[#This Row],[Column3]]=90785,\"Y\",\"N\")","v":"N"}]
[null,null,null,null,null,null,null,null,null,null,{"$f":"IF(Table1[[#This Row],[Column3]]=\"T1013\",\"Y\",\"N\")","v":"N"},{"$f":"IF(Table1[[#This Row],[Column3]]=90785,\"Y\",\"N\")","v":"N"}]
[null,null,null,null,null,null,null,null,null,null,{"$f":"IF(Table1[[#This Row],[Column3]]=\"T1013\",\"Y\",\"N\")","v":"N"},{"$f":"IF(Table1[[#This Row],[Column3]]=90785,\"Y\",\"N\")","v":"N"}]
[null,null,null,null,null,null,null,null,null,null,{"$f":"IF(Table1[[#This Row],[Column3]]=\"T1013\",\"Y\",\"N\")","v":"N"},{"$f":"IF(Table1[[#This Row],[Column3]]=90785,\"Y\",\"N\")","v":"N"}]
[null,null,null,null,null,null,null,null,null,null,{"$f":"IF(Table1[[#This Row],[Column3]]=\"T1013\",\"Y\",\"N\")","v":"N"},{"$f":"IF(Table1[[#This Row],[Column3]]=90785,\"Y\",\"N\")","v":"N"}]
[null,null,null,null,null,null,null,null,null,null,{"$f":"IF(Table1[[#This Row],[Column3]]=\"T1013\",\"Y\",\"N\")","v":"N"},{"$f":"IF(Table1[[#This Row],[Column3]]=90785,\"Y\",\"N\")","v":"N"}]
[null,null,null,null,null,null,null,null,null,null,{"$f":"IF(Table1[[#This Row],[Column3]]=\"T1013\",\"Y\",\"N\")","v":"N"},{"$f":"IF(Table1[[#This Row],[Column3]]=90785,\"Y\",\"N\")","v":"N"}]
[null,null,null,null,null,null,null,null,null,null,{"$f":"IF(Table1[[#This Row],[Column3]]=\"T1013\",\"Y\",\"N\")","v":"N"},{"$f":"IF(Table1[[#This Row],[Column3]]=90785,\"Y\",\"N\")","v":"N"}]
[null,null,null,null,null,null,null,null,null,null,{"$f":"IF(Table1[[#This Row],[Column3]]=\"T1013\",\"Y\",\"N\")","v":"N"},{"$f":"IF(Table1[[#This Row],[Column3]]=90785,\"Y\",\"N\")","v":"N"}]
[null,null,null,null,null,null,null,null,null,null,{"$f":"IF(Table1[[#This Row],[Column3]]=\"T1013\",\"Y\",\"N\")","v":"N"},{"$f":"IF(Table1[[#This Row],[Column3]]=90785,\"Y\",\"N\")","v":"N"}]
[null,null,null,null,null,null,null,null,null,null,{"$f":"IF(Table1[[#This Row],[Column3]]=\"T1013\",\"Y\",\"N\")","v":"N"},{"$f":"IF(Table1[[#This Row],[Column3]]=90785,\"Y\",\"N\")","v":"N"}]
[null,null,null,null,null,null,null,null,null,null,{"$f":"IF(Table1[[#This Row],[Column3]]=\"T1013\",\"Y\",\"N\")","v":"N"},{"$f":"IF(Table1[[#This Row],[Column3]]=90785,\"Y\",\"N\")","v":"N"}]
[null,null,null,null,null,null,null,null,null,null,{"$f":"IF(Table1[[#This Row],[Column3]]=\"T1013\",\"Y\",\"N\")","v":"N"},{"$f":"IF(Table1[[#This Row],[Column3]]=90785,\"Y\",\"N\")","v":"N"}]
[null,null,null,null,null,null,null,null,null,null,{"$f":"IF(Table1[[#This Row],[Column3]]=\"T1013\",\"Y\",\"N\")","v":"N"},{"$f":"IF(Table1[[#This Row],[Column3]]=90785,\"Y\",\"N\")","v":"N"}]
[null,null,null,null,null,null,null,null,null,null,{"$f":"IF(Table1[[#This Row],[Column3]]=\"T1013\",\"Y\",\"N\")","v":"N"},{"$f":"IF(Table1[[#This Row],[Column3]]=90785,\"Y\",\"N\")","v":"N"}]
[null,null,null,null,null,null,null,null,null,null,{"$f":"IF(Table1[[#This Row],[Column3]]=\"T1013\",\"Y\",\"N\")","v":"N"},{"$f":"IF(Table1[[#This Row],[Column3]]=90785,\"Y\",\"N\")","v":"N"}]
[null,null,null,null,null,null,null,null,null,null,{"$f":"IF(Table1[[#This Row],[Column3]]=\"T1013\",\"Y\",\"N\")","v":"N"},{"$f":"IF(Table1[[#This Row],[Column3]]=90785,\"Y\",\"N\")","v":"N"}]
[null,null,null,null,null,null,null,null,null,null,{"$f":"IF(Table1[[#This Row],[Column3]]=\"T1013\",\"Y\",\"N\")","v":"N"},{"$f":"IF(Table1[[#This Row],[Column3]]=90785,\"Y\",\"N\")","v":"N"}]
[null,null,null,null,null,null,null,null,null,null,{"$f":"IF(Table1[[#This Row],[Column3]]=\"T1013\",\"Y\",\"N\")","v":"N"},{"$f":"IF(Table1[[#This Row],[Column3]]=90785,\"Y\",\"N\")","v":"N"}]
[null,null,null,null,null,null,null,null,null,null,{"$f":"IF(Table1[[#This Row],[Column3]]=\"T1013\",\"Y\",\"N\")","v":"N"},{"$f":"IF(Table1[[#This Row],[Column3]]=90785,\"Y\",\"N\")","v":"N"}]
[null,null,null,null,null,null,null,null,null,null,{"$f":"IF(Table1[[#This Row],[Column3]]=\"T1013\",\"Y\",\"N\")","v":"N"},{"$f":"IF(Table1[[#This Row],[Column3]]=90785,\"Y\",\"N\")","v":"N"}]
[null,null,null,null,null,null,null,null,null,null,{"$f":"IF(Table1[[#This Row],[Column3]]=\"T1013\",\"Y\",\"N\")","v":"N"},{"$f":"IF(Table1[[#This Row],[Column3]]=90785,\"Y\",\"N\")","v":"N"}]
[null,null,null,null,null,null,null,null,null,null,{"$f":"IF(Table1[[#This Row],[Column3]]=\"T1013\",\"Y\",\"N\")","v":"N"},{"$f":"IF(Table1[[#This Row],[Column3]]=90785,\"Y\",\"N\")","v":"N"}]
[null,null,null,null,null,null,null,null,null,null,{"$f":"IF(Table1[[#This Row],[Column3]]=\"T1013\",\"Y\",\"N\")","v":"N"},{"$f":"IF(Table1[[#This Row],[Column3]]=90785,\"Y\",\"N\")","v":"N"}]
[null,null,null,null,null,null,null,null,null,null,{"$f":"IF(Table1[[#This Row],[Column3]]=\"T1013\",\"Y\",\"N\")","v":"N"},{"$f":"IF(Table1[[#This Row],[Column3]]=90785,\"Y\",\"N\")","v":"N"}]
[null,null,null,null,null,null,null,null,null,null,{"$f":"IF(Table1[[#This Row],[Column3]]=\"T1013\",\"Y\",\"N\")","v":"N"},{"$f":"IF(Table1[[#This Row],[Column3]]=90785,\"Y\",\"N\")","v":"N"}]
[null,null,null,null,null,null,null,null,null,null,{"$f":"IF(Table1[[#This Row],[Column3]]=\"T1013\",\"Y\",\"N\")","v":"N"},{"$f":"IF(Table1[[#This Row],[Column3]]=90785,\"Y\",\"N\")","v":"N"}]
[null,null,null,null,null,null,null,null,null,null,{"$f":"IF(Table1[[#This Row],[Column3]]=\"T1013\",\"Y\",\"N\")","v":"N"},{"$f":"IF(Table1[[#This Row],[Column3]]=90785,\"Y\",\"N\")","v":"N"}]
[null,null,null,null,null,null,null,null,null,null,{"$f":"IF(Table1[[#This Row],[Column3]]=\"T1013\",\"Y\",\"N\")","v":"N"},{"$f":"IF(Table1[[#This Row],[Column3]]=90785,\"Y\",\"N\")","v":"N"}]
[null,null,null,null,null,null,null,null,null,null,{"$f":"IF(Table1[[#This Row],[Column3]]=\"T1013\",\"Y\",\"N\")","v":"N"},{"$f":"IF(Table1[[#This Row],[Column3]]=90785,\"Y\",\"N\")","v":"N"}]
[null,null,null,null,null,null,null,null,null,null,{"$f":"IF(Table1[[#This Row],[Column3]]=\"T1013\",\"Y\",\"N\")","v":"N"},{"$f":"IF(Table1[[#This Row],[Column3]]=90785,\"Y\",\"N\")","v":"N"}]
[null,null,null,null,null,null,null,null,null,null,{"$f":"IF(Table1[[#This Row],[Column3]]=\"T1013\",\"Y\",\"N\")","v":"N"},{"$f":"IF(Table1[[#This Row],[Column3]]=90785,\"Y\",\"N\")","v":"N"}]
[null,null,null,null,null,null,null,null,null,null,{"$f":"IF(Table1[[#This Row],[Column3]]=\"T1013\",\"Y\",\"N\")","v":"N"},{"$f":"IF(Table1[[#This Row],[Column3]]=90785,\"Y\",\"N\")","v":"N"}]
[null,null,null,null,null,null,null,null,null,null,{"$f":"IF(Table1[[#This Row],[Column3]]=\"T1013\",\"Y\",\"N\")","v":"N"},{"$f":"IF(Table1[[#This Row],[Column3]]=90785,\"Y\",\"N\")","v":"N"}]
[null,null,null,null,null,null,null,null,null,null,{"$f":"IF(Table1[[#This Row],[Column3]]=\"T1013\",\"Y\",\"N\")","v":"N"},{"$f":"IF(Table1[[#This Row],[Column3]]=90785,\"Y\",\"N\")","v":"N"}]
[null,null,null,null,null,null,null,null,null,null,{"$f":"IF(Table1[[#This Row],[Column3]]=\"T1013\",\"Y\",\"N\")","v":"N"},{"$f":"IF(Table1[[#This Row],[Column3]]=90785,\"Y\",\"N\")","v":"N"}]
[null,null,null,null,null,null,null,null,null,null,{"$f":"IF(Table1[[#This Row],[Column3]]=\"T1013\",\"Y\",\"N\")","v":"N"},{"$f":"IF(Table1[[#This Row],[Column3]]=90785,\"Y\",\"N\")","v":"N"}]
[null,null,null,null,null,null,null,null,null,null,{"$f":"IF(Table1[[#This Row],[Column3]]=\"T1013\",\"Y\",\"N\")","v":"N"},{"$f":"IF(Table1[[#This Row],[Column3]]=90785,\"Y\",\"N\")","v":"N"}]
[null,null,null,null,null,null,null,null,null,null,{"$f":"IF(Table1[[#This Row],[Column3]]=\"T1013\",\"Y\",\"N\")","v":"N"},{"$f":"IF(Table1[[#This Row],[Column3]]=90785,\"Y\",\"N\")","v":"N"}]
[null,null,null,null,null,null,null,null,null,null,{"$f":"IF(Table1[[#This Row],[Column3]]=\"T1013\",\"Y\",\"N\")","v":"N"},{"$f":"IF(Table1[[#This Row],[Column3]]=90785,\"Y\",\"N\")","v":"N"}]
[null,null,null,null,null,null,null,null,null,null,{"$f":"IF(Table1[[#This Row],[Column3]]=\"T1013\",\"Y\",\"N\")","v":"N"},{"$f":"IF(Table1[[#This Row],[Column3]]=90785,\"Y\",\"N\")","v":"N"}]
[null,null,null,null,null,null,null,null,null,null,{"$f":"IF(Table1[[#This Row],[Column3]]=\"T1013\",\"Y\",\"N\")","v":"N"},{"$f":"IF(Table1[[#This Row],[Column3]]=90785,\"Y\",\"N\")","v":"N"}]
[null,null,null,null,null,null,null,null,null,null,{"$f":"IF(Table1[[#This Row],[Column3]]=\"T1013\",\"Y\",\"N\")","v":"N"},{"$f":"IF(Table1[[#This Row],[Column3]]=90785,\"Y\",\"N\")","v":"N"}]
[null,null,null,null,null,null,null,null,null,null,{"$f":"IF(Table1[[#This Row],[Column3]]=\"T1013\",\"Y\",\"N\")","v":"N"},{"$f":"IF(Table1[[#This Row],[Column3]]=90785,\"Y\",\"N\")","v":"N"}]
[null,null,null,null,null,null,null,null,null,null,{"$f":"IF(Table1[[#This Row],[Column3]]=\"T1013\",\"Y\",\"N\")","v":"N"},{"$f":"IF(Table1[[#This Row],[Column3]]=90785,\"Y\",\"N\")","v":"N"}]
[null,null,null,null,null,null,null,null,null,null,{"$f":"IF(Table1[[#This Row],[Column3]]=\"T1013\",\"Y\",\"N\")","v":"N"},{"$f":"IF(Table1[[#This Row],[Column3]]=90785,\"Y\",\"N\")","v":"N"}]
[null,null,null,null,null,null,null,null,null,null,{"$f":"IF(Table1[[#This Row],[Column3]]=\"T1013\",\"Y\",\"N\")","v":"N"},{"$f":"IF(Table1[[#This Row],[Column3]]=90785,\"Y\",\"N\")","v":"N"}]
[null,null,null,null,null,null,null,null,null,null,{"$f":"IF(Table1[[#This Row],[Column3]]=\"T1013\",\"Y\",\"N\")","v":"N"},{"$f":"IF(Table1[[#This Row],[Column3]]=90785,\"Y\",\"N\")","v":"N"}]
[null,null,null,null,null,null,null,null,null,null,{"$f":"IF(Table1[[#This Row],[Column3]]=\"T1013\",\"Y\",\"N\")","v":"N"},{"$f":"IF(Table1[[#This Row],[Column3]]=90785,\"Y\",\"N\")","v":"N"}]
[null,null,null,null,null,null,null,null,null,null,{"$f":"IF(Table1[[#This Row],[Column3]]=\"T1013\",\"Y\",\"N\")","v":"N"},{"$f":"IF(Table1[[#This Row],[Column3]]=90785,\"Y\",\"N\")","v":"N"}]
[null,null,null,null,null,null,null,null,null,null,{"$f":"IF(Table1[[#This Row],[Column3]]=\"T1013\",\"Y\",\"N\")","v":"N"},{"$f":"IF(Table1[[#This Row],[Column3]]=90785,\"Y\",\"N\")","v":"N"}]
[null,null,null,null,null,null,null,null,null,null,{"$f":"IF(Table1[[#This Row],[Column3]]=\"T1013\",\"Y\",\"N\")","v":"N"},{"$f":"IF(Table1[[#This Row],[Column3]]=90785,\"Y\",\"N\")","v":"N"}]
[null,null,null,null,null,null,null,null,null,null,{"$f":"IF(Table1[[#This Row],[Column3]]=\"T1013\",\"Y\",\"N\")","v":"N"},{"$f":"IF(Table1[[#This Row],[Column3]]=90785,\"Y\",\"N\")","v":"N"}]
[null,null,null,null,null,null,null,null,null,null,{"$f":"IF(Table1[[#This Row],[Column3]]=\"T1013\",\"Y\",\"N\")","v":"N"},{"$f":"IF(Table1[[#This Row],[Column3]]=90785,\"Y\",\"N\")","v":"N"}]
[null,null,null,null,null,null,null,null,null,null,{"$f":"IF(Table1[[#This Row],[Column3]]=\"T1013\",\"Y\",\"N\")","v":"N"},{"$f":"IF(Table1[[#This Row],[Column3]]=90785,\"Y\",\"N\")","v":"N"}]
[null,null,null,null,null,null,null,null,null,null,{"$f":"IF(Table1[[#This Row],[Column3]]=\"T1013\",\"Y\",\"N\")","v":"N"},{"$f":"IF(Table1[[#This Row],[Column3]]=90785,\"Y\",\"N\")","v":"N"}]
[null,null,null,null,null,null,null,null,null,null,{"$f":"IF(Table1[[#This Row],[Column3]]=\"T1013\",\"Y\",\"N\")","v":"N"},{"$f":"IF(Table1[[#This Row],[Column3]]=90785,\"Y\",\"N\")","v":"N"}]
[null,null,null,null,null,null,null,null,null,null,{"$f":"IF(Table1[[#This Row],[Column3]]=\"T1013\",\"Y\",\"N\")","v":"N"},{"$f":"IF(Table1[[#This Row],[Column3]]=90785,\"Y\",\"N\")","v":"N"}]
[null,null,null,null,null,null,null,null,null,null,{"$f":"IF(Table1[[#This Row],[Column3]]=\"T1013\",\"Y\",\"N\")","v":"N"},{"$f":"IF(Table1[[#This Row],[Column3]]=90785,\"Y\",\"N\")","v":"N"}]
[null,null,null,null,null,null,null,null,null,null,{"$f":"IF(Table1[[#This Row],[Column3]]=\"T1013\",\"Y\",\"N\")","v":"N"},{"$f":"IF(Table1[[#This Row],[Column3]]=90785,\"Y\",\"N\")","v":"N"}]
[null,null,null,null,null,null,null,null,null,null,{"$f":"IF(Table1[[#This Row],[Column3]]=\"T1013\",\"Y\",\"N\")","v":"N"},{"$f":"IF(Table1[[#This Row],[Column3]]=90785,\"Y\",\"N\")","v":"N"}]
[null,null,null,null,null,null,null,null,null,null,{"$f":"IF(Table1[[#This Row],[Column3]]=\"T1013\",\"Y\",\"N\")","v":"N"},{"$f":"IF(Table1[[#This Row],[Column3]]=90785,\"Y\",\"N\")","v":"N"}]
[null,null,null,null,null,null,null,null,null,null,{"$f":"IF(Table1[[#This Row],[Column3]]=\"T1013\",\"Y\",\"N\")","v":"N"},{"$f":"IF(Table1[[#This Row],[Column3]]=90785,\"Y\",\"N\")","v":"N"}]
[null,null,null,null,null,null,null,null,null,null,{"$f":"IF(Table1[[#This Row],[Column3]]=\"T1013\",\"Y\",\"N\")","v":"N"},{"$f":"IF(Table1[[#This Row],[Column3]]=90785,\"Y\",\"N\")","v":"N"}]
[null,null,null,null,null,null,null,null,null,null,{"$f":"IF(Table1[[#This Row],[Column3]]=\"T1013\",\"Y\",\"N\")","v":"N"},{"$f":"IF(Table1[[#This Row],[Column3]]=90785,\"Y\",\"N\")","v":"N"}]
[null,null,null,null,null,null,null,null,null,null,{"$f":"IF(Table1[[#This Row],[Column3]]=\"T1013\",\"Y\",\"N\")","v":"N"},{"$f":"IF(Table1[[#This Row],[Column3]]=90785,\"Y\",\"N\")","v":"N"}]
[null,null,null,null,null,null,null,null,null,null,{"$f":"IF(Table1[[#This Row],[Column3]]=\"T1013\",\"Y\",\"N\")","v":"N"},{"$f":"IF(Table1[[#This Row],[Column3]]=90785,\"Y\",\"N\")","v":"N"}]
[null,null,null,null,null,null,null,null,null,null,{"$f":"IF(Table1[[#This Row],[Column3]]=\"T1013\",\"Y\",\"N\")","v":"N"},{"$f":"IF(Table1[[#This Row],[Column3]]=90785,\"Y\",\"N\")","v":"N"}]
[null,null,null,null,null,null,null,null,null,null,{"$f":"IF(Table1[[#This Row],[Column3]]=\"T1013\",\"Y\",\"N\")","v":"N"},{"$f":"IF(Table1[[#This Row],[Column3]]=90785,\"Y\",\"N\")","v":"N"}]
[null,null,null,null,null,null,null,null,null,null,{"$f":"IF(Table1[[#This Row],[Column3]]=\"T1013\",\"Y\",\"N\")","v":"N"},{"$f":"IF(Table1[[#This Row],[Column3]]=90785,\"Y\",\"N\")","v":"N"}]
[null,null,null,null,null,null,null,null,null,null,{"$f":"IF(Table1[[#This Row],[Column3]]=\"T1013\",\"Y\",\"N\")","v":"N"},{"$f":"IF(Table1[[#This Row],[Column3]]=90785,\"Y\",\"N\")","v":"N"}]
[null,null,null,null,null,null,null,null,null,null,{"$f":"IF(Table1[[#This Row],[Column3]]=\"T1013\",\"Y\",\"N\")","v":"N"},{"$f":"IF(Table1[[#This Row],[Column3]]=90785,\"Y\",\"N\")","v":"N"}]
[null,null,null,null,null,null,null,null,null,null,{"$f":"IF(Table1[[#This Row],[Column3]]=\"T1013\",\"Y\",\"N\")","v":"N"},{"$f":"IF(Table1[[#This Row],[Column3]]=90785,\"Y\",\"N\")","v":"N"}]
[null,null,null,null,null,null,null,null,null,null,{"$f":"IF(Table1[[#This Row],[Column3]]=\"T1013\",\"Y\",\"N\")","v":"N"},{"$f":"IF(Table1[[#This Row],[Column3]]=90785,\"Y\",\"N\")","v":"N"}]
[null,null,null,null,null,null,null,null,null,null,{"$f":"IF(Table1[[#This Row],[Column3]]=\"T1013\",\"Y\",\"N\")","v":"N"},{"$f":"IF(Table1[[#This Row],[Column3]]=90785,\"Y\",\"N\")","v":"N"}]
[null,null,null,null,null,null,null,null,null,null,{"$f":"IF(Table1[[#This Row],[Column3]]=\"T1013\",\"Y\",\"N\")","v":"N"},{"$f":"IF(Table1[[#This Row],[Column3]]=90785,\"Y\",\"N\")","v":"N"}]
[null,null,null,null,null,null,null,null,null,null,{"$f":"IF(Table1[[#This Row],[Column3]]=\"T1013\",\"Y\",\"N\")","v":"N"},{"$f":"IF(Table1[[#This Row],[Column3]]=90785,\"Y\",\"N\")","v":"N"}]
[null,null,null,null,null,null,null,null,null,null,{"$f":"IF(Table1[[#This Row],[Column3]]=\"T1013\",\"Y\",\"N\")","v":"N"},{"$f":"IF(Table1[[#This Row],[Column3]]=90785,\"Y\",\"N\")","v":"N"}]
[null,null,null,null,null,null,null,null,null,null,{"$f":"IF(Table1[[#This Row],[Column3]]=\"T1013\",\"Y\",\"N\")","v":"N"},{"$f":"IF(Table1[[#This Row],[Column3]]=90785,\"Y\",\"N\")","v":"N"}]
[null,null,null,null,null,null,null,null,null,null,{"$f":"IF(Table1[[#This Row],[Column3]]=\"T1013\",\"Y\",\"N\")","v":"N"},{"$f":"IF(Table1[[#This Row],[Column3]]=90785,\"Y\",\"N\")","v":"N"}]
[null,null,null,null,null,null,null,null,null,null,{"$f":"IF(Table1[[#This Row],[Column3]]=\"T1013\",\"Y\",\"N\")","v":"N"},{"$f":"IF(Table1[[#This Row],[Column3]]=90785,\"Y\",\"N\")","v":"N"}]
[null,null,null,null,null,null,null,null,null,null,{"$f":"IF(Table1[[#This Row],[Column3]]=\"T1013\",\"Y\",\"N\")","v":"N"},{"$f":"IF(Table1[[#This Row],[Column3]]=90785,\"Y\",\"N\")","v":"N"}]
[null,null,null,null,null,null,null,null,null,null,{"$f":"IF(Table1[[#This Row],[Column3]]=\"T1013\",\"Y\",\"N\")","v":"N"},{"$f":"IF(Table1[[#This Row],[Column3]]=90785,\"Y\",\"N\")","v":"N"}]
[null,null,null,null,null,null,null,null,null,null,{"$f":"IF(Table1[[#This Row],[Column3]]=\"T1013\",\"Y\",\"N\")","v":"N"},{"$f":"IF(Table1[[#This Row],[Column3]]=90785,\"Y\",\"N\")","v":"N"}]
[null,null,null,null,null,null,null,null,null,null,{"$f":"IF(Table1[[#This Row],[Column3]]=\"T1013\",\"Y\",\"N\")","v":"N"},{"$f":"IF(Table1[[#This Row],[Column3]]=90785,\"Y\",\"N\")","v":"N"}]
[null,null,null,null,null,null,null,null,null,null,{"$f":"IF(Table1[[#This Row],[Column3]]=\"T1013\",\"Y\",\"N\")","v":"N"},{"$f":"IF(Table1[[#This Row],[Column3]]=90785,\"Y\",\"N\")","v":"N"}]
[null,null,null,null,null,null,null,null,null,null,{"$f":"IF(Table1[[#This Row],[Column3]]=\"T1013\",\"Y\",\"N\")","v":"N"},{"$f":"IF(Table1[[#This Row],[Column3]]=90785,\"Y\",\"N\")","v":"N"}]
[null,null,null,null,null,null,null,null,null,null,{"$f":"IF(Table1[[#This Row],[Column3]]=\"T1013\",\"Y\",\"N\")","v":"N"},{"$f":"IF(Table1[[#This Row],[Column3]]=90785,\"Y\",\"N\")","v":"N"}]
[null,null,null,null,null,null,null,null,null,null,{"$f":"IF(Table1[[#This Row],[Column3]]=\"T1013\",\"Y\",\"N\")","v":"N"},{"$f":"IF(Table1[[#This Row],[Column3]]=90785,\"Y\",\"N\")","v":"N"}]
[null,null,null,null,null,null,null,null,null,null,{"$f":"IF(Table1[[#This Row],[Column3]]=\"T1013\",\"Y\",\"N\")","v":"N"},{"$f":"IF(Table1[[#This Row],[Column3]]=90785,\"Y\",\"N\")","v":"N"}]
[null,null,null,null,null,null,null,null,null,null,{"$f":"IF(Table1[[#This Row],[Column3]]=\"T1013\",\"Y\",\"N\")","v":"N"},{"$f":"IF(Table1[[#This Row],[Column3]]=90785,\"Y\",\"N\")","v":"N"}]
[null,null,null,null,null,null,null,null,null,null,{"$f":"IF(Table1[[#This Row],[Column3]]=\"T1013\",\"Y\",\"N\")","v":"N"},{"$f":"IF(Table1[[#This Row],[Column3]]=90785,\"Y\",\"N\")","v":"N"}]
[null,null,null,null,null,null,null,null,null,null,{"$f":"IF(Table1[[#This Row],[Column3]]=\"T1013\",\"Y\",\"N\")","v":"N"},{"$f":"IF(Table1[[#This Row],[Column3]]=90785,\"Y\",\"N\")","v":"N"}]
[null,null,null,null,null,null,null,null,null,null,{"$f":"IF(Table1[[#This Row],[Column3]]=\"T1013\",\"Y\",\"N\")","v":"N"},{"$f":"IF(Table1[[#This Row],[Column3]]=90785,\"Y\",\"N\")","v":"N"}]
[null,null,null,null,null,null,null,null,null,null,{"$f":"IF(Table1[[#This Row],[Column3]]=\"T1013\",\"Y\",\"N\")","v":"N"},{"$f":"IF(Table1[[#This Row],[Column3]]=90785,\"Y\",\"N\")","v":"N"}]
[null,null,null,null,null,null,null,null,null,null,{"$f":"IF(Table1[[#This Row],[Column3]]=\"T1013\",\"Y\",\"N\")","v":"N"},{"$f":"IF(Table1[[#This Row],[Column3]]=90785,\"Y\",\"N\")","v":"N"}]
[null,null,null,null,null,null,null,null,null,null,{"$f":"IF(Table1[[#This Row],[Column3]]=\"T1013\",\"Y\",\"N\")","v":"N"},{"$f":"IF(Table1[[#This Row],[Column3]]=90785,\"Y\",\"N\")","v":"N"}]
[null,null,null,null,null,null,null,null,null,null,{"$f":"IF(Table1[[#This Row],[Column3]]=\"T1013\",\"Y\",\"N\")","v":"N"},{"$f":"IF(Table1[[#This Row],[Column3]]=90785,\"Y\",\"N\")","v":"N"}]
[null,null,null,null,null,null,null,null,null,null,{"$f":"IF(Table1[[#This Row],[Column3]]=\"T1013\",\"Y\",\"N\")","v":"N"},{"$f":"IF(Table1[[#This Row],[Column3]]=90785,\"Y\",\"N\")","v":"N"}]
[null,null,null,null,null,null,null,null,null,null,{"$f":"IF(Table1[[#This Row],[Column3]]=\"T1013\",\"Y\",\"N\")","v":"N"},{"$f":"IF(Table1[[#This Row],[Column3]]=90785,\"Y\",\"N\")","v":"N"}]
[null,null,null,null,null,null,null,null,null,null,{"$f":"IF(Table1[[#This Row],[Column3]]=\"T1013\",\"Y\",\"N\")","v":"N"},{"$f":"IF(Table1[[#This Row],[Column3]]=90785,\"Y\",\"N\")","v":"N"}]
[null,null,null,null,null,null,null,null,null,null,{"$f":"IF(Table1[[#This Row],[Column3]]=\"T1013\",\"Y\",\"N\")","v":"N"},{"$f":"IF(Table1[[#This Row],[Column3]]=90785,\"Y\",\"N\")","v":"N"}]
[null,null,null,null,null,null,null,null,null,null,{"$f":"IF(Table1[[#This Row],[Column3]]=\"T1013\",\"Y\",\"N\")","v":"N"},{"$f":"IF(Table1[[#This Row],[Column3]]=90785,\"Y\",\"N\")","v":"N"}]
[null,null,null,null,null,null,null,null,null,null,{"$f":"IF(Table1[[#This Row],[Column3]]=\"T1013\",\"Y\",\"N\")","v":"N"},{"$f":"IF(Table1[[#This Row],[Column3]]=90785,\"Y\",\"N\")","v":"N"}]
[null,null,null,null,null,null,null,null,null,null,{"$f":"IF(Table1[[#This Row],[Column3]]=\"T1013\",\"Y\",\"N\")","v":"N"},{"$f":"IF(Table1[[#This Row],[Column3]]=90785,\"Y\",\"N\")","v":"N"}]
[null,null,null,null,null,null,null,null,null,null,{"$f":"IF(Table1[[#This Row],[Column3]]=\"T1013\",\"Y\",\"N\")","v":"N"},{"$f":"IF(Table1[[#This Row],[Column3]]=90785,\"Y\",\"N\")","v":"N"}]
[null,null,null,null,null,null,null,null,null,null,{"$f":"IF(Table1[[#This Row],[Column3]]=\"T1013\",\"Y\",\"N\")","v":"N"},{"$f":"IF(Table1[[#This Row],[Column3]]=90785,\"Y\",\"N\")","v":"N"}]
[null,null,null,null,null,null,null,null,null,null,{"$f":"IF(Table1[[#This Row],[Column3]]=\"T1013\",\"Y\",\"N\")","v":"N"},{"$f":"IF(Table1[[#This Row],[Column3]]=90785,\"Y\",\"N\")","v":"N"}]
[null,null,null,null,null,null,null,null,null,null,{"$f":"IF(Table1[[#This Row],[Column3]]=\"T1013\",\"Y\",\"N\")","v":"N"},{"$f":"IF(Table1[[#This Row],[Column3]]=90785,\"Y\",\"N\")","v":"N"}]
[null,null,null,null,null,null,null,null,null,null,{"$f":"IF(Table1[[#This Row],[Column3]]=\"T1013\",\"Y\",\"N\")","v":"N"},{"$f":"IF(Table1[[#This Row],[Column3]]=90785,\"Y\",\"N\")","v":"N"}]
[null,null,null,null,null,null,null,null,null,null,{"$f":"IF(Table1[[#This Row],[Column3]]=\"T1013\",\"Y\",\"N\")","v":"N"},{"$f":"IF(Table1[[#This Row],[Column3]]=90785,\"Y\",\"N\")","v":"N"}]
[null,null,null,null,null,null,null,null,null,null,{"$f":"IF(Table1[[#This Row],[Column3]]=\"T1013\",\"Y\",\"N\")","v":"N"},{"$f":"IF(Table1[[#This Row],[Column3]]=90785,\"Y\",\"N\")","v":"N"}]
[null,null,null,null,null,null,null,null,null,null,{"$f":"IF(Table1[[#This Row],[Column3]]=\"T1013\",\"Y\",\"N\")","v":"N"},{"$f":"IF(Table1[[#This Row],[Column3]]=90785,\"Y\",\"N\")","v":"N"}]
[null,null,null,null,null,null,null,null,null,null,{"$f":"IF(Table1[[#This Row],[Column3]]=\"T1013\",\"Y\",\"N\")","v":"N"},{"$f":"IF(Table1[[#This Row],[Column3]]=90785,\"Y\",\"N\")","v":"N"}]
[null,null,null,null,null,null,null,null,null,null,{"$f":"IF(Table1[[#This Row],[Column3]]=\"T1013\",\"Y\",\"N\")","v":"N"},{"$f":"IF(Table1[[#This Row],[Column3]]=90785,\"Y\",\"N\")","v":"N"}]
[null,null,null,null,null,null,null,null,null,null,{"$f":"IF(Table1[[#This Row],[Column3]]=\"T1013\",\"Y\",\"N\")","v":"N"},{"$f":"IF(Table1[[#This Row],[Column3]]=90785,\"Y\",\"N\")","v":"N"}]
[null,null,null,null,null,null,null,null,null,null,{"$f":"IF(Table1[[#This Row],[Column3]]=\"T1013\",\"Y\",\"N\")","v":"N"},{"$f":"IF(Table1[[#This Row],[Column3]]=90785,\"Y\",\"N\")","v":"N"}]
[null,null,null,null,null,null,null,null,null,null,{"$f":"IF(Table1[[#This Row],[Column3]]=\"T1013\",\"Y\",\"N\")","v":"N"},{"$f":"IF(Table1[[#This Row],[Column3]]=90785,\"Y\",\"N\")","v":"N"}]
[null,null,null,null,null,null,null,null,null,null,{"$f":"IF(Table1[[#This Row],[Column3]]=\"T1013\",\"Y\",\"N\")","v":"N"},{"$f":"IF(Table1[[#This Row],[Column3]]=90785,\"Y\",\"N\")","v":"N"}]
[null,null,null,null,null,null,null,null,null,null,{"$f":"IF(Table1[[#This Row],[Column3]]=\"T1013\",\"Y\",\"N\")","v":"N"},{"$f":"IF(Table1[[#This Row],[Column3]]=90785,\"Y\",\"N\")","v":"N"}]
[null,null,null,null,null,null,null,null,null,null,{"$f":"IF(Table1[[#This Row],[Column3]]=\"T1013\",\"Y\",\"N\")","v":"N"},{"$f":"IF(Table1[[#This Row],[Column3]]=90785,\"Y\",\"N\")","v":"N"}]
[null,null,null,null,null,null,null,null,null,null,{"$f":"IF(Table1[[#This Row],[Column3]]=\"T1013\",\"Y\",\"N\")","v":"N"},{"$f":"IF(Table1[[#This Row],[Column3]]=90785,\"Y\",\"N\")","v":"N"}]
[null,null,null,null,null,null,null,null,null,null,{"$f":"IF(Table1[[#This Row],[Column3]]=\"T1013\",\"Y\",\"N\")","v":"N"},{"$f":"IF(Table1[[#This Row],[Column3]]=90785,\"Y\",\"N\")","v":"N"}]
[null,null,null,null,null,null,null,null,null,null,{"$f":"IF(Table1[[#This Row],[Column3]]=\"T1013\",\"Y\",\"N\")","v":"N"},{"$f":"IF(Table1[[#This Row],[Column3]]=90785,\"Y\",\"N\")","v":"N"}]
[null,null,null,null,null,null,null,null,null,null,{"$f":"IF(Table1[[#This Row],[Column3]]=\"T1013\",\"Y\",\"N\")","v":"N"},{"$f":"IF(Table1[[#This Row],[Column3]]=90785,\"Y\",\"N\")","v":"N"}]
[null,null,null,null,null,null,null,null,null,null,{"$f":"IF(Table1[[#This Row],[Column3]]=\"T1013\",\"Y\",\"N\")","v":"N"},{"$f":"IF(Table1[[#This Row],[Column3]]=90785,\"Y\",\"N\")","v":"N"}]
[null,null,null,null,null,null,null,null,null,null,{"$f":"IF(Table1[[#This Row],[Column3]]=\"T1013\",\"Y\",\"N\")","v":"N"},{"$f":"IF(Table1[[#This Row],[Column3]]=90785,\"Y\",\"N\")","v":"N"}]
[null,null,null,null,null,null,null,null,null,null,{"$f":"IF(Table1[[#This Row],[Column3]]=\"T1013\",\"Y\",\"N\")","v":"N"},{"$f":"IF(Table1[[#This Row],[Column3]]=90785,\"Y\",\"N\")","v":"N"}]
[null,null,null,null,null,null,null,null,null,null,{"$f":"IF(Table1[[#This Row],[Column3]]=\"T1013\",\"Y\",\"N\")","v":"N"},{"$f":"IF(Table1[[#This Row],[Column3]]=90785,\"Y\",\"N\")","v":"N"}]
[null,null,null,null,null,null,null,null,null,null,{"$f":"IF(Table1[[#This Row],[Column3]]=\"T1013\",\"Y\",\"N\")","v":"N"},{"$f":"IF(Table1[[#This Row],[Column3]]=90785,\"Y\",\"N\")","v":"N"}]
[null,null,null,null,null,null,null,null,null,null,{"$f":"IF(Table1[[#This Row],[Column3]]=\"T1013\",\"Y\",\"N\")","v":"N"},{"$f":"IF(Table1[[#This Row],[Column3]]=90785,\"Y\",\"N\")","v":"N"}]
[null,null,null,null,null,null,null,null,null,null,{"$f":"IF(Table1[[#This Row],[Column3]]=\"T1013\",\"Y\",\"N\")","v":"N"},{"$f":"IF(Table1[[#This Row],[Column3]]=90785,\"Y\",\"N\")","v":"N"}]
[null,null,null,null,null,null,null,null,null,null,{"$f":"IF(Table1[[#This Row],[Column3]]=\"T1013\",\"Y\",\"N\")","v":"N"},{"$f":"IF(Table1[[#This Row],[Column3]]=90785,\"Y\",\"N\")","v":"N"}]
[null,null,null,null,null,null,null,null,null,null,{"$f":"IF(Table1[[#This Row],[Column3]]=\"T1013\",\"Y\",\"N\")","v":"N"},{"$f":"IF(Table1[[#This Row],[Column3]]=90785,\"Y\",\"N\")","v":"N"}]
[null,null,null,null,null,null,null,null,null,null,{"$f":"IF(Table1[[#This Row],[Column3]]=\"T1013\",\"Y\",\"N\")","v":"N"},{"$f":"IF(Table1[[#This Row],[Column3]]=90785,\"Y\",\"N\")","v":"N"}]
[null,null,null,null,null,null,null,null,null,null,{"$f":"IF(Table1[[#This Row],[Column3]]=\"T1013\",\"Y\",\"N\")","v":"N"},{"$f":"IF(Table1[[#This Row],[Column3]]=90785,\"Y\",\"N\")","v":"N"}]
[null,null,null,null,null,null,null,null,null,null,{"$f":"IF(Table1[[#This Row],[Column3]]=\"T1013\",\"Y\",\"N\")","v":"N"},{"$f":"IF(Table1[[#This Row],[Column3]]=90785,\"Y\",\"N\")","v":"N"}]
[null,null,null,null,null,null,null,null,null,null,{"$f":"IF(Table1[[#This Row],[Column3]]=\"T1013\",\"Y\",\"N\")","v":"N"},{"$f":"IF(Table1[[#This Row],[Column3]]=90785,\"Y\",\"N\")","v":"N"}]
[null,null,null,null,null,null,null,null,null,null,{"$f":"IF(Table1[[#This Row],[Column3]]=\"T1013\",\"Y\",\"N\")","v":"N"},{"$f":"IF(Table1[[#This Row],[Column3]]=90785,\"Y\",\"N\")","v":"N"}]
[null,null,null,null,null,null,null,null,null,null,{"$f":"IF(Table1[[#This Row],[Column3]]=\"T1013\",\"Y\",\"N\")","v":"N"},{"$f":"IF(Table1[[#This Row],[Column3]]=90785,\"Y\",\"N\")","v":"N"}]
[null,null,null,null,null,null,null,null,null,null,{"$f":"IF(Table1[[#This Row],[Column3]]=\"T1013\",\"Y\",\"N\")","v":"N"},{"$f":"IF(Table1[[#This Row],[Column3]]=90785,\"Y\",\"N\")","v":"N"}]
[null,null,null,null,null,null,null,null,null,null,{"$f":"IF(Table1[[#This Row],[Column3]]=\"T1013\",\"Y\",\"N\")","v":"N"},{"$f":"IF(Table1[[#This Row],[Column3]]=90785,\"Y\",\"N\")","v":"N"}]
[null,null,null,null,null,null,null,null,null,null,{"$f":"IF(Table1[[#This Row],[Column3]]=\"T1013\",\"Y\",\"N\")","v":"N"},{"$f":"IF(Table1[[#This Row],[Column3]]=90785,\"Y\",\"N\")","v":"N"}]
[null,null,null,null,null,null,null,null,null,null,{"$f":"IF(Table1[[#This Row],[Column3]]=\"T1013\",\"Y\",\"N\")","v":"N"},{"$f":"IF(Table1[[#This Row],[Column3]]=90785,\"Y\",\"N\")","v":"N"}]
[null,null,null,null,null,null,null,null,null,null,{"$f":"IF(Table1[[#This Row],[Column3]]=\"T1013\",\"Y\",\"N\")","v":"N"},{"$f":"IF(Table1[[#This Row],[Column3]]=90785,\"Y\",\"N\")","v":"N"}]
[null,null,null,null,null,null,null,null,null,null,{"$f":"IF(Table1[[#This Row],[Column3]]=\"T1013\",\"Y\",\"N\")","v":"N"},{"$f":"IF(Table1[[#This Row],[Column3]]=90785,\"Y\",\"N\")","v":"N"}]

{"sheet":"Updates","index":6,"n_rows":2,"n_cols":2,"rows_kept":2,"cut":false,"hidden":false,"merged":[]}
["Date","Update Description"]
["2025-08-13","TUOS Report Tab - Replaced Modifier column to Procedure Code Name; Added a slicer for Individual and Group"]

{"sheet":"Group Name","index":7,"n_rows":232,"n_cols":2,"rows_kept":232,"cut":false,"hidden":true,"merged":[]}
["Long Procedure Code name (Not seen by user)"]
["Alcohol and/or drug services; group counseling by a clinician","Group"]
["Behavioral Health Prevention Education Service-Peer","Group"]
["Community-Based Wrap-Around Services Group","Group"]
["Group Psychotherapy (Other Than of a Multiple-Family Group)","Group"]
["Medication Training and Support Group","Group"]
["Multiple-Family Group Psychotherapy","Group"]
["Natural Helper Group Service","Group"]
["Prolonged Group Service(s) beyond the Maximum Time","Group"]
["Psychosocial Rehabilitation Group","Group"]
["Skills training and development Group","Group"]
["Traditional Healer Group Service","Group"]
["Administration of patient-focused health risk assessment instrument","Individual"]
["Adult Residential, Geriatric","Individual"]
["Adult Residential, Non-Geriatric","Individual"]
["Alcohol and/or drug assessment (screening to determine the appropriate services)","Individual"]
["Alcohol and/or drug screening","Individual"]
["Alcohol and/or drug screening. Laboratory analysis","Individual"]
["Alcohol and/or drug services, brief intervention","Individual"]
["Alcohol and/or drug services; crisis intervention (outpatient)","Individual"]
["Alcohol and/or drug services; methadone administration","Individual"]
["Alcohol and/or drug services-Acute detoxification","Individual"]
["Alcohol and/or drug services-subacute detoxification","Individual"]
["Alcohol and/or other drug testing, collection handling specimens other than blood","Individual"]
["Alcohol and/or other drug treatment program","Individual"]
["Alcohol and/or substance (other than tobacco) abuse screening","Individual"]
["Alcohol and/or substance (other than tobacco) abuse structured assessment","Individual"]
["Alcohol and/or substance abuse services, family/couple counseling","Individual"]
["Alcohol and/or substance abuse services, treatment plan development","Individual"]
["Ambulatory Withdrawal Management L1","Individual"]
["Ambulatory Withdrawal Management L2","Individual"]
["Application of On-body Injector for Timed Subcutaneous Injection","Individual"]
["Assessment of aphasia","Individual"]
["Attestation Note","Individual"]
["Bed Hold Day","Individual"]
["Behavioral health counseling and therapy","Individual"]
["Behavioral Health Prevention Education Service","Individual"]
["BH Connect - Assertive Community Treatment - Full Month","Individual"]
["BH Connect - Assertive Community Treatment - Partial Month","Individual"]
["BH Connect - Coordinated Specialty Care - Full Month","Individual"]
["BH Connect - Coordinated Specialty Care - Partial Month","Individual"]
["BH Connect - Forensic Assertive Community Treatment - Full Month","Individual"]
["BH Connect - Forensic Assertive Community Treatment - Partial Month","Individual"]
["BH Connect - Multi Systemic Therapy - Full Month","Individual"]
["BH Connect - Multi Systemic Therapy - Partial Month","Individual"]
["BH Connect - Supported Employment - Full Month","Individual"]
["BH Connect - Supported Employment - Partial Month","Individual"]
["Brief Contact Note","Individual"]
["Brief Emotional/Behavioral Assessment","Individual"]
["CARE Act - Data Reporting","Individual"]
["CARE Court - Court Report","Individual"]
["CARE Court - Hearing Time","Individual"]
["CARE Court - Notice","Individual"]
["CARE Court - Outreach and Engagement","Individual"]
["Care Management Services for Behavioral Health Conditions by Physician","Individual"]
["Caregiver Assessment Administration of Care-Giver Risk Assessmt","Individual"]
["Children-Adult Crisis Residential","Individual"]
["Children-Adult Crisis Residential, Geriatric","Individual"]
["Children-Adult Crisis Residential, Non-Geriatric","Individual"]
["Chronic care management services each additional 30 minutes","Individual"]
["Chronic care management services per calendar month","Individual"]
["Client Non Billable Srvc Must Document","Individual"]
["Clubhouse Day","Individual"]
["Community psychiatric supportive treatment, face-to-face, per 15 minutes","Individual"]
["Community-Based Wrap-Around Services","Individual"]
["Comprehensive community support service","Individual"]
["Comprehensive community support services","Individual"]
["Comprehensive Multidisciplinary Evaluation","Individual"]
["Consult","Individual"]
["Crisis Inquiry","Individual"]
["Crisis Intervention Services","Individual"]
["Crisis Stabilization - Extended Hours","Individual"]
["Crisis Stabilization, Emergency Room","Individual"]
["Crisis Stabilization, Urgent Care","Individual"]
["Day Rehabilitation, Full Day","Individual"]
["Day Rehabilitation, Half Day","Individual"]
["Day Service Codes","Individual"]
["Day Treatment Intensive, Full Day","Individual"]
["Day Treatment Intensive, Half Day","Individual"]
["Developmental Screening","Individual"]
["Developmental Testing","Individual"]
["Developmental Testing, Each Addl 30 Minutes","Individual"]
["Dietician Evaluation Note","Individual"]
["Dietician Progress Note","Individual"]
["Domiciliary or Rest Home Visit of a New Patient","Individual"]
["Domiciliary or Rest Home Visit of an Established Patient","Individual"]
["Education and training for patient self-management by a qualified, nonphysician health care professional using a standardized curriculum, face-to-face with the patient … 2-4 patients","Individual"]
["Education and training for patient self-management by a qualified, nonphysician health care professional using a standardized curriculum, face-to-face with the patient … 5-8 patients","Individual"]
["Education and training for patient self-management by a qualified, nonphysician health care professional using a standardized curriculum, face-to-face with the patient â€¦ 2-4 patients","Individual"]
["Education and training for patient self-management by a qualified, nonphysician health care professional using a standardized curriculum, face-to-face with the patient â€¦ 5-8 patients","Individual"]
["Education and training for patient self-management by a qualified, nonphysician health care professional using a standardized curriculum, face-to-face with the patient; each 30 minutes; individual","Individual"]
["Electroconvulsive Therapy (Includes Necessary Monitoring)","Individual"]
["Environmental intervention for medical mgmt purposes on a psych patient's behalf","Individual"]
["Family Psychotherapy (Conjoint psychotherapy with Patient Present)","Individual"]
["Family Psychotherapy (patient not Present)","Individual"]
["General hospital inpatient, Administrative Day","Individual"]
["General Psychiatric Inpatient","Individual"]
["Global Outreach","Individual"]
["Health behavior intervention, family (patient not present)","Individual"]
["Health behavior intervention, family (patient not present)Each Addl 15 Min","Individual"]
["Home Visit of a New Patient","Individual"]
["Home Visit of an Established Patient","Individual"]
["Hospital Discharge Day Management","Individual"]
["Hypnotherapy","Individual"]
["Individual phys supervisory of a patient (pt not present) in home. Each Addl 30 min","Individual"]
["Individual physician supervisory of a patient (patient not present) in home","Individual"]
["Initial hospital care, per day, for the evaluation and management of a patient","Individual"]
["Initial Nursing Facility Care per Day, for the EM of a Patient","Individual"]
["Initial Nursing Facility Care per Day, for the EM of a Patient Developed Complications","Individual"]
["Initial Observation Care, per Day, for the EM of a Patient","Individual"]
["Inpatient Consultation for a New or Established Patient","Individual"]
["Inpatient Psychiatric Procedure","Individual"]
["Interactive Complexity","Individual"]
["Interpretation or Explanation of Results of Psychiatric or Other Medical","Individual"]
["Inter-Professional Telephone/Internet/ Electronic Assmt by a Consultative Physician","Individual"]
["Intravenous Infusion,  Addl Seq Inf, 1-60 Minutes after 96365","Individual"]
["Intravenous Infusion,  Concurrent Infusion","Individual"]
["Intravenous Infusion, for Therapy, Prophylaxis, Each Addl 30-60 Minutes past 96365","Individual"]
["Intravenous Infusion, for Therapy, Prophylaxis, or Diagnosis","Individual"]
["Legal Report Writing Note","Individual"]
["Medical Non-Billable Note","Individual"]
["Medical Team Conference,Participation by Non-Physician. FTF with Pt and/or Family","Individual"]
["Medical Team Conference,Participation by Non-Physician. Pt and/or Fam Not Present","Individual"]
["Medical Team Conference,Participation by Physician. Pt and/or Family Not Present","Individual"]
["Medication Therapy Management Service(s) by a Pharmacist each Addl 15 Minutes","Individual"]
["Medication Therapy Management Service(s) by a Pharmacist, FTF with Established Pt","Individual"]
["Medication Therapy Management Service(s) by a Pharmacist, FTF with New Patient","Individual"]
["Medication Training and Support","Individual"]
["Mental Health Assessment by Non-Physician","Individual"]
["Mental Health Service Plan Developed by Non-Physician","Individual"]
["Mobile Crisis Dispatch Screening","Individual"]
["Mobile Crisis Encounter","Individual"]
["Mobile Crisis Follow-Up","Individual"]
["Nacrosynthesis for Psychiatric Diagnostic and Therapeutic Purposes","Individual"]
["Natural Helper Individual Service","Individual"]
["Neurobehavioral Status Exam","Individual"]
["Neurobehavioral Status Exam, Each Addl Hour","Individual"]
["Neuropsychological Testing Evaluation","Individual"]
["Neuropsychological Testing Evaluation, Each Addl Hour","Individual"]
["Non-Billable Attempted Contact","Individual"]
["Non-Billable Bed Procedure","Individual"]
["Non-emergency transportation, per mile","Individual"]
["Nurse Progress Note (IP/PHF/CSU/Res)","Individual"]
["Nursing Assessment/Evaluation","Individual"]
["Observation Care Discharge Day Management","Individual"]
["Observation or Inpatient Hospital Care, Including Admit/Disc Same Date","Individual"]
["Office Consultation for New or Established Patient","Individual"]
["Office or Other Outpatient Visit of an Established Patient","Individual"]
["Office or Other Outpatient Visit of New Patient","Individual"]
["Oral Medication Administration, Direct Observation","Individual"]
["Partial Hospitalization - Substance Use","Individual"]
["Partial Hospitalization-Substance Use","Individual"]
["PEI Outreach","Individual"]
["Prenatal Care, at risk assessment","Individual"]
["Preparation of report of patient's psychiatric status, history, treatment, or progress","Individual"]
["Prescription Drug, Brand Name","Individual"]
["Prescription Drug, Generic","Individual"]
["Prev Community Based-AOD","Individual"]
["Prev Education-AOD","Individual"]
["Prev Environ Strategy-AOD","Individual"]
["Prev Info Dissemination-AOD","Individual"]
["Prev Prob Identification-AOD","Individual"]
["Prev-Alternatives-AOD","Individual"]
["Principal care management services each additional 30 minutes","Individual"]
["Principal care management services per calendar month","Individual"]
["Prolonged clinical staff service Each Addl 30 minutes","Individual"]
["Prolonged clinical staff service First Hour","Individual"]
["Prolonged hospital inpatient or observation care E&M service each Addl 15 m","Individual"]
["Prolonged hospital inpatient or observation care E&M service each Addl 15 minutes","Individual"]
["Prolonged inpatient or observation E&M service per 15 minutes","Individual"]
["Prolonged Office or Other Outpatient EM Service(s) beyond the Maximum Time","Individual"]
["Prolonged outpatient E&M service per 15 minutes","Individual"]
["Psychiatric Diagnostic Evaluation","Individual"]
["Psychiatric Diagnostic Evaluation with Medical Services","Individual"]
["Psychiatric Evaluation of Hospital Records, Other Psychiatric Reports","Individual"]
["Psychiatric Health Facility","Individual"]
["Psychiatric Hospital Inpatient, Administrative Day Over 64","Individual"]
["Psychiatric Hospital Inpatient, Administrative Day Under 21","Individual"]
["Psychiatric Hospital Inpatient, over age 64","Individual"]
["Psychiatric Hospital Inpatient, Under Age 21","Individual"]
["Psychoanalysis","Individual"]
["Psychoeducational Service","Individual"]
["Psychological or Neuropsychological Test Administration","Individual"]
["Psychological or Neuropsychological Test Administration by Tech, Each Addl 30 Min","Individual"]
["Psychological or Neuropsychological Test Administration Computer","Individual"]
["Psychological or Neuropsychological Test Administration, Each Addl 30 Minutes","Individual"]
["Psychological or Neuropsychological Test-Technician","Individual"]
["Psychological Testing Evaluation","Individual"]
["Psychological Testing Evaluation, Each Addl Hour","Individual"]
["Psychosocial Rehabilitation","Individual"]
["Psychotherapy for Crisis","Individual"]
["Psychotherapy for Crisis, Each Addl 30 Minutes","Individual"]
["Psychotherapy with Patient","Individual"]
["Psychotherapy with Patient an EM Service","Individual"]
["QI/Administrative","Individual"]
["Quality Assurance-AOD","Individual"]
["Residential Daily Note","Individual"]
["Residential DMC","Individual"]
["Residential Withdrawal Management","Individual"]
["Room and Board","Individual"]
["Self-help/peer services","Individual"]
["Shift Summary","Individual"]
["Sign Language or Oral Interpretive Services","Individual"]
["Skills training and development","Individual"]
["Standardized Cognitive Performance Testing","Individual"]
["Subcutaneous Infusion for Therapy or Prophylaxis, Addl Pump Set-Up, 15 Minutes","Individual"]
["Subcutaneous Infusion for Therapy or Prophylaxis, Initial","Individual"]
["Subcutaneous Infusion, Each Addl 30-60 Minutes after 96369","Individual"]
["Subsequent Delivery and Management of TMS, per Session","Individual"]
["Subsequent Hospital Care, per Day, for the EM of a Patient","Individual"]
["Subsequent Nursing Facility Care per Day for the EM of a Patient","Individual"]
["SUD Crisis Stabilization","Individual"]
["Targeted Case Management","Individual"]
["Targeted Outreach","Individual"]
["Telephone Assessment and Management Service","Individual"]
["Telephone EM Service","Individual"]
["Therapeutic Behavioral Services","Individual"]
["Therapeutic Foster Care","Individual"]
["Therapeutic Repetitive Transcranial Magnetic Stimulation (TMS) Treatment; Initial","Individual"]
["Therapeutic, Prophylactic, or Diag Injection; Each Addl Seq Intravenous, New Drug","Individual"]
["Therapeutic, Prophylactic, or Diag Injection; Each Addl Seq Intravenous, Same Drug","Individual"]
["Therapeutic, Prophylactic, or Diag Injection; Single or Initial Substance/Drug","Individual"]
["Therapeutic, Prophylactic, or Diag Injection; Subcutaneous or Intramuscular","Individual"]
["Therapeutic, Prophylactic, or Diag Injection-Subcutaneous or Intramuscular","Individual"]
["Therapeutic, Prophylactic, or Diagnostic Injection; Intra-Arterial","Individual"]
["TMS Treatment Subsequent Motor Threshold Re-Determination with Delivery Mgmt","Individual"]
["Traditional Healer Individual Service","Individual"]
["Transitional Care Management Svcs, Direct Communication within 14 calendar days","Individual"]
["Transitional Care Management Svcs, Direct Communication within 7 calendar days","Individual"]
["Transportation","Individual"]
["Transportation, Mileage","Individual"]
["Transportation, Staff Time","Individual"]

{"sheet":"Charge Conversion","index":8,"n_rows":185,"n_cols":11,"rows_kept":185,"cut":false,"hidden":true,"merged":[]}
["BillingCode","Description","Minutes for Rate","Group/Individual",null,null,null,null,null,null,90849]
[90785,"Interactive complexity. There is no assigned time for this code.",1,null,null,null,null,null,null,null,90853]
[90791,"Psychiatric diagnostic evaluation, 60 minutes","60",null,null,null,null,null,null,null,"G2212"]
[90792,"Psychiatric diagnostic evaluation with medical services, 60 minutes","60",null,null,null,null,null,null,null,"H0034"]
[90832,"Psychotherapy, 30 minutes with patient","30",null,null,null,null,null,null,null,"H2017"]
[90833,"Psychotherapy, 30 minutes with patient when performed with an evaluation and management service",30,null,null,null,null,null,null,null,"H0025"]
[90834,"Psychotherapy, 45 minutes with patient","45",null,null,null,null,null,null,null,"H0005"]
[90836,"Psychotherapy, 45 minutes with patient when performed with an evaluation and management service","45",null,null,null,null,null,null,null,"H2014"]
[90837,"Psychotherapy, 60 minutes with patient","60",null,null,null,null,null,null,null,"T2021"]
[90838,"Psychotherapy, 60 minutes with patient when performed with an evaluation and management service",60]
[90839,"Psychotherapy for crisis; first hour","60"]
[90840,"Psychotherapy for crisis; each additional 30 minutes","30"]
[90845,"Psychoanalysis, 45 minutes","45"]
[90847,"Family psychotherapy [conjoint psychotherapy] (with patient present), 50 minutes","50"]
[90849,"Multiple-family group psychotherapy, 84 minutes","84","Group"]
[90853,"Group psychotherapy (other than of a multiple-family group), 50 minutes","50","Group"]
[90865,"Nacrosynthesis for psychiatric diagnostic and therapeutic purposes (eg, sodium amobarbital (Amytal) interview), 90 minutes","90"]
[90867,"Therapeutic repetitive transcranial magnetic stimulation (TMS) treatment; initial, including cortical mapping, motor threshold determination, delivery and management (Report only once per course of treatment), 60 minutes","60"]
[90868,"Subsequent delivery and management of TMS, per session, 15 minutes","15"]
[90869,"TMS treatment subsequent motor threshold re-determination with delivery and management, 45 minutes","45"]
[90870,"Electrocunvulsive therapy (includes necessary monitoring), 20 minutes","20"]
[90880,"Hypnotherapy, 60 minutes","60"]
[90885,"Psychiatric evaluation of hospital records, other psychiatric reports, psychometric and/or projective tests, and other accumulated data for medical diagnostic purposes, 60 minutes","60"]
[90887,"Interpretation or explanation of results of psychiatric, other medical examinations and procedures, or other accumulated data to family or other responsible persons, or advising them how to assist patient, 50 minutes","50"]
[96105,"Assessment of Aphasia (includes assessment of expressive and receptive speech and language function, language comprehension, speech production ability, reading, spelling, writing, eg, by Boston Diagnostic Aphasia Examination) with interpretation and report), per hour","60"]
[96110,"Developmental Screening (eg, developmental milestone survey, speech and language delay screen), with scoring and documentation, per standardized instrument), 60 minutes","60"]
[96112,"Developmental Testing Developmental test administration (including assessment of fine and/or gross motor, language, cognitive level, social, memory and/or executive functions by standardized developmental instruments when performed), by physician or other qualified health care professional, with interpretation and report, first hour","60"]
[96113,"Developmental Testing Developmental test administration (including assessment of fine and/or gross motor, language, cognitive level, social, memory and/or executive functions by standardized developmental instruments when performed), by physician or other qualified health care professional, with interpretation and report, each additional 30 minutes","30"]
[96116,"Neuorobehavioral Status Exam (clinical assessment of thinking, reasoning and judgment, e.g., acquired knowledge, attention, language, memory, planning and problem solving and visual spatial abilities) by physician or other qualified health care professional, both face-to-face time with the patient and time interpreting test results and preparing the report, first hour","60"]
[96121,"Neuorobehavioral Status Exam (clinical assessment of thinking, reasoning and judgment, e.g., acquired knowledge, attention, language, memory, planning and problem solving and visual spatial abilities) by physician or other qualified health care professional, both face-to-face time with the patient and time interpreting test results and preparing the report, each additional hour","60"]
[96125,"Standardized Cognitive Performance Testing (eg, Ross Information Processing Assessment) per hour of a qualified health care professional’s time, both face-to-face time administering tests to the patient and time interpreting these test results and preparing the report","60"]
[96127,"Brief emotional/behavioral assessment (eg, depression inventory, attention-deficit/hyperactivity disorder [ADHD] scale), with scoring and documentation per standardized instrument, 60 minutes","60"]
[96130,"Psychological Testing Evaluation Psychological testing evaluation services by physician or other qualified health care professional, including integration of patient data, interpretation of standardized test results and clinical data, clinical decision making, treatment planning and report, and interactive feedback to the patient, family member(s) or caregiver(s), when performed, first hour","60"]
[96131,"Psychological Testing Evaluation Psychological testing evaluation services by physician or other qualified health care professional, including integration of patient data, interpretation of standardized test results and clinical data, clinical decision making, treatment planning and report, and interactive feedback to the patient, family member(s) or caregiver(s), when performed, each additional hour","60"]
[96132,"Neuropsychological Testing Evaluation Neuropsychological testing evaluation services by physician or other qualified health care professional, including integration of patient data, interpretation of standardized test results and clinical data, clinical decision making, treatment planning and report, and interactive feedback to the patient, family member(s) or caregiver(s), when performed, first hour","60"]
[96133,"Neuropsychological Testing Evaluation Neuropsychological testing evaluation services by physician or other qualified health care professional, including integration of patient data, interpretation of standardized test results and clinical data, clinical decision making, treatment planning and report, and interactive feedback to the patient, family member(s) or caregiver(s), when performed, each additional hour","60"]
[96136,"Psychological or Neuropsychological Testing Psychological or neuropsychological test administration and scoring by physician or other qualified health care professional, two or more tests, any method, first 30 minutes","30"]
[96137,"Psychological or Neuropsychological Testing Psychological or neuropsychological test administration and scoring by a physician or other qualified health care professional, two or more tests, any method, each additional 30 minutes","30"]
[96138,"Psychological or Neuropsychological (2 or more) Tests Psychological or neuropsychological test administration and scoring by technician, two or more tests, any method; In person (Administration) & Scoring, first 30 minutes","30"]
[96139,"Psychological or Neuropsychological (2 or more) Tests Psychological or neuropsychological test administration and scoring by technician, two or more tests, any method; In person (Administration) & Scoring, each additional 30 minutes","30"]
[96146,"Psychological Neuropsychological Test (Automated) Psychological or neuropsychological test administration, with single automated, standardized instrument via electronic platform, with automated result only: Via electronic platform & formulates an electronic result. Interpretation and report, 60 minutes","60"]
[96161,"Caregiver Assessment Administration of caregiver-focused health risk assessment instrument (eg, depression inventory) for the benefit of the patient, with scoring and documentation, per standardized instrument, 15 minutes","15"]
[96365,"Intravenous infusion, for therapy, prophylaxis, or diagnosis, initial, up to 1 hour","46"]
[96366,"Intravenous infusion, for therapy, prophylaxis, or diagnosis, each additional hour","45"]
[96367,"Intravenous infusion, for therapy, prophylaxis, or diagnosis, additional sequential infusion of a new drug/ substance, up to 1 hour","31"]
[96368,"Intravenous infusion, for therapy, prophylaxis, or diagnosis, concurrent infusion, 15 minutes","15"]
[96369,"Subcutaneous infusion for therapy or prophylaxis, initial, including pump set-up and establishment of subcutaneous infusion site(s), 16-60 minutes  (For infusions of 15 minutes or less, use 96372)","38"]
[96370,"Subcutaneous infusion for therapy or prophylaxis, including pump set-up and establishment or subcutaneous infusion site(s), each additional hour","45"]
[96371,"Subcutaneous infusion for therapy or prophylaxis, additional pump set-up with establishment of new subcutaneous infusion site(s), 15 minutes","15"]
[96372,"Therapeutic, prophylactic, or diagnostic injection, subcutaneous or intramuscular, 1 - 15 minutes","15"]
[96373,"Therapeutic, prophylactic, or diagnostic injection, intra-arterial, 1 - 15 minutes","15"]
[96374,"Therapeutic, prophylactic, or diagnostic injection, intravenous push, single or initial substance/drug, 15 minutes","15"]
[96375,"Therapeutic, prophylactic, or diagnostic injection, each additional sequential intravenous push of a new substance/drug, 15 minutes","15"]
[96376,"Therapeutic, prophylactic, or diagnostic injection; each additional sequential intravenous push of the same substance/drug provided in a facility; 15 minutes; has to be more than 30 minutes after a reported push of the same drug","15"]
[96377,"Application of on-body injector (includes cannula insertion) for timed subcutaneous injection, 1 - 15 minutes","15"]
[98966,"Telephone assessment and management service provided by a qualified nonphysician health care professional to an established patient, parent, or guardian not originating from a related assessment and management service provided within the previous 7 days nor leading to an assessment and management service or procedure within the next 24 hours or soonest available appointment; 5-10 minutes of medical discussion.","8"]
[98967,"Telephone assessment and management service provided by a qualified nonphysician health care professional to an established patient, parent, or guardian not originating from a related assessment and management service provided within the previous 7 days nor leading to an assessment and management service or procedure within the next 24 hours or soonest available appointment; 11-20 minutes of medical discussion.","16"]
[98968,"Telephone assessment and management service provided by a qualified nonphysician health care professional to an established patient, parent, or guardian not originating from a related assessment and management service provided within the previous 7 days nor leading to an assessment and management service or procedure within the next 24 hours or soonest available appointment; 21-30 minutes of medical discussion.","26"]
[99202,"Office or other outpatient visit for the evaluation and management of a new patient, which requires a medically appropriate history and/or examination and straightforward medical decision making. 15-29 minutes total time on the date of the encounter.","22"]
[99203,"Office or other outpatient visit for the evaluation and management of a new patient, which requires a medically appropriate history and/or examination and low level of medical decision making. 30-44 minutes total time on the date of the encounter.","37"]
[99204,"Office or other outpatient visit for the evaluation and management of a new patient, which requires a medically appropriate history and/or examination and moderate level of medical decision making. 45-59 minutes total time on the date of the encounter.","52"]
[99205,"Office or other outpatient visit for the evaluation and management of a new patient, which requires a medically appropriate history and/or examination and high level of medical decision making. 60-74 minutes total time on the date of the encounter.","67"]
[99212,"Office or other outpatient visit for the evaluation and management of an established patient, which requires a medically appropriate history and/or examination and straightforward medical decision making. 10-19 minutes total time on the date of the encounter.","15"]
[99213,"Office or other outpatient visit for the evaluation and management of an established patient, which requires a medically appropriate history and/or examination and low level of medical decision making. 20-29 minutes total time on the date of the encounter.","25"]
[99214,"Office or other outpatient visit for the evaluation and management of an established patient, which requires a medically appropriate history and/or examination and moderate level of medical decision making. 30-39 minutes total time on the date of the encounter.","35"]
[99215,"Office or other outpatient visit for the evaluation and management of an established patient, which requires a medically appropriate history and/or examination and high level of medical decision making. 40-54 minutes total time on the date of the encounter.","47"]
[99221,"Initial hospital inpatient or observation care, per day, for the evaluation and management of a patient, which requires a medically appropriate history and/or examination and straightforward or low level medical decision making. 40-54 minutes total time on the date of the encounter.","47"]
[99222,"Initial hospital inpatient or observation care, per day, for the evaluation and management of a patient, which requires a medically appropriate history and/or examination and moderate level of medical decision making. 55-74 minutes total time on the date of the encounter.","65"]
[99223,"Initial hospital inpatient or observation care, per day, for the evaluation and management of a patient, which requires a medically appropriate history and/or examination and high level of medical decision making. 75-89 minutes total time on the date of the encounter.","82"]
[99231,"Subsequent hospital inpatient or observation care, per day, for the evaluation and management of a patient, which requires a medically appropriate history and/or examination and straightforward or low level of medical decision making. 25-34 minutes total time on the date of the encounter.","30"]
[99232,"Subsequent hospital inpatient or observation care, per day, for the evaluation and management of a patient, which requires a medically appropriate history and/or examination and moderate level of medical decision making. 35-49 minutes total time on the date of the encounter.","42"]
[99233,"Subsequent hospital inpatient or observation care, per day, for the evaluation and management of a patient, which requires a medically appropriate history and/or examination and high level of medical decision making. 50-64 minutes total time on the date of the encounter.","57"]
[99234,"Hospital inpatient or observation care, for the evaluation and management of a patient including admission and discharge on the same date, which requires a medically appropriate history and/or examination and straightforward or low level of medical decision making. 45-69 minutes total time on the date of the encounter.","57"]
[99235,"Hospital inpatient or observation care, for the evaluation and management of a patient including admission and discharge on the same date, which requires a medically appropriate history and/or examination and moderate level of medical decision making. 70-84 minutes total time on the date of the encounter.","77"]
[99236,"Hospital inpatient or observation care, for the evaluation and management of a patient including admission and discharge on the same date, which requires a medically appropriate history and/or examination and high level of medical decision making. 85-99 minutes total time on the date of the encounter.","92"]
[99238,"Hospital inpatient or observation discharge day management; 30 minutes or less on the date of the encounter","30"]
[99239,"Hospital inpatient or observation discharge day management; 31-1440 minutes on the date of the encounter","60"]
[99242,"Office or other outpatient consultation for a new or established patient, which requires a medically appropriate history and/or examination and straightforward medical decision making. 20-29 minutes total time on the date of the encounter.","25"]
[99243,"Office or other outpatient consultation for a new or established patient, which requires a medically appropriate history and/or examination and low level of medical decision making. 30-39 minutes total time on the date of the encounter.","35"]
[99244,"Office or other outpatient consultation for a new or established patient, which requires a medically appropriate history and/or examination and moderate level of medical decision making.40-54 minutes total time on the date of the encounter.","47"]
[99245,"Office or other outpatient consultation for a new or established patient, which requires a medically appropriate history and/or examination and high level of medical decision making. 55-69 minutes total time on the date of the encounter.","62"]
[99252,"Inpatient or observation consultation for a new or established patient, which requires a medically appropriate history and/or examination and straightforward medical decision making. 35-44 minutes total time on the date of the encounter.","40"]
[99253,"Inpatient or observation consultation for a new or established patient, which requires a medically appropriate history and/or examination and low level of medical decision making. 45-59 minutes total time on the date of the encounter.","52"]
[99254,"Inpatient or observation consultation for a new or established patient, which requires a medically appropriate history and/or examination and moderate level of medical decision making. 60-79 minutes total time on the date of the encounter.","70"]
[99255,"Inpatient or observation consultation for a new or established patient, which requires a medically appropriate history and/or examination and high level of medical decision making. 80-94 minutes total time on the date of the encounter.","87"]
[99304,"Initial nursing facility care, per day, for the evaluation and management of a patient, which requires a medically appropriate history and/or examination and straightforward or low level of medical decision making. 25-34 minutes total time on the date of the encounter.","30"]
[99305," Initial nursing facility care, per day, for the evaluation and management of a patient, which requires a medically appropriate history and/or examination and moderate level of medical decision making. 35-49 minutes total time on the date of the encounter.","42"]
[99306,"Initial nursing facility care, per day, for the evaluation and management of a patient, which requires a medically appropriate history and/or examination and high level of medical decision making. 50-64 minutes total time on the date of the encounter.","57"]
[99307,"Subsequent nursing facility care, per day, for the evaluation and management of a patient, which requires a medically appropriate history and/or examination and straightforward medical decision making. 10-19 minutes total time on the date of the encounter for code selection.","15"]
[99308,"Subsequent nursing facility care, per day, for the evaluation and management of a patient, which requires a medically appropriate history and/or examination and low level of medical decision making. 20-29 minutes total time on the date of the encounter.","25"]
[99309,"Subsequent nursing facility care, per day, for the evaluation and management of a patient, which requires a medically appropriate history and/or examination and moderate level of medical decision making. 30-44 minutes total time on the date of the encounter. ","37"]
[99310," Subsequent nursing facility care, per day, for the evaluation and management of a patient, which requires a medically appropriate history and/or examination and high level of medical decision making. 45-59 minutes total time on the date of the encounter.","52"]
[99341,"Home or residence visit for the evaluation and management of a new patient, which requires a medically appropriate history and/or examination and straightforward medical decision making. 15-29 minutes total time on the date of the encounter.","22"]
[99342,"Home or residence visit for the evaluation and management of a new patient, which requires a medically appropriate history and/or examination and low level of medical decision making. 30-59 minutes total time on the date of the encounter.","45"]
[99344," Home or residence visit for the evaluation and management of a new patient, which requires a medically appropriate history and/or examination and moderate level of medical decision making. 60-74 minutes total time on the date of the encounter.","67"]
[99345,"Home or residence visit for the evaluation and management of a new patient, which requires a medically appropriate history and/or examination and high level of medical decision making. 75-89 minutes total time on the date of the encounter.","82"]
[99347,"Home or residence visit for the evaluation and management of an established patient, which requires a medically appropriate history and/or examination and straightforward medical decision making. 20-29 minutes total time on the date of the encounter.","25"]
[99348,"Home or residence visit for the evaluation and management of an established patient, which requires a medically appropriate history and/or examination and low level of medical decision making. 30-39 minutes total time on the date of the encounter.","35"]
[99349," Home or residence visit for the evaluation and management of an established patient, which requires a medically appropriate history and/or examination and moderate level of medical decision making. 40-59 minutes total time on the date of the encounter.","50"]
[99350,"Home or residence visit for the evaluation and management of an established patient, which requires a medically appropriate history and/or examination and high level of medical decision making. 60-74 minutes total time on the date of the encounter.","67"]
[99366,"Medical team conference with interdisciplinary team of health care professionals, face-to-face with patient and/or family, 30-1440 minutes, participation by nonphysician qualified health care professional","60"]
[99367,"Medical team conference with interdisciplinary team of health care professionals, patient and/or family not present, 30-1440 minutes; participation by physician","60"]
[99368,"Medical team conference with interdisciplinary team of health care professionals, patient and/or family not present, 30-1440 minutes; participation by nonphysician qualified health care professional","60"]
[99415,"Prolonged clinical staff service (the service beyond the highest time in the range of total time of the service) during an evaluation and management service in the office or outpatient setting, direct patient contact with physician supervision; first hour","60"]
[99416,"Prolonged clinical staff service (the service beyond the highest time in the range of total time of the service) during an evaluation and management service in the office or outpatient setting, direct patient contact with physician supervision; each additional 30 minutes","30"]
[99417,"Prolonged outpatient evaluation and management service(s) time with or without direct patient contact beyond the required time of the primary service when the primary service level has been selected using total time, each 15 minutes of total time (This code does not follow the midpoint rule. A  full 15 minutes must be met before one unit of 99417 can be claimed).","15"]
[99418,"Prolonged inpatient or observation evaluation and management service(s) time with or without direct patient contact beyond the required time of the primary service when the primary service level has been selected using total time, each 15 minutes of total time (This code does not follow the midpoint rule. A full 15 minutes must be met before one unit of 99418 can be claimed).","15"]
[99441,"Telephone evaluation and management service by a physician or other qualified health care professional who may report evaluation and management services provided to an established patient, parent, or guardian not originating from a related E/M service provided within the previous 7 days nor leading to an E/M service or procedure within the next 24 hours or soonest available appointment; 5-10 minutes of medical discussion","8"]
[99442,"Telephone evaluation and management service by a physician or other qualified health care professional who may report evaluation and management services provided to an established patient, parent, or guardian not originating from a related E/M service provided within the previous 7 days nor leading to an E/M service or procedure within the next 24 hours or soonest available appointment; 11-20 minutes of medical discussion","16"]
[99443,"Telephone evaluation and management service by a physician or other qualified health care professional who may report evaluation and management services provided to an established patient, parent, or guardian not originating from a related E/M service provided within the previous 7 days nor leading to an E/M service or procedure within the next 24 hours or soonest available appointment; 21-30 minutes of medical discussion","26"]
[99451,"Interprofessional telephone/Internet/electronic health record assessment and management service provided by a consultative physician or other qualified health care professional, including a written report to the patient's treating/requesting physician or other qualified health care professional, 5 minutes or more of medical consultative time (5-30 minutes)","18"]
[99484,"Care management services for behavioral health conditions, at least 20 minutes of clinical staff time, directed by a physician or other qualified health care professional, per calendar month, with the following required elements: initial assessment or follow-up monitoring, including the use of applicable validated rating scales, behavioral health care planning in relation to behavioral/psychiatric health problems, including revision for patients who are not progressing or whose status changes, facilitating and coordinating treatment such as psychotherapy, pharmacotherapy, counseling and/or psychiatric consultation, and continuity of care with a designated member of the care team, 20-1440 minutes.","60"]
[99605,"Medication therapy management service(s) provided by a pharmacist, individual, face-to-face with patient, with assessment and intervention if provided; initial 15 minutes, new patient","15"]
[99606," Medication therapy management service(s) provided by a pharmacist, individual, face-to-face with patient, with assessment and intervention if provided; initial 15 minutes, established patient","15"]
[99607,"Medication therapy management service(s) provided by a pharmacist, individual, face-to-face with patient, with assessment and intervention if provided; each additional 15 minutes","15"]
["G0316","Prolonged hospital inpatient or observation care evaluation and management service(s) beyond the total time for the primary service (when the primary service has been selected using time on the date of the primary service); each additional 15 minutes by the physician or qualified healthcare professional, with or without direct patient contact","15"]
["H0025","Behavior health prevention education service (delivery of services with target population to affect knowledge, attitude and/or behavior) [Peer Support group session], 15 minutes","15","Group"]
["H0031","Mental health assessment by nonphysician, 15 minutes","15"]
["H0032","Mental health service plan development by non-physicians, 15 minutes","15"]
["H0033","Medication administration, direct observation, 15 minutes","15"]
["H0034","Medication training and support, 15 minutes","15","See Modifier HQ"]
["H0038","Self-help/peer services (individual) 15 minutes","15"]
["H2000","Comprehensive multidisciplinary evaluation, 15 minutes","15"]
["H2011","Crisis intervention service, 15 minutes","15"]
["H2017","Psychosocial rehabilitation, 15 minutes","15","See Modifier HQ"]
["H2019","Therapeutic behavioral services, 15 minutes","15"]
["H2021","Community-based wrap-around services (coordination with other programs),15 minutes","15"]
["T1001","Nursing assessment/ evaluation, 15 minutes","15"]
["T1013","Sign language or oral interpretive services, 15 minutes",15]
["T1017","Targeted case management, 15 minutes","15"]
["T2021","Therapy substitute, 15 minutes","15","See Modifier HQ"]
["T2024","Assessment substitute, 15 minutes","15"]
["H0018","Adult Crisis Residential",1]
["H0019","Adult Residential",1]
["H2013","Psychiatric Health Facility",1]
["H2012","Day Rehabilitation: Full Day",1]
["S9484","Crisis Stabilization",1]
["A0140","Transportation mileage",1]
["T2007","Transportation, staff time, per 15 minutes",1]
["H0046","Psychiatric Hospital Inpatient: Administrative Day ",1]
["S5145","Therapeutic Foster Care",1]
[90846,"Family Psychotherapy (Without the Patient Present), 50 minutes","50"]
[90882,"Environmental intervention for medical management purposes on a psychiatric patient's behalf with agencies, employers, or institutions, 15 minutes","15"]
[90889,"Preparation of report of patient's psychiatric status, history, treatment, or progress (other than for legal or consultative purposes) for other individuals, agencies, or insurance carriers, 15 minutes","15"]
[96160,"Administration of patient-focused health risk assessment instrument (eg, health hazard appraisal) with scoring and documentation, per standardized instrument, 15 minutes","15"]
[96170,"Health behavior intervention, family (without the patient present), face-to-face; initial 30 minutes","30"]
[96171,"Health behavior intervention, family (without the patient present), face-to-face; each additional 15 minutes","15"]
[99408,"Alcohol and/or substance (other than tobacco) abuse structural screening (eg, AUDIT ,DAST), and brief intervention (SBI) services. 15-30 minutes.","23"]
[99409,"Alcohol and/or substance (other than tobacco) abuse structural screening (eg, AUDIT ,DAST), and brief intervention (SBI) services. 31-1440 minutes.","60"]
[99424,"Principal care management services, for a single high-risk disease, first 30 minutes provided personally by a physician or other qualified health care professional, per calendar month. At least 30 minutes of service must be provided before 1 unit of this code can be reported.","30"]
[99425,"Principal care management services, for a single high-risk disease, each additional 30 minutes provided personally by a physician or other qualified health care professional, per calendar month. Code 99425 is reported in conjunction with 99424, when at least an additional 30 minutes of service time is provided beyond 99424.","30"]
[99437,"Chronic care management services, each additional 30 minutes by a physician or other qualified health care professional, per calendar month. Code 99437 is reported in conjunction with 99491, when at least an additional 30 minutes of service time is provided beyond 99491.","30"]
[99491,"Chronic care management services, first 30 minutes provided personally by a physician or other qualified health care professional, per calendar month. At least 30 minutes of service must be provided before 1 unit of this code can be reported.","30"]
[99495,"Transitional Care Management Services with the following required elements: Communication (direct contact, telephone, electronic) with the patient and/or caregiver within 2 business days of discharge. Medical decision making of at least moderate complexity during the service period, face-to-face visit within 14 calendar days of discharge, 54 minutes","54"]
[99496,"Transitional Care Management Services with the following required elements: Communication (direct contact, telephone, electronic) with the patient and/or caregiver within 2 business days of discharge. Medical decision making of high complexity during the service period, face-to-face visit within 7 calendar days of discharge, 75 minutes","75"]
["G0396","Alcohol and/or substance (other than tobacco) abuse structured assessment, 15-30 Minutes","23"]
["G0397","Alcohol and/or substance (other than tobacco) abuse structured assessment, 31-1440 Minutes","60"]
["G2011","Alcohol and/or substance (other than tobacco) abuse structured assessment, 5-14 Minutes","10"]
["H0001","Alcohol and/or drug assessment, 15 minutes","15"]
["H0003","Alcohol and/or drug screening. Laboratory analysis of specimens for presence of alcohol and/or drugs, 15 minutes","15"]
["H0004","Behavioral health counseling and therapy, 15 minutes","15"]
["H0005","Alcohol and/or drug services; group counseling by a clinician, 15 minutes","15","Group"]
["H0007","Alcohol and/or drug services; crisis intervention (outpatient), 15 minutes","15"]
["H0008","Alcohol and/or drug services: (hospital inpatient) Subacute detoxification, 15 minutes","15"]
["H0009","Alcohol and/or drug services:  (hospital inpatient) Acute detoxification, 15 minutes","15"]
["H0048","Alcohol and/or other drug testing. Collection and handling only, specimens other than blood, 15 minutes","15"]
["H0049","Alcohol and/or drug screening, 15 minutes","15"]
["H0050","Alcohol and/or Drug Services, brief intervention, 15 minutes","15"]
["H1000","Prenatal Care, at risk assessment, 15 minutes","15"]
["H2014","Skills training and development, 15 minutes","15","See Modifier HQ"]
["H2015","Comprehensive community support services, 15 minutes","15"]
["H2027","Psychoeducational Service, 15 minutes","15"]
["H2035","Alcohol and/or other drug treatment program, per hour","60"]
["T1006","Alcohol and/or substance abuse services, family/couple counseling, 15 minutes","15"]
["T1007","Alcohol and/or substance abuse services, treatment plan development and/or modification, 15 minutes","15"]
["H0012","Alcohol and Drug Services; (Residential Addiction Outpatient). Sub-Acute Detoxification 3.2",1]
["H0020","Methadone Alcohol and/or drug services; methadone administration",1]
["H0014","Ambulatory Withdrawal Management",1]
["S5000","Buprenorphine Mono 54017613",1]
["S5001","Naloxone HCL - 2 pack Narcan 69547035302",1]
["H0036",null,15]
["H2031","Clubhouse (MH Outpatient)",1]
[98960,"Education and training for patient self-management by a qualified, nonphysician health care professional using a standarized curriculum, face-to-face with the patient(may include caregiver/family) each 30 minutes; individual patient",30]
[98962,"Education and training for patient self-management by a qualified, nonphysician health care professional using a standarized curriculum, face-to-face with the patient(may include caregiver/family) each 30 minutes; 2-4 patients",30,"Group"]
[98961,"Education and training for patient self-management by a qualified, nonphysician health care professional using a standarized curriculum, face-to-face with the patient(may include caregiver/family) each 30 minutes; 5-8 patients",30,"Group"]